{"text_format":"1","workbook":"xlsx","n_sheets":6,"sheets":["2016Block Grant-legalmax.xlsm","2016legmax.xls","Exceptions","Weightings","Preliminary SO66","Audit Values"],"not_rendered":{"charts":0,"images":0,"macros":1,"external_links":0,"defined_names":9,"comments":5,"pivot_tables":0},"unopened":[],"bounds":{"document_bytes":16777216,"sheet_cells":100000,"rows_first":2000,"rows_last":500,"rows_between":2000,"halvings":0,"cell_chars":16384,"cell_head_chars":4096},"cells_cut":0,"cells_raw":0,"read":"whole","date_system":"1900"}

{"sheet":"2016Block Grant-legalmax.xlsm","index":0,"n_rows":293,"n_cols":91,"rows_kept":293,"cut":false,"hidden":false,"merged":[[0,26,5,26],[0,27,5,27],[0,28,5,28],[1,87,5,87],[1,89,5,89],[1,88,5,88],[1,60,1,66],[1,67,1,68],[1,69,1,81],[1,82,1,83],[2,41,2,42],[2,43,2,49],[2,51,2,52],[1,40,1,53],[1,54,1,59]]}
[null,null,null,"Col 1","Col 2","Col 3","Col 4","Col 5","Col 6","Col 6(a)","Col 7","Col 8","Col 9","Col 10","Col 11","Col 12","Col 12 (a)","Col 13","Col 14","Col 14 (a)","Col 15","Col 16","Col 17","Col 18","Col 18 (a)","Col 19","Sequence Number","Audit","Republished",null,"Col 20","Col 21",null,"Col 22","Col 23","Col 24","Col 25","Col 26","Col 27",null,"Line 1",null,"Line 2",null,null,null,null,null,null,"Line 3","Line 4",null,"Line 5","Line 6"]
[null,"2016-06-21",null,null,null,null,null,null,null,null,null,null,"Block Grant","Block Grant",null,"Block Grant","Cost of Living","Block Grant",null,null,"Local Effort","Local Effort","Local Effort","Local Effort","Local Effort","Local Effort",null,null,null,"(info only)",null,null,"(info only)",null,null,null,null,null,null,null,"Table I - Adjusted General State Aid Calculation",null,null,null,null,null,null,null,null,null,null,null,null,null,"Table II - General State Aid Over-Proration FTE Calculation",null,null,null,null,null,"Virtual State Aid",null,null,null,null,null,null,"New Fac State Aid",null,"Special Levies - Lookup on Form 151",null,null,null,null,null,null,null,null,null,null,null,null,"Federal Impact Aid",null,"C06 Ln 30","C06 Ln 40","C06 Ln 45","Sequence Number","Audit","Republished"]
[null,null,null,"2014-15","2015-16","2015-16","2015-16","Federal","2015-16","2015-16","2015-06-30","2014-15","2015-16","2015-16","2015-16","2015-16","2015-16","2015-16","2015-16","2015-16","2015-16","2015-16","2015-16","2015-16","2015-16","2015-16",null,null,null,"2015-16","2015-16","2015-16",null,"2015-16","2014-15","2015-16","2015-16","2015-16","2015-16",null,null,"Virtual",null,"Special Levies",null,null,null,null,null,null,"To Fund","New Facilities",null,null,null,null,null,null,null,null,null,null,null,null,null,null,null,null,null,"(info only)"]
[null,null,null,"Adjusted",null,null,"Special","Impact","Total","Gen State Aid","Unencumbered","Total",null,null,null,null,null,null,"State Aid","Extraordinary","Mineral","Federal",null,null,null,"Interest",null,null,null,"Computed","Computed","Adopted","Legal General","Legal","LOB Base","LOB","Computed","Adopted","Legal",null,"2014-15","2014-15","2014-15","2014-15","2014-15","2014-15","2014-15","2014-15","2014-15","2014-15","Extraordinary","2014-15","2014-15","2014-15","2013-14","2014-15","2015-16","Declining","2015-16","2015-16","2015-16","2015-16","2015-16","2015-16","2015-16","2015-16","2015-16","2015-16","2015-16","2014-15","2015-16","2015-16","2015-16","2015-16","2014-15","2015-16","2015-16","2015-16","2014-15","2015-16","2015-16","2015-16","2015-16","2014-15","2015-16","2015-16","2015-16"]
[null,null,null,"General State Aid","Virtual","New Facilities","Levies","Aid","Adjusted","OverProration","Cash","Budget","General","LOB","Special Ed","KPERS","KPERS","Capital Outlay","Flow-Thru","Needs State","Production","Impact","Pupil","Authorized","Misc","on Idle",null,null,null,"Gen Fund","Gen Fund","General","Fund","General","General","Percent","LOB","LOB","LOB",null,"General","Virtual","Virtual Aid","COL","COL Aid","Decl Enrol","Decl Enrol Aid","Ancillary","Ancillary Aid","Total Special","Need State Aid","New Fac","New Fac Aid","Adj General","FTE Enroll.","FTE Enroll.","FTE Enroll.","Enrollment","4yr At Risk","Adjusted","Virtual FTE","Virtual FT Aid","Virtual FTE","Virtual PT Aid","Virtual Credits","Virtual Credits Aid","Total Virtual","New Fac","New Fac Aid","Cost of Living","Cost of Living","Cost of Living","Cost of Living","Cost of Living","Decl Enroll","Decl Enroll","Decl Enroll","Decl Enroll","Ancillary","Ancillary","Ancillary","Ancillary","Federal","Federal","Tuition","Tuition","Tuition"]
["USD #","County","District Name","(Table I)","State Aid","State Aid","State Aid","Difference","Enrollment",0,"Balance","Reduction","State Aid","State Aid","State Aid","State Aid","State Aid","State Aid","General Fund","Aid","Tax","Aid","Tuition","Transfers","Revenue","Funds",null,null,null,"(excl COL)","(incl COL)","Fund","(before red)","Fund","Fund","Authorized","Budget","Budget","Budget",null,"State Aid","WTD FTE",3852,"WTD FTE",3852,"WTD FTE",3852,"WTD FTE",3852,"Levy Aid",4.0000000000000001E-3,"WTD FTE",3852,"State Aid","(excl 4yr AR)","(excl 4yr AR)","(excl 4yr AR)","Provision","FTE Enroll.","Enrollment","(Full-Time)",5000,"(Part-Time)",4045,"(19yrs +)",933,"State Aid","WTD FTE",3852,"Tax Appeal","Percent","Computed","USD Amt Used","Max Authority","Tax Appeal","Tax Appeal","USD Amt Used","Max Authority","Tax Appeal","Tax Appeal","USD Amt Used","Max Authority","Impact Aid","Impact Aid","Individual","In State","Out of State",null,null,null,"USD #"]
["Total",null,"STATE TOTALS",{"$f":"SUM(D8:D293)","v":2511591254},{"$f":"SUM(E8:E293)","v":30641401},11440827,52968844,876208,{"$f":"SUM(I8:I293)","v":459899.8},0,{"$f":"SUM(K8:K293)","v":525721},{"$f":"SUM(L8:L293)","v":-9819},{"$f":"SUM(M8:M293)","v":2606982994},{"$f":"SUM(N8:N293)","v":446176576},{"$f":"SUM(O8:O293)","v":425394929},{"$f":"SUM(P8:P293)","v":257620695},337816795,{"$f":"SUM(R8:R293)","v":27047902},{"$f":"SUM(S8:S293)","v":3763223096},{"$f":"SUM(T8:T293)","v":1831490},{"$f":"SUM(U8:U293)","v":1846832},{"$f":"SUM(V8:V293)","v":16569272},{"$f":"SUM(W8:W293)","v":263220},{"$f":"SUM(X8:X293)","v":9857748},{"$f":"SUM(Y8:Y293)","v":2617427},{"$f":"SUM(Z8:Z293)","v":2065122},null,null,null,3844016868,{"$f":"SUM(AE8:AE293)","v":3798799928},{"$f":"SUM(AF8:AF293)","v":3960521772},3798745517,{"$f":"SUM(AH8:AH293)","v":3798745517},{"$f":"SUM(AI8:AI293)","v":3473306047},{"$f":"SUM(AJ8:AJ293)","v":86.76},{"$f":"SUM(AK8:AK293)","v":1071117716},{"$f":"SUM(AL8:AL293)","v":1061277923},{"$f":"SUM(AM8:AM293)","v":1061277923},null,{"$f":"SUM(AO8:AO293)","v":2599803072},6608.4,25455559,5213.6000000000004,20082788,952.9,3670571,5657.1,21791149,45544508,10115209,1842.3,7096542,2511591254,{"$f":"SUM(BC8:BC293)","v":451168.4},453447.1,450671.4,456483.3,3416.5,459899.8,4578,{"$f":"SUM(BJ8:BJ293)","v":22890000},844.4,{"$f":"SUM(BL8:BL293)","v":3415615},4647.13,{"$f":"SUM(BN8:BN293)","v":4335786},30641401,2970.1,11440827,{"$f":"SUM(BR8:BR293)","v":20405207},{"$f":"SUM(BS8:BS293)","v":0},{"$f":"SUM(BT8:BT293)","v":32288635},{"$f":"SUM(BU8:BU293)","v":25503370},{"$f":"SUM(BV8:BV293)","v":25121412},{"$f":"SUM(BW8:BW293)","v":3670673},{"$f":"SUM(BX8:BX293)","v":3670673},{"$f":"SUM(BY8:BY293)","v":3670673},3670673,{"$f":"SUM(CA8:CA293)","v":21791313},{"$f":"SUM(CB8:CB293)","v":24176759},{"$f":"SUM(CC8:CC293)","v":24176759},24176759,16294790,17040514,{"$f":"SUM(CG8:CG293)","v":134432},0,0]
[101,"Neosho","Erie-Galesburg ",{"$f":"BB8","v":3725709},{"$f":"BO8","v":15861},{"$f":"BQ8","v":0},{"$f":"BV8+BZ8+CD8","v":0},{"$f":"IF((CF8-CE8)<0,0,CF8-CE8)","v":0},{"$f":"BH8","v":528},{"$f":"I8*$J$6","v":0},0,{"$f":"'2016legmax.xls'!BJ5","v":0},{"$f":"SUM(D8+E8+F8+G8+H8+J8)-K8+L8","v":3741570},{"$f":"'2016legmax.xls'!BB5","v":637074},631920,{"$f":"'2016legmax.xls'!BC5","v":252169},328099,{"$f":"'2016legmax.xls'!BD5","v":0},{"$f":"M8+N8+O8+P8+R8","v":5262733},{"$f":"'2016legmax.xls'!DD5","v":0},8092,0,0,0,0,0,{"$f":"'2016legmax.xls'!AV5","v":2},{"$f":"'2016legmax.xls'!AW5","v":"A"},{"$f":"'2016legmax.xls'!AX5","v":""},{"$f":"D8+E8+F8+BZ8+CD8+H8+J8+L8+N8+O8+Q8+R8+T8+U8+V8+W8+Y8+Z8","v":5346755},{"$f":"AD8+BV8-Q8+P8+X8","v":5270825},{"$f":"IF(Weightings!G5>0,Weightings!G5,'Preliminary SO66'!AB2)","v":5586703},{"$f":"MIN(AE8,AF8)","v":5270825},{"$f":"MIN(AE8,AF8)","v":5270825},5131367,{"$f":"'2016legmax.xls'!BM5","v":0.3},{"$f":"AI8*AJ8","v":1539410},1539410,{"$f":"MIN(AK8,AL8)","v":1539410},null,3769177,7.4,{"$f":"AP8*$AQ$6","v":28505},0,{"$f":"AR8*$AS$6","v":0},0,{"$f":"AT8*$AU$6","v":0},0,{"$f":"AV8*$AW$6","v":0},{"$f":"AS8+AU8+AW8","v":0},{"$f":"SUM(AO8-AQ8-AX8)*$AY$6","v":14963},0,{"$f":"AZ8*$BA$6","v":0},{"$f":"AO8-AQ8-AX8-AY8-BA8","v":3725709},{"$f":"'2016legmax.xls'!F5","v":509},{"$f":"'2016legmax.xls'!I5","v":522.5},{"$f":"'2016legmax.xls'!K5","v":503},{"$f":"MAX(BE8,BD8, AVERAGE(BC8,BD8,BE8))","v":522.5},{"$f":"'2016legmax.xls'!O5","v":5.5},{"$f":"BF8+BG8","v":528},{"$f":"IF(ISNA(VLOOKUP($CM8,'Audit Values'!$A$2:$AE$252,2,FALSE)),'Preliminary SO66'!T2,VLOOKUP($CM8,'Audit Values'!$A$2:$AE$252,20,FALSE))","v":0},{"$f":"BI8*$BJ$6","v":0},{"$f":"IF(ISNA(VLOOKUP($CM8,'Audit Values'!$A$2:$AE$252,2,FALSE)),'Preliminary SO66'!U2,VLOOKUP($CM8,'Audit Values'!$A$2:$AE$252,21,FALSE))","v":0},{"$f":"BK8*$BL$6","v":0},17,{"$f":"BM8*$BN$6","v":15861},{"$f":"BJ8+BL8+BN8","v":15861},{"$f":"'2016legmax.xls'!AH5","v":0},{"$f":"BP8*$BQ$6","v":0},0,{"$f":"'2016legmax.xls'!CJ5","v":0},{"$f":"AD8*BS8","v":0},{"$f":"'2016legmax.xls'!CI5","v":0},{"$f":"MIN(BT8,BU8)","v":0},0,0,0,{"$f":"IF(BY8>MAX(BW8,BX8), MAX(BW8,BX8),BY8)","v":0},0,0,0,{"$f":"IF(CC8>MAX(CA8,CB8),MAX(CA8,CB8),CC8)","v":0},0,0,0,0,0,null,null,null,"D0101"]
[102,"Gray","Cimmaron-Ensign",{"$f":"BB9","v":4170170},{"$f":"BO9","v":0},{"$f":"BQ9","v":114019},0,{"$f":"IF((CF9-CE9)<0,0,CF9-CE9)","v":0},{"$f":"BH9","v":632.70000000000005},{"$f":"I9*$J$6","v":0},22,{"$f":"'2016legmax.xls'!BJ6","v":0},{"$f":"SUM(D9+E9+F9+G9+H9+J9)-K9+L9","v":4284167},{"$f":"'2016legmax.xls'!BB6","v":607345},463142,{"$f":"'2016legmax.xls'!BC6","v":335027},441283,{"$f":"'2016legmax.xls'!BD6","v":24833},{"$f":"M9+N9+O9+P9+R9","v":5714514},{"$f":"'2016legmax.xls'!DD6","v":0},0,0,0,0,0,0,{"$f":"'2016legmax.xls'!AV6","v":14},{"$f":"'2016legmax.xls'!AW6","v":"A"},{"$f":"'2016legmax.xls'!AX6","v":""},{"$f":"D9+E9+F9+BZ9+CD9+H9+J9+L9+N9+O9+Q9+R9+T9+U9+V9+W9+Y9+Z9","v":5820792},{"$f":"AD9+BV9-Q9+P9+X9","v":5714536},{"$f":"IF(Weightings!G6>0,Weightings!G6,'Preliminary SO66'!AB3)","v":5966187},5714536,{"$f":"MIN(AE9,AF9)","v":5714536},5571673,{"$f":"'2016legmax.xls'!BM6","v":0.3},{"$f":"AI9*AJ9","v":1671502},1425000,{"$f":"MIN(AK9,AL9)","v":1425000},null,4356561,9,{"$f":"AP9*$AQ$6","v":34668},0,{"$f":"AR9*$AS$6","v":0},0,{"$f":"AT9*$AU$6","v":0},0,{"$f":"AV9*$AW$6","v":0},{"$f":"AS9+AU9+AW9","v":0},{"$f":"SUM(AO9-AQ9-AX9)*$AY$6","v":17288},34.9,{"$f":"AZ9*$BA$6","v":134435},{"$f":"AO9-AQ9-AX9-AY9-BA9","v":4170170},{"$f":"'2016legmax.xls'!F6","v":633.4},{"$f":"'2016legmax.xls'!I6","v":626.70000000000005},{"$f":"'2016legmax.xls'!K6","v":619},{"$f":"MAX(BE9,BD9, AVERAGE(BC9,BD9,BE9))","v":626.70000000000005},{"$f":"'2016legmax.xls'!O6","v":6},{"$f":"BF9+BG9","v":632.70000000000005},{"$f":"IF(ISNA(VLOOKUP($CM9,'Audit Values'!$A$2:$AE$252,2,FALSE)),'Preliminary SO66'!T3,VLOOKUP($CM9,'Audit Values'!$A$2:$AE$252,20,FALSE))","v":0},{"$f":"BI9*$BJ$6","v":0},{"$f":"IF(ISNA(VLOOKUP($CM9,'Audit Values'!$A$2:$AE$252,2,FALSE)),'Preliminary SO66'!U3,VLOOKUP($CM9,'Audit Values'!$A$2:$AE$252,21,FALSE))","v":0},{"$f":"BK9*$BL$6","v":0},0,{"$f":"BM9*$BN$6","v":0},{"$f":"BJ9+BL9+BN9","v":0},{"$f":"'2016legmax.xls'!AH6","v":29.6},{"$f":"BP9*$BQ$6","v":114019},0,{"$f":"'2016legmax.xls'!CJ6","v":0},0,{"$f":"'2016legmax.xls'!CI6","v":0},{"$f":"MIN(BT9,BU9)","v":0},0,0,0,{"$f":"IF(BY9>MAX(BW9,BX9), MAX(BW9,BX9),BY9)","v":0},0,0,0,{"$f":"IF(CC9>MAX(CA9,CB9),MAX(CA9,CB9),CC9)","v":0},0,0,0,0,0,null,null,null,"D0102"]
[103,"Cheyenne","Cheylin ",1230408,0,0,0,0,137,0,0,{"$f":"'2016legmax.xls'!BJ7","v":0},1230408,{"$f":"'2016legmax.xls'!BB7","v":0},125987,{"$f":"'2016legmax.xls'!BC7","v":80184},104513,{"$f":"'2016legmax.xls'!BD7","v":0},1436579,{"$f":"'2016legmax.xls'!DD7","v":0},23117,0,0,0,0,0,{"$f":"'2016legmax.xls'!AV7","v":15},{"$f":"'2016legmax.xls'!AW7","v":"A"},{"$f":"'2016legmax.xls'!AX7","v":""},1484025,1459696,{"$f":"IF(Weightings!G7>0,Weightings!G7,'Preliminary SO66'!AB4)","v":1530420},1459696,1459696,1733468,{"$f":"'2016legmax.xls'!BM7","v":0.3},520040,520040,520040,null,1235349,0,0,0,0,0,0,0,0,0,4941,0,0,1230408,{"$f":"'2016legmax.xls'!F7","v":127},{"$f":"'2016legmax.xls'!I7","v":137},{"$f":"'2016legmax.xls'!K7","v":133.5},137,{"$f":"'2016legmax.xls'!O7","v":0},137,{"$f":"IF(ISNA(VLOOKUP($CM10,'Audit Values'!$A$2:$AE$252,2,FALSE)),'Preliminary SO66'!T4,VLOOKUP($CM10,'Audit Values'!$A$2:$AE$252,20,FALSE))","v":0},0,{"$f":"IF(ISNA(VLOOKUP($CM10,'Audit Values'!$A$2:$AE$252,2,FALSE)),'Preliminary SO66'!U4,VLOOKUP($CM10,'Audit Values'!$A$2:$AE$252,21,FALSE))","v":0},0,0,0,0,{"$f":"'2016legmax.xls'!AH7","v":0},0,0,{"$f":"'2016legmax.xls'!CJ7","v":0},0,{"$f":"'2016legmax.xls'!CI7","v":0},0,0,0,0,0,0,0,0,0,0,0,0,0,0,null,null,null,"D0103"]
[105,"Rawlins","Rawlins County ",2259170,0,0,0,0,333.4,0,0,{"$f":"'2016legmax.xls'!BJ8","v":0},2259170,{"$f":"'2016legmax.xls'!BB8","v":235295},296419,{"$f":"'2016legmax.xls'!BC8","v":193020},252133,{"$f":"'2016legmax.xls'!BD8","v":0},2983904,{"$f":"'2016legmax.xls'!DD8","v":0},16451,0,0,0,0,2543,{"$f":"'2016legmax.xls'!AV8","v":15},{"$f":"'2016legmax.xls'!AW8","v":"A"},{"$f":"'2016legmax.xls'!AX8","v":""},3062011,3002898,{"$f":"IF(Weightings!G8>0,Weightings!G8,'Preliminary SO66'!AB5)","v":3185830},3002898,3002898,3077442,{"$f":"'2016legmax.xls'!BM8","v":0.3},923233,923233,923233,null,{"$f":"2233071+35172","v":2268243},0,0,0,0,0,0,0,0,0,9073,0,0,2259170,{"$f":"'2016legmax.xls'!F8","v":310.5},{"$f":"'2016legmax.xls'!I8","v":323.5},{"$f":"'2016legmax.xls'!K8","v":333.4},333.4,{"$f":"'2016legmax.xls'!O8","v":0},333.4,{"$f":"IF(ISNA(VLOOKUP($CM11,'Audit Values'!$A$2:$AE$252,2,FALSE)),'Preliminary SO66'!T5,VLOOKUP($CM11,'Audit Values'!$A$2:$AE$252,20,FALSE))","v":0},0,{"$f":"IF(ISNA(VLOOKUP($CM11,'Audit Values'!$A$2:$AE$252,2,FALSE)),'Preliminary SO66'!U5,VLOOKUP($CM11,'Audit Values'!$A$2:$AE$252,21,FALSE))","v":0},0,0,0,0,{"$f":"'2016legmax.xls'!AH8","v":0},0,0,{"$f":"'2016legmax.xls'!CJ8","v":0},0,{"$f":"'2016legmax.xls'!CI8","v":0},0,0,0,0,0,0,0,0,0,0,0,0,0,0,null,null,null,"D0105"]
[106,"Ness","Western Plains ",1176530,0,0,0,0,118,0,8209,{"$f":"'2016legmax.xls'!BJ9","v":0},1168321,{"$f":"'2016legmax.xls'!BB9","v":0},84804,{"$f":"'2016legmax.xls'!BC9","v":83902},111185,{"$f":"'2016legmax.xls'!BD9","v":0},1337027,{"$f":"'2016legmax.xls'!DD9","v":0},26941,0,0,0,33416,2700,{"$f":"'2016legmax.xls'!AV9","v":6},{"$f":"'2016legmax.xls'!AW9","v":"A"},{"$f":"'2016legmax.xls'!AX9","v":""},1435576,1408293,{"$f":"IF(Weightings!G9>0,Weightings!G9,'Preliminary SO66'!AB6)","v":1494664},1408293,1408293,1613735,{"$f":"'2016legmax.xls'!BM9","v":0.3},484121,484121,484121,null,1181255,0,0,0,0,0,0,0,0,0,4725,0,0,1176530,{"$f":"'2016legmax.xls'!F9","v":129},{"$f":"'2016legmax.xls'!I9","v":118},{"$f":"'2016legmax.xls'!K9","v":104},118,{"$f":"'2016legmax.xls'!O9","v":0},118,{"$f":"IF(ISNA(VLOOKUP($CM12,'Audit Values'!$A$2:$AE$252,2,FALSE)),'Preliminary SO66'!T6,VLOOKUP($CM12,'Audit Values'!$A$2:$AE$252,20,FALSE))","v":0},0,{"$f":"IF(ISNA(VLOOKUP($CM12,'Audit Values'!$A$2:$AE$252,2,FALSE)),'Preliminary SO66'!U6,VLOOKUP($CM12,'Audit Values'!$A$2:$AE$252,21,FALSE))","v":0},0,0,0,0,{"$f":"'2016legmax.xls'!AH9","v":0},0,0,{"$f":"'2016legmax.xls'!CJ9","v":0},0,{"$f":"'2016legmax.xls'!CI9","v":0},0,0,0,0,0,0,0,0,0,0,0,0,0,0,null,null,null,"D0106"]
[107,"Jewell","Rock Hills ",2165516,0,0,0,13257,279,0,0,{"$f":"'2016legmax.xls'!BJ10","v":0},2178773,{"$f":"'2016legmax.xls'!BB10","v":21269},354343,{"$f":"'2016legmax.xls'!BC10","v":182372},238280,{"$f":"'2016legmax.xls'!BD10","v":0},2736757,{"$f":"'2016legmax.xls'!DD10","v":0},0,0,0,0,0,0,{"$f":"'2016legmax.xls'!AV10","v":16},{"$f":"'2016legmax.xls'!AW10","v":"A"},{"$f":"'2016legmax.xls'!AX10","v":""},2792665,2736757,{"$f":"IF(Weightings!G10>0,Weightings!G10,'Preliminary SO66'!AB7)","v":2922851},2736757,2736757,2941701,{"$f":"'2016legmax.xls'!BM10","v":0.23799999999999999},700125,700000,700000,null,2174213,0,0,0,0,0,0,0,0,0,8697,0,0,2165516,{"$f":"'2016legmax.xls'!F10","v":277},{"$f":"'2016legmax.xls'!I10","v":274.5},{"$f":"'2016legmax.xls'!K10","v":269.5},274.5,{"$f":"'2016legmax.xls'!O10","v":4.5},279,{"$f":"IF(ISNA(VLOOKUP($CM13,'Audit Values'!$A$2:$AE$252,2,FALSE)),'Preliminary SO66'!T7,VLOOKUP($CM13,'Audit Values'!$A$2:$AE$252,20,FALSE))","v":0},0,{"$f":"IF(ISNA(VLOOKUP($CM13,'Audit Values'!$A$2:$AE$252,2,FALSE)),'Preliminary SO66'!U7,VLOOKUP($CM13,'Audit Values'!$A$2:$AE$252,21,FALSE))","v":0},0,0,0,0,{"$f":"'2016legmax.xls'!AH10","v":0},0,0,{"$f":"'2016legmax.xls'!CJ10","v":0},0,{"$f":"'2016legmax.xls'!CI10","v":0},0,0,0,0,0,0,0,0,0,0,{"$f":"13256+1","v":13257},0,0,0,null,null,null,"D0107"]
[108,"Washington","Washington Co. Schools ",2399315,0,0,0,0,343,0,0,{"$f":"'2016legmax.xls'!BJ11","v":0},2399315,{"$f":"'2016legmax.xls'!BB11","v":184639},322183,{"$f":"'2016legmax.xls'!BC11","v":160355},209196,{"$f":"'2016legmax.xls'!BD11","v":0},3066492,{"$f":"'2016legmax.xls'!DD11","v":0},0,0,0,0,0,3213,{"$f":"'2016legmax.xls'!AV11","v":16},{"$f":"'2016legmax.xls'!AW11","v":"A"},{"$f":"'2016legmax.xls'!AX11","v":""},3118546,3069705,{"$f":"IF(Weightings!G11>0,Weightings!G11,'Preliminary SO66'!AB8)","v":3219173},3069705,3069705,3356377,{"$f":"'2016legmax.xls'!BM11","v":0.3},1006913,1006913,1006913,null,2413188,1.1000000000000001,4237,0,0,0,0,0,0,0,9636,0,0,2399315,{"$f":"'2016legmax.xls'!F11","v":346},{"$f":"'2016legmax.xls'!I11","v":343},{"$f":"'2016legmax.xls'!K11","v":337},343,{"$f":"'2016legmax.xls'!O11","v":0},343,{"$f":"IF(ISNA(VLOOKUP($CM14,'Audit Values'!$A$2:$AE$252,2,FALSE)),'Preliminary SO66'!T8,VLOOKUP($CM14,'Audit Values'!$A$2:$AE$252,20,FALSE))","v":0},0,{"$f":"IF(ISNA(VLOOKUP($CM14,'Audit Values'!$A$2:$AE$252,2,FALSE)),'Preliminary SO66'!U8,VLOOKUP($CM14,'Audit Values'!$A$2:$AE$252,21,FALSE))","v":0},0,0,0,0,{"$f":"'2016legmax.xls'!AH11","v":0},0,0,{"$f":"'2016legmax.xls'!CJ11","v":0},0,{"$f":"'2016legmax.xls'!CI11","v":0},0,0,0,0,0,0,0,0,0,0,0,0,0,0,null,null,null,"D0108"]
[109,"Republic","Republic County ",3188195,0,0,0,0,466.5,0,0,{"$f":"'2016legmax.xls'!BJ12","v":0},3188195,{"$f":"'2016legmax.xls'!BB12","v":239701},414501,{"$f":"'2016legmax.xls'!BC12","v":227641},299146,{"$f":"'2016legmax.xls'!BD12","v":0},4070038,{"$f":"'2016legmax.xls'!DD12","v":0},0,0,0,27,0,3367,{"$f":"'2016legmax.xls'!AV12","v":16},{"$f":"'2016legmax.xls'!AW12","v":"A"},{"$f":"'2016legmax.xls'!AX12","v":""},4144910,4073432,{"$f":"IF(Weightings!G12>0,Weightings!G12,'Preliminary SO66'!AB9)","v":4200601},4073432,4073432,4341960,{"$f":"'2016legmax.xls'!BM12","v":0.3},1302588,1280000,1280000,null,3216407,4,15408,0,0,0,0,0,0,0,12804,0,0,3188195,{"$f":"'2016legmax.xls'!F12","v":460},{"$f":"'2016legmax.xls'!I12","v":466.5},{"$f":"'2016legmax.xls'!K12","v":466},466.5,{"$f":"'2016legmax.xls'!O12","v":0},466.5,{"$f":"IF(ISNA(VLOOKUP($CM15,'Audit Values'!$A$2:$AE$252,2,FALSE)),'Preliminary SO66'!T9,VLOOKUP($CM15,'Audit Values'!$A$2:$AE$252,20,FALSE))","v":0},0,{"$f":"IF(ISNA(VLOOKUP($CM15,'Audit Values'!$A$2:$AE$252,2,FALSE)),'Preliminary SO66'!U9,VLOOKUP($CM15,'Audit Values'!$A$2:$AE$252,21,FALSE))","v":0},0,0,0,0,{"$f":"'2016legmax.xls'!AH12","v":0},0,0,{"$f":"'2016legmax.xls'!CJ12","v":0},0,{"$f":"'2016legmax.xls'!CI12","v":0},0,0,0,0,0,0,0,0,0,0,0,0,0,0,null,null,null,"D0109"]
[110,"Phillips","Thunder Ridge Schools ",1679220,0,0,0,186229,220.5,0,0,{"$f":"'2016legmax.xls'!BJ13","v":0},1865449,{"$f":"'2016legmax.xls'!BB13","v":256507},273140,{"$f":"'2016legmax.xls'!BC13","v":116222},153983,{"$f":"'2016legmax.xls'!BD13","v":9677},2520995,{"$f":"'2016legmax.xls'!DD13","v":0},0,37245,0,0,0,12179,{"$f":"'2016legmax.xls'!AV13","v":8},{"$f":"'2016legmax.xls'!AW13","v":"A"},{"$f":"'2016legmax.xls'!AX13","v":""},2608180,2570419,{"$f":"IF(Weightings!G13>0,Weightings!G13,'Preliminary SO66'!AB10)","v":2620524},2570419,2570419,2559624,{"$f":"'2016legmax.xls'!BM13","v":0.3},767887,767887,767887,null,1685964,0,0,0,0,0,0,0,0,0,6744,0,0,1679220,{"$f":"'2016legmax.xls'!F13","v":226},{"$f":"'2016legmax.xls'!I13","v":217},{"$f":"'2016legmax.xls'!K13","v":214},219,{"$f":"'2016legmax.xls'!O13","v":1.5},220.5,{"$f":"IF(ISNA(VLOOKUP($CM16,'Audit Values'!$A$2:$AE$252,2,FALSE)),'Preliminary SO66'!T10,VLOOKUP($CM16,'Audit Values'!$A$2:$AE$252,20,FALSE))","v":0},0,{"$f":"IF(ISNA(VLOOKUP($CM16,'Audit Values'!$A$2:$AE$252,2,FALSE)),'Preliminary SO66'!U10,VLOOKUP($CM16,'Audit Values'!$A$2:$AE$252,21,FALSE))","v":0},0,0,0,0,{"$f":"'2016legmax.xls'!AH13","v":0},0,0,{"$f":"'2016legmax.xls'!CJ13","v":0},0,{"$f":"'2016legmax.xls'!CI13","v":0},0,0,0,0,0,0,0,0,0,37240,223469,0,0,0,null,null,null,"D0110"]
[111,"Doniphan","Doniphan West Schools ",2390377,0,0,0,0,319.3,0,0,{"$f":"'2016legmax.xls'!BJ14","v":0},2390377,{"$f":"'2016legmax.xls'!BB14","v":0},293114,{"$f":"'2016legmax.xls'!BC14","v":207237},269158,{"$f":"'2016legmax.xls'!BD14","v":0},2890728,{"$f":"'2016legmax.xls'!DD14","v":0},0,0,0,0,0,0,{"$f":"'2016legmax.xls'!AV14","v":12},{"$f":"'2016legmax.xls'!AW14","v":"A"},{"$f":"'2016legmax.xls'!AX14","v":""},2952649,2890728,{"$f":"IF(Weightings!G14>0,Weightings!G14,'Preliminary SO66'!AB11)","v":3085147},2890728,2890728,3352491,{"$f":"'2016legmax.xls'!BM14","v":0.3},1005747,1005747,1005747,null,2399977,0,0,0,0,0,0,0,0,0,9600,0,0,2390377,{"$f":"'2016legmax.xls'!F14","v":318},{"$f":"'2016legmax.xls'!I14","v":313},{"$f":"'2016legmax.xls'!K14","v":309},313.3,{"$f":"'2016legmax.xls'!O14","v":6},319.3,{"$f":"IF(ISNA(VLOOKUP($CM17,'Audit Values'!$A$2:$AE$252,2,FALSE)),'Preliminary SO66'!T11,VLOOKUP($CM17,'Audit Values'!$A$2:$AE$252,20,FALSE))","v":0},0,{"$f":"IF(ISNA(VLOOKUP($CM17,'Audit Values'!$A$2:$AE$252,2,FALSE)),'Preliminary SO66'!U11,VLOOKUP($CM17,'Audit Values'!$A$2:$AE$252,21,FALSE))","v":0},0,0,0,0,{"$f":"'2016legmax.xls'!AH14","v":0},0,0,{"$f":"'2016legmax.xls'!CJ14","v":0},0,{"$f":"'2016legmax.xls'!CI14","v":0},0,0,0,0,0,0,0,0,0,0,0,0,0,0,null,null,null,"D0111"]
[112,"Ellsworth","Central Plains ",3099666,199947,0,0,0,446.5,0,0,{"$f":"'2016legmax.xls'!BJ15","v":0},3299613,{"$f":"'2016legmax.xls'!BB15","v":0},440677,{"$f":"'2016legmax.xls'!BC15","v":312981},407736,{"$f":"'2016legmax.xls'!BD15","v":0},4053271,{"$f":"'2016legmax.xls'!DD15","v":0},15159,0,0,0,0,15774,{"$f":"'2016legmax.xls'!AV15","v":15},{"$f":"'2016legmax.xls'!AW15","v":"A"},{"$f":"'2016legmax.xls'!AX15","v":""},4178959,4084204,{"$f":"IF(Weightings!G15>0,Weightings!G15,'Preliminary SO66'!AB12)","v":4346634},4084204,4084204,4349367,{"$f":"'2016legmax.xls'!BM15","v":0.3},1304810,1304810,1304810,null,3341308,59.5,229194,0,0,0,0,0,0,0,12448,0,0,3099666,{"$f":"'2016legmax.xls'!F15","v":450.9},{"$f":"'2016legmax.xls'!I15","v":430},{"$f":"'2016legmax.xls'!K15","v":443.5},443.5,{"$f":"'2016legmax.xls'!O15","v":3},446.5,{"$f":"IF(ISNA(VLOOKUP($CM18,'Audit Values'!$A$2:$AE$252,2,FALSE)),'Preliminary SO66'!T12,VLOOKUP($CM18,'Audit Values'!$A$2:$AE$252,20,FALSE))","v":31},155000,{"$f":"IF(ISNA(VLOOKUP($CM18,'Audit Values'!$A$2:$AE$252,2,FALSE)),'Preliminary SO66'!U12,VLOOKUP($CM18,'Audit Values'!$A$2:$AE$252,21,FALSE))","v":3.5},14158,33,30789,199947,{"$f":"'2016legmax.xls'!AH15","v":0},0,0,{"$f":"'2016legmax.xls'!CJ15","v":0},0,{"$f":"'2016legmax.xls'!CI15","v":0},0,0,0,0,0,0,0,0,0,0,0,0,0,0,null,null,null,"D0112"]
[113,"Nemaha","Prairie Hills ",6146381,0,0,0,0,1104.7,0,0,{"$f":"'2016legmax.xls'!BJ16","v":0},6146381,{"$f":"'2016legmax.xls'!BB16","v":700410},870709,{"$f":"'2016legmax.xls'!BC16","v":561085},737187,{"$f":"'2016legmax.xls'!BD16","v":0},8278585,{"$f":"'2016legmax.xls'!DD16","v":0},1477,0,0,0,0,19892,{"$f":"'2016legmax.xls'!AV16","v":2},{"$f":"'2016legmax.xls'!AW16","v":"A"},{"$f":"'2016legmax.xls'!AX16","v":""},8476056,8299954,{"$f":"IF(Weightings!G16>0,Weightings!G16,'Preliminary SO66'!AB13)","v":8807800},8299954,8299954,8296018,{"$f":"'2016legmax.xls'!BM16","v":0.3},2488805,2488805,2488805,null,6171065,0,0,0,0,0,0,0,0,0,24684,0,0,6146381,{"$f":"'2016legmax.xls'!F16","v":1071.7},{"$f":"'2016legmax.xls'!I16","v":1078.9000000000001},{"$f":"'2016legmax.xls'!K16","v":1099.2},1099.2,{"$f":"'2016legmax.xls'!O16","v":5.5},1104.7,{"$f":"IF(ISNA(VLOOKUP($CM19,'Audit Values'!$A$2:$AE$252,2,FALSE)),'Preliminary SO66'!T13,VLOOKUP($CM19,'Audit Values'!$A$2:$AE$252,20,FALSE))","v":0},0,{"$f":"IF(ISNA(VLOOKUP($CM19,'Audit Values'!$A$2:$AE$252,2,FALSE)),'Preliminary SO66'!U13,VLOOKUP($CM19,'Audit Values'!$A$2:$AE$252,21,FALSE))","v":0},0,0,0,0,{"$f":"'2016legmax.xls'!AH16","v":0},0,0,{"$f":"'2016legmax.xls'!CJ16","v":0},0,{"$f":"'2016legmax.xls'!CI16","v":0},0,0,0,0,0,0,0,0,0,0,0,0,0,0,null,null,null,"D0113"]
[114,"Doniphan","Riverside ",4423510,104125,0,0,0,646.1,0,80,{"$f":"'2016legmax.xls'!BJ17","v":0},4527555,{"$f":"'2016legmax.xls'!BB17","v":784251},587704,{"$f":"'2016legmax.xls'!BC17","v":329095},433902,{"$f":"'2016legmax.xls'!BD17","v":0},6228605,{"$f":"'2016legmax.xls'!DD17","v":0},0,0,0,0,0,0,{"$f":"'2016legmax.xls'!AV17","v":13},{"$f":"'2016legmax.xls'!AW17","v":"A"},{"$f":"'2016legmax.xls'!AX17","v":""},6333492,6228685,{"$f":"IF(Weightings!G17>0,Weightings!G17,'Preliminary SO66'!AB14)","v":6683697},6228685,6228685,5823772,{"$f":"'2016legmax.xls'!BM17","v":0.3},1747132,1747132,1747132,null,4441275,0,0,0,0,0,0,0,0,0,17765,0,0,4423510,{"$f":"'2016legmax.xls'!F17","v":640.5},{"$f":"'2016legmax.xls'!I17","v":635.6},{"$f":"'2016legmax.xls'!K17","v":594.79999999999995},635.6,{"$f":"'2016legmax.xls'!O17","v":10.5},646.1,{"$f":"IF(ISNA(VLOOKUP($CM20,'Audit Values'!$A$2:$AE$252,2,FALSE)),'Preliminary SO66'!T14,VLOOKUP($CM20,'Audit Values'!$A$2:$AE$252,20,FALSE))","v":18},90000,{"$f":"IF(ISNA(VLOOKUP($CM20,'Audit Values'!$A$2:$AE$252,2,FALSE)),'Preliminary SO66'!U14,VLOOKUP($CM20,'Audit Values'!$A$2:$AE$252,21,FALSE))","v":2.8},11326,3,2799,104125,{"$f":"'2016legmax.xls'!AH17","v":0},0,0,{"$f":"'2016legmax.xls'!CJ17","v":0},0,{"$f":"'2016legmax.xls'!CI17","v":0},0,0,0,0,0,0,0,0,0,0,0,0,0,0,null,null,null,"D0114"]
[115,"Nemaha","Nemaha Central ",3521209,0,0,0,0,574.29999999999995,0,0,{"$f":"'2016legmax.xls'!BJ18","v":0},3521209,{"$f":"'2016legmax.xls'!BB18","v":15480},420346,{"$f":"'2016legmax.xls'!BC18","v":376911},497193,{"$f":"'2016legmax.xls'!BD18","v":0},4333946,{"$f":"'2016legmax.xls'!DD18","v":0},0,0,0,35000,0,29968,{"$f":"'2016legmax.xls'!AV18","v":14},{"$f":"'2016legmax.xls'!AW18","v":"A"},{"$f":"'2016legmax.xls'!AX18","v":""},4484196,4398914,{"$f":"IF(Weightings!G18>0,Weightings!G18,'Preliminary SO66'!AB15)","v":4724260},4398914,4398914,4693665,{"$f":"'2016legmax.xls'!BM18","v":0.3},1408100,1115000,1115000,null,3535350,0,0,0,0,0,0,0,0,0,14141,0,0,3521209,{"$f":"'2016legmax.xls'!F18","v":548},{"$f":"'2016legmax.xls'!I18","v":537.9},{"$f":"'2016legmax.xls'!K18","v":565.29999999999995},565.29999999999995,{"$f":"'2016legmax.xls'!O18","v":9},574.29999999999995,{"$f":"IF(ISNA(VLOOKUP($CM21,'Audit Values'!$A$2:$AE$252,2,FALSE)),'Preliminary SO66'!T15,VLOOKUP($CM21,'Audit Values'!$A$2:$AE$252,20,FALSE))","v":0},0,{"$f":"IF(ISNA(VLOOKUP($CM21,'Audit Values'!$A$2:$AE$252,2,FALSE)),'Preliminary SO66'!U15,VLOOKUP($CM21,'Audit Values'!$A$2:$AE$252,21,FALSE))","v":0},0,0,0,0,{"$f":"'2016legmax.xls'!AH18","v":0},0,0,{"$f":"'2016legmax.xls'!CJ18","v":0},0,{"$f":"'2016legmax.xls'!CI18","v":0},0,0,0,0,0,0,0,0,0,0,0,0,0,0,null,null,null,"D0115"]
[200,"Greeley","Greeley County Schools ",1942101,0,0,0,0,245,0,9,{"$f":"'2016legmax.xls'!BJ19","v":0},1942092,{"$f":"'2016legmax.xls'!BB19","v":0},140142,{"$f":"'2016legmax.xls'!BC19","v":150492},194322,{"$f":"'2016legmax.xls'!BD19","v":0},2232726,{"$f":"'2016legmax.xls'!DD19","v":0},8950,0,0,0,1582,0,{"$f":"'2016legmax.xls'!AV19","v":9},{"$f":"'2016legmax.xls'!AW19","v":"A"},{"$f":"'2016legmax.xls'!AX19","v":""},2287097,2243267,{"$f":"IF(Weightings!G19>0,Weightings!G19,'Preliminary SO66'!AB16)","v":2273470},2243267,2243267,2457547,{"$f":"'2016legmax.xls'!BM19","v":0.3},737264,737264,737264,null,1949901,0,0,0,0,0,0,0,0,0,7800,0,0,1942101,{"$f":"'2016legmax.xls'!F19","v":205.3},{"$f":"'2016legmax.xls'!I19","v":241.4},{"$f":"'2016legmax.xls'!K19","v":241.5},241.5,{"$f":"'2016legmax.xls'!O19","v":3.5},245,{"$f":"IF(ISNA(VLOOKUP($CM22,'Audit Values'!$A$2:$AE$252,2,FALSE)),'Preliminary SO66'!T16,VLOOKUP($CM22,'Audit Values'!$A$2:$AE$252,20,FALSE))","v":0},0,{"$f":"IF(ISNA(VLOOKUP($CM22,'Audit Values'!$A$2:$AE$252,2,FALSE)),'Preliminary SO66'!U16,VLOOKUP($CM22,'Audit Values'!$A$2:$AE$252,21,FALSE))","v":0},0,0,0,0,{"$f":"'2016legmax.xls'!AH19","v":0},0,0,{"$f":"'2016legmax.xls'!CJ19","v":0},0,{"$f":"'2016legmax.xls'!CI19","v":0},0,0,0,0,0,0,0,0,0,0,0,0,0,0,null,null,null,"D0200"]
[202,"Wyandotte","Turner-Kansas City ",22966575,166074,474181,0,0,3970.1,0,0,{"$f":"'2016legmax.xls'!BJ20","v":0},23606830,{"$f":"'2016legmax.xls'!BB20","v":6492393},2921099,{"$f":"'2016legmax.xls'!BC20","v":2110624},2744630,{"$f":"'2016legmax.xls'!BD20","v":431917},35562863,{"$f":"'2016legmax.xls'!DD20","v":0},0,0,0,0,0,90615,{"$f":"'2016legmax.xls'!AV20","v":9},{"$f":"'2016legmax.xls'!AW20","v":"A"},{"$f":"'2016legmax.xls'!AX20","v":""},36287484,35653478,{"$f":"IF(Weightings!G20>0,Weightings!G20,'Preliminary SO66'!AB17)","v":37111565},35653478,35653478,30178043,{"$f":"'2016legmax.xls'!BM20","v":0.3},9053413,9053413,9053413,null,23058810,0,0,0,0,0,0,0,0,0,92235,0,0,22966575,{"$f":"'2016legmax.xls'!F20","v":3854},{"$f":"'2016legmax.xls'!I20","v":3888.6},{"$f":"'2016legmax.xls'!K20","v":3871.2},3888.6,{"$f":"'2016legmax.xls'!O20","v":81.5},3970.1,{"$f":"IF(ISNA(VLOOKUP($CM23,'Audit Values'!$A$2:$AE$252,2,FALSE)),'Preliminary SO66'!T17,VLOOKUP($CM23,'Audit Values'!$A$2:$AE$252,20,FALSE))","v":0},0,{"$f":"IF(ISNA(VLOOKUP($CM23,'Audit Values'!$A$2:$AE$252,2,FALSE)),'Preliminary SO66'!U17,VLOOKUP($CM23,'Audit Values'!$A$2:$AE$252,21,FALSE))","v":0},0,178,166074,166074,{"$f":"'2016legmax.xls'!AH20","v":123.1},474181,0,{"$f":"'2016legmax.xls'!CJ20","v":0},0,{"$f":"'2016legmax.xls'!CI20","v":0},0,0,0,0,0,0,0,0,0,0,0,0,0,0,null,null,null,"D0202"]
[203,"Wyandotte","Piper-Kansas City ",8735772,4665,0,0,0,1959,0,0,{"$f":"'2016legmax.xls'!BJ21","v":0},8740437,{"$f":"'2016legmax.xls'!BB21","v":709919},2026925,{"$f":"'2016legmax.xls'!BC21","v":758267},994080,{"$f":"'2016legmax.xls'!BD21","v":0},12235548,{"$f":"'2016legmax.xls'!DD21","v":120167},0,0,0,0,0,0,{"$f":"'2016legmax.xls'!AV21","v":13},{"$f":"'2016legmax.xls'!AW21","v":"A"},{"$f":"'2016legmax.xls'!AX21","v":""},12591528,12355715,{"$f":"IF(Weightings!G21>0,Weightings!G21,'Preliminary SO66'!AB18)","v":12804073},12355715,12355715,12019524,{"$f":"'2016legmax.xls'!BM21","v":0.31},3726052,3726052,3726052,null,8787033,4.2,16178,0,0,0,0,0,0,0,35083,0,0,8735772,{"$f":"'2016legmax.xls'!F21","v":1799.6},{"$f":"'2016legmax.xls'!I21","v":1889.5},{"$f":"'2016legmax.xls'!K21","v":1955},1955,{"$f":"'2016legmax.xls'!O21","v":4},1959,{"$f":"IF(ISNA(VLOOKUP($CM24,'Audit Values'!$A$2:$AE$252,2,FALSE)),'Preliminary SO66'!T18,VLOOKUP($CM24,'Audit Values'!$A$2:$AE$252,20,FALSE))","v":0},0,{"$f":"IF(ISNA(VLOOKUP($CM24,'Audit Values'!$A$2:$AE$252,2,FALSE)),'Preliminary SO66'!U18,VLOOKUP($CM24,'Audit Values'!$A$2:$AE$252,21,FALSE))","v":0},0,5,4665,4665,{"$f":"'2016legmax.xls'!AH21","v":0},0,0,{"$f":"'2016legmax.xls'!CJ21","v":2.8799999999999999E-2},362636,{"$f":"'2016legmax.xls'!CI21","v":0},0,0,0,0,0,0,0,0,0,0,0,0,0,0,null,null,null,"D0203"]
[204,"Wyandotte","Bonner Springs ",13151164,104751,0,0,0,2593.5,0,0,{"$f":"'2016legmax.xls'!BJ22","v":0},13255915,{"$f":"'2016legmax.xls'!BB22-14","v":2252681},3079088,{"$f":"'2016legmax.xls'!BC22","v":1414362},1830368,{"$f":"'2016legmax.xls'!BD22","v":175701},20177747,{"$f":"'2016legmax.xls'!DD22","v":164495},0,0,0,0,0,0,{"$f":"'2016legmax.xls'!AV22","v":12},{"$f":"'2016legmax.xls'!AW22","v":"A"},{"$f":"'2016legmax.xls'!AX22","v":""},20758248,20342242,{"$f":"IF(Weightings!G22>0,Weightings!G22,'Preliminary SO66'!AB19)","v":21605473},20342242,20342242,18087128,{"$f":"'2016legmax.xls'!BM22","v":0.3},5426138,5426138,5426138,null,13203980,0,0,0,0,0,0,0,0,0,52816,0,0,13151164,{"$f":"'2016legmax.xls'!F22","v":2421.8000000000002},{"$f":"'2016legmax.xls'!I22","v":2507.1},{"$f":"'2016legmax.xls'!K22","v":2570.5},2570.5,{"$f":"'2016legmax.xls'!O22","v":23},2593.5,{"$f":"IF(ISNA(VLOOKUP($CM25,'Audit Values'!$A$2:$AE$252,2,FALSE)),'Preliminary SO66'!T19,VLOOKUP($CM25,'Audit Values'!$A$2:$AE$252,20,FALSE))","v":13},65000,{"$f":"IF(ISNA(VLOOKUP($CM25,'Audit Values'!$A$2:$AE$252,2,FALSE)),'Preliminary SO66'!U19,VLOOKUP($CM25,'Audit Values'!$A$2:$AE$252,21,FALSE))","v":2.1},8495,33.5,31256,104751,{"$f":"'2016legmax.xls'!AH22","v":0},0,0,{"$f":"'2016legmax.xls'!CJ22","v":0},0,{"$f":"'2016legmax.xls'!CI22","v":0},0,0,0,0,0,0,0,0,0,0,0,0,0,0,null,null,null,"D0204"]
[205,"Butler","Bluestem ",3591043,1400,0,0,0,507.8,0,4,{"$f":"'2016legmax.xls'!BJ23","v":0},3592439,{"$f":"'2016legmax.xls'!BB23","v":485918},525258,{"$f":"'2016legmax.xls'!BC23","v":268614},354772,{"$f":"'2016legmax.xls'!BD23","v":22089},4894318,{"$f":"'2016legmax.xls'!DD23","v":0},1142,0,0,0,0,0,{"$f":"'2016legmax.xls'!AV23","v":15},{"$f":"'2016legmax.xls'!AW23","v":"A"},{"$f":"'2016legmax.xls'!AX23","v":""},4981622,4895464,{"$f":"IF(Weightings!G23>0,Weightings!G23,'Preliminary SO66'!AB20)","v":5247052},4895464,4895464,4815400,{"$f":"'2016legmax.xls'!BM23","v":0.3},1444620,1444620,1444620,null,3605465,0,0,0,0,0,0,0,0,0,14422,0,0,3591043,{"$f":"'2016legmax.xls'!F23","v":502.2},{"$f":"'2016legmax.xls'!I23","v":507.8},{"$f":"'2016legmax.xls'!K23","v":486.3},507.8,{"$f":"'2016legmax.xls'!O23","v":0},507.8,{"$f":"IF(ISNA(VLOOKUP($CM26,'Audit Values'!$A$2:$AE$252,2,FALSE)),'Preliminary SO66'!T20,VLOOKUP($CM26,'Audit Values'!$A$2:$AE$252,20,FALSE))","v":0},0,{"$f":"IF(ISNA(VLOOKUP($CM26,'Audit Values'!$A$2:$AE$252,2,FALSE)),'Preliminary SO66'!U20,VLOOKUP($CM26,'Audit Values'!$A$2:$AE$252,21,FALSE))","v":0},0,1.5,1400,1400,{"$f":"'2016legmax.xls'!AH23","v":0},0,0,{"$f":"'2016legmax.xls'!CJ23","v":0},0,{"$f":"'2016legmax.xls'!CI23","v":0},0,0,0,0,0,0,0,0,0,0,0,0,0,0,null,null,null,"D0205"]
[206,"Butler","Remington-Whitewater ",3315045,21794,0,0,0,497.2,0,0,{"$f":"'2016legmax.xls'!BJ24","v":0},3336839,{"$f":"'2016legmax.xls'!BB24","v":319509},545634,{"$f":"'2016legmax.xls'!BC24","v":271628},358887,{"$f":"'2016legmax.xls'!BD24","v":0},4473610,{"$f":"'2016legmax.xls'!DD24","v":7076},1420,0,0,300000,0,0,{"$f":"'2016legmax.xls'!AV24","v":2},{"$f":"'2016legmax.xls'!AW24","v":"A"},{"$f":"'2016legmax.xls'!AX24","v":""},4569365,4782106,{"$f":"IF(Weightings!G24>0,Weightings!G24,'Preliminary SO66'!AB21)","v":4838622},4782106,4782106,4463293,{"$f":"'2016legmax.xls'!BM24","v":0.3},1338988,1338988,1338988,null,3389220,15.8,60862,0,0,0,0,0,0,0,13313,0,0,3315045,{"$f":"'2016legmax.xls'!F24","v":490.1},{"$f":"'2016legmax.xls'!I24","v":473.4},{"$f":"'2016legmax.xls'!K24","v":491.7},491.7,{"$f":"'2016legmax.xls'!O24","v":5.5},497.2,{"$f":"IF(ISNA(VLOOKUP($CM27,'Audit Values'!$A$2:$AE$252,2,FALSE)),'Preliminary SO66'!T21,VLOOKUP($CM27,'Audit Values'!$A$2:$AE$252,20,FALSE))","v":1},5000,{"$f":"IF(ISNA(VLOOKUP($CM27,'Audit Values'!$A$2:$AE$252,2,FALSE)),'Preliminary SO66'!U21,VLOOKUP($CM27,'Audit Values'!$A$2:$AE$252,21,FALSE))","v":0},0,18,16794,21794,{"$f":"'2016legmax.xls'!AH24","v":0},0,0,{"$f":"'2016legmax.xls'!CJ24","v":0},0,{"$f":"'2016legmax.xls'!CI24","v":0},0,0,0,0,0,0,0,0,0,0,0,0,0,0,null,null,null,"D0206"]
[207,"Leavenworth","Ft Leavenworth ",2714380,0,0,0,476954,1741.2,0,319,{"$f":"'2016legmax.xls'!BJ25","v":0},3191015,{"$f":"'2016legmax.xls'!BB25","v":3393751},1407932,{"$f":"'2016legmax.xls'!BC25","v":996210},1303433,{"$f":"'2016legmax.xls'!BD25","v":6504},8995412,{"$f":"'2016legmax.xls'!DD25","v":0},0,4769371,0,0,0,0,{"$f":"'2016legmax.xls'!AV25","v":16},{"$f":"'2016legmax.xls'!AW25","v":"A"},{"$f":"'2016legmax.xls'!AX25","v":""},14072325,13765102,{"$f":"IF(Weightings!G25>0,Weightings!G25,'Preliminary SO66'!AB22)","v":14109960},13765102,13765102,10725503,{"$f":"'2016legmax.xls'!BM25","v":0.33},3539416,3539416,3539416,null,2725281,0,0,0,0,0,0,0,0,0,10901,0,0,2714380,{"$f":"'2016legmax.xls'!F25","v":1887.6},{"$f":"'2016legmax.xls'!I25","v":1738.9},{"$f":"'2016legmax.xls'!K25","v":1597.1},1741.2,{"$f":"'2016legmax.xls'!O25","v":0},1741.2,{"$f":"IF(ISNA(VLOOKUP($CM28,'Audit Values'!$A$2:$AE$252,2,FALSE)),'Preliminary SO66'!T22,VLOOKUP($CM28,'Audit Values'!$A$2:$AE$252,20,FALSE))","v":0},0,{"$f":"IF(ISNA(VLOOKUP($CM28,'Audit Values'!$A$2:$AE$252,2,FALSE)),'Preliminary SO66'!U22,VLOOKUP($CM28,'Audit Values'!$A$2:$AE$252,21,FALSE))","v":0},0,0,0,0,{"$f":"'2016legmax.xls'!AH25","v":0},0,0,{"$f":"'2016legmax.xls'!CJ25","v":0},0,{"$f":"'2016legmax.xls'!CI25","v":0},0,0,0,0,0,0,0,0,0,4900000,5376954,0,0,0,null,null,null,"D0207"]
[208,"Trego","Wakeeney ",2361202,0,0,0,0,370.8,0,0,{"$f":"'2016legmax.xls'!BJ26","v":0},2361202,{"$f":"'2016legmax.xls'!BB26","v":0},457673,{"$f":"'2016legmax.xls'!BC26","v":212213},282291,{"$f":"'2016legmax.xls'!BD26","v":0},3031088,{"$f":"'2016legmax.xls'!DD26","v":0},16825,0,0,0,0,1090,{"$f":"'2016legmax.xls'!AV26","v":15},{"$f":"'2016legmax.xls'!AW26","v":"A"},{"$f":"'2016legmax.xls'!AX26","v":""},3119081,3049003,{"$f":"IF(Weightings!G26>0,Weightings!G26,'Preliminary SO66'!AB23)","v":3113304},3049003,3049003,3340494,{"$f":"'2016legmax.xls'!BM26","v":0.3},1002148,1002148,1002148,null,2370685,0,0,0,0,0,0,0,0,0,9483,0,0,2361202,{"$f":"'2016legmax.xls'!F26","v":375},{"$f":"'2016legmax.xls'!I26","v":370.3},{"$f":"'2016legmax.xls'!K26","v":367},370.8,{"$f":"'2016legmax.xls'!O26","v":0},370.8,{"$f":"IF(ISNA(VLOOKUP($CM29,'Audit Values'!$A$2:$AE$252,2,FALSE)),'Preliminary SO66'!T23,VLOOKUP($CM29,'Audit Values'!$A$2:$AE$252,20,FALSE))","v":0},0,{"$f":"IF(ISNA(VLOOKUP($CM29,'Audit Values'!$A$2:$AE$252,2,FALSE)),'Preliminary SO66'!U23,VLOOKUP($CM29,'Audit Values'!$A$2:$AE$252,21,FALSE))","v":0},0,0,0,0,{"$f":"'2016legmax.xls'!AH26","v":0},0,0,{"$f":"'2016legmax.xls'!CJ26","v":0},0,{"$f":"'2016legmax.xls'!CI26","v":0},0,0,0,0,0,0,0,0,0,0,0,0,0,0,null,null,null,"D0208"]
[209,"Stevens","Moscow Public Schools ",1552491,0,0,0,0,189.7,0,0,{"$f":"'2016legmax.xls'!BJ27","v":0},1552491,{"$f":"'2016legmax.xls'!BB27","v":0},114047,{"$f":"'2016legmax.xls'!BC27","v":141908},180594,{"$f":"'2016legmax.xls'!BD27","v":0},1808446,{"$f":"'2016legmax.xls'!DD27","v":0},21622,0,0,0,0,0,{"$f":"'2016legmax.xls'!AV27","v":9},{"$f":"'2016legmax.xls'!AW27","v":"A"},{"$f":"'2016legmax.xls'!AX27","v":""},1868754,1830068,{"$f":"IF(Weightings!G27>0,Weightings!G27,'Preliminary SO66'!AB24)","v":1923644},1830068,1830068,2042819,{"$f":"'2016legmax.xls'!BM27","v":0.33},674130,674130,674130,null,1558726,0,0,0,0,0,0,0,0,0,6235,0,0,1552491,{"$f":"'2016legmax.xls'!F27","v":184.9},{"$f":"'2016legmax.xls'!I27","v":185.7},{"$f":"'2016legmax.xls'!K27","v":163.19999999999999},185.7,{"$f":"'2016legmax.xls'!O27","v":4},189.7,{"$f":"IF(ISNA(VLOOKUP($CM30,'Audit Values'!$A$2:$AE$252,2,FALSE)),'Preliminary SO66'!T24,VLOOKUP($CM30,'Audit Values'!$A$2:$AE$252,20,FALSE))","v":0},0,{"$f":"IF(ISNA(VLOOKUP($CM30,'Audit Values'!$A$2:$AE$252,2,FALSE)),'Preliminary SO66'!U24,VLOOKUP($CM30,'Audit Values'!$A$2:$AE$252,21,FALSE))","v":0},0,0,0,0,{"$f":"'2016legmax.xls'!AH27","v":0},0,0,{"$f":"'2016legmax.xls'!CJ27","v":0},0,{"$f":"'2016legmax.xls'!CI27","v":0},0,0,0,0,0,0,0,0,0,0,0,0,0,0,null,null,null,"D0209"]
[210,"Stevens","Hugoton Public Schools ",6545164,10000,0,0,0,1066.8,0,0,{"$f":"'2016legmax.xls'!BJ28","v":0},6555164,{"$f":"'2016legmax.xls'!BB28","v":0},567982,{"$f":"'2016legmax.xls'!BC28","v":567591},739998,{"$f":"'2016legmax.xls'!BD28","v":0},7690737,{"$f":"'2016legmax.xls'!DD28","v":0},48570,0,0,0,0,0,{"$f":"'2016legmax.xls'!AV28","v":9},{"$f":"'2016legmax.xls'!AW28","v":"A"},{"$f":"'2016legmax.xls'!AX28","v":""},7911714,7739307,{"$f":"IF(Weightings!G28>0,Weightings!G28,'Preliminary SO66'!AB25)","v":8266363},7739307,7739307,8515750,{"$f":"'2016legmax.xls'!BM28","v":0.3},2554725,2554725,2554725,null,6593792,5.8,22342,0,0,0,0,0,0,0,26286,0,0,6545164,{"$f":"'2016legmax.xls'!F28","v":1020.8},{"$f":"'2016legmax.xls'!I28","v":1036.8},{"$f":"'2016legmax.xls'!K28","v":1010.4},1036.8,{"$f":"'2016legmax.xls'!O28","v":30},1066.8,{"$f":"IF(ISNA(VLOOKUP($CM31,'Audit Values'!$A$2:$AE$252,2,FALSE)),'Preliminary SO66'!T25,VLOOKUP($CM31,'Audit Values'!$A$2:$AE$252,20,FALSE))","v":2},10000,{"$f":"IF(ISNA(VLOOKUP($CM31,'Audit Values'!$A$2:$AE$252,2,FALSE)),'Preliminary SO66'!U25,VLOOKUP($CM31,'Audit Values'!$A$2:$AE$252,21,FALSE))","v":0},0,0,0,10000,{"$f":"'2016legmax.xls'!AH28","v":0},0,0,{"$f":"'2016legmax.xls'!CJ28","v":0},0,{"$f":"'2016legmax.xls'!CI28","v":0},0,0,0,0,0,0,0,0,0,0,0,0,0,0,null,null,null,"D0210"]
[211,"Norton","Norton Community Schools ",4238294,0,0,0,8072,689.1,0,0,{"$f":"'2016legmax.xls'!BJ29","v":0},4246366,{"$f":"'2016legmax.xls'!BB29","v":792076},821694,{"$f":"'2016legmax.xls'!BC29","v":344895},454133,{"$f":"'2016legmax.xls'!BD29","v":41196},6246227,{"$f":"'2016legmax.xls'!DD29","v":0},6958,7326,0,133634,0,0,{"$f":"'2016legmax.xls'!AV29","v":16},{"$f":"'2016legmax.xls'!AW29","v":"A"},{"$f":"'2016legmax.xls'!AX29","v":""},6369749,6394145,{"$f":"IF(Weightings!G29>0,Weightings!G29,'Preliminary SO66'!AB26)","v":6657807},6394145,6394145,5863455,{"$f":"'2016legmax.xls'!BM29","v":0.3},1759037,1759037,1759037,null,4255315,0,0,0,0,0,0,0,0,0,17021,0,0,4238294,{"$f":"'2016legmax.xls'!F29","v":695},{"$f":"'2016legmax.xls'!I29","v":689.1},{"$f":"'2016legmax.xls'!K29","v":677.7},689.1,{"$f":"'2016legmax.xls'!O29","v":0},689.1,{"$f":"IF(ISNA(VLOOKUP($CM32,'Audit Values'!$A$2:$AE$252,2,FALSE)),'Preliminary SO66'!T26,VLOOKUP($CM32,'Audit Values'!$A$2:$AE$252,20,FALSE))","v":0},0,{"$f":"IF(ISNA(VLOOKUP($CM32,'Audit Values'!$A$2:$AE$252,2,FALSE)),'Preliminary SO66'!U26,VLOOKUP($CM32,'Audit Values'!$A$2:$AE$252,21,FALSE))","v":0},0,0,0,0,{"$f":"'2016legmax.xls'!AH29","v":0},0,0,{"$f":"'2016legmax.xls'!CJ29","v":0},0,{"$f":"'2016legmax.xls'!CI29","v":0},0,0,0,0,0,0,0,0,0,0,8072,0,0,0,null,null,null,"D0211"]
[212,"Norton","Northern Valley ",1450240,0,0,0,0,171,0,0,{"$f":"'2016legmax.xls'!BJ30","v":0},1450240,{"$f":"'2016legmax.xls'!BB30","v":164239},215616,{"$f":"'2016legmax.xls'!BC30","v":113780},148862,{"$f":"'2016legmax.xls'!BD30","v":0},1943875,{"$f":"'2016legmax.xls'!DD30","v":0},959,0,0,0,0,0,{"$f":"'2016legmax.xls'!AV30","v":12},{"$f":"'2016legmax.xls'!AW30","v":"A"},{"$f":"'2016legmax.xls'!AX30","v":""},1979916,1944834,{"$f":"IF(Weightings!G30>0,Weightings!G30,'Preliminary SO66'!AB27)","v":1991322},1944834,1944834,1953300,{"$f":"'2016legmax.xls'!BM30","v":0.3},585990,585990,585990,null,1456064,0,0,0,0,0,0,0,0,0,5824,0,0,1450240,{"$f":"'2016legmax.xls'!F30","v":170},{"$f":"'2016legmax.xls'!I30","v":169.5},{"$f":"'2016legmax.xls'!K30","v":163},169.5,{"$f":"'2016legmax.xls'!O30","v":1.5},171,{"$f":"IF(ISNA(VLOOKUP($CM33,'Audit Values'!$A$2:$AE$252,2,FALSE)),'Preliminary SO66'!T27,VLOOKUP($CM33,'Audit Values'!$A$2:$AE$252,20,FALSE))","v":0},0,{"$f":"IF(ISNA(VLOOKUP($CM33,'Audit Values'!$A$2:$AE$252,2,FALSE)),'Preliminary SO66'!U27,VLOOKUP($CM33,'Audit Values'!$A$2:$AE$252,21,FALSE))","v":0},0,0,0,0,{"$f":"'2016legmax.xls'!AH30","v":0},0,0,{"$f":"'2016legmax.xls'!CJ30","v":0},0,{"$f":"'2016legmax.xls'!CI30","v":0},0,0,0,0,0,0,0,0,0,0,0,0,0,0,null,null,null,"D0212"]
[214,"Grant","Ulysses ",9364071,156966,0,0,0,1693.8,0,0,{"$f":"'2016legmax.xls'!BJ31","v":0},9521037,{"$f":"'2016legmax.xls'!BB31","v":0},875211,{"$f":"'2016legmax.xls'!BC31","v":775752},1010671,{"$f":"'2016legmax.xls'!BD31","v":0},11172000,{"$f":"'2016legmax.xls'!DD31","v":0},71674,0,0,0,0,15724,{"$f":"'2016legmax.xls'!AV31","v":9},{"$f":"'2016legmax.xls'!AW31","v":"A"},{"$f":"'2016legmax.xls'!AX31","v":""},11494317,11259398,{"$f":"IF(Weightings!G31>0,Weightings!G31,'Preliminary SO66'!AB28)","v":11968945},11259398,11259398,12163554,{"$f":"'2016legmax.xls'!BM31","v":0.3},3649066,3649066,3649066,null,9465621,16.600000000000001,63943,0,0,0,0,0,0,0,37607,0,0,9364071,{"$f":"'2016legmax.xls'!F31","v":1640.5},{"$f":"'2016legmax.xls'!I31","v":1670.3},{"$f":"'2016legmax.xls'!K31","v":1626},1670.3,{"$f":"'2016legmax.xls'!O31","v":23.5},1693.8,{"$f":"IF(ISNA(VLOOKUP($CM34,'Audit Values'!$A$2:$AE$252,2,FALSE)),'Preliminary SO66'!T28,VLOOKUP($CM34,'Audit Values'!$A$2:$AE$252,20,FALSE))","v":0},0,{"$f":"IF(ISNA(VLOOKUP($CM34,'Audit Values'!$A$2:$AE$252,2,FALSE)),'Preliminary SO66'!U28,VLOOKUP($CM34,'Audit Values'!$A$2:$AE$252,21,FALSE))","v":1.9},7686,160,149280,156966,{"$f":"'2016legmax.xls'!AH31","v":0},0,0,{"$f":"'2016legmax.xls'!CJ31","v":0},0,{"$f":"'2016legmax.xls'!CI31","v":0},0,0,0,0,0,0,0,0,0,0,0,0,0,0,null,null,null,"D0214"]
[215,"Kearny","Lakin ",4150214,97965,0,0,0,641.6,0,0,{"$f":"'2016legmax.xls'!BJ32","v":0},4248179,{"$f":"'2016legmax.xls'!BB32","v":0},343590,{"$f":"'2016legmax.xls'!BC32","v":340816},450045,{"$f":"'2016legmax.xls'!BD32","v":0},4932585,{"$f":"'2016legmax.xls'!DD32","v":0},42556,0,0,0,0,0,{"$f":"'2016legmax.xls'!AV32","v":12},{"$f":"'2016legmax.xls'!AW32","v":"A"},{"$f":"'2016legmax.xls'!AX32","v":""},5084370,4975141,{"$f":"IF(Weightings!G32>0,Weightings!G32,'Preliminary SO66'!AB29)","v":5223169},4975141,4975141,5406942,{"$f":"'2016legmax.xls'!BM32","v":0.3},1622083,1622083,1622083,null,4166882,0,0,0,0,0,0,0,0,0,16668,0,0,4150214,{"$f":"'2016legmax.xls'!F32","v":631.4},{"$f":"'2016legmax.xls'!I32","v":635.6},{"$f":"'2016legmax.xls'!K32","v":586},635.6,{"$f":"'2016legmax.xls'!O32","v":6},641.6,{"$f":"IF(ISNA(VLOOKUP($CM35,'Audit Values'!$A$2:$AE$252,2,FALSE)),'Preliminary SO66'!T29,VLOOKUP($CM35,'Audit Values'!$A$2:$AE$252,20,FALSE))","v":0},0,{"$f":"IF(ISNA(VLOOKUP($CM35,'Audit Values'!$A$2:$AE$252,2,FALSE)),'Preliminary SO66'!U29,VLOOKUP($CM35,'Audit Values'!$A$2:$AE$252,21,FALSE))","v":0},0,105,97965,97965,{"$f":"'2016legmax.xls'!AH32","v":0},0,0,{"$f":"'2016legmax.xls'!CJ32","v":0},0,{"$f":"'2016legmax.xls'!CI32","v":0},0,0,0,0,0,0,0,0,0,0,0,0,0,0,null,null,null,"D0215"]
[216,"Kearny","Deerfield ",1886552,0,0,0,0,206.7,0,0,{"$f":"'2016legmax.xls'!BJ33","v":0},1886552,{"$f":"'2016legmax.xls'!BB33","v":0},124298,{"$f":"'2016legmax.xls'!BC33","v":173298},226014,{"$f":"'2016legmax.xls'!BD33","v":0},2184148,{"$f":"'2016legmax.xls'!DD33","v":0},14880,0,0,0,0,0,{"$f":"'2016legmax.xls'!AV33","v":13},{"$f":"'2016legmax.xls'!AW33","v":"A"},{"$f":"'2016legmax.xls'!AX33","v":""},2251744,2199028,{"$f":"IF(Weightings!G33>0,Weightings!G33,'Preliminary SO66'!AB30)","v":2318902},2199028,2199028,2471992,{"$f":"'2016legmax.xls'!BM33","v":0.3},741598,741598,741598,null,1894129,0,0,0,0,0,0,0,0,0,7577,0,0,1886552,{"$f":"'2016legmax.xls'!F33","v":231.5},{"$f":"'2016legmax.xls'!I33","v":192},{"$f":"'2016legmax.xls'!K33","v":184.5},202.7,{"$f":"'2016legmax.xls'!O33","v":4},206.7,{"$f":"IF(ISNA(VLOOKUP($CM36,'Audit Values'!$A$2:$AE$252,2,FALSE)),'Preliminary SO66'!T30,VLOOKUP($CM36,'Audit Values'!$A$2:$AE$252,20,FALSE))","v":0},0,{"$f":"IF(ISNA(VLOOKUP($CM36,'Audit Values'!$A$2:$AE$252,2,FALSE)),'Preliminary SO66'!U30,VLOOKUP($CM36,'Audit Values'!$A$2:$AE$252,21,FALSE))","v":0},0,0,0,0,{"$f":"'2016legmax.xls'!AH33","v":0},0,0,{"$f":"'2016legmax.xls'!CJ33","v":0},0,{"$f":"'2016legmax.xls'!CI33","v":0},0,0,0,0,0,0,0,0,0,0,0,0,0,0,null,null,null,"D0216"]
[217,"Morton","Rolla ",1480382,0,0,0,0,183.6,0,0,{"$f":"'2016legmax.xls'!BJ34","v":0},1480382,{"$f":"'2016legmax.xls'!BB34","v":0},114047,{"$f":"'2016legmax.xls'!BC34","v":132239},174144,{"$f":"'2016legmax.xls'!BD34","v":0},1726668,{"$f":"'2016legmax.xls'!DD34","v":0},23016,0,0,0,0,391,{"$f":"'2016legmax.xls'!AV34","v":12},{"$f":"'2016legmax.xls'!AW34","v":"A"},{"$f":"'2016legmax.xls'!AX34","v":""},1791980,1750075,{"$f":"IF(Weightings!G34>0,Weightings!G34,'Preliminary SO66'!AB31)","v":1791222},1750075,1750075,1961198,{"$f":"'2016legmax.xls'!BM34","v":0.3},588359,588359,588359,null,1490564,1.1000000000000001,4237,0,0,0,0,0,0,0,5945,0,0,1480382,{"$f":"'2016legmax.xls'!F34","v":176.4},{"$f":"'2016legmax.xls'!I34","v":183.6},{"$f":"'2016legmax.xls'!K34","v":164},183.6,{"$f":"'2016legmax.xls'!O34","v":0},183.6,{"$f":"IF(ISNA(VLOOKUP($CM37,'Audit Values'!$A$2:$AE$252,2,FALSE)),'Preliminary SO66'!T31,VLOOKUP($CM37,'Audit Values'!$A$2:$AE$252,20,FALSE))","v":0},0,{"$f":"IF(ISNA(VLOOKUP($CM37,'Audit Values'!$A$2:$AE$252,2,FALSE)),'Preliminary SO66'!U31,VLOOKUP($CM37,'Audit Values'!$A$2:$AE$252,21,FALSE))","v":0},0,0,0,0,{"$f":"'2016legmax.xls'!AH34","v":0},0,0,{"$f":"'2016legmax.xls'!CJ34","v":0},0,{"$f":"'2016legmax.xls'!CI34","v":0},0,0,0,0,0,0,0,0,0,0,0,0,0,0,null,null,null,"D0217"]
[218,"Morton","Elkhart ",3268327,2944610,0,0,0,478.4,0,0,{"$f":"'2016legmax.xls'!BJ35","v":0},6212937,{"$f":"'2016legmax.xls'!BB35","v":604005},261333,{"$f":"'2016legmax.xls'!BC35","v":298529},388513,{"$f":"'2016legmax.xls'!BD35","v":48080},7424884,{"$f":"'2016legmax.xls'!DD35","v":0},21647,0,0,0,0,3545,{"$f":"'2016legmax.xls'!AV35","v":19},{"$f":"'2016legmax.xls'!AW35","v":"A"},{"$f":"'2016legmax.xls'!AX35","v":""},7540060,7450076,{"$f":"IF(Weightings!G35>0,Weightings!G35,'Preliminary SO66'!AB32)","v":7878356},7450076,7450076,4294395,{"$f":"'2016legmax.xls'!BM35","v":0.3},1288319,1288319,1288319,null,5341503,534.79999999999995,2060050,0,0,0,0,0,0,0,13126,0,0,3268327,{"$f":"'2016legmax.xls'!F35","v":494.1},{"$f":"'2016legmax.xls'!I35","v":469.8},{"$f":"'2016legmax.xls'!K35","v":450.4},471.4,{"$f":"'2016legmax.xls'!O35","v":7},478.4,{"$f":"IF(ISNA(VLOOKUP($CM38,'Audit Values'!$A$2:$AE$299,2,FALSE)),'Preliminary SO66'!T32,VLOOKUP($CM38,'Audit Values'!$A$2:$AE$299,20,FALSE))","v":571},2855000,{"$f":"IF(ISNA(VLOOKUP($CM38,'Audit Values'!$A$2:$AE$299,2,FALSE)),'Preliminary SO66'!U32,VLOOKUP($CM38,'Audit Values'!$A$2:$AE$299,21,FALSE))","v":21},84945,5,4665,2944610,{"$f":"'2016legmax.xls'!AH35","v":0},0,0,{"$f":"'2016legmax.xls'!CJ35","v":0},0,{"$f":"'2016legmax.xls'!CI35","v":0},0,0,0,0,0,0,0,0,0,0,0,0,0,0,null,null,null,"D0218"]
[219,"Clark","Minneola ",1835081,0,0,0,0,248.5,0,47,{"$f":"'2016legmax.xls'!BJ36","v":0},1835034,{"$f":"'2016legmax.xls'!BB36","v":83938},178007,{"$f":"'2016legmax.xls'!BC36","v":151154},198537,{"$f":"'2016legmax.xls'!BD36","v":0},2248133,{"$f":"'2016legmax.xls'!DD36","v":0},2483,0,0,0,0,0,{"$f":"'2016legmax.xls'!AV36","v":13},{"$f":"'2016legmax.xls'!AW36","v":"A"},{"$f":"'2016legmax.xls'!AX36","v":""},2298046,2250663,{"$f":"IF(Weightings!G36>0,Weightings!G36,'Preliminary SO66'!AB33)","v":2356069},2250663,2250663,2407064,{"$f":"'2016legmax.xls'!BM36","v":0.3},722119,722119,722119,null,1842451,0,0,0,0,0,0,0,0,0,7370,0,0,1835081,{"$f":"'2016legmax.xls'!F36","v":249},{"$f":"'2016legmax.xls'!I36","v":248.5},{"$f":"'2016legmax.xls'!K36","v":233.7},248.5,{"$f":"'2016legmax.xls'!O36","v":0},248.5,{"$f":"IF(ISNA(VLOOKUP($CM39,'Audit Values'!$A$2:$AE$252,2,FALSE)),'Preliminary SO66'!T33,VLOOKUP($CM39,'Audit Values'!$A$2:$AE$252,20,FALSE))","v":0},0,{"$f":"IF(ISNA(VLOOKUP($CM39,'Audit Values'!$A$2:$AE$252,2,FALSE)),'Preliminary SO66'!U33,VLOOKUP($CM39,'Audit Values'!$A$2:$AE$252,21,FALSE))","v":0},0,0,0,0,{"$f":"'2016legmax.xls'!AH36","v":0},0,0,{"$f":"'2016legmax.xls'!CJ36","v":0},0,{"$f":"'2016legmax.xls'!CI36","v":0},0,0,0,0,0,0,0,0,0,0,0,0,0,0,null,null,null,"D0219"]
[220,"Clark","Ashland ",1529574,0,0,0,0,192.6,0,12,{"$f":"'2016legmax.xls'!BJ37","v":0},1529562,{"$f":"'2016legmax.xls'!BB37","v":0},156161,{"$f":"'2016legmax.xls'!BC37","v":138234},182551,{"$f":"'2016legmax.xls'!BD37","v":0},1823957,{"$f":"'2016legmax.xls'!DD37","v":0},9761,0,0,0,0,0,{"$f":"'2016legmax.xls'!AV37","v":16},{"$f":"'2016legmax.xls'!AW37","v":"A"},{"$f":"'2016legmax.xls'!AX37","v":""},1878047,1833730,{"$f":"IF(Weightings!G37>0,Weightings!G37,'Preliminary SO66'!AB34)","v":1916908},1833730,1833730,2020274,{"$f":"'2016legmax.xls'!BM37","v":0.3},606082,606082,606082,null,1535717,0,0,0,0,0,0,0,0,0,6143,0,0,1529574,{"$f":"'2016legmax.xls'!F37","v":194.4},{"$f":"'2016legmax.xls'!I37","v":192.6},{"$f":"'2016legmax.xls'!K37","v":189.9},192.6,{"$f":"'2016legmax.xls'!O37","v":0},192.6,{"$f":"IF(ISNA(VLOOKUP($CM40,'Audit Values'!$A$2:$AE$252,2,FALSE)),'Preliminary SO66'!T34,VLOOKUP($CM40,'Audit Values'!$A$2:$AE$252,20,FALSE))","v":0},0,{"$f":"IF(ISNA(VLOOKUP($CM40,'Audit Values'!$A$2:$AE$252,2,FALSE)),'Preliminary SO66'!U34,VLOOKUP($CM40,'Audit Values'!$A$2:$AE$252,21,FALSE))","v":0},0,0,0,0,{"$f":"'2016legmax.xls'!AH37","v":0},0,0,{"$f":"'2016legmax.xls'!CJ37","v":0},0,{"$f":"'2016legmax.xls'!CI37","v":0},0,0,0,0,0,0,0,0,0,0,0,0,0,0,null,null,null,"D0220"]
[223,"Washington","Barnes ",2506786,0,0,0,0,354.1,0,72,{"$f":"'2016legmax.xls'!BJ38","v":0},2506714,{"$f":"'2016legmax.xls'!BB38","v":174277},428619,{"$f":"'2016legmax.xls'!BC38","v":203311},264517,{"$f":"'2016legmax.xls'!BD38","v":0},3312921,{"$f":"'2016legmax.xls'!DD38","v":0},0,0,0,0,0,190000,{"$f":"'2016legmax.xls'!AV38","v":1},{"$f":"'2016legmax.xls'!AW38","v":"A"},{"$f":"'2016legmax.xls'!AX38","v":""},3564199,3502993,{"$f":"IF(Weightings!G38>0,Weightings!G38,'Preliminary SO66'!AB35)","v":3643356},3502993,3502993,3373070,{"$f":"'2016legmax.xls'!BM38","v":0.3},1011921,1011921,1011921,null,2521090,1.1000000000000001,4237,0,0,0,0,0,0,0,10067,0,0,2506786,{"$f":"'2016legmax.xls'!F38","v":374.8},{"$f":"'2016legmax.xls'!I38","v":340},{"$f":"'2016legmax.xls'!K38","v":347.4},354.1,{"$f":"'2016legmax.xls'!O38","v":0},354.1,{"$f":"IF(ISNA(VLOOKUP($CM41,'Audit Values'!$A$2:$AE$252,2,FALSE)),'Preliminary SO66'!T35,VLOOKUP($CM41,'Audit Values'!$A$2:$AE$252,20,FALSE))","v":0},0,{"$f":"IF(ISNA(VLOOKUP($CM41,'Audit Values'!$A$2:$AE$252,2,FALSE)),'Preliminary SO66'!U35,VLOOKUP($CM41,'Audit Values'!$A$2:$AE$252,21,FALSE))","v":0},0,0,0,0,{"$f":"'2016legmax.xls'!AH38","v":0},0,0,{"$f":"'2016legmax.xls'!CJ38","v":0},0,{"$f":"'2016legmax.xls'!CI38","v":0},0,0,0,0,0,0,0,0,0,0,0,0,0,0,null,null,null,"D0223"]
[224,"Washington","Clifton-Clyde ",2140873,0,0,0,0,313.5,0,0,{"$f":"'2016legmax.xls'!BJ39","v":0},2140873,{"$f":"'2016legmax.xls'!BB39","v":165002},274807,{"$f":"'2016legmax.xls'!BC39","v":169343},222679,{"$f":"'2016legmax.xls'!BD39","v":0},2750025,{"$f":"'2016legmax.xls'!DD39","v":0},0,0,0,0,0,0,{"$f":"'2016legmax.xls'!AV39","v":1},{"$f":"'2016legmax.xls'!AW39","v":"A"},{"$f":"'2016legmax.xls'!AX39","v":""},2803361,2750025,{"$f":"IF(Weightings!G39>0,Weightings!G39,'Preliminary SO66'!AB36)","v":2866513},2750025,2750025,2854625,{"$f":"'2016legmax.xls'!BM39","v":0.3},856388,786388,786388,null,2149471,0,0,0,0,0,0,0,0,0,8598,0,0,2140873,{"$f":"'2016legmax.xls'!F39","v":305.5},{"$f":"'2016legmax.xls'!I39","v":311.5},{"$f":"'2016legmax.xls'!K39","v":309},311.5,{"$f":"'2016legmax.xls'!O39","v":2},313.5,{"$f":"IF(ISNA(VLOOKUP($CM42,'Audit Values'!$A$2:$AE$252,2,FALSE)),'Preliminary SO66'!T36,VLOOKUP($CM42,'Audit Values'!$A$2:$AE$252,20,FALSE))","v":0},0,{"$f":"IF(ISNA(VLOOKUP($CM42,'Audit Values'!$A$2:$AE$252,2,FALSE)),'Preliminary SO66'!U36,VLOOKUP($CM42,'Audit Values'!$A$2:$AE$252,21,FALSE))","v":0},0,0,0,0,{"$f":"'2016legmax.xls'!AH39","v":0},0,0,{"$f":"'2016legmax.xls'!CJ39","v":0},0,{"$f":"'2016legmax.xls'!CI39","v":0},0,0,0,0,0,0,0,0,0,0,0,0,0,0,null,null,null,"D0224"]
[225,"Meade","Fowler ",1363538,0,0,0,0,151.5,0,0,{"$f":"'2016legmax.xls'!BJ40","v":0},1363538,{"$f":"'2016legmax.xls'!BB40","v":88211},109125,{"$f":"'2016legmax.xls'!BC40","v":99283},129612,{"$f":"'2016legmax.xls'!BD40","v":0},1660157,{"$f":"'2016legmax.xls'!DD40","v":0},1135,0,0,0,0,2844,{"$f":"'2016legmax.xls'!AV40","v":13},{"$f":"'2016legmax.xls'!AW40","v":"A"},{"$f":"'2016legmax.xls'!AX40","v":""},1694465,1664136,{"$f":"IF(Weightings!G40>0,Weightings!G40,'Preliminary SO66'!AB37)","v":1741260},1664136,1664136,1751227,{"$f":"'2016legmax.xls'!BM40","v":0.33},577905,577905,577905,null,1369014,0,0,0,0,0,0,0,0,0,5476,0,0,1363538,{"$f":"'2016legmax.xls'!F40","v":154},{"$f":"'2016legmax.xls'!I40","v":151},{"$f":"'2016legmax.xls'!K40","v":133},151,{"$f":"'2016legmax.xls'!O40","v":0.5},151.5,{"$f":"IF(ISNA(VLOOKUP($CM43,'Audit Values'!$A$2:$AE$252,2,FALSE)),'Preliminary SO66'!T37,VLOOKUP($CM43,'Audit Values'!$A$2:$AE$252,20,FALSE))","v":0},0,{"$f":"IF(ISNA(VLOOKUP($CM43,'Audit Values'!$A$2:$AE$252,2,FALSE)),'Preliminary SO66'!U37,VLOOKUP($CM43,'Audit Values'!$A$2:$AE$252,21,FALSE))","v":0},0,0,0,0,{"$f":"'2016legmax.xls'!AH40","v":0},0,0,{"$f":"'2016legmax.xls'!CJ40","v":0},0,{"$f":"'2016legmax.xls'!CI40","v":0},0,0,0,0,0,0,0,0,0,0,0,0,0,0,null,null,null,"D0225"]
[226,"Meade","Meade ",2585385,0,0,0,0,396.2,0,0,{"$f":"'2016legmax.xls'!BJ41","v":0},2585385,{"$f":"'2016legmax.xls'!BB41","v":0},284651,{"$f":"'2016legmax.xls'!BC41","v":217676},287450,{"$f":"'2016legmax.xls'!BD41","v":0},3087712,{"$f":"'2016legmax.xls'!DD41","v":0},10321,0,0,5000,0,5439,{"$f":"'2016legmax.xls'!AV41","v":12},{"$f":"'2016legmax.xls'!AW41","v":"A"},{"$f":"'2016legmax.xls'!AX41","v":""},3173246,3108472,{"$f":"IF(Weightings!G41>0,Weightings!G41,'Preliminary SO66'!AB38)","v":3295496},3108472,3108472,3449937,{"$f":"'2016legmax.xls'!BM41","v":0.33},1138479,1138479,1138479,null,2595768,0,0,0,0,0,0,0,0,0,10383,0,0,2585385,{"$f":"'2016legmax.xls'!F41","v":406.1},{"$f":"'2016legmax.xls'!I41","v":392.7},{"$f":"'2016legmax.xls'!K41","v":372.5},392.7,{"$f":"'2016legmax.xls'!O41","v":3.5},396.2,{"$f":"IF(ISNA(VLOOKUP($CM44,'Audit Values'!$A$2:$AE$252,2,FALSE)),'Preliminary SO66'!T38,VLOOKUP($CM44,'Audit Values'!$A$2:$AE$252,20,FALSE))","v":0},0,{"$f":"IF(ISNA(VLOOKUP($CM44,'Audit Values'!$A$2:$AE$252,2,FALSE)),'Preliminary SO66'!U38,VLOOKUP($CM44,'Audit Values'!$A$2:$AE$252,21,FALSE))","v":0},0,0,0,0,{"$f":"'2016legmax.xls'!AH41","v":0},0,0,{"$f":"'2016legmax.xls'!CJ41","v":0},0,{"$f":"'2016legmax.xls'!CI41","v":0},0,0,0,0,0,0,0,0,0,0,0,0,0,0,null,null,null,"D0226"]
[227,"Hodgeman","Hodgeman County Schools ",2062093,0,0,0,0,288.3,0,838,{"$f":"'2016legmax.xls'!BJ42","v":0},2061255,{"$f":"'2016legmax.xls'!BB42","v":0},204176,{"$f":"'2016legmax.xls'!BC42","v":154729},202955,{"$f":"'2016legmax.xls'!BD42","v":0},2420160,{"$f":"'2016legmax.xls'!DD42","v":0},30000,0,0,0,0,0,{"$f":"'2016legmax.xls'!AV42","v":9},{"$f":"'2016legmax.xls'!AW42","v":"A"},{"$f":"'2016legmax.xls'!AX42","v":""},2499224,2450998,{"$f":"IF(Weightings!G42>0,Weightings!G42,'Preliminary SO66'!AB39)","v":2552552},2450998,2450998,2734027,{"$f":"'2016legmax.xls'!BM42","v":0.3},820208,820208,820208,null,2070375,0,0,0,0,0,0,0,0,0,8282,0,0,2062093,{"$f":"'2016legmax.xls'!F42","v":291.5},{"$f":"'2016legmax.xls'!I42","v":287},{"$f":"'2016legmax.xls'!K42","v":286.5},288.3,{"$f":"'2016legmax.xls'!O42","v":0},288.3,{"$f":"IF(ISNA(VLOOKUP($CM45,'Audit Values'!$A$2:$AE$252,2,FALSE)),'Preliminary SO66'!T39,VLOOKUP($CM45,'Audit Values'!$A$2:$AE$252,20,FALSE))","v":0},0,{"$f":"IF(ISNA(VLOOKUP($CM45,'Audit Values'!$A$2:$AE$252,2,FALSE)),'Preliminary SO66'!U39,VLOOKUP($CM45,'Audit Values'!$A$2:$AE$252,21,FALSE))","v":0},0,0,0,0,{"$f":"'2016legmax.xls'!AH42","v":0},0,0,{"$f":"'2016legmax.xls'!CJ42","v":0},0,{"$f":"'2016legmax.xls'!CI42","v":0},0,0,0,0,0,0,0,0,0,0,0,0,0,0,null,null,null,"D0227"]
[229,"Johnson","Blue Valley ",{"$f":"BB46","v":91207140},68361,69721,{"$f":"BV46+BZ46+CD46","v":17709031},0,21563.7,0,0,{"$f":"'2016legmax.xls'!BJ43","v":0},109054253,{"$f":"'2016legmax.xls'!BB43","v":2386017},21069541,{"$f":"'2016legmax.xls'!BC43","v":11998794},15684403,{"$f":"'2016legmax.xls'!BD43","v":0},144508605,{"$f":"'2016legmax.xls'!DD43","v":0},0,0,108612,0,1435044,230715,{"$f":"'2016legmax.xls'!AV43","v":18},{"$f":"'2016legmax.xls'!AW43","v":"A"},{"$f":"'2016legmax.xls'!AX43","v":""},142827224,146282976,{"$f":"IF(Weightings!G43>0,Weightings!G43,'Preliminary SO66'!AB40)","v":150793376},146282976,146282976,147030173,{"$f":"'2016legmax.xls'!BM43","v":0.33},48519957,48519957,48519957,null,108317039,0,0,1595.8,6147022,0,0,2743.4,10567577,16714599,366410,7.5,28890,91207140,{"$f":"'2016legmax.xls'!F43","v":21371},{"$f":"'2016legmax.xls'!I43","v":21375.1},{"$f":"'2016legmax.xls'!K43","v":21563.7},21563.7,{"$f":"'2016legmax.xls'!O43","v":0},21563.7,{"$f":"IF(ISNA(VLOOKUP($CM46,'Audit Values'!$A$2:$AE$299,2,FALSE)),'Preliminary SO66'!T40,VLOOKUP($CM46,'Audit Values'!$A$2:$AE$299,20,FALSE))","v":0},0,{"$f":"IF(ISNA(VLOOKUP($CM46,'Audit Values'!$A$2:$AE$299,2,FALSE)),'Preliminary SO66'!U40,VLOOKUP($CM46,'Audit Values'!$A$2:$AE$299,21,FALSE))","v":16.899999999999999},68361,0,0,68361,{"$f":"'2016legmax.xls'!AH43","v":18.100000000000001},69721,6277970,{"$f":"'2016legmax.xls'!CJ43","v":0.05},7141361,{"$f":"'2016legmax.xls'!CI43","v":7180637},7141361,0,0,0,0,10567670,10567670,10567670,10567670,0,0,104432,0,0,null,null,null,"D0229"]
[230,"Johnson","Spring Hill ",11019928,4555793,0,{"$f":"BV47+BZ47+CD47","v":2528640},0,2497.4,0,0,{"$f":"'2016legmax.xls'!BJ44","v":0},18104361,{"$f":"'2016legmax.xls'!BB44","v":3003029},2570485,{"$f":"'2016legmax.xls'!BC44","v":1456855},1920299,{"$f":"'2016legmax.xls'!BD44","v":0},25134730,{"$f":"'2016legmax.xls'!DD44","v":317164},0,0,0,0,0,0,{"$f":"'2016legmax.xls'!AV44","v":9},{"$f":"'2016legmax.xls'!AW44","v":"A"},{"$f":"'2016legmax.xls'!AX44","v":"R"},25915338,25451894,{"$f":"IF(Weightings!G44>0,Weightings!G44,'Preliminary SO66'!AB41)","v":26516103},25451894,25451894,17538189,{"$f":"'2016legmax.xls'!BM44","v":0.3},5261457,5261457,5261457,null,16235238,842.4,3244925,0,0,0,0,391.7,1508828,1508828,45926,107.9,415631,11019928,{"$f":"'2016legmax.xls'!F44","v":2248.6999999999998},{"$f":"'2016legmax.xls'!I44","v":2365},{"$f":"'2016legmax.xls'!K44","v":2490.4},2490.4,{"$f":"'2016legmax.xls'!O44","v":7},2497.4,{"$f":"IF(ISNA(VLOOKUP($CM47,'Audit Values'!$A$2:$AE$252,2,FALSE)),'Preliminary SO66'!T41,VLOOKUP($CM47,'Audit Values'!$A$2:$AE$252,20,FALSE))","v":835},4175000,{"$f":"IF(ISNA(VLOOKUP($CM47,'Audit Values'!$A$2:$AE$252,2,FALSE)),'Preliminary SO66'!U41,VLOOKUP($CM47,'Audit Values'!$A$2:$AE$252,21,FALSE))","v":32.9},133081,265.5,247712,4555793,{"$f":"'2016legmax.xls'!AH44","v":0},0,0,{"$f":"'2016legmax.xls'!CJ44","v":3.2099999999999997E-2},831882,{"$f":"'2016legmax.xls'!CI44","v":0},0,0,0,0,0,1508640,2528640,2528640,2528640,0,0,0,0,0,null,null,null,"D0230"]
[231,"Johnson","Gardner Edgerton ",24684799,0,652914,1540199,0,5452.7,0,0,{"$f":"'2016legmax.xls'!BJ45","v":0},26877912,{"$f":"'2016legmax.xls'!BB45","v":6188368},5498248,{"$f":"'2016legmax.xls'!BC45","v":3006801},3964159,{"$f":"'2016legmax.xls'!BD45","v":510729},42082058,{"$f":"'2016legmax.xls'!DD45","v":0},0,0,0,15000,0,11078,{"$f":"'2016legmax.xls'!AV45","v":6},{"$f":"'2016legmax.xls'!AW45","v":"A"},{"$f":"'2016legmax.xls'!AX45","v":""},43050494,42108136,{"$f":"IF(Weightings!G45>0,Weightings!G45,'Preliminary SO66'!AB42)","v":43922033},42108136,42108136,35123860,{"$f":"'2016legmax.xls'!BM45","v":0.33},11590874,11075000,11075000,null,25741134,0,0,0,0,0,0,0,0,0,102965,247.5,953370,24684799,{"$f":"'2016legmax.xls'!F45","v":5141.8999999999996},{"$f":"'2016legmax.xls'!I45","v":5350.5},{"$f":"'2016legmax.xls'!K45","v":5443.7},5443.7,{"$f":"'2016legmax.xls'!O45","v":9},5452.7,{"$f":"IF(ISNA(VLOOKUP($CM48,'Audit Values'!$A$2:$AE$252,2,FALSE)),'Preliminary SO66'!T42,VLOOKUP($CM48,'Audit Values'!$A$2:$AE$252,20,FALSE))","v":0},0,{"$f":"IF(ISNA(VLOOKUP($CM48,'Audit Values'!$A$2:$AE$252,2,FALSE)),'Preliminary SO66'!U42,VLOOKUP($CM48,'Audit Values'!$A$2:$AE$252,21,FALSE))","v":0},0,0,0,0,{"$f":"'2016legmax.xls'!AH45","v":169.5},652914,0,{"$f":"'2016legmax.xls'!CJ45","v":1E-3},43050,{"$f":"'2016legmax.xls'!CI45","v":0},0,0,0,0,0,0,1540199,1540199,1540199,0,0,0,0,0,null,null,null,"D0231"]
[232,"Johnson","De Soto ",29899687,0,0,2319294,0,6752.1,0,0,{"$f":"'2016legmax.xls'!BJ46","v":0},32218981,{"$f":"'2016legmax.xls'!BB46","v":6522605},4408489,{"$f":"'2016legmax.xls'!BC46","v":3226660},4206600,{"$f":"'2016legmax.xls'!BD46","v":659150},47035885,{"$f":"'2016legmax.xls'!DD46","v":0},0,0,0,0,0,12215,{"$f":"'2016legmax.xls'!AV46","v":8},{"$f":"'2016legmax.xls'!AW46","v":"A"},{"$f":"'2016legmax.xls'!AX46","v":""},45740990,47048100,{"$f":"IF(Weightings!G46>0,Weightings!G46,'Preliminary SO66'!AB43)","v":48987943},{"$f":"MIN(AE49,AF49)","v":47048100},47048100,41855069,{"$f":"'2016legmax.xls'!BM46","v":0.33},13812173,13812173,13812173,null,32100794,0,0,450,1733400,0,0,53.7,206852,1940252,120642,36.4,140213,29899687,{"$f":"'2016legmax.xls'!F46","v":6695.3},{"$f":"'2016legmax.xls'!I46","v":6740.1},{"$f":"'2016legmax.xls'!K46","v":6713.1},6740.1,{"$f":"'2016legmax.xls'!O46","v":12},6752.1,{"$f":"IF(ISNA(VLOOKUP($CM49,'Audit Values'!$A$2:$AE$252,2,FALSE)),'Preliminary SO66'!T43,VLOOKUP($CM49,'Audit Values'!$A$2:$AE$252,20,FALSE))","v":0},0,{"$f":"IF(ISNA(VLOOKUP($CM49,'Audit Values'!$A$2:$AE$252,2,FALSE)),'Preliminary SO66'!U43,VLOOKUP($CM49,'Audit Values'!$A$2:$AE$252,21,FALSE))","v":0},0,0,0,0,{"$f":"'2016legmax.xls'!AH46","v":0},0,1764255,{"$f":"'2016legmax.xls'!CJ46","v":0.05},2287050,{"$f":"'2016legmax.xls'!CI46","v":2332759},2287050,0,0,0,0,206997,32244,32244,32244,0,0,0,0,0,null,null,null,"D0232"]
[233,"Johnson","Olathe ",126879122,0,584734,17631279,0,27829.1,0,0,{"$f":"'2016legmax.xls'!BJ47","v":0},145095135,{"$f":"'2016legmax.xls'!BB47","v":27920506},26369816,{"$f":"'2016legmax.xls'!BC47","v":15910354},20831295,{"$f":"'2016legmax.xls'!BD47","v":2144759},217440570,{"$f":"'2016legmax.xls'!DD47","v":0},0,0,0,0,0,96141,{"$f":"'2016legmax.xls'!AV47","v":15},{"$f":"'2016legmax.xls'!AW47","v":"A"},{"$f":"'2016legmax.xls'!AX47","v":""},214334379,217536711,{"$f":"IF(Weightings!G47>0,Weightings!G47,'Preliminary SO66'!AB44)","v":225851799},{"$f":"MIN(AE50,AF50)","v":217536711},217536711,194305467,{"$f":"'2016legmax.xls'!BM47","v":0.33},64120804,64120804,64120804,null,143083741,0,0,1500.4,5779541,0,0,2468.3000000000002,9507892,15287433,511185,105.4,406001,126879122,{"$f":"'2016legmax.xls'!F47","v":27383.1},{"$f":"'2016legmax.xls'!I47","v":27571.4},{"$f":"'2016legmax.xls'!K47","v":27799.1},27799.1,{"$f":"'2016legmax.xls'!O47","v":30},27829.1,{"$f":"IF(ISNA(VLOOKUP($CM50,'Audit Values'!$A$2:$AE$252,2,FALSE)),'Preliminary SO66'!T44,VLOOKUP($CM50,'Audit Values'!$A$2:$AE$252,20,FALSE))","v":0},0,{"$f":"IF(ISNA(VLOOKUP($CM50,'Audit Values'!$A$2:$AE$252,2,FALSE)),'Preliminary SO66'!U44,VLOOKUP($CM50,'Audit Values'!$A$2:$AE$252,21,FALSE))","v":0},0,0,0,0,{"$f":"'2016legmax.xls'!AH47","v":151.80000000000001},584734,5805141,{"$f":"'2016legmax.xls'!CJ47","v":3.7900000000000003E-2},8123273,{"$f":"'2016legmax.xls'!CI47","v":8247214},8123273,0,0,0,0,9508006,9508006,9508006,9508006,0,0,0,0,0,null,null,null,"D0233"]
[234,"Bourbon","Fort Scott ",9974449,0,0,0,0,1822.8,0,0,{"$f":"'2016legmax.xls'!BJ48","v":0},9974449,{"$f":"'2016legmax.xls'!BB48","v":2428259},1151863,{"$f":"'2016legmax.xls'!BC48","v":1043291},1353842,{"$f":"'2016legmax.xls'!BD48","v":178957},14776819,{"$f":"'2016legmax.xls'!DD48","v":0},0,0,0,0,0,0,{"$f":"'2016legmax.xls'!AV48","v":4},{"$f":"'2016legmax.xls'!AW48","v":"A"},{"$f":"'2016legmax.xls'!AX48","v":""},15087370,14776819,{"$f":"IF(Weightings!G48>0,Weightings!G48,'Preliminary SO66'!AB45)","v":15359299},14776819,14776819,12823929,{"$f":"'2016legmax.xls'!BM48","v":0.3},3847179,3607179,3607179,null,10014507,0,0,0,0,0,0,0,0,0,40058,0,0,9974449,{"$f":"'2016legmax.xls'!F48","v":1816.2},{"$f":"'2016legmax.xls'!I48","v":1801.1},{"$f":"'2016legmax.xls'!K48","v":1797.1},1804.8,{"$f":"'2016legmax.xls'!O48","v":18},1822.8,{"$f":"IF(ISNA(VLOOKUP($CM51,'Audit Values'!$A$2:$AE$252,2,FALSE)),'Preliminary SO66'!T45,VLOOKUP($CM51,'Audit Values'!$A$2:$AE$252,20,FALSE))","v":0},0,{"$f":"IF(ISNA(VLOOKUP($CM51,'Audit Values'!$A$2:$AE$252,2,FALSE)),'Preliminary SO66'!U45,VLOOKUP($CM51,'Audit Values'!$A$2:$AE$252,21,FALSE))","v":0},0,0,0,0,{"$f":"'2016legmax.xls'!AH48","v":0},0,0,{"$f":"'2016legmax.xls'!CJ48","v":0},0,{"$f":"'2016legmax.xls'!CI48","v":0},0,0,0,0,0,0,0,0,0,0,0,0,0,0,null,null,null,"D0234"]
[235,"Bourbon","Uniontown ",3219026,0,0,0,0,436.5,0,0,{"$f":"'2016legmax.xls'!BJ49","v":0},3219026,{"$f":"'2016legmax.xls'!BB49","v":871172},385265,{"$f":"'2016legmax.xls'!BC49","v":255271},330909,{"$f":"'2016legmax.xls'!BD49","v":0},4730734,{"$f":"'2016legmax.xls'!DD49","v":0},525,0,0,0,0,0,{"$f":"'2016legmax.xls'!AV49","v":16},{"$f":"'2016legmax.xls'!AW49","v":"A"},{"$f":"'2016legmax.xls'!AX49","v":""},4806897,4731259,{"$f":"IF(Weightings!G49>0,Weightings!G49,'Preliminary SO66'!AB46)","v":4923025},4731259,4731259,4155633,{"$f":"'2016legmax.xls'!BM49","v":0.3},1246690,1246690,1246690,null,3231954,0,0,0,0,0,0,0,0,0,12928,0,0,3219026,{"$f":"'2016legmax.xls'!F49","v":429},{"$f":"'2016legmax.xls'!I49","v":430},{"$f":"'2016legmax.xls'!K49","v":420},430,{"$f":"'2016legmax.xls'!O49","v":6.5},436.5,{"$f":"IF(ISNA(VLOOKUP($CM52,'Audit Values'!$A$2:$AE$252,2,FALSE)),'Preliminary SO66'!T46,VLOOKUP($CM52,'Audit Values'!$A$2:$AE$252,20,FALSE))","v":0},0,{"$f":"IF(ISNA(VLOOKUP($CM52,'Audit Values'!$A$2:$AE$252,2,FALSE)),'Preliminary SO66'!U46,VLOOKUP($CM52,'Audit Values'!$A$2:$AE$252,21,FALSE))","v":0},0,0,0,0,{"$f":"'2016legmax.xls'!AH49","v":0},0,0,{"$f":"'2016legmax.xls'!CJ49","v":0},0,{"$f":"'2016legmax.xls'!CI49","v":0},0,0,0,0,0,0,0,0,0,0,0,0,0,0,null,null,null,"D0235"]
[237,"Smith","Smith Center ",2635441,0,0,0,0,380.8,0,0,{"$f":"'2016legmax.xls'!BJ50","v":0},2635441,{"$f":"'2016legmax.xls'!BB50","v":392233},488311,{"$f":"'2016legmax.xls'!BC50","v":205157},266765,{"$f":"'2016legmax.xls'!BD50","v":13723},3734865,{"$f":"'2016legmax.xls'!DD50","v":0},0,0,0,0,0,2550,{"$f":"'2016legmax.xls'!AV50","v":2},{"$f":"'2016legmax.xls'!AW50","v":"A"},{"$f":"'2016legmax.xls'!AX50","v":""},3799023,3737415,{"$f":"IF(Weightings!G50>0,Weightings!G50,'Preliminary SO66'!AB47)","v":3886344},3737415,3737415,3670216,{"$f":"'2016legmax.xls'!BM50","v":0.33},1211171,1211171,1211171,null,2686086,10.4,40061,0,0,0,0,0,0,0,10584,0,0,2635441,{"$f":"'2016legmax.xls'!F50","v":376.8},{"$f":"'2016legmax.xls'!I50","v":380.8},{"$f":"'2016legmax.xls'!K50","v":369.5},380.8,{"$f":"'2016legmax.xls'!O50","v":0},380.8,{"$f":"IF(ISNA(VLOOKUP($CM53,'Audit Values'!$A$2:$AE$252,2,FALSE)),'Preliminary SO66'!T47,VLOOKUP($CM53,'Audit Values'!$A$2:$AE$252,20,FALSE))","v":0},0,{"$f":"IF(ISNA(VLOOKUP($CM53,'Audit Values'!$A$2:$AE$252,2,FALSE)),'Preliminary SO66'!U47,VLOOKUP($CM53,'Audit Values'!$A$2:$AE$252,21,FALSE))","v":0},0,0,0,0,{"$f":"'2016legmax.xls'!AH50","v":0},0,0,{"$f":"'2016legmax.xls'!CJ50","v":0},0,{"$f":"'2016legmax.xls'!CI50","v":0},0,0,0,0,0,0,0,0,0,0,0,0,0,0,null,null,null,"D0237"]
[239,"Ottawa","North Ottawa County ",3853818,0,0,0,0,607.29999999999995,0,0,{"$f":"'2016legmax.xls'!BJ51","v":0},3853818,{"$f":"'2016legmax.xls'!BB51","v":826784},601029,{"$f":"'2016legmax.xls'!BC51","v":315255},410757,{"$f":"'2016legmax.xls'!BD51","v":29532},5626418,{"$f":"'2016legmax.xls'!DD51","v":0},0,0,0,0,0,2500,{"$f":"'2016legmax.xls'!AV51","v":10},{"$f":"'2016legmax.xls'!AW51","v":"A"},{"$f":"'2016legmax.xls'!AX51","v":""},5724420,5628918,{"$f":"IF(Weightings!G51>0,Weightings!G51,'Preliminary SO66'!AB48)","v":5908662},5628918,5628918,5146980,{"$f":"'2016legmax.xls'!BM51","v":0.33},1698503,1698503,1698503,null,3877384,2.1,8089,0,0,0,0,0,0,0,15477,0,0,3853818,{"$f":"'2016legmax.xls'!F51","v":618.29999999999995},{"$f":"'2016legmax.xls'!I51","v":603.79999999999995},{"$f":"'2016legmax.xls'!K51","v":599.9},607.29999999999995,{"$f":"'2016legmax.xls'!O51","v":0},607.29999999999995,{"$f":"IF(ISNA(VLOOKUP($CM54,'Audit Values'!$A$2:$AE$252,2,FALSE)),'Preliminary SO66'!T48,VLOOKUP($CM54,'Audit Values'!$A$2:$AE$252,20,FALSE))","v":0},0,{"$f":"IF(ISNA(VLOOKUP($CM54,'Audit Values'!$A$2:$AE$252,2,FALSE)),'Preliminary SO66'!U48,VLOOKUP($CM54,'Audit Values'!$A$2:$AE$252,21,FALSE))","v":0},0,0,0,0,{"$f":"'2016legmax.xls'!AH51","v":0},0,0,{"$f":"'2016legmax.xls'!CJ51","v":0},0,{"$f":"'2016legmax.xls'!CI51","v":0},0,0,0,0,0,0,0,0,0,0,0,0,0,0,null,null,null,"D0239"]
[240,"Ottawa","Twin Valley ",3718935,0,0,0,0,588,0,0,{"$f":"'2016legmax.xls'!BJ52","v":0},3718935,{"$f":"'2016legmax.xls'!BB52","v":903097},521230,{"$f":"'2016legmax.xls'!BC52","v":275742},358060,{"$f":"'2016legmax.xls'!BD52","v":50329},5469333,{"$f":"'2016legmax.xls'!DD52","v":0},0,0,0,0,0,0,{"$f":"'2016legmax.xls'!AV52","v":10},{"$f":"'2016legmax.xls'!AW52","v":"A"},{"$f":"'2016legmax.xls'!AX52","v":""},5551651,5469333,{"$f":"IF(Weightings!G52>0,Weightings!G52,'Preliminary SO66'!AB49)","v":5666490},5469333,5469333,4946241,{"$f":"'2016legmax.xls'!BM52","v":0.33},1632260,1632260,1632260,null,3796272,16.2,62402,0,0,0,0,0,0,0,14935,0,0,3718935,{"$f":"'2016legmax.xls'!F52","v":578.5},{"$f":"'2016legmax.xls'!I52","v":577},{"$f":"'2016legmax.xls'!K52","v":562.70000000000005},577,{"$f":"'2016legmax.xls'!O52","v":11},588,{"$f":"IF(ISNA(VLOOKUP($CM55,'Audit Values'!$A$2:$AE$252,2,FALSE)),'Preliminary SO66'!T49,VLOOKUP($CM55,'Audit Values'!$A$2:$AE$252,20,FALSE))","v":0},0,{"$f":"IF(ISNA(VLOOKUP($CM55,'Audit Values'!$A$2:$AE$252,2,FALSE)),'Preliminary SO66'!U49,VLOOKUP($CM55,'Audit Values'!$A$2:$AE$252,21,FALSE))","v":0},0,0,0,0,{"$f":"'2016legmax.xls'!AH52","v":0},0,0,{"$f":"'2016legmax.xls'!CJ52","v":0},0,{"$f":"'2016legmax.xls'!CI52","v":0},0,0,0,0,0,0,0,0,0,0,0,0,0,0,null,null,null,"D0240"]
[241,"Wallace","Wallace County Schools ",1470254,0,0,0,0,185.5,0,0,{"$f":"'2016legmax.xls'!BJ53","v":0},1470254,{"$f":"'2016legmax.xls'!BB53","v":0},154058,{"$f":"'2016legmax.xls'!BC53","v":133263},170534,{"$f":"'2016legmax.xls'!BD53","v":0},1757575,{"$f":"'2016legmax.xls'!DD53","v":0},2548,0,0,0,0,0,{"$f":"'2016legmax.xls'!AV53","v":10},{"$f":"'2016legmax.xls'!AW53","v":"A"},{"$f":"'2016legmax.xls'!AX53","v":""},1797394,1760123,{"$f":"IF(Weightings!G53>0,Weightings!G53,'Preliminary SO66'!AB50)","v":1837012},1760123,1760123,1887220,{"$f":"'2016legmax.xls'!BM53","v":0.3},566166,566166,566166,null,1476159,0,0,0,0,0,0,0,0,0,5905,0,0,1470254,{"$f":"'2016legmax.xls'!F53","v":190},{"$f":"'2016legmax.xls'!I53","v":185.5},{"$f":"'2016legmax.xls'!K53","v":172.5},185.5,{"$f":"'2016legmax.xls'!O53","v":0},185.5,{"$f":"IF(ISNA(VLOOKUP($CM56,'Audit Values'!$A$2:$AE$252,2,FALSE)),'Preliminary SO66'!T50,VLOOKUP($CM56,'Audit Values'!$A$2:$AE$252,20,FALSE))","v":0},0,{"$f":"IF(ISNA(VLOOKUP($CM56,'Audit Values'!$A$2:$AE$252,2,FALSE)),'Preliminary SO66'!U50,VLOOKUP($CM56,'Audit Values'!$A$2:$AE$252,21,FALSE))","v":0},0,0,0,0,{"$f":"'2016legmax.xls'!AH53","v":0},0,0,{"$f":"'2016legmax.xls'!CJ53","v":0},0,{"$f":"'2016legmax.xls'!CI53","v":0},0,0,0,0,0,0,0,0,0,0,0,0,0,0,null,null,null,"D0241"]
[242,"Wallace","Weskan ",823991,0,0,0,0,95.7,0,0,{"$f":"'2016legmax.xls'!BJ54","v":0},823991,{"$f":"'2016legmax.xls'!BB54","v":16955},125616,{"$f":"'2016legmax.xls'!BC54","v":60143},76073,{"$f":"'2016legmax.xls'!BD54","v":0},1026705,{"$f":"'2016legmax.xls'!DD54","v":0},4060,0,0,0,0,0,{"$f":"'2016legmax.xls'!AV54","v":10},{"$f":"'2016legmax.xls'!AW54","v":"A"},{"$f":"'2016legmax.xls'!AX54","v":""},1046695,1030765,{"$f":"IF(Weightings!G54>0,Weightings!G54,'Preliminary SO66'!AB51)","v":1043663},1030765,1030765,1084168,{"$f":"'2016legmax.xls'!BM54","v":0.33},357775,357775,357775,null,827300,0,0,0,0,0,0,0,0,0,3309,0,0,823991,{"$f":"'2016legmax.xls'!F54","v":90.8},{"$f":"'2016legmax.xls'!I54","v":95.7},{"$f":"'2016legmax.xls'!K54","v":92.5},95.7,{"$f":"'2016legmax.xls'!O54","v":0},95.7,{"$f":"IF(ISNA(VLOOKUP($CM57,'Audit Values'!$A$2:$AE$252,2,FALSE)),'Preliminary SO66'!T51,VLOOKUP($CM57,'Audit Values'!$A$2:$AE$252,20,FALSE))","v":0},0,{"$f":"IF(ISNA(VLOOKUP($CM57,'Audit Values'!$A$2:$AE$252,2,FALSE)),'Preliminary SO66'!U51,VLOOKUP($CM57,'Audit Values'!$A$2:$AE$252,21,FALSE))","v":0},0,0,0,0,{"$f":"'2016legmax.xls'!AH54","v":0},0,0,{"$f":"'2016legmax.xls'!CJ54","v":0},0,{"$f":"'2016legmax.xls'!CI54","v":0},0,0,0,0,0,0,0,0,0,0,0,0,0,0,null,null,null,"D0242"]
[243,"Coffey","Lebo-Waverly ",3092710,0,0,0,0,452.7,0,0,{"$f":"'2016legmax.xls'!BJ55","v":0},3092710,{"$f":"'2016legmax.xls'!BB55","v":635800},603302,{"$f":"'2016legmax.xls'!BC55","v":232251},295631,{"$f":"'2016legmax.xls'!BD55","v":24406},4588469,{"$f":"'2016legmax.xls'!DD55","v":0},84,0,0,0,0,0,{"$f":"'2016legmax.xls'!AV55","v":9},{"$f":"'2016legmax.xls'!AW55","v":"A"},{"$f":"'2016legmax.xls'!AX55","v":""},4651933,4588553,{"$f":"IF(Weightings!G55>0,Weightings!G55,'Preliminary SO66'!AB52)","v":4632239},4588553,4588553,4269129,{"$f":"'2016legmax.xls'!BM55","v":0.3},1280739,1280739,1280739,null,3105131,0,0,0,0,0,0,0,0,0,12421,0,0,3092710,{"$f":"'2016legmax.xls'!F55","v":491},{"$f":"'2016legmax.xls'!I55","v":452.5},{"$f":"'2016legmax.xls'!K55","v":414.7},452.7,{"$f":"'2016legmax.xls'!O55","v":0},452.7,{"$f":"IF(ISNA(VLOOKUP($CM58,'Audit Values'!$A$2:$AE$252,2,FALSE)),'Preliminary SO66'!T52,VLOOKUP($CM58,'Audit Values'!$A$2:$AE$252,20,FALSE))","v":0},0,{"$f":"IF(ISNA(VLOOKUP($CM58,'Audit Values'!$A$2:$AE$252,2,FALSE)),'Preliminary SO66'!U52,VLOOKUP($CM58,'Audit Values'!$A$2:$AE$252,21,FALSE))","v":0},0,0,0,0,{"$f":"'2016legmax.xls'!AH55","v":0},0,0,{"$f":"'2016legmax.xls'!CJ55","v":0},0,{"$f":"'2016legmax.xls'!CI55","v":0},0,0,0,0,0,0,0,0,0,0,0,0,0,0,null,null,null,"D0243"]
[244,"Coffey","Burlington ",4796683,0,0,0,0,821,0,0,{"$f":"'2016legmax.xls'!BJ56","v":0},4796683,{"$f":"'2016legmax.xls'!BB56","v":0},1152815,{"$f":"'2016legmax.xls'!BC56","v":606927},809760,{"$f":"'2016legmax.xls'!BD56","v":0},6556425,{"$f":"'2016legmax.xls'!DD56","v":0},75,20042,0,0,395,7582,{"$f":"'2016legmax.xls'!AV56","v":9},{"$f":"'2016legmax.xls'!AW56","v":"A"},{"$f":"'2016legmax.xls'!AX56","v":""},6787352,6584519,{"$f":"IF(Weightings!G56>0,Weightings!G56,'Preliminary SO66'!AB53)","v":8001786},6584519,6584519,6937545,{"$f":"'2016legmax.xls'!BM56","v":0.3},2081264,2081264,2081264,null,4815947,0,0,0,0,0,0,0,0,0,19264,0,0,4796683,{"$f":"'2016legmax.xls'!F56","v":810.7},{"$f":"'2016legmax.xls'!I56","v":815},{"$f":"'2016legmax.xls'!K56","v":815.5},815.5,{"$f":"'2016legmax.xls'!O56","v":5.5},821,{"$f":"IF(ISNA(VLOOKUP($CM59,'Audit Values'!$A$2:$AE$252,2,FALSE)),'Preliminary SO66'!T53,VLOOKUP($CM59,'Audit Values'!$A$2:$AE$252,20,FALSE))","v":0},0,{"$f":"IF(ISNA(VLOOKUP($CM59,'Audit Values'!$A$2:$AE$252,2,FALSE)),'Preliminary SO66'!U53,VLOOKUP($CM59,'Audit Values'!$A$2:$AE$252,21,FALSE))","v":0},0,0,0,0,{"$f":"'2016legmax.xls'!AH56","v":0},0,0,{"$f":"'2016legmax.xls'!CJ56","v":0},0,{"$f":"'2016legmax.xls'!CI56","v":0},0,0,0,0,0,0,0,0,0,20300,20036,0,0,0,null,null,null,"D0244"]
[245,"Coffey","LeRoy-Gridley ",1721685,0,0,0,0,214.1,0,0,{"$f":"'2016legmax.xls'!BJ57","v":0},1721685,{"$f":"'2016legmax.xls'!BB57","v":0},289474,{"$f":"'2016legmax.xls'!BC57","v":120215},156180,{"$f":"'2016legmax.xls'!BD57","v":0},2131374,{"$f":"'2016legmax.xls'!DD57","v":0},744,0,0,0,0,14000,{"$f":"'2016legmax.xls'!AV57","v":9},{"$f":"'2016legmax.xls'!AW57","v":"A"},{"$f":"'2016legmax.xls'!AX57","v":""},2182083,2146118,{"$f":"IF(Weightings!G57>0,Weightings!G57,'Preliminary SO66'!AB54)","v":2140352},2140352,2140352,2317010,{"$f":"'2016legmax.xls'!BM57","v":0.3},695103,695103,695103,null,1728599,0,0,0,0,0,0,0,0,0,6914,0,0,1721685,{"$f":"'2016legmax.xls'!F57","v":198},{"$f":"'2016legmax.xls'!I57","v":214.1},{"$f":"'2016legmax.xls'!K57","v":206.5},214.1,{"$f":"'2016legmax.xls'!O57","v":0},214.1,{"$f":"IF(ISNA(VLOOKUP($CM60,'Audit Values'!$A$2:$AE$252,2,FALSE)),'Preliminary SO66'!T54,VLOOKUP($CM60,'Audit Values'!$A$2:$AE$252,20,FALSE))","v":0},0,{"$f":"IF(ISNA(VLOOKUP($CM60,'Audit Values'!$A$2:$AE$252,2,FALSE)),'Preliminary SO66'!U54,VLOOKUP($CM60,'Audit Values'!$A$2:$AE$252,21,FALSE))","v":0},0,0,0,0,{"$f":"'2016legmax.xls'!AH57","v":0},0,0,{"$f":"'2016legmax.xls'!CJ57","v":0},0,{"$f":"'2016legmax.xls'!CI57","v":0},0,0,0,0,0,0,0,0,0,0,0,0,0,0,null,null,null,"D0245"]
[246,"Crawford","Northeast ",3494458,47799,0,0,0,485,0,0,{"$f":"'2016legmax.xls'!BJ58","v":0},3542257,{"$f":"'2016legmax.xls'!BB58","v":938534},499575,{"$f":"'2016legmax.xls'!BC58","v":283615},372799,{"$f":"'2016legmax.xls'!BD58","v":0},5263981,{"$f":"'2016legmax.xls'!DD58","v":0},0,0,0,0,0,8775,{"$f":"'2016legmax.xls'!AV58","v":2},{"$f":"'2016legmax.xls'!AW58","v":"A"},{"$f":"'2016legmax.xls'!AX58","v":""},5361940,5272756,{"$f":"IF(Weightings!G58>0,Weightings!G58,'Preliminary SO66'!AB55)","v":5499639},5272756,5272756,4611386,{"$f":"'2016legmax.xls'!BM58","v":0.3},1383416,1383416,1383416,null,3508492,0,0,0,0,0,0,0,0,0,14034,0,0,3494458,{"$f":"'2016legmax.xls'!F58","v":477.5},{"$f":"'2016legmax.xls'!I58","v":480.5},{"$f":"'2016legmax.xls'!K58","v":451.1},480.5,{"$f":"'2016legmax.xls'!O58","v":4.5},485,{"$f":"IF(ISNA(VLOOKUP($CM61,'Audit Values'!$A$2:$AE$252,2,FALSE)),'Preliminary SO66'!T55,VLOOKUP($CM61,'Audit Values'!$A$2:$AE$252,20,FALSE))","v":9},45000,{"$f":"IF(ISNA(VLOOKUP($CM61,'Audit Values'!$A$2:$AE$252,2,FALSE)),'Preliminary SO66'!U55,VLOOKUP($CM61,'Audit Values'!$A$2:$AE$252,21,FALSE))","v":0},0,3,2799,47799,{"$f":"'2016legmax.xls'!AH58","v":0},0,0,{"$f":"'2016legmax.xls'!CJ58","v":0},0,{"$f":"'2016legmax.xls'!CI58","v":0},0,0,0,0,0,0,0,0,0,0,0,0,0,0,null,null,null,"D0246"]
[247,"Crawford","Cherokee ",4237194,0,0,0,0,565.4,0,212,{"$f":"'2016legmax.xls'!BJ59","v":0},4236982,{"$f":"'2016legmax.xls'!BB59","v":967484},608085,{"$f":"'2016legmax.xls'!BC59","v":371878},479405,{"$f":"'2016legmax.xls'!BD59","v":74862},6259291,{"$f":"'2016legmax.xls'!DD59","v":0},39,0,0,0,0,0,{"$f":"'2016legmax.xls'!AV59","v":10},{"$f":"'2016legmax.xls'!AW59","v":"A"},{"$f":"'2016legmax.xls'!AX59","v":""},6367069,6259542,{"$f":"IF(Weightings!G59>0,Weightings!G59,'Preliminary SO66'!AB56)","v":6573376},6259542,6259542,5615396,{"$f":"'2016legmax.xls'!BM59","v":0.3},1684619,1684619,1684619,null,4254211,0,0,0,0,0,0,0,0,0,17017,0,0,4237194,{"$f":"'2016legmax.xls'!F59","v":615.5},{"$f":"'2016legmax.xls'!I59","v":559.4},{"$f":"'2016legmax.xls'!K59","v":503.1},559.4,{"$f":"'2016legmax.xls'!O59","v":6},565.4,{"$f":"IF(ISNA(VLOOKUP($CM62,'Audit Values'!$A$2:$AE$252,2,FALSE)),'Preliminary SO66'!T56,VLOOKUP($CM62,'Audit Values'!$A$2:$AE$252,20,FALSE))","v":0},0,{"$f":"IF(ISNA(VLOOKUP($CM62,'Audit Values'!$A$2:$AE$252,2,FALSE)),'Preliminary SO66'!U56,VLOOKUP($CM62,'Audit Values'!$A$2:$AE$252,21,FALSE))","v":0},0,0,0,0,{"$f":"'2016legmax.xls'!AH59","v":0},0,0,{"$f":"'2016legmax.xls'!CJ59","v":0},0,{"$f":"'2016legmax.xls'!CI59","v":0},0,0,0,0,0,0,0,0,0,0,0,0,0,0,null,null,null,"D0247"]
[248,"Crawford","Girard ",5896008,28495,0,0,0,984.8,0,0,{"$f":"'2016legmax.xls'!BJ60","v":0},5924503,{"$f":"'2016legmax.xls'!BB60","v":1580533},924909,{"$f":"'2016legmax.xls'!BC60","v":457021},597833,{"$f":"'2016legmax.xls'!BD60","v":58259},8945225,{"$f":"'2016legmax.xls'!DD60","v":0},0,0,0,0,0,16128,{"$f":"'2016legmax.xls'!AV60","v":7},{"$f":"'2016legmax.xls'!AW60","v":"A"},{"$f":"'2016legmax.xls'!AX60","v":""},9102165,8961353,{"$f":"IF(Weightings!G60>0,Weightings!G60,'Preliminary SO66'!AB57)","v":9279350},8961353,8961353,7783582,{"$f":"'2016legmax.xls'!BM60","v":0.3},2335075,2335075,2335075,null,5919687,0,0,0,0,0,0,0,0,0,23679,0,0,5896008,{"$f":"'2016legmax.xls'!F60","v":973.5},{"$f":"'2016legmax.xls'!I60","v":973.5},{"$f":"'2016legmax.xls'!K60","v":977.8},977.8,{"$f":"'2016legmax.xls'!O60","v":7},984.8,{"$f":"IF(ISNA(VLOOKUP($CM63,'Audit Values'!$A$2:$AE$252,2,FALSE)),'Preliminary SO66'!T57,VLOOKUP($CM63,'Audit Values'!$A$2:$AE$252,20,FALSE))","v":4},20000,{"$f":"IF(ISNA(VLOOKUP($CM63,'Audit Values'!$A$2:$AE$252,2,FALSE)),'Preliminary SO66'!U57,VLOOKUP($CM63,'Audit Values'!$A$2:$AE$252,21,FALSE))","v":2.1},8495,0,0,28495,{"$f":"'2016legmax.xls'!AH60","v":0},0,0,{"$f":"'2016legmax.xls'!CJ60","v":0},0,{"$f":"'2016legmax.xls'!CI60","v":0},0,0,0,0,0,0,0,0,0,0,0,0,0,0,null,null,null,"D0248"]
[249,"Crawford","Frontenac Public Schools ",5121478,10467,0,0,0,878.1,0,0,{"$f":"'2016legmax.xls'!BJ61","v":0},5131945,{"$f":"'2016legmax.xls'!BB61","v":1501977},807642,{"$f":"'2016legmax.xls'!BC61","v":390590},512111,{"$f":"'2016legmax.xls'!BD61","v":47975},7880129,{"$f":"'2016legmax.xls'!DD61","v":0},0,0,0,0,0,4215,{"$f":"'2016legmax.xls'!AV61","v":2},{"$f":"'2016legmax.xls'!AW61","v":"A"},{"$f":"'2016legmax.xls'!AX61","v":""},8005865,7884344,{"$f":"IF(Weightings!G61>0,Weightings!G61,'Preliminary SO66'!AB58)","v":8219040},7884344,7884344,6780652,{"$f":"'2016legmax.xls'!BM61","v":0.3},2034196,2034196,2034196,null,5142046,0,0,0,0,0,0,0,0,0,20568,0,0,5121478,{"$f":"'2016legmax.xls'!F61","v":881.5},{"$f":"'2016legmax.xls'!I61","v":868.5},{"$f":"'2016legmax.xls'!K61","v":866.4},872.1,{"$f":"'2016legmax.xls'!O61","v":6},878.1,{"$f":"IF(ISNA(VLOOKUP($CM64,'Audit Values'!$A$2:$AE$252,2,FALSE)),'Preliminary SO66'!T58,VLOOKUP($CM64,'Audit Values'!$A$2:$AE$252,20,FALSE))","v":2},10000,{"$f":"IF(ISNA(VLOOKUP($CM64,'Audit Values'!$A$2:$AE$252,2,FALSE)),'Preliminary SO66'!U58,VLOOKUP($CM64,'Audit Values'!$A$2:$AE$252,21,FALSE))","v":0},0,0.5,467,10467,{"$f":"'2016legmax.xls'!AH61","v":0},0,0,{"$f":"'2016legmax.xls'!CJ61","v":0},0,{"$f":"'2016legmax.xls'!CI61","v":0},0,0,0,0,0,0,0,0,0,0,0,0,0,0,null,null,null,"D0249"]
[250,"Crawford","Pittsburg ",15796997,209973,0,0,0,2871,0,0,{"$f":"'2016legmax.xls'!BJ62","v":0},16006970,{"$f":"'2016legmax.xls'!BB62","v":3497289},2616641,{"$f":"'2016legmax.xls'!BC62","v":1367557},1783838,{"$f":"'2016legmax.xls'!BD62","v":151140},23639597,{"$f":"'2016legmax.xls'!DD62","v":0},0,0,0,0,0,0,{"$f":"'2016legmax.xls'!AV62","v":11},{"$f":"'2016legmax.xls'!AW62","v":"A"},{"$f":"'2016legmax.xls'!AX62","v":""},24055878,23639597,{"$f":"IF(Weightings!G62>0,Weightings!G62,'Preliminary SO66'!AB59)","v":25209177},23639597,23639597,21215732,{"$f":"'2016legmax.xls'!BM62","v":0.3},6364720,6364720,6364720,null,15869299,2.2999999999999998,8860,0,0,0,0,0,0,0,63442,0,0,15796997,{"$f":"'2016legmax.xls'!F62","v":2806.8},{"$f":"'2016legmax.xls'!I62","v":2851},{"$f":"'2016legmax.xls'!K62","v":2824.9},2851,{"$f":"'2016legmax.xls'!O62","v":20},2871,{"$f":"IF(ISNA(VLOOKUP($CM65,'Audit Values'!$A$2:$AE$252,2,FALSE)),'Preliminary SO66'!T59,VLOOKUP($CM65,'Audit Values'!$A$2:$AE$252,20,FALSE))","v":33},165000,{"$f":"IF(ISNA(VLOOKUP($CM65,'Audit Values'!$A$2:$AE$252,2,FALSE)),'Preliminary SO66'!U59,VLOOKUP($CM65,'Audit Values'!$A$2:$AE$252,21,FALSE))","v":1.2},4854,43,40119,209973,{"$f":"'2016legmax.xls'!AH62","v":0},0,0,{"$f":"'2016legmax.xls'!CJ62","v":0},0,{"$f":"'2016legmax.xls'!CI62","v":0},0,0,0,0,0,0,0,0,0,0,0,0,0,0,null,null,null,"D0250"]
[251,"Lyon","North Lyon County ",3072149,0,0,0,0,418,0,0,{"$f":"'2016legmax.xls'!BJ63","v":0},3072149,{"$f":"'2016legmax.xls'!BB63","v":0},423321,{"$f":"'2016legmax.xls'!BC63","v":239900},312870,{"$f":"'2016legmax.xls'!BD63","v":0},3735370,{"$f":"'2016legmax.xls'!DD63","v":0},86,0,0,0,0,8986,{"$f":"'2016legmax.xls'!AV63","v":10},{"$f":"'2016legmax.xls'!AW63","v":"A"},{"$f":"'2016legmax.xls'!AX63","v":""},3817412,3744442,{"$f":"IF(Weightings!G63>0,Weightings!G63,'Preliminary SO66'!AB60)","v":3840018},3744442,3744442,4037678,{"$f":"'2016legmax.xls'!BM63","v":0.3},1211303,1211303,1211303,null,3084487,0,0,0,0,0,0,0,0,0,12338,0,0,3072149,{"$f":"'2016legmax.xls'!F63","v":432.8},{"$f":"'2016legmax.xls'!I63","v":406.1},{"$f":"'2016legmax.xls'!K63","v":415},418,{"$f":"'2016legmax.xls'!O63","v":0},418,{"$f":"IF(ISNA(VLOOKUP($CM66,'Audit Values'!$A$2:$AE$252,2,FALSE)),'Preliminary SO66'!T60,VLOOKUP($CM66,'Audit Values'!$A$2:$AE$252,20,FALSE))","v":0},0,{"$f":"IF(ISNA(VLOOKUP($CM66,'Audit Values'!$A$2:$AE$252,2,FALSE)),'Preliminary SO66'!U60,VLOOKUP($CM66,'Audit Values'!$A$2:$AE$252,21,FALSE))","v":0},0,0,0,0,{"$f":"'2016legmax.xls'!AH63","v":0},0,0,{"$f":"'2016legmax.xls'!CJ63","v":0},0,{"$f":"'2016legmax.xls'!CI63","v":0},0,0,0,0,0,0,0,0,0,0,0,0,0,0,null,null,null,"D0251"]
[252,"Lyon","Southern Lyon County ",3383302,0,0,0,0,506.8,0,0,{"$f":"'2016legmax.xls'!BJ64","v":0},3383302,{"$f":"'2016legmax.xls'!BB64","v":440225},520958,{"$f":"'2016legmax.xls'!BC64","v":262952},339229,{"$f":"'2016legmax.xls'!BD64","v":18207},4625644,{"$f":"'2016legmax.xls'!DD64","v":0},5713,0,0,0,0,5892,{"$f":"'2016legmax.xls'!AV64","v":3},{"$f":"'2016legmax.xls'!AW64","v":"A"},{"$f":"'2016legmax.xls'!AX64","v":""},4713526,4637249,{"$f":"IF(Weightings!G64>0,Weightings!G64,'Preliminary SO66'!AB61)","v":4848008},4637249,4637249,4500840,{"$f":"'2016legmax.xls'!BM64","v":0.3},1350252,1350252,1350252,null,3396890,0,0,0,0,0,0,0,0,0,13588,0,0,3383302,{"$f":"'2016legmax.xls'!F64","v":514.5},{"$f":"'2016legmax.xls'!I64","v":498},{"$f":"'2016legmax.xls'!K64","v":488.5},500.3,{"$f":"'2016legmax.xls'!O64","v":6.5},506.8,{"$f":"IF(ISNA(VLOOKUP($CM67,'Audit Values'!$A$2:$AE$252,2,FALSE)),'Preliminary SO66'!T61,VLOOKUP($CM67,'Audit Values'!$A$2:$AE$252,20,FALSE))","v":0},0,{"$f":"IF(ISNA(VLOOKUP($CM67,'Audit Values'!$A$2:$AE$252,2,FALSE)),'Preliminary SO66'!U61,VLOOKUP($CM67,'Audit Values'!$A$2:$AE$252,21,FALSE))","v":0},0,0,0,0,{"$f":"'2016legmax.xls'!AH64","v":0},0,0,{"$f":"'2016legmax.xls'!CJ64","v":0},0,{"$f":"'2016legmax.xls'!CI64","v":0},0,0,0,0,0,0,0,0,0,0,0,0,0,0,null,null,null,"D0252"]
[253,"Lyon","Emporia ",24572120,7023,0,0,0,4378.2,0,0,{"$f":"'2016legmax.xls'!BJ65","v":0},24579143,{"$f":"'2016legmax.xls'!BB65","v":6122818},3163937,{"$f":"'2016legmax.xls'!BC65","v":2889404},3767694,{"$f":"'2016legmax.xls'!BD65","v":254762},37010064,{"$f":"'2016legmax.xls'!DD65","v":0},0,0,0,0,0,11079,{"$f":"'2016legmax.xls'!AV65","v":3},{"$f":"'2016legmax.xls'!AW65","v":"A"},{"$f":"'2016legmax.xls'!AX65","v":""},37899433,37021143,{"$f":"IF(Weightings!G65>0,Weightings!G65,'Preliminary SO66'!AB62)","v":38399068},37021143,37021143,31860405,{"$f":"'2016legmax.xls'!BM65","v":0.3},9558122,9558122,9558122,null,24691219,5.3,20416,0,0,0,0,0,0,0,98683,0,0,24572120,{"$f":"'2016legmax.xls'!F65","v":4210.1000000000004},{"$f":"'2016legmax.xls'!I65","v":4210.3},{"$f":"'2016legmax.xls'!K65","v":4317.2},4317.2,{"$f":"'2016legmax.xls'!O65","v":61},4378.2,{"$f":"IF(ISNA(VLOOKUP($CM68,'Audit Values'!$A$2:$AE$252,2,FALSE)),'Preliminary SO66'!T62,VLOOKUP($CM68,'Audit Values'!$A$2:$AE$252,20,FALSE))","v":1},5000,{"$f":"IF(ISNA(VLOOKUP($CM68,'Audit Values'!$A$2:$AE$252,2,FALSE)),'Preliminary SO66'!U62,VLOOKUP($CM68,'Audit Values'!$A$2:$AE$252,21,FALSE))","v":0.5},2023,0,0,7023,{"$f":"'2016legmax.xls'!AH65","v":0},0,0,{"$f":"'2016legmax.xls'!CJ65","v":0},0,{"$f":"'2016legmax.xls'!CI65","v":0},0,0,0,0,0,0,0,0,0,0,0,0,0,0,null,null,null,"D0253"]
[254,"Barber","Barber County North ",2814659,0,0,0,0,445.2,0,0,{"$f":"'2016legmax.xls'!BJ66","v":0},2814659,{"$f":"'2016legmax.xls'!BB66","v":0},550614,{"$f":"'2016legmax.xls'!BC66","v":225589},297708,{"$f":"'2016legmax.xls'!BD66","v":0},3590862,{"$f":"'2016legmax.xls'!DD66","v":0},47413,0,0,0,4561,4500,{"$f":"'2016legmax.xls'!AV66","v":15},{"$f":"'2016legmax.xls'!AW66","v":"A"},{"$f":"'2016legmax.xls'!AX66","v":""},3719455,3647336,{"$f":"IF(Weightings!G66>0,Weightings!G66,'Preliminary SO66'!AB63)","v":3889552},3647336,3647336,4025581,{"$f":"'2016legmax.xls'!BM66","v":0.3},1207674,1207674,1207674,null,2825963,0,0,0,0,0,0,0,0,0,11304,0,0,2814659,{"$f":"'2016legmax.xls'!F66","v":446.5},{"$f":"'2016legmax.xls'!I66","v":436.5},{"$f":"'2016legmax.xls'!K66","v":437.5},440.2,{"$f":"'2016legmax.xls'!O66","v":5},445.2,{"$f":"IF(ISNA(VLOOKUP($CM69,'Audit Values'!$A$2:$AE$252,2,FALSE)),'Preliminary SO66'!T63,VLOOKUP($CM69,'Audit Values'!$A$2:$AE$252,20,FALSE))","v":0},0,{"$f":"IF(ISNA(VLOOKUP($CM69,'Audit Values'!$A$2:$AE$252,2,FALSE)),'Preliminary SO66'!U63,VLOOKUP($CM69,'Audit Values'!$A$2:$AE$252,21,FALSE))","v":0},0,0,0,0,{"$f":"'2016legmax.xls'!AH66","v":0},0,0,{"$f":"'2016legmax.xls'!CJ66","v":0},0,{"$f":"'2016legmax.xls'!CI66","v":0},0,0,0,0,0,0,0,0,0,0,0,0,0,0,null,null,null,"D0254"]
[255,"Barber","South Barber ",1431826,0,0,0,0,227.3,0,0,{"$f":"'2016legmax.xls'!BJ67","v":0},1431826,{"$f":"'2016legmax.xls'!BB67","v":0},283554,{"$f":"'2016legmax.xls'!BC67","v":126847},168110,{"$f":"'2016legmax.xls'!BD67","v":0},1842227,{"$f":"'2016legmax.xls'!DD67","v":0},124523,0,0,0,0,0,{"$f":"'2016legmax.xls'!AV67","v":4},{"$f":"'2016legmax.xls'!AW67","v":"A"},{"$f":"'2016legmax.xls'!AX67","v":""},2008013,1966750,{"$f":"IF(Weightings!G67>0,Weightings!G67,'Preliminary SO66'!AB64)","v":2223343},1966750,1966750,2292555,{"$f":"'2016legmax.xls'!BM67","v":0.3},687767,687767,687767,null,1437576,0,0,0,0,0,0,0,0,0,5750,0,0,1431826,{"$f":"'2016legmax.xls'!F67","v":235},{"$f":"'2016legmax.xls'!I67","v":223.5},{"$f":"'2016legmax.xls'!K67","v":223.5},227.3,{"$f":"'2016legmax.xls'!O67","v":0},227.3,{"$f":"IF(ISNA(VLOOKUP($CM70,'Audit Values'!$A$2:$AE$252,2,FALSE)),'Preliminary SO66'!T64,VLOOKUP($CM70,'Audit Values'!$A$2:$AE$252,20,FALSE))","v":0},0,{"$f":"IF(ISNA(VLOOKUP($CM70,'Audit Values'!$A$2:$AE$252,2,FALSE)),'Preliminary SO66'!U64,VLOOKUP($CM70,'Audit Values'!$A$2:$AE$252,21,FALSE))","v":0},0,0,0,0,{"$f":"'2016legmax.xls'!AH67","v":0},0,0,{"$f":"'2016legmax.xls'!CJ67","v":0},0,{"$f":"'2016legmax.xls'!CI67","v":0},0,0,0,0,0,0,0,0,0,0,0,0,0,0,null,null,null,"D0255"]
[256,"Allen","Marmaton Valley ",2095785,0,0,0,0,277.3,0,0,{"$f":"'2016legmax.xls'!BJ68","v":0},2095785,{"$f":"'2016legmax.xls'!BB68","v":396596},350401,{"$f":"'2016legmax.xls'!BC68","v":143729},186755,{"$f":"'2016legmax.xls'!BD68","v":0},2986511,{"$f":"'2016legmax.xls'!DD68","v":0},901,0,0,0,0,477,{"$f":"'2016legmax.xls'!AV68","v":1},{"$f":"'2016legmax.xls'!AW68","v":"A"},{"$f":"'2016legmax.xls'!AX68","v":""},3030915,2987889,{"$f":"IF(Weightings!G68>0,Weightings!G68,'Preliminary SO66'!AB65)","v":3193073},2987889,2987889,2897371,{"$f":"'2016legmax.xls'!BM68","v":0.2979},863127,848640,848640,null,2104202,0,0,0,0,0,0,0,0,0,8417,0,0,2095785,{"$f":"'2016legmax.xls'!F68","v":277},{"$f":"'2016legmax.xls'!I68","v":270.5},{"$f":"'2016legmax.xls'!K68","v":272.5},273.3,{"$f":"'2016legmax.xls'!O68","v":4},277.3,{"$f":"IF(ISNA(VLOOKUP($CM71,'Audit Values'!$A$2:$AE$252,2,FALSE)),'Preliminary SO66'!T65,VLOOKUP($CM71,'Audit Values'!$A$2:$AE$252,20,FALSE))","v":0},0,{"$f":"IF(ISNA(VLOOKUP($CM71,'Audit Values'!$A$2:$AE$252,2,FALSE)),'Preliminary SO66'!U65,VLOOKUP($CM71,'Audit Values'!$A$2:$AE$252,21,FALSE))","v":0},0,0,0,0,{"$f":"'2016legmax.xls'!AH68","v":0},0,0,{"$f":"'2016legmax.xls'!CJ68","v":0},0,{"$f":"'2016legmax.xls'!CI68","v":0},0,0,0,0,0,0,0,0,0,0,0,0,0,0,null,null,null,"D0256"]
[257,"Allen","Iola ",7475159,135452,0,0,0,1262.8,0,0,{"$f":"'2016legmax.xls'!BJ69","v":0},7610611,{"$f":"'2016legmax.xls'!BB69","v":1998857},1512901,{"$f":"'2016legmax.xls'!BC69","v":621078},810802,{"$f":"'2016legmax.xls'!BD69","v":146219},11889666,{"$f":"'2016legmax.xls'!DD69","v":0},1444,0,0,0,0,0,{"$f":"'2016legmax.xls'!AV69","v":18},{"$f":"'2016legmax.xls'!AW69","v":"A"},{"$f":"'2016legmax.xls'!AX69","v":""},12080834,11891110,{"$f":"IF(Weightings!G69>0,Weightings!G69,'Preliminary SO66'!AB66)","v":12495893},11891110,11891110,10502939,{"$f":"'2016legmax.xls'!BM69","v":0.3},3150882,3150882,3150882,null,7505180,0,0,0,0,0,0,0,0,0,30021,0,0,7475159,{"$f":"'2016legmax.xls'!F69","v":1258.5},{"$f":"'2016legmax.xls'!I69","v":1251.3},{"$f":"'2016legmax.xls'!K69","v":1220},1251.3,{"$f":"'2016legmax.xls'!O69","v":11.5},1262.8,{"$f":"IF(ISNA(VLOOKUP($CM72,'Audit Values'!$A$2:$AE$299,2,FALSE)),'Preliminary SO66'!T66,VLOOKUP($CM72,'Audit Values'!$A$2:$AE$299,20,FALSE))","v":25},125000,{"$f":"IF(ISNA(VLOOKUP($CM72,'Audit Values'!$A$2:$AE$299,2,FALSE)),'Preliminary SO66'!U66,VLOOKUP($CM72,'Audit Values'!$A$2:$AE$299,21,FALSE))","v":1.2},4854,6,5598,135452,{"$f":"'2016legmax.xls'!AH69","v":0},0,0,{"$f":"'2016legmax.xls'!CJ69","v":0},{"$f":"AD72*BS72","v":0},{"$f":"'2016legmax.xls'!CI69","v":0},0,0,0,0,0,0,0,0,0,0,0,0,0,0,null,null,null,"D0257"]
[258,"Allen","Humboldt ",{"$f":"BB73","v":3707928},{"$f":"BO73","v":816816},{"$f":"BQ73","v":0},0,{"$f":"IF((CF73-CE73)<0,0,CF73-CE73)","v":0},{"$f":"BH73","v":589.5},{"$f":"I73*$J$6","v":0},0,{"$f":"'2016legmax.xls'!BJ70","v":0},{"$f":"SUM(D73+E73+F73+G73+H73+J73)-K73+L73","v":4524744},{"$f":"'2016legmax.xls'!BB70","v":992165},657958,{"$f":"'2016legmax.xls'!BC70","v":338876},439577,{"$f":"'2016legmax.xls'!BD70","v":89001},{"$f":"M73+N73+O73+P73+R73","v":6602744},{"$f":"'2016legmax.xls'!DD70","v":0},511,0,0,0,0,0,{"$f":"'2016legmax.xls'!AV70","v":10},{"$f":"'2016legmax.xls'!AW70","v":"A"},{"$f":"'2016legmax.xls'!AX70","v":"R"},{"$f":"D73+E73+F73+BZ73+CD73+H73+J73+L73+N73+O73+Q73+R73+T73+U73+V73+W73+Y73+Z73","v":6703956},{"$f":"AD73+BV73-Q73+P73+X73","v":6603255},{"$f":"IF(Weightings!G70>0,Weightings!G70,'Preliminary SO66'!AB67)","v":7449606},6603255,{"$f":"MIN(AE73,AF73)","v":6603255},5050365,{"$f":"'2016legmax.xls'!BM70","v":0.3},{"$f":"AI73*AJ73","v":1515110},1515110,{"$f":"MIN(AK73,AL73)","v":1515110},null,4485130,197.9,{"$f":"AP73*$AQ$6","v":762311},0,{"$f":"AR73*$AS$6","v":0},0,{"$f":"AT73*$AU$6","v":0},0,{"$f":"AV73*$AW$6","v":0},{"$f":"AS73+AU73+AW73","v":0},{"$f":"SUM(AO73-AQ73-AX73)*$AY$6","v":14891},0,{"$f":"AZ73*$BA$6","v":0},{"$f":"AO73-AQ73-AX73-AY73-BA73","v":3707928},{"$f":"'2016legmax.xls'!F70","v":586.6},{"$f":"'2016legmax.xls'!I70","v":569},{"$f":"'2016legmax.xls'!K70","v":584},{"$f":"MAX(BE73,BD73, AVERAGE(BC73,BD73,BE73))","v":584},{"$f":"'2016legmax.xls'!O70","v":5.5},{"$f":"BF73+BG73","v":589.5},{"$f":"IF(ISNA(VLOOKUP($CM73,'Audit Values'!$A$2:$AE$252,2,FALSE)),'Preliminary SO66'!T67,VLOOKUP($CM73,'Audit Values'!$A$2:$AE$252,20,FALSE))","v":74},{"$f":"BI73*$BJ$6","v":370000},{"$f":"IF(ISNA(VLOOKUP($CM73,'Audit Values'!$A$2:$AE$252,2,FALSE)),'Preliminary SO66'!U67,VLOOKUP($CM73,'Audit Values'!$A$2:$AE$252,21,FALSE))","v":0.9},{"$f":"BK73*$BL$6","v":3641},475,{"$f":"BM73*$BN$6","v":443175},{"$f":"BJ73+BL73+BN73","v":816816},{"$f":"'2016legmax.xls'!AH70","v":0},{"$f":"BP73*$BQ$6","v":0},0,{"$f":"'2016legmax.xls'!CJ70","v":0},0,{"$f":"'2016legmax.xls'!CI70","v":0},{"$f":"MIN(BT73,BU73)","v":0},0,0,0,{"$f":"IF(BY73>MAX(BW73,BX73), MAX(BW73,BX73),BY73)","v":0},0,0,0,{"$f":"IF(CC73>MAX(CA73,CB73),MAX(CA73,CB73),CC73)","v":0},0,0,0,0,0,null,null,null,"D0258"]
[259,"Sedgwick","Wichita ",277750247,1222628,898672,0,0,47064.1,0,232529,{"$f":"'2016legmax.xls'!BJ71","v":0},279639018,{"$f":"'2016legmax.xls'!BB71","v":54559901},44276340,{"$f":"'2016legmax.xls'!BC71","v":28659751},37088065,{"$f":"'2016legmax.xls'!BD71","v":4525512},411660522,{"$f":"'2016legmax.xls'!DD71","v":366804},386,0,0,3036045,313574,130417,{"$f":"'2016legmax.xls'!AV71","v":5},{"$f":"'2016legmax.xls'!AW71","v":"A"},{"$f":"'2016legmax.xls'!AX71","v":""},421132546,415740277,{"$f":"IF(Weightings!G71>0,Weightings!G71,'Preliminary SO66'!AB68)","v":426884492},415740277,415740277,371231551,{"$f":"'2016legmax.xls'!BM71","v":0.3},111369465,111369465,111369465,null,280523697,199.8,769630,0,0,0,0,0,0,0,1119016,229.7,884804,277750247,{"$f":"'2016legmax.xls'!F71","v":45888.3},{"$f":"'2016legmax.xls'!I71","v":46108.1},{"$f":"'2016legmax.xls'!K71","v":46003.7},46108.1,{"$f":"'2016legmax.xls'!O71","v":956},47064.1,{"$f":"IF(ISNA(VLOOKUP($CM74,'Audit Values'!$A$2:$AE$252,2,FALSE)),'Preliminary SO66'!T68,VLOOKUP($CM74,'Audit Values'!$A$2:$AE$252,20,FALSE))","v":198},990000,{"$f":"IF(ISNA(VLOOKUP($CM74,'Audit Values'!$A$2:$AE$252,2,FALSE)),'Preliminary SO66'!U68,VLOOKUP($CM74,'Audit Values'!$A$2:$AE$252,21,FALSE))","v":15.3},61889,183,170739,1222628,{"$f":"'2016legmax.xls'!AH71","v":233.3},898672,0,{"$f":"'2016legmax.xls'!CJ71","v":0},0,{"$f":"'2016legmax.xls'!CI71","v":0},0,0,0,0,0,0,0,0,0,0,0,0,0,0,null,null,null,"D0259"]
[260,"Sedgwick","Derby ",31699379,41709,1243426,0,0,6449.8,0,0,{"$f":"'2016legmax.xls'!BJ72","v":0},32984514,{"$f":"'2016legmax.xls'!BB72","v":5537150},5245591,{"$f":"'2016legmax.xls'!BC72","v":3720313},4705814,{"$f":"'2016legmax.xls'!BD72","v":354279},47841847,{"$f":"'2016legmax.xls'!DD72","v":0},10,137777,0,0,57892,27146,{"$f":"'2016legmax.xls'!AV72","v":18},{"$f":"'2016legmax.xls'!AW72","v":"A"},{"$f":"'2016legmax.xls'!AX72","v":""},49050173,48064672,{"$f":"IF(Weightings!G72>0,Weightings!G72,'Preliminary SO66'!AB69)","v":48657123},48064672,48064672,42558625,{"$f":"'2016legmax.xls'!BM72","v":0.3},12767588,12767588,12767588,null,32081651,18.600000000000001,71647,0,0,0,0,0,0,0,128040,47.4,182585,31699379,{"$f":"'2016legmax.xls'!F72","v":6382.1},{"$f":"'2016legmax.xls'!I72","v":6406.2},{"$f":"'2016legmax.xls'!K72","v":6424.8},6424.8,{"$f":"'2016legmax.xls'!O72","v":25},6449.8,{"$f":"IF(ISNA(VLOOKUP($CM75,'Audit Values'!$A$2:$AE$286,2,FALSE)),'Preliminary SO66'!T69,VLOOKUP($CM75,'Audit Values'!$A$2:$AE$286,20,FALSE))","v":5},25000,{"$f":"IF(ISNA(VLOOKUP($CM75,'Audit Values'!$A$2:$AE$286,2,FALSE)),'Preliminary SO66'!U69,VLOOKUP($CM75,'Audit Values'!$A$2:$AE$286,21,FALSE))","v":3.9},15776,1,933,41709,{"$f":"'2016legmax.xls'!AH72","v":322.8},1243426,0,{"$f":"'2016legmax.xls'!CJ72","v":0},0,{"$f":"'2016legmax.xls'!CI72","v":0},0,0,0,0,0,0,0,0,0,171500,131347,0,0,0,null,null,null,"D0260"]
[261,"Sedgwick","Haysville ",27498882,0,0,0,0,5237.8999999999996,0,0,{"$f":"'2016legmax.xls'!BJ73","v":0},27498882,{"$f":"'2016legmax.xls'!BB73","v":8318036},4946890,{"$f":"'2016legmax.xls'!BC73","v":2955416},3878644,{"$f":"'2016legmax.xls'!BD73","v":540595},44259819,{"$f":"'2016legmax.xls'!DD73","v":0},132,0,0,0,0,3114,{"$f":"'2016legmax.xls'!AV73","v":16},{"$f":"'2016legmax.xls'!AW73","v":"A"},{"$f":"'2016legmax.xls'!AX73","v":""},45186293,44263065,{"$f":"IF(Weightings!G73>0,Weightings!G73,'Preliminary SO66'!AB70)","v":45248827},44263065,44263065,36918566,{"$f":"'2016legmax.xls'!BM73","v":0.3},11075570,11069181,11069181,null,27609319,0,0,0,0,0,0,0,0,0,110437,0,0,27498882,{"$f":"'2016legmax.xls'!F73","v":5013.5},{"$f":"'2016legmax.xls'!I73","v":5122.3999999999996},{"$f":"'2016legmax.xls'!K73","v":5164.8999999999996},5164.8999999999996,{"$f":"'2016legmax.xls'!O73","v":73},5237.8999999999996,{"$f":"IF(ISNA(VLOOKUP($CM76,'Audit Values'!$A$2:$AE$252,2,FALSE)),'Preliminary SO66'!T70,VLOOKUP($CM76,'Audit Values'!$A$2:$AE$252,20,FALSE))","v":0},0,{"$f":"IF(ISNA(VLOOKUP($CM76,'Audit Values'!$A$2:$AE$252,2,FALSE)),'Preliminary SO66'!U70,VLOOKUP($CM76,'Audit Values'!$A$2:$AE$252,21,FALSE))","v":0},0,0,0,0,{"$f":"'2016legmax.xls'!AH73","v":0},0,0,{"$f":"'2016legmax.xls'!CJ73","v":0},0,{"$f":"'2016legmax.xls'!CI73","v":0},0,0,0,0,0,0,0,0,0,0,0,0,0,0,null,null,null,"D0261"]
[262,"Sedgwick","Valley Center Pub Sch ",13038294,190703,0,0,0,2682.4,0,0,{"$f":"'2016legmax.xls'!BJ74","v":0},13228997,{"$f":"'2016legmax.xls'!BB74","v":3132525},2478302,{"$f":"'2016legmax.xls'!BC74","v":1110039},1445860,{"$f":"'2016legmax.xls'!BD74","v":250240},20200103,{"$f":"'2016legmax.xls'!DD74","v":0},5065,0,0,25000,161,0,{"$f":"'2016legmax.xls'!AV74","v":2},{"$f":"'2016legmax.xls'!AW74","v":"A"},{"$f":"'2016legmax.xls'!AX74","v":""},20541150,20230329,{"$f":"IF(Weightings!G74>0,Weightings!G74,'Preliminary SO66'!AB71)","v":20980421},20230329,20230329,17737805,{"$f":"'2016legmax.xls'!BM74","v":0.3},5321342,5297870,5297870,null,13362223,70.5,271566,0,0,0,0,0,0,0,52363,0,0,13038294,{"$f":"'2016legmax.xls'!F74","v":2584.5},{"$f":"'2016legmax.xls'!I74","v":2624.4},{"$f":"'2016legmax.xls'!K74","v":2665.4},2665.4,{"$f":"'2016legmax.xls'!O74","v":17},2682.4,{"$f":"IF(ISNA(VLOOKUP($CM77,'Audit Values'!$A$2:$AE$252,2,FALSE)),'Preliminary SO66'!T71,VLOOKUP($CM77,'Audit Values'!$A$2:$AE$252,20,FALSE))","v":23},115000,{"$f":"IF(ISNA(VLOOKUP($CM77,'Audit Values'!$A$2:$AE$252,2,FALSE)),'Preliminary SO66'!U71,VLOOKUP($CM77,'Audit Values'!$A$2:$AE$252,21,FALSE))","v":2.8},11326,69,64377,190703,{"$f":"'2016legmax.xls'!AH74","v":0},0,0,{"$f":"'2016legmax.xls'!CJ74","v":0},0,{"$f":"'2016legmax.xls'!CI74","v":0},0,0,0,0,0,0,0,0,0,0,0,0,0,0,null,null,null,"D0262"]
[263,"Sedgwick","Mulvane ",8373038,47583,51617,0,0,1747.4,0,0,{"$f":"'2016legmax.xls'!BJ75","v":0},8472238,{"$f":"'2016legmax.xls'!BB75","v":1136888},1517930,{"$f":"'2016legmax.xls'!BC75","v":904206},1197467,{"$f":"'2016legmax.xls'!BD75","v":44318},12075580,{"$f":"'2016legmax.xls'!DD75","v":0},209,0,0,0,0,0,{"$f":"'2016legmax.xls'!AV75","v":18},{"$f":"'2016legmax.xls'!AW75","v":"A"},{"$f":"'2016legmax.xls'!AX75","v":""},12369050,12075789,{"$f":"IF(Weightings!G75>0,Weightings!G75,'Preliminary SO66'!AB72)","v":12447834},12075789,12075789,11371787,{"$f":"'2016legmax.xls'!BM75","v":0.3},3411536,3411536,3411536,null,8494069,0,0,0,0,0,0,0,0,0,33976,22.6,87055,8373038,{"$f":"'2016legmax.xls'!F75","v":1741.6},{"$f":"'2016legmax.xls'!I75","v":1732.9},{"$f":"'2016legmax.xls'!K75","v":1679.3},1732.9,{"$f":"'2016legmax.xls'!O75","v":14.5},1747.4,{"$f":"IF(ISNA(VLOOKUP($CM78,'Audit Values'!$A$2:$AE$252,2,FALSE)),'Preliminary SO66'!T72,VLOOKUP($CM78,'Audit Values'!$A$2:$AE$252,20,FALSE))","v":0},0,{"$f":"IF(ISNA(VLOOKUP($CM78,'Audit Values'!$A$2:$AE$252,2,FALSE)),'Preliminary SO66'!U72,VLOOKUP($CM78,'Audit Values'!$A$2:$AE$252,21,FALSE))","v":0},0,51,47583,47583,{"$f":"'2016legmax.xls'!AH75","v":13.4},51617,0,{"$f":"'2016legmax.xls'!CJ75","v":0},0,{"$f":"'2016legmax.xls'!CI75","v":0},0,0,0,0,0,0,0,0,0,0,0,0,0,0,null,null,null,"D0263"]
[264,"Sedgwick","Clearwater ",6094208,88635,0,0,0,1132.8,0,0,{"$f":"'2016legmax.xls'!BJ76","v":0},6182843,{"$f":"'2016legmax.xls'!BB76","v":1319222},1087721,{"$f":"'2016legmax.xls'!BC76","v":501770},656568,{"$f":"'2016legmax.xls'!BD76","v":119091},9210647,{"$f":"'2016legmax.xls'!DD76","v":0},1330,0,0,90000,0,13515,{"$f":"'2016legmax.xls'!AV76","v":7},{"$f":"'2016legmax.xls'!AW76","v":"A"},{"$f":"'2016legmax.xls'!AX76","v":""},9380290,9315492,{"$f":"IF(Weightings!G76>0,Weightings!G76,'Preliminary SO66'!AB73)","v":9685933},9315492,9315492,8239318,{"$f":"'2016legmax.xls'!BM76","v":0.3},2471795,2471795,2471795,null,6118683,0,0,0,0,0,0,0,0,0,24475,0,0,6094208,{"$f":"'2016legmax.xls'!F76","v":1128.5999999999999},{"$f":"'2016legmax.xls'!I76","v":1129.8},{"$f":"'2016legmax.xls'!K76","v":1079.5},1129.8,{"$f":"'2016legmax.xls'!O76","v":3},1132.8,{"$f":"IF(ISNA(VLOOKUP($CM79,'Audit Values'!$A$2:$AE$252,2,FALSE)),'Preliminary SO66'!T73,VLOOKUP($CM79,'Audit Values'!$A$2:$AE$252,20,FALSE))","v":0},0,{"$f":"IF(ISNA(VLOOKUP($CM79,'Audit Values'!$A$2:$AE$252,2,FALSE)),'Preliminary SO66'!U73,VLOOKUP($CM79,'Audit Values'!$A$2:$AE$252,21,FALSE))","v":0},0,95,88635,88635,{"$f":"'2016legmax.xls'!AH76","v":0},0,0,{"$f":"'2016legmax.xls'!CJ76","v":0},0,{"$f":"'2016legmax.xls'!CI76","v":0},0,0,0,0,0,0,0,0,0,0,0,0,0,0,null,null,null,"D0264"]
[265,"Sedgwick","Goddard ",25142969,95364,0,0,0,5288,0,0,{"$f":"'2016legmax.xls'!BJ77","v":0},25238333,{"$f":"'2016legmax.xls'!BB77","v":5920681},4715904,{"$f":"'2016legmax.xls'!BC77","v":2339171},3038686,{"$f":"'2016legmax.xls'!BD77","v":590398},38804487,{"$f":"'2016legmax.xls'!DD77","v":25285},539,0,0,0,0,7000,{"$f":"'2016legmax.xls'!AV77","v":7},{"$f":"'2016legmax.xls'!AW77","v":"A"},{"$f":"'2016legmax.xls'!AX77","v":""},39536826,38837311,{"$f":"IF(Weightings!G77>0,Weightings!G77,'Preliminary SO66'!AB74)","v":40565000},38837311,38837311,33928336,{"$f":"'2016legmax.xls'!BM77","v":0.3},10178501,10178501,10178501,null,25321755,20.2,77810,0,0,0,0,0,0,0,100976,0,0,25142969,{"$f":"'2016legmax.xls'!F77","v":5086.1000000000004},{"$f":"'2016legmax.xls'!I77","v":5174.8999999999996},{"$f":"'2016legmax.xls'!K77","v":5259},5259,{"$f":"'2016legmax.xls'!O77","v":29},5288,{"$f":"IF(ISNA(VLOOKUP($CM80,'Audit Values'!$A$2:$AE$252,2,FALSE)),'Preliminary SO66'!T74,VLOOKUP($CM80,'Audit Values'!$A$2:$AE$252,20,FALSE))","v":13},65000,{"$f":"IF(ISNA(VLOOKUP($CM80,'Audit Values'!$A$2:$AE$252,2,FALSE)),'Preliminary SO66'!U74,VLOOKUP($CM80,'Audit Values'!$A$2:$AE$252,21,FALSE))","v":5.2},21034,10,9330,95364,{"$f":"'2016legmax.xls'!AH77","v":0},0,0,{"$f":"'2016legmax.xls'!CJ77","v":2.8999999999999998E-3},114657,{"$f":"'2016legmax.xls'!CI77","v":0},0,0,0,0,0,0,0,0,0,0,0,0,0,0,null,null,null,"D0265"]
[266,"Sedgwick","Maize ",30665965,1655766,0,0,0,6539.9,0,0,{"$f":"'2016legmax.xls'!BJ78","v":0},32321731,{"$f":"'2016legmax.xls'!BB78","v":6483838},5886112,{"$f":"'2016legmax.xls'!BC78","v":2784400},3622985,{"$f":"'2016legmax.xls'!BD78","v":685056},48161137,{"$f":"'2016legmax.xls'!DD78","v":0},0,0,0,0,20023,0,{"$f":"'2016legmax.xls'!AV78","v":12},{"$f":"'2016legmax.xls'!AW78","v":"A"},{"$f":"'2016legmax.xls'!AX78","v":""},49019745,48181160,{"$f":"IF(Weightings!G78>0,Weightings!G78,'Preliminary SO66'!AB75)","v":49777690},48181160,48181160,41674866,{"$f":"'2016legmax.xls'!BM78","v":0.3},12502460,12502460,12502460,null,32235932,375.6,1446811,0,0,0,0,0,0,0,123156,0,0,30665965,{"$f":"'2016legmax.xls'!F78","v":6420.7},{"$f":"'2016legmax.xls'!I78","v":6467.4},{"$f":"'2016legmax.xls'!K78","v":6521.9},6521.9,{"$f":"'2016legmax.xls'!O78","v":18},6539.9,{"$f":"IF(ISNA(VLOOKUP($CM81,'Audit Values'!$A$2:$AE$252,2,FALSE)),'Preliminary SO66'!T75,VLOOKUP($CM81,'Audit Values'!$A$2:$AE$252,20,FALSE))","v":303},1515000,{"$f":"IF(ISNA(VLOOKUP($CM81,'Audit Values'!$A$2:$AE$252,2,FALSE)),'Preliminary SO66'!U75,VLOOKUP($CM81,'Audit Values'!$A$2:$AE$252,21,FALSE))","v":34.799999999999997},140766,0,0,1655766,{"$f":"'2016legmax.xls'!AH78","v":0},0,0,{"$f":"'2016legmax.xls'!CJ78","v":1.5100000000000001E-2},740198,{"$f":"'2016legmax.xls'!CI78","v":0},0,0,0,0,0,0,0,0,0,0,0,0,0,0,null,null,null,"D0266"]
[267,"Sedgwick","Renwick ",8673435,0,0,0,0,1874,0,0,{"$f":"'2016legmax.xls'!BJ79","v":0},8673435,{"$f":"'2016legmax.xls'!BB79","v":1835111},1685674,{"$f":"'2016legmax.xls'!BC79","v":719304},951475,{"$f":"'2016legmax.xls'!BD79","v":166873},13080397,{"$f":"'2016legmax.xls'!DD79","v":0},224,0,0,0,0,4360,{"$f":"'2016legmax.xls'!AV79","v":16},{"$f":"'2016legmax.xls'!AW79","v":"A"},{"$f":"'2016legmax.xls'!AX79","v":""},13317152,13084981,{"$f":"IF(Weightings!G79>0,Weightings!G79,'Preliminary SO66'!AB76)","v":13705147},13084981,13084981,11819518,{"$f":"'2016legmax.xls'!BM79","v":0.33},3900441,3900441,3900441,null,8708268,0,0,0,0,0,0,0,0,0,34833,0,0,8673435,{"$f":"'2016legmax.xls'!F79","v":1845},{"$f":"'2016legmax.xls'!I79","v":1874},{"$f":"'2016legmax.xls'!K79","v":1827},1874,{"$f":"'2016legmax.xls'!O79","v":0},1874,{"$f":"IF(ISNA(VLOOKUP($CM82,'Audit Values'!$A$2:$AE$252,2,FALSE)),'Preliminary SO66'!T76,VLOOKUP($CM82,'Audit Values'!$A$2:$AE$252,20,FALSE))","v":0},0,{"$f":"IF(ISNA(VLOOKUP($CM82,'Audit Values'!$A$2:$AE$252,2,FALSE)),'Preliminary SO66'!U76,VLOOKUP($CM82,'Audit Values'!$A$2:$AE$252,21,FALSE))","v":0},0,0,0,0,{"$f":"'2016legmax.xls'!AH79","v":0},0,0,{"$f":"'2016legmax.xls'!CJ79","v":0},0,{"$f":"'2016legmax.xls'!CI79","v":0},0,0,0,0,0,0,0,0,0,0,0,0,0,0,null,null,null,"D0267"]
[268,"Sedgwick","Cheney ",4418011,0,149072,0,0,760.6,0,0,{"$f":"'2016legmax.xls'!BJ80","v":0},4567083,{"$f":"'2016legmax.xls'!BB80","v":1114794},709621,{"$f":"'2016legmax.xls'!BC80","v":380892},499112,{"$f":"'2016legmax.xls'!BD80","v":88176},6860566,{"$f":"'2016legmax.xls'!DD80","v":0},1567,0,0,0,0,0,{"$f":"'2016legmax.xls'!AV80","v":7},{"$f":"'2016legmax.xls'!AW80","v":"A"},{"$f":"'2016legmax.xls'!AX80","v":""},6980353,6862133,{"$f":"IF(Weightings!G80>0,Weightings!G80,'Preliminary SO66'!AB77)","v":7313897},6862133,6862133,5871122,{"$f":"'2016legmax.xls'!BM80","v":0.3},1761337,1761337,1761337,null,4435754,0,0,0,0,0,0,0,0,0,17743,0,0,4418011,{"$f":"'2016legmax.xls'!F80","v":744.6},{"$f":"'2016legmax.xls'!I80","v":750.6},{"$f":"'2016legmax.xls'!K80","v":727.7},750.6,{"$f":"'2016legmax.xls'!O80","v":10},760.6,{"$f":"IF(ISNA(VLOOKUP($CM83,'Audit Values'!$A$2:$AE$252,2,FALSE)),'Preliminary SO66'!T77,VLOOKUP($CM83,'Audit Values'!$A$2:$AE$252,20,FALSE))","v":0},0,{"$f":"IF(ISNA(VLOOKUP($CM83,'Audit Values'!$A$2:$AE$252,2,FALSE)),'Preliminary SO66'!U77,VLOOKUP($CM83,'Audit Values'!$A$2:$AE$252,21,FALSE))","v":0},0,0,0,0,{"$f":"'2016legmax.xls'!AH80","v":38.700000000000003},149072,0,{"$f":"'2016legmax.xls'!CJ80","v":0},0,{"$f":"'2016legmax.xls'!CI80","v":0},0,0,0,0,0,0,0,0,0,0,0,0,0,0,null,null,null,"D0268"]
[269,"Rooks","Palco ",1063345,0,0,0,0,110.3,0,4,{"$f":"'2016legmax.xls'!BJ81","v":0},1063341,{"$f":"'2016legmax.xls'!BB81","v":0},121060,{"$f":"'2016legmax.xls'!BC81","v":65980},85513,{"$f":"'2016legmax.xls'!BD81","v":0},1250381,{"$f":"'2016legmax.xls'!DD81","v":0},9484,0,0,0,0,0,{"$f":"'2016legmax.xls'!AV81","v":3},{"$f":"'2016legmax.xls'!AW81","v":"A"},{"$f":"'2016legmax.xls'!AX81","v":""},1279402,1259869,{"$f":"IF(Weightings!G81>0,Weightings!G81,'Preliminary SO66'!AB78)","v":1363315},1259869,1259869,1517118,{"$f":"'2016legmax.xls'!BM81","v":0.3},455135,375105,375105,null,1086105,4.8,18490,0,0,0,0,0,0,0,4270,0,0,1063345,{"$f":"'2016legmax.xls'!F81","v":124.5},{"$f":"'2016legmax.xls'!I81","v":101},{"$f":"'2016legmax.xls'!K81","v":104},109.8,{"$f":"'2016legmax.xls'!O81","v":0.5},110.3,{"$f":"IF(ISNA(VLOOKUP($CM84,'Audit Values'!$A$2:$AE$252,2,FALSE)),'Preliminary SO66'!T78,VLOOKUP($CM84,'Audit Values'!$A$2:$AE$252,20,FALSE))","v":0},0,{"$f":"IF(ISNA(VLOOKUP($CM84,'Audit Values'!$A$2:$AE$252,2,FALSE)),'Preliminary SO66'!U78,VLOOKUP($CM84,'Audit Values'!$A$2:$AE$252,21,FALSE))","v":0},0,0,0,0,{"$f":"'2016legmax.xls'!AH81","v":0},0,0,{"$f":"'2016legmax.xls'!CJ81","v":0},0,{"$f":"'2016legmax.xls'!CI81","v":0},0,0,0,0,0,0,0,0,0,0,0,0,0,0,null,null,null,"D0269"]
[270,"Rooks","Plainville ",2322474,0,0,0,0,369.5,0,6057,{"$f":"'2016legmax.xls'!BJ82","v":0},2316417,{"$f":"'2016legmax.xls'!BB82","v":0},439218,{"$f":"'2016legmax.xls'!BC82","v":193062},251318,{"$f":"'2016legmax.xls'!BD82","v":0},2948697,{"$f":"'2016legmax.xls'!DD82","v":0},16326,0,0,0,0,0,{"$f":"'2016legmax.xls'!AV82","v":8},{"$f":"'2016legmax.xls'!AW82","v":"A"},{"$f":"'2016legmax.xls'!AX82","v":""},3029336,2971080,{"$f":"IF(Weightings!G82>0,Weightings!G82,'Preliminary SO66'!AB79)","v":3205813},2971080,2971080,3206748,{"$f":"'2016legmax.xls'!BM82","v":0.3},962024,962024,962024,null,2331801,0,0,0,0,0,0,0,0,0,9327,0,0,2322474,{"$f":"'2016legmax.xls'!F82","v":365.3},{"$f":"'2016legmax.xls'!I82","v":369.5},{"$f":"'2016legmax.xls'!K82","v":334.8},369.5,{"$f":"'2016legmax.xls'!O82","v":0},369.5,{"$f":"IF(ISNA(VLOOKUP($CM85,'Audit Values'!$A$2:$AE$252,2,FALSE)),'Preliminary SO66'!T79,VLOOKUP($CM85,'Audit Values'!$A$2:$AE$252,20,FALSE))","v":0},0,{"$f":"IF(ISNA(VLOOKUP($CM85,'Audit Values'!$A$2:$AE$252,2,FALSE)),'Preliminary SO66'!U79,VLOOKUP($CM85,'Audit Values'!$A$2:$AE$252,21,FALSE))","v":0},0,0,0,0,{"$f":"'2016legmax.xls'!AH82","v":0},0,0,{"$f":"'2016legmax.xls'!CJ82","v":0},0,{"$f":"'2016legmax.xls'!CI82","v":0},0,0,0,0,0,0,0,0,0,0,0,0,0,0,null,null,null,"D0270"]
[271,"Rooks","Stockton ",2040381,0,0,0,0,301.5,0,0,{"$f":"'2016legmax.xls'!BJ83","v":0},2040381,{"$f":"'2016legmax.xls'!BB83","v":79914},348553,{"$f":"'2016legmax.xls'!BC83","v":141776},185914,{"$f":"'2016legmax.xls'!BD83","v":0},2610624,{"$f":"'2016legmax.xls'!DD83","v":0},4929,0,0,0,0,0,{"$f":"'2016legmax.xls'!AV83","v":6},{"$f":"'2016legmax.xls'!AW83","v":"A"},{"$f":"'2016legmax.xls'!AX83","v":""},2659691,2615553,{"$f":"IF(Weightings!G83>0,Weightings!G83,'Preliminary SO66'!AB80)","v":2758751},2615553,2615553,2781759,{"$f":"'2016legmax.xls'!BM83","v":0.3},834528,834528,834528,null,2048575,0,0,0,0,0,0,0,0,0,8194,0,0,2040381,{"$f":"'2016legmax.xls'!F83","v":290.10000000000002},{"$f":"'2016legmax.xls'!I83","v":289},{"$f":"'2016legmax.xls'!K83","v":297.5},297.5,{"$f":"'2016legmax.xls'!O83","v":4},301.5,{"$f":"IF(ISNA(VLOOKUP($CM86,'Audit Values'!$A$2:$AE$252,2,FALSE)),'Preliminary SO66'!T80,VLOOKUP($CM86,'Audit Values'!$A$2:$AE$252,20,FALSE))","v":0},0,{"$f":"IF(ISNA(VLOOKUP($CM86,'Audit Values'!$A$2:$AE$252,2,FALSE)),'Preliminary SO66'!U80,VLOOKUP($CM86,'Audit Values'!$A$2:$AE$252,21,FALSE))","v":0},0,0,0,0,{"$f":"'2016legmax.xls'!AH83","v":0},0,0,{"$f":"'2016legmax.xls'!CJ83","v":0},0,{"$f":"'2016legmax.xls'!CI83","v":0},0,0,0,0,0,0,0,0,0,0,0,0,0,0,null,null,null,"D0271"]
[272,"Mitchell","Waconda ",2114066,0,0,0,8949,299.39999999999998,0,0,{"$f":"'2016legmax.xls'!BJ84","v":0},2123015,{"$f":"'2016legmax.xls'!BB84","v":196227},333466,{"$f":"'2016legmax.xls'!BC84","v":127486},164211,{"$f":"'2016legmax.xls'!BD84","v":0},2780194,{"$f":"'2016legmax.xls'!DD84","v":0},0,38360,0,0,0,0,{"$f":"'2016legmax.xls'!AV84","v":9},{"$f":"'2016legmax.xls'!AW84","v":"A"},{"$f":"'2016legmax.xls'!AX84","v":""},2855279,2818554,{"$f":"IF(Weightings!G84>0,Weightings!G84,'Preliminary SO66'!AB81)","v":2939970},2818554,2818554,2896411,{"$f":"'2016legmax.xls'!BM84","v":0.3},868923,868923,868923,null,2122556,0,0,0,0,0,0,0,0,0,8490,0,0,2114066,{"$f":"'2016legmax.xls'!F84","v":302.8},{"$f":"'2016legmax.xls'!I84","v":294},{"$f":"'2016legmax.xls'!K84","v":288},294.89999999999998,{"$f":"'2016legmax.xls'!O84","v":4.5},299.39999999999998,{"$f":"IF(ISNA(VLOOKUP($CM87,'Audit Values'!$A$2:$AE$252,2,FALSE)),'Preliminary SO66'!T81,VLOOKUP($CM87,'Audit Values'!$A$2:$AE$252,20,FALSE))","v":0},0,{"$f":"IF(ISNA(VLOOKUP($CM87,'Audit Values'!$A$2:$AE$252,2,FALSE)),'Preliminary SO66'!U81,VLOOKUP($CM87,'Audit Values'!$A$2:$AE$252,21,FALSE))","v":0},0,0,0,0,{"$f":"'2016legmax.xls'!AH84","v":0},0,0,{"$f":"'2016legmax.xls'!CJ84","v":0},0,{"$f":"'2016legmax.xls'!CI84","v":0},0,0,0,0,0,0,0,0,0,29400,{"$f":"38348+1","v":38349},0,0,0,null,null,null,"D0272"]
[273,"Mitchell","Beloit ",4513444,0,0,0,0,767.5,0,401,{"$f":"'2016legmax.xls'!BJ85","v":0},4513043,{"$f":"'2016legmax.xls'!BB85","v":627276},923542,{"$f":"'2016legmax.xls'!BC85","v":701172},920808,{"$f":"'2016legmax.xls'!BD85","v":29703},6794736,{"$f":"'2016legmax.xls'!DD85","v":0},0,0,0,0,0,0,{"$f":"'2016legmax.xls'!AV85","v":2},{"$f":"'2016legmax.xls'!AW85","v":"A"},{"$f":"'2016legmax.xls'!AX85","v":""},7014773,6795137,{"$f":"IF(Weightings!G85>0,Weightings!G85,'Preliminary SO66'!AB82)","v":7285334},6795137,6795137,6228386,{"$f":"'2016legmax.xls'!BM85","v":0.3},1868516,1868516,1868516,null,4547748,4.2,16178,0,0,0,0,0,0,0,18126,0,0,4513444,{"$f":"'2016legmax.xls'!F85","v":736.5},{"$f":"'2016legmax.xls'!I85","v":750},{"$f":"'2016legmax.xls'!K85","v":754.5},754.5,{"$f":"'2016legmax.xls'!O85","v":13},767.5,{"$f":"IF(ISNA(VLOOKUP($CM88,'Audit Values'!$A$2:$AE$252,2,FALSE)),'Preliminary SO66'!T82,VLOOKUP($CM88,'Audit Values'!$A$2:$AE$252,20,FALSE))","v":0},0,{"$f":"IF(ISNA(VLOOKUP($CM88,'Audit Values'!$A$2:$AE$252,2,FALSE)),'Preliminary SO66'!U82,VLOOKUP($CM88,'Audit Values'!$A$2:$AE$252,21,FALSE))","v":0},0,0,0,0,{"$f":"'2016legmax.xls'!AH85","v":0},0,0,{"$f":"'2016legmax.xls'!CJ85","v":0},0,{"$f":"'2016legmax.xls'!CI85","v":0},0,0,0,0,0,0,0,0,0,0,0,0,0,0,null,null,null,"D0273"]
[274,"Logan","Oakley ",2381462,0,0,0,0,387.8,0,66,{"$f":"'2016legmax.xls'!BJ86","v":0},2381396,{"$f":"'2016legmax.xls'!BB86","v":0},349089,{"$f":"'2016legmax.xls'!BC86","v":210284},276312,{"$f":"'2016legmax.xls'!BD86","v":0},2940769,{"$f":"'2016legmax.xls'!DD86","v":18262},30721,0,0,0,2760,6080,{"$f":"'2016legmax.xls'!AV86","v":11},{"$f":"'2016legmax.xls'!AW86","v":"A"},{"$f":"'2016legmax.xls'!AX86","v":""},3064686,2998658,{"$f":"IF(Weightings!G86>0,Weightings!G86,'Preliminary SO66'!AB83)","v":3170187},2998658,2998658,3406469,{"$f":"'2016legmax.xls'!BM86","v":0.3},1021941,1021941,1021941,null,2391026,0,0,0,0,0,0,0,0,0,9564,0,0,2381462,{"$f":"'2016legmax.xls'!F86","v":375.2},{"$f":"'2016legmax.xls'!I86","v":366.1},{"$f":"'2016legmax.xls'!K86","v":387.8},387.8,{"$f":"'2016legmax.xls'!O86","v":0},387.8,{"$f":"IF(ISNA(VLOOKUP($CM89,'Audit Values'!$A$2:$AE$252,2,FALSE)),'Preliminary SO66'!T83,VLOOKUP($CM89,'Audit Values'!$A$2:$AE$252,20,FALSE))","v":0},0,{"$f":"IF(ISNA(VLOOKUP($CM89,'Audit Values'!$A$2:$AE$252,2,FALSE)),'Preliminary SO66'!U83,VLOOKUP($CM89,'Audit Values'!$A$2:$AE$252,21,FALSE))","v":0},0,0,0,0,{"$f":"'2016legmax.xls'!AH86","v":0},0,0,{"$f":"'2016legmax.xls'!CJ86","v":0},0,{"$f":"'2016legmax.xls'!CI86","v":0},0,0,0,0,0,0,0,0,0,0,0,0,0,0,null,null,null,"D0274"]
[275,"Logan","Triplains ",644434,0,0,0,0,72,0,0,{"$f":"'2016legmax.xls'!BJ87","v":0},644434,{"$f":"'2016legmax.xls'!BB87","v":0},98567,{"$f":"'2016legmax.xls'!BC87","v":53083},69284,{"$f":"'2016legmax.xls'!BD87","v":0},796084,{"$f":"'2016legmax.xls'!DD87","v":0},28676,0,0,0,0,499,{"$f":"'2016legmax.xls'!AV87","v":13},{"$f":"'2016legmax.xls'!AW87","v":"A"},{"$f":"'2016legmax.xls'!AX87","v":""},841460,825259,{"$f":"IF(Weightings!G87>0,Weightings!G87,'Preliminary SO66'!AB84)","v":930866},825259,825259,981761,{"$f":"'2016legmax.xls'!BM87","v":0.33},323981,323981,323981,null,647022,0,0,0,0,0,0,0,0,0,2588,0,0,644434,{"$f":"'2016legmax.xls'!F87","v":78.5},{"$f":"'2016legmax.xls'!I87","v":68},{"$f":"'2016legmax.xls'!K87","v":69.5},72,{"$f":"'2016legmax.xls'!O87","v":0},72,{"$f":"IF(ISNA(VLOOKUP($CM90,'Audit Values'!$A$2:$AE$252,2,FALSE)),'Preliminary SO66'!T84,VLOOKUP($CM90,'Audit Values'!$A$2:$AE$252,20,FALSE))","v":0},0,{"$f":"IF(ISNA(VLOOKUP($CM90,'Audit Values'!$A$2:$AE$252,2,FALSE)),'Preliminary SO66'!U84,VLOOKUP($CM90,'Audit Values'!$A$2:$AE$252,21,FALSE))","v":0},0,0,0,0,{"$f":"'2016legmax.xls'!AH87","v":0},0,0,{"$f":"'2016legmax.xls'!CJ87","v":0},0,{"$f":"'2016legmax.xls'!CI87","v":0},0,0,0,0,0,0,0,0,0,0,0,0,0,0,null,null,null,"D0275"]
[281,"Graham","Graham County ",2438918,0,0,0,0,366.1,0,0,{"$f":"'2016legmax.xls'!BJ88","v":0},2438918,{"$f":"'2016legmax.xls'!BB88","v":0},307298,{"$f":"'2016legmax.xls'!BC88","v":203512},266852,{"$f":"'2016legmax.xls'!BD88","v":0},2949728,{"$f":"'2016legmax.xls'!DD88","v":0},91,0,0,0,0,0,{"$f":"'2016legmax.xls'!AV88","v":3},{"$f":"'2016legmax.xls'!AW88","v":"A"},{"$f":"'2016legmax.xls'!AX88","v":""},3013159,2949819,{"$f":"IF(Weightings!G88>0,Weightings!G88,'Preliminary SO66'!AB85)","v":3096972},2949819,2949819,3350176,{"$f":"'2016legmax.xls'!BM88","v":0.3},1005053,1005053,1005053,null,2550406,26.4,101693,0,0,0,0,0,0,0,9795,0,0,2438918,{"$f":"'2016legmax.xls'!F88","v":353.9},{"$f":"'2016legmax.xls'!I88","v":366.1},{"$f":"'2016legmax.xls'!K88","v":359.8},366.1,{"$f":"'2016legmax.xls'!O88","v":0},366.1,{"$f":"IF(ISNA(VLOOKUP($CM91,'Audit Values'!$A$2:$AE$252,2,FALSE)),'Preliminary SO66'!T85,VLOOKUP($CM91,'Audit Values'!$A$2:$AE$252,20,FALSE))","v":0},0,{"$f":"IF(ISNA(VLOOKUP($CM91,'Audit Values'!$A$2:$AE$252,2,FALSE)),'Preliminary SO66'!U85,VLOOKUP($CM91,'Audit Values'!$A$2:$AE$252,21,FALSE))","v":0},0,0,0,0,{"$f":"'2016legmax.xls'!AH88","v":0},0,0,{"$f":"'2016legmax.xls'!CJ88","v":0},0,{"$f":"'2016legmax.xls'!CI88","v":0},0,0,0,0,0,0,0,0,0,0,0,0,0,0,null,null,null,"D0281"]
[282,"Elk","West Elk ",2426377,26866,0,0,0,330,0,0,{"$f":"'2016legmax.xls'!BJ89","v":0},2453243,{"$f":"'2016legmax.xls'!BB89","v":435950},533035,{"$f":"'2016legmax.xls'!BC89","v":318233},413211,{"$f":"'2016legmax.xls'!BD89","v":10256},3750717,{"$f":"'2016legmax.xls'!DD89","v":0},162,0,0,0,0,2260,{"$f":"'2016legmax.xls'!AV89","v":15},{"$f":"'2016legmax.xls'!AW89","v":"A"},{"$f":"'2016legmax.xls'!AX89","v":"R"},3848117,3753139,{"$f":"IF(Weightings!G89>0,Weightings!G89,'Preliminary SO66'!AB86)","v":4051631},3753139,3753139,3448000,{"$f":"'2016legmax.xls'!BM89","v":0.3},1034400,1034400,1034400,null,2436121,0,0,0,0,0,0,0,0,0,9744,0,0,2426377,{"$f":"'2016legmax.xls'!F89","v":312.8},{"$f":"'2016legmax.xls'!I89","v":311.5},{"$f":"'2016legmax.xls'!K89","v":326.5},326.5,{"$f":"'2016legmax.xls'!O89","v":3.5},330,{"$f":"IF(ISNA(VLOOKUP($CM92,'Audit Values'!$A$2:$AE$252,2,FALSE)),'Preliminary SO66'!T86,VLOOKUP($CM92,'Audit Values'!$A$2:$AE$252,20,FALSE))","v":5},25000,{"$f":"IF(ISNA(VLOOKUP($CM92,'Audit Values'!$A$2:$AE$252,2,FALSE)),'Preliminary SO66'!U86,VLOOKUP($CM92,'Audit Values'!$A$2:$AE$252,21,FALSE))","v":0},0,2,1866,26866,{"$f":"'2016legmax.xls'!AH89","v":0},0,0,{"$f":"'2016legmax.xls'!CJ89","v":0},0,{"$f":"'2016legmax.xls'!CI89","v":0},0,0,0,0,0,0,0,0,0,0,0,0,0,0,null,null,null,"D0282"]
[283,"Elk","Elk Valley ",1374057,23732,0,0,0,138,0,0,{"$f":"'2016legmax.xls'!BJ90","v":0},1397789,{"$f":"'2016legmax.xls'!BB90","v":154794},234388,{"$f":"'2016legmax.xls'!BC90","v":63427},82798,{"$f":"'2016legmax.xls'!BD90","v":0},1850398,{"$f":"'2016legmax.xls'!DD90","v":0},548,0,0,0,0,0,{"$f":"'2016legmax.xls'!AV90","v":9},{"$f":"'2016legmax.xls'!AW90","v":"A"},{"$f":"'2016legmax.xls'!AX90","v":""},1870317,1850946,{"$f":"IF(Weightings!G90>0,Weightings!G90,'Preliminary SO66'!AB87)","v":2040141},1850946,1850946,1909577,{"$f":"'2016legmax.xls'!BM90","v":0.2777},530290,530290,530290,null,1379575,0,0,0,0,0,0,0,0,0,5518,0,0,1374057,{"$f":"'2016legmax.xls'!F90","v":134.5},{"$f":"'2016legmax.xls'!I90","v":137},{"$f":"'2016legmax.xls'!K90","v":107.5},137,{"$f":"'2016legmax.xls'!O90","v":1},138,{"$f":"IF(ISNA(VLOOKUP($CM93,'Audit Values'!$A$2:$AE$252,2,FALSE)),'Preliminary SO66'!T87,VLOOKUP($CM93,'Audit Values'!$A$2:$AE$252,20,FALSE))","v":4},20000,{"$f":"IF(ISNA(VLOOKUP($CM93,'Audit Values'!$A$2:$AE$252,2,FALSE)),'Preliminary SO66'!U87,VLOOKUP($CM93,'Audit Values'!$A$2:$AE$252,21,FALSE))","v":0},0,4,3732,23732,{"$f":"'2016legmax.xls'!AH90","v":0},0,0,{"$f":"'2016legmax.xls'!CJ90","v":0},0,{"$f":"'2016legmax.xls'!CI90","v":0},0,0,0,0,0,0,0,0,0,0,0,0,0,0,null,null,null,"D0283"]
[284,"Chase","Chase County ",2513109,0,0,0,0,350.2,0,0,{"$f":"'2016legmax.xls'!BJ91","v":0},2513109,{"$f":"'2016legmax.xls'!BB91","v":4606},375511,{"$f":"'2016legmax.xls'!BC91","v":209099},270035,{"$f":"'2016legmax.xls'!BD91","v":0},3102325,{"$f":"'2016legmax.xls'!DD91","v":0},592,0,0,0,0,0,{"$f":"'2016legmax.xls'!AV91","v":8},{"$f":"'2016legmax.xls'!AW91","v":"A"},{"$f":"'2016legmax.xls'!AX91","v":""},3163853,3102917,{"$f":"IF(Weightings!G91>0,Weightings!G91,'Preliminary SO66'!AB88)","v":3186310},3102917,3102917,3384905,{"$f":"'2016legmax.xls'!BM91","v":0.3},1015472,1015472,1015472,null,2523202,0,0,0,0,0,0,0,0,0,10093,0,0,2513109,{"$f":"'2016legmax.xls'!F91","v":364.5},{"$f":"'2016legmax.xls'!I91","v":344.5},{"$f":"'2016legmax.xls'!K91","v":341.5},350.2,{"$f":"'2016legmax.xls'!O91","v":0},350.2,{"$f":"IF(ISNA(VLOOKUP($CM94,'Audit Values'!$A$2:$AE$252,2,FALSE)),'Preliminary SO66'!T88,VLOOKUP($CM94,'Audit Values'!$A$2:$AE$252,20,FALSE))","v":0},0,{"$f":"IF(ISNA(VLOOKUP($CM94,'Audit Values'!$A$2:$AE$252,2,FALSE)),'Preliminary SO66'!U88,VLOOKUP($CM94,'Audit Values'!$A$2:$AE$252,21,FALSE))","v":0},0,0,0,0,{"$f":"'2016legmax.xls'!AH91","v":0},0,0,{"$f":"'2016legmax.xls'!CJ91","v":0},0,{"$f":"'2016legmax.xls'!CI91","v":0},0,0,0,0,0,0,0,0,0,0,0,0,0,0,null,null,null,"D0284"]
[285,"Chautauqua","Cedar Vale ",1415122,0,0,0,0,172,0,0,{"$f":"'2016legmax.xls'!BJ92","v":0},1415122,{"$f":"'2016legmax.xls'!BB92-68","v":182074},173341,{"$f":"'2016legmax.xls'!BC92","v":92323},120773,{"$f":"'2016legmax.xls'!BD92","v":0},1862860,{"$f":"'2016legmax.xls'!DD92","v":0},338,0,0,0,0,1615,{"$f":"'2016legmax.xls'!AV92","v":1},{"$f":"'2016legmax.xls'!AW92","v":"A"},{"$f":"'2016legmax.xls'!AX92","v":""},1893263,1864813,{"$f":"IF(Weightings!G92>0,Weightings!G92,'Preliminary SO66'!AB89)","v":1966446},1864813,1864813,1826528,{"$f":"'2016legmax.xls'!BM92","v":0.3},547958,360829,360829,null,1420805,0,0,0,0,0,0,0,0,0,5683,0,0,1415122,{"$f":"'2016legmax.xls'!F92","v":163.19999999999999},{"$f":"'2016legmax.xls'!I92","v":163.6},{"$f":"'2016legmax.xls'!K92","v":172},172,{"$f":"'2016legmax.xls'!O92","v":0},172,{"$f":"IF(ISNA(VLOOKUP($CM95,'Audit Values'!$A$2:$AE$252,2,FALSE)),'Preliminary SO66'!T89,VLOOKUP($CM95,'Audit Values'!$A$2:$AE$252,20,FALSE))","v":0},0,{"$f":"IF(ISNA(VLOOKUP($CM95,'Audit Values'!$A$2:$AE$252,2,FALSE)),'Preliminary SO66'!U89,VLOOKUP($CM95,'Audit Values'!$A$2:$AE$252,21,FALSE))","v":0},0,0,0,0,{"$f":"'2016legmax.xls'!AH92","v":0},0,0,{"$f":"'2016legmax.xls'!CJ92","v":0},0,{"$f":"'2016legmax.xls'!CI92","v":0},0,0,0,0,0,0,0,0,0,0,0,0,0,0,null,null,null,"D0285"]
[286,"Chautauqua","Chautauqua Co Community ",2619638,20000,0,0,0,364.4,0,0,{"$f":"'2016legmax.xls'!BJ93","v":0},2639638,{"$f":"'2016legmax.xls'!BB93","v":422681},394110,{"$f":"'2016legmax.xls'!BC93","v":189639},244355,{"$f":"'2016legmax.xls'!BD93","v":2534},3648602,{"$f":"'2016legmax.xls'!DD93","v":0},1685,0,0,0,1558,0,{"$f":"'2016legmax.xls'!AV93","v":16},{"$f":"'2016legmax.xls'!AW93","v":"A"},{"$f":"'2016legmax.xls'!AX93","v":""},3706561,3651845,{"$f":"IF(Weightings!G93>0,Weightings!G93,'Preliminary SO66'!AB90)","v":3782469},3651845,3651845,3574400,{"$f":"'2016legmax.xls'!BM93","v":0.3},1072320,873225,873225,null,2630159,0,0,0,0,0,0,0,0,0,10521,0,0,2619638,{"$f":"'2016legmax.xls'!F93","v":334.2},{"$f":"'2016legmax.xls'!I93","v":353.2},{"$f":"'2016legmax.xls'!K93","v":360.9},360.9,{"$f":"'2016legmax.xls'!O93","v":3.5},364.4,{"$f":"IF(ISNA(VLOOKUP($CM96,'Audit Values'!$A$2:$AE$252,2,FALSE)),'Preliminary SO66'!T90,VLOOKUP($CM96,'Audit Values'!$A$2:$AE$252,20,FALSE))","v":4},20000,{"$f":"IF(ISNA(VLOOKUP($CM96,'Audit Values'!$A$2:$AE$252,2,FALSE)),'Preliminary SO66'!U90,VLOOKUP($CM96,'Audit Values'!$A$2:$AE$252,21,FALSE))","v":0},0,0,0,20000,{"$f":"'2016legmax.xls'!AH93","v":0},0,0,{"$f":"'2016legmax.xls'!CJ93","v":0},0,{"$f":"'2016legmax.xls'!CI93","v":0},0,0,0,0,0,0,0,0,0,0,0,0,0,0,null,null,null,"D0286"]
[287,"Franklin","West Franklin ",4021901,0,0,0,8550,567.29999999999995,0,0,{"$f":"'2016legmax.xls'!BJ94","v":0},4030451,{"$f":"'2016legmax.xls'!BB94","v":599527},737430,{"$f":"'2016legmax.xls'!BC94","v":327355},427651,{"$f":"'2016legmax.xls'!BD94","v":30782},5725545,{"$f":"'2016legmax.xls'!DD94","v":0},0,8547,0,0,0,0,{"$f":"'2016legmax.xls'!AV94","v":10},{"$f":"'2016legmax.xls'!AW94","v":"A"},{"$f":"'2016legmax.xls'!AX94","v":""},5834388,5734092,{"$f":"IF(Weightings!G94>0,Weightings!G94,'Preliminary SO66'!AB91)","v":6149581},5734092,5734092,5646665,{"$f":"'2016legmax.xls'!BM94","v":0.3},1694000,1694000,1694000,null,4038053,0,0,0,0,0,0,0,0,0,16152,0,0,4021901,{"$f":"'2016legmax.xls'!F94","v":582},{"$f":"'2016legmax.xls'!I94","v":553.5},{"$f":"'2016legmax.xls'!K94","v":566.5},567.29999999999995,{"$f":"'2016legmax.xls'!O94","v":0},567.29999999999995,{"$f":"IF(ISNA(VLOOKUP($CM97,'Audit Values'!$A$2:$AE$252,2,FALSE)),'Preliminary SO66'!T91,VLOOKUP($CM97,'Audit Values'!$A$2:$AE$252,20,FALSE))","v":0},0,{"$f":"IF(ISNA(VLOOKUP($CM97,'Audit Values'!$A$2:$AE$252,2,FALSE)),'Preliminary SO66'!U91,VLOOKUP($CM97,'Audit Values'!$A$2:$AE$252,21,FALSE))","v":0},0,0,0,0,{"$f":"'2016legmax.xls'!AH94","v":0},0,0,{"$f":"'2016legmax.xls'!CJ94","v":0},0,{"$f":"'2016legmax.xls'!CI94","v":0},0,0,0,0,0,0,0,0,0,0,8550,0,0,0,null,null,null,"D0287"]
[288,"Franklin","Central Heights ",4098341,0,21571,0,0,560,0,0,{"$f":"'2016legmax.xls'!BJ95","v":0},4119912,{"$f":"'2016legmax.xls'!BB95","v":950533},443541,{"$f":"'2016legmax.xls'!BC95","v":269154},339372,{"$f":"'2016legmax.xls'!BD95","v":0},5783140,{"$f":"'2016legmax.xls'!DD95","v":0},0,0,0,0,0,0,{"$f":"'2016legmax.xls'!AV95","v":5},{"$f":"'2016legmax.xls'!AW95","v":"A"},{"$f":"'2016legmax.xls'!AX95","v":""},5853358,5783140,{"$f":"IF(Weightings!G95>0,Weightings!G95,'Preliminary SO66'!AB92)","v":6007229},5783140,5783140,5309988,{"$f":"'2016legmax.xls'!BM95","v":0.3},1592996,1592996,1592996,null,4135298,0,0,0,0,0,0,0,0,0,16541,5.3,20416,4098341,{"$f":"'2016legmax.xls'!F95","v":546.5},{"$f":"'2016legmax.xls'!I95","v":555},{"$f":"'2016legmax.xls'!K95","v":533},555,{"$f":"'2016legmax.xls'!O95","v":5},560,{"$f":"IF(ISNA(VLOOKUP($CM98,'Audit Values'!$A$2:$AE$252,2,FALSE)),'Preliminary SO66'!T92,VLOOKUP($CM98,'Audit Values'!$A$2:$AE$252,20,FALSE))","v":0},0,{"$f":"IF(ISNA(VLOOKUP($CM98,'Audit Values'!$A$2:$AE$252,2,FALSE)),'Preliminary SO66'!U92,VLOOKUP($CM98,'Audit Values'!$A$2:$AE$252,21,FALSE))","v":0},0,0,0,0,{"$f":"'2016legmax.xls'!AH95","v":5.6},21571,0,{"$f":"'2016legmax.xls'!CJ95","v":0},0,{"$f":"'2016legmax.xls'!CI95","v":0},0,0,0,0,0,0,0,0,0,0,0,0,0,0,null,null,null,"D0288"]
[289,"Franklin","Wellsville ",4541851,0,0,0,0,765,0,263,{"$f":"'2016legmax.xls'!BJ96","v":0},4541588,{"$f":"'2016legmax.xls'!BB96-33","v":804628},767635,{"$f":"'2016legmax.xls'!BC96","v":367406},480311,{"$f":"'2016legmax.xls'!BD96","v":57701},6538958,{"$f":"'2016legmax.xls'!DD96","v":0},0,0,0,0,0,0,{"$f":"'2016legmax.xls'!AV96","v":1},{"$f":"'2016legmax.xls'!AW96","v":"A"},{"$f":"'2016legmax.xls'!AX96","v":""},6652126,6539221,{"$f":"IF(Weightings!G96>0,Weightings!G96,'Preliminary SO66'!AB93)","v":6743680},6539221,6539221,6112028,{"$f":"'2016legmax.xls'!BM96","v":0.3},1833608,1833608,1833608,null,4568180,2.1,8089,0,0,0,0,0,0,0,18240,0,0,4541851,{"$f":"'2016legmax.xls'!F96","v":762.4},{"$f":"'2016legmax.xls'!I96","v":765},{"$f":"'2016legmax.xls'!K96","v":753},765,{"$f":"'2016legmax.xls'!O96","v":0},765,{"$f":"IF(ISNA(VLOOKUP($CM99,'Audit Values'!$A$2:$AE$252,2,FALSE)),'Preliminary SO66'!T93,VLOOKUP($CM99,'Audit Values'!$A$2:$AE$252,20,FALSE))","v":0},0,{"$f":"IF(ISNA(VLOOKUP($CM99,'Audit Values'!$A$2:$AE$252,2,FALSE)),'Preliminary SO66'!U93,VLOOKUP($CM99,'Audit Values'!$A$2:$AE$252,21,FALSE))","v":0},0,0,0,0,{"$f":"'2016legmax.xls'!AH96","v":0},0,0,{"$f":"'2016legmax.xls'!CJ96","v":0},0,{"$f":"'2016legmax.xls'!CI96","v":0},0,0,0,0,0,0,0,0,0,0,0,0,0,0,null,null,null,"D0289"]
[290,"Franklin","Ottawa ",12679383,130573,0,0,0,2393.4,0,0,{"$f":"'2016legmax.xls'!BJ97","v":0},12809956,{"$f":"'2016legmax.xls'!BB97","v":2790842},2238936,{"$f":"'2016legmax.xls'!BC97","v":1333298},1755899,{"$f":"'2016legmax.xls'!BD97","v":252929},19425961,{"$f":"'2016legmax.xls'!DD97","v":0},0,0,0,0,0,41359,{"$f":"'2016legmax.xls'!AV97","v":10},{"$f":"'2016legmax.xls'!AW97","v":"A"},{"$f":"'2016legmax.xls'!AX97","v":""},19889921,19467320,{"$f":"IF(Weightings!G97>0,Weightings!G97,'Preliminary SO66'!AB94)","v":20243809},19467320,19467320,16898066,{"$f":"'2016legmax.xls'!BM97","v":0.3},5069420,5069420,5069420,null,12778839,12.6,48535,0,0,0,0,0,0,0,50921,0,0,12679383,{"$f":"'2016legmax.xls'!F97","v":2355.6},{"$f":"'2016legmax.xls'!I97","v":2375.4},{"$f":"'2016legmax.xls'!K97","v":2294.3000000000002},2375.4,{"$f":"'2016legmax.xls'!O97","v":18},2393.4,{"$f":"IF(ISNA(VLOOKUP($CM100,'Audit Values'!$A$2:$AE$252,2,FALSE)),'Preliminary SO66'!T94,VLOOKUP($CM100,'Audit Values'!$A$2:$AE$252,20,FALSE))","v":21},105000,{"$f":"IF(ISNA(VLOOKUP($CM100,'Audit Values'!$A$2:$AE$252,2,FALSE)),'Preliminary SO66'!U94,VLOOKUP($CM100,'Audit Values'!$A$2:$AE$252,21,FALSE))","v":3.9},15776,10.5,9797,130573,{"$f":"'2016legmax.xls'!AH97","v":0},0,0,{"$f":"'2016legmax.xls'!CJ97","v":0},0,{"$f":"'2016legmax.xls'!CI97","v":0},0,0,0,0,0,0,0,0,0,0,0,0,0,0,null,null,null,"D0290"]
[291,"Gove","Grinnell Public Schools ",786273,0,0,0,0,86,0,0,{"$f":"'2016legmax.xls'!BJ98","v":0},786273,{"$f":"'2016legmax.xls'!BB98","v":0},95876,{"$f":"'2016legmax.xls'!BC98","v":55407},73018,{"$f":"'2016legmax.xls'!BD98","v":0},937556,{"$f":"'2016legmax.xls'!DD98","v":0},4485,0,0,0,0,2259,{"$f":"'2016legmax.xls'!AV98","v":9},{"$f":"'2016legmax.xls'!AW98","v":"A"},{"$f":"'2016legmax.xls'!AX98","v":""},961911,944300,{"$f":"IF(Weightings!G98>0,Weightings!G98,'Preliminary SO66'!AB95)","v":991850},944300,944300,1034902,{"$f":"'2016legmax.xls'!BM98","v":0.21260000000000001},220020,212672,212672,null,789431,0,0,0,0,0,0,0,0,0,3158,0,0,786273,{"$f":"'2016legmax.xls'!F98","v":90},{"$f":"'2016legmax.xls'!I98","v":82.5},{"$f":"'2016legmax.xls'!K98","v":85.5},86,{"$f":"'2016legmax.xls'!O98","v":0},86,{"$f":"IF(ISNA(VLOOKUP($CM101,'Audit Values'!$A$2:$AE$252,2,FALSE)),'Preliminary SO66'!T95,VLOOKUP($CM101,'Audit Values'!$A$2:$AE$252,20,FALSE))","v":0},0,{"$f":"IF(ISNA(VLOOKUP($CM101,'Audit Values'!$A$2:$AE$252,2,FALSE)),'Preliminary SO66'!U95,VLOOKUP($CM101,'Audit Values'!$A$2:$AE$252,21,FALSE))","v":0},0,0,0,0,{"$f":"'2016legmax.xls'!AH98","v":0},0,0,{"$f":"'2016legmax.xls'!CJ98","v":0},0,{"$f":"'2016legmax.xls'!CI98","v":0},0,0,0,0,0,0,0,0,0,0,0,0,0,0,null,null,null,"D0291"]
[292,"Gove","Wheatland ",978470,0,0,0,0,106.5,0,0,{"$f":"'2016legmax.xls'!BJ99","v":0},978470,{"$f":"'2016legmax.xls'!BB99","v":0},149495,{"$f":"'2016legmax.xls'!BC99","v":84871},111756,{"$f":"'2016legmax.xls'!BD99","v":0},1212836,{"$f":"'2016legmax.xls'!DD99","v":0},3677,0,0,0,0,640,{"$f":"'2016legmax.xls'!AV99","v":9},{"$f":"'2016legmax.xls'!AW99","v":"A"},{"$f":"'2016legmax.xls'!AX99","v":""},1244038,1217153,{"$f":"IF(Weightings!G99>0,Weightings!G99,'Preliminary SO66'!AB96)","v":1261162},1217153,1217153,1352742,{"$f":"'2016legmax.xls'!BM99","v":0.3},405823,405823,405823,null,982400,0,0,0,0,0,0,0,0,0,3930,0,0,978470,{"$f":"'2016legmax.xls'!F99","v":97.5},{"$f":"'2016legmax.xls'!I99","v":106.5},{"$f":"'2016legmax.xls'!K99","v":102},106.5,{"$f":"'2016legmax.xls'!O99","v":0},106.5,{"$f":"IF(ISNA(VLOOKUP($CM102,'Audit Values'!$A$2:$AE$252,2,FALSE)),'Preliminary SO66'!T96,VLOOKUP($CM102,'Audit Values'!$A$2:$AE$252,20,FALSE))","v":0},0,{"$f":"IF(ISNA(VLOOKUP($CM102,'Audit Values'!$A$2:$AE$252,2,FALSE)),'Preliminary SO66'!U96,VLOOKUP($CM102,'Audit Values'!$A$2:$AE$252,21,FALSE))","v":0},0,0,0,0,{"$f":"'2016legmax.xls'!AH99","v":0},0,0,{"$f":"'2016legmax.xls'!CJ99","v":0},0,{"$f":"'2016legmax.xls'!CI99","v":0},0,0,0,0,0,0,0,0,0,0,0,0,0,0,null,null,null,"D0292"]
[293,"Gove","Quinter Public Schools ",1894671,0,0,0,0,286.5,0,0,{"$f":"'2016legmax.xls'!BJ100","v":0},1894671,{"$f":"'2016legmax.xls'!BB100","v":204147},300590,{"$f":"'2016legmax.xls'!BC100","v":152177},197333,{"$f":"'2016legmax.xls'!BD100","v":0},2551585,{"$f":"'2016legmax.xls'!DD100","v":0},6910,0,0,0,0,0,{"$f":"'2016legmax.xls'!AV100","v":9},{"$f":"'2016legmax.xls'!AW100","v":"A"},{"$f":"'2016legmax.xls'!AX100","v":""},2603651,2558495,{"$f":"IF(Weightings!G100>0,Weightings!G100,'Preliminary SO66'!AB97)","v":2960322},2558495,2558495,2777304,{"$f":"'2016legmax.xls'!BM100","v":0.31},860964,860964,860964,null,1902280,0,0,0,0,0,0,0,0,0,7609,0,0,1894671,{"$f":"'2016legmax.xls'!F100","v":285.5},{"$f":"'2016legmax.xls'!I100","v":283.5},{"$f":"'2016legmax.xls'!K100","v":269},283.5,{"$f":"'2016legmax.xls'!O100","v":3},286.5,{"$f":"IF(ISNA(VLOOKUP($CM103,'Audit Values'!$A$2:$AE$252,2,FALSE)),'Preliminary SO66'!T97,VLOOKUP($CM103,'Audit Values'!$A$2:$AE$252,20,FALSE))","v":0},0,{"$f":"IF(ISNA(VLOOKUP($CM103,'Audit Values'!$A$2:$AE$252,2,FALSE)),'Preliminary SO66'!U97,VLOOKUP($CM103,'Audit Values'!$A$2:$AE$252,21,FALSE))","v":0},0,0,0,0,{"$f":"'2016legmax.xls'!AH100","v":0},0,0,{"$f":"'2016legmax.xls'!CJ100","v":0},0,{"$f":"'2016legmax.xls'!CI100","v":0},0,0,0,0,0,0,0,0,0,0,0,0,0,0,null,null,null,"D0293"]
[294,"Decatur","Oberlin ",2277094,0,0,0,0,332,0,0,{"$f":"'2016legmax.xls'!BJ101","v":0},2277094,{"$f":"'2016legmax.xls'!BB101","v":49483},346272,{"$f":"'2016legmax.xls'!BC101","v":215710},278156,{"$f":"'2016legmax.xls'!BD101","v":0},2888559,{"$f":"'2016legmax.xls'!DD101","v":0},4096,0,0,125588,0,0,{"$f":"'2016legmax.xls'!AV101","v":16},{"$f":"'2016legmax.xls'!AW101","v":"A"},{"$f":"'2016legmax.xls'!AX101","v":""},2955101,3018243,{"$f":"IF(Weightings!G101>0,Weightings!G101,'Preliminary SO66'!AB98)","v":3021016},3018243,3018243,3014309,{"$f":"'2016legmax.xls'!BM101","v":0.3},904293,904293,904293,null,2286239,0,0,0,0,0,0,0,0,0,9145,0,0,2277094,{"$f":"'2016legmax.xls'!F101","v":344.5},{"$f":"'2016legmax.xls'!I101","v":332},{"$f":"'2016legmax.xls'!K101","v":310.5},332,{"$f":"'2016legmax.xls'!O101","v":0},332,{"$f":"IF(ISNA(VLOOKUP($CM104,'Audit Values'!$A$2:$AE$252,2,FALSE)),'Preliminary SO66'!T98,VLOOKUP($CM104,'Audit Values'!$A$2:$AE$252,20,FALSE))","v":0},0,{"$f":"IF(ISNA(VLOOKUP($CM104,'Audit Values'!$A$2:$AE$252,2,FALSE)),'Preliminary SO66'!U98,VLOOKUP($CM104,'Audit Values'!$A$2:$AE$252,21,FALSE))","v":0},0,0,0,0,{"$f":"'2016legmax.xls'!AH101","v":0},0,0,{"$f":"'2016legmax.xls'!CJ101","v":0},0,{"$f":"'2016legmax.xls'!CI101","v":0},0,0,0,0,0,0,0,0,0,0,0,0,0,0,null,null,null,"D0294"]
[297,"Cheyenne","St Francis Comm Sch ",1919571,0,0,0,0,277,0,0,{"$f":"'2016legmax.xls'!BJ102","v":0},1919571,{"$f":"'2016legmax.xls'!BB102","v":91206},187738,{"$f":"'2016legmax.xls'!BC102","v":149419},197433,{"$f":"'2016legmax.xls'!BD102","v":0},2347934,{"$f":"'2016legmax.xls'!DD102","v":0},3984,0,0,0,0,0,{"$f":"'2016legmax.xls'!AV102","v":12},{"$f":"'2016legmax.xls'!AW102","v":"A"},{"$f":"'2016legmax.xls'!AX102","v":""},2399932,2351918,{"$f":"IF(Weightings!G102>0,Weightings!G102,'Preliminary SO66'!AB99)","v":2588959},2351918,2351918,2498530,{"$f":"'2016legmax.xls'!BM102","v":0.3},749559,749559,749559,null,1927280,0,0,0,0,0,0,0,0,0,7709,0,0,1919571,{"$f":"'2016legmax.xls'!F102","v":284},{"$f":"'2016legmax.xls'!I102","v":277},{"$f":"'2016legmax.xls'!K102","v":270},277,{"$f":"'2016legmax.xls'!O102","v":0},277,{"$f":"IF(ISNA(VLOOKUP($CM105,'Audit Values'!$A$2:$AE$252,2,FALSE)),'Preliminary SO66'!T99,VLOOKUP($CM105,'Audit Values'!$A$2:$AE$252,20,FALSE))","v":0},0,{"$f":"IF(ISNA(VLOOKUP($CM105,'Audit Values'!$A$2:$AE$252,2,FALSE)),'Preliminary SO66'!U99,VLOOKUP($CM105,'Audit Values'!$A$2:$AE$252,21,FALSE))","v":0},0,0,0,0,{"$f":"'2016legmax.xls'!AH102","v":0},0,0,{"$f":"'2016legmax.xls'!CJ102","v":0},0,{"$f":"'2016legmax.xls'!CI102","v":0},0,0,0,0,0,0,0,0,0,0,0,0,0,0,null,null,null,"D0297"]
[298,"Lincoln","Lincoln ",2461029,0,0,0,0,346,0,0,{"$f":"'2016legmax.xls'!BJ103","v":0},2461029,{"$f":"'2016legmax.xls'!BB103","v":334115},399342,{"$f":"'2016legmax.xls'!BC103","v":200709},262198,{"$f":"'2016legmax.xls'!BD103","v":13356},3408551,{"$f":"'2016legmax.xls'!DD103","v":0},0,0,0,0,0,116406,{"$f":"'2016legmax.xls'!AV103","v":11},{"$f":"'2016legmax.xls'!AW103","v":"A"},{"$f":"'2016legmax.xls'!AX103","v":""},3586446,3524957,{"$f":"IF(Weightings!G103>0,Weightings!G103,'Preliminary SO66'!AB100)","v":3723548},3524957,3524957,3320764,{"$f":"'2016legmax.xls'!BM103","v":0.3},996229,996229,996229,null,2470913,0,0,0,0,0,0,0,0,0,9884,0,0,2461029,{"$f":"'2016legmax.xls'!F103","v":340.5},{"$f":"'2016legmax.xls'!I103","v":326.60000000000002},{"$f":"'2016legmax.xls'!K103","v":339.5},339.5,{"$f":"'2016legmax.xls'!O103","v":6.5},346,{"$f":"IF(ISNA(VLOOKUP($CM106,'Audit Values'!$A$2:$AE$252,2,FALSE)),'Preliminary SO66'!T100,VLOOKUP($CM106,'Audit Values'!$A$2:$AE$252,20,FALSE))","v":0},0,{"$f":"IF(ISNA(VLOOKUP($CM106,'Audit Values'!$A$2:$AE$252,2,FALSE)),'Preliminary SO66'!U100,VLOOKUP($CM106,'Audit Values'!$A$2:$AE$252,21,FALSE))","v":0},0,0,0,0,{"$f":"'2016legmax.xls'!AH103","v":0},0,0,{"$f":"'2016legmax.xls'!CJ103","v":0},0,{"$f":"'2016legmax.xls'!CI103","v":0},0,0,0,0,0,0,0,0,0,0,0,0,0,0,null,null,null,"D0298"]
[299,"Lincoln","Sylvan Grove ",1843604,0,0,0,0,227.9,0,4125,{"$f":"'2016legmax.xls'!BJ104","v":0},1839479,{"$f":"'2016legmax.xls'!BB104-5366","v":66548},219584,{"$f":"'2016legmax.xls'!BC104","v":105493},138359,{"$f":"'2016legmax.xls'!BD104","v":0},2231104,{"$f":"'2016legmax.xls'!DD104","v":0},0,0,0,0,0,0,{"$f":"'2016legmax.xls'!AV104","v":11},{"$f":"'2016legmax.xls'!AW104","v":"A"},{"$f":"'2016legmax.xls'!AX104","v":""},2268095,2235229,{"$f":"IF(Weightings!G104>0,Weightings!G104,'Preliminary SO66'!AB101)","v":2361105},2235229,2235229,2394374,{"$f":"'2016legmax.xls'!BM104","v":0.3},718312,553819,553819,null,1851008,0,0,0,0,0,0,0,0,0,7404,0,0,1843604,{"$f":"'2016legmax.xls'!F104","v":212.7},{"$f":"'2016legmax.xls'!I104","v":217.8},{"$f":"'2016legmax.xls'!K104","v":225.4},225.4,{"$f":"'2016legmax.xls'!O104","v":2.5},227.9,{"$f":"IF(ISNA(VLOOKUP($CM107,'Audit Values'!$A$2:$AE$252,2,FALSE)),'Preliminary SO66'!T101,VLOOKUP($CM107,'Audit Values'!$A$2:$AE$252,20,FALSE))","v":0},0,{"$f":"IF(ISNA(VLOOKUP($CM107,'Audit Values'!$A$2:$AE$252,2,FALSE)),'Preliminary SO66'!U101,VLOOKUP($CM107,'Audit Values'!$A$2:$AE$252,21,FALSE))","v":0},0,0,0,0,{"$f":"'2016legmax.xls'!AH104","v":0},0,0,{"$f":"'2016legmax.xls'!CJ104","v":0},0,{"$f":"'2016legmax.xls'!CI104","v":0},0,0,0,0,0,0,0,0,0,0,0,0,0,0,null,null,null,"D0299"]
[300,"Comanche","Comanche County ",2166274,0,0,0,0,316.5,0,5843,{"$f":"'2016legmax.xls'!BJ105","v":0},2160431,{"$f":"'2016legmax.xls'!BB105","v":0},406443,{"$f":"'2016legmax.xls'!BC105","v":144039},188459,{"$f":"'2016legmax.xls'!BD105","v":0},2710913,{"$f":"'2016legmax.xls'!DD105","v":0},40760,0,0,0,33887,5891,{"$f":"'2016legmax.xls'!AV105","v":16},{"$f":"'2016legmax.xls'!AW105","v":"A"},{"$f":"'2016legmax.xls'!AX105","v":""},2841714,2797294,{"$f":"IF(Weightings!G105>0,Weightings!G105,'Preliminary SO66'!AB102)","v":2966733},2797294,2797294,3120944,{"$f":"'2016legmax.xls'!BM105","v":0.3},936283,936283,936283,null,2174974,0,0,0,0,0,0,0,0,0,8700,0,0,2166274,{"$f":"'2016legmax.xls'!F105","v":324.5},{"$f":"'2016legmax.xls'!I105","v":312},{"$f":"'2016legmax.xls'!K105","v":313},316.5,{"$f":"'2016legmax.xls'!O105","v":0},316.5,{"$f":"IF(ISNA(VLOOKUP($CM108,'Audit Values'!$A$2:$AE$252,2,FALSE)),'Preliminary SO66'!T102,VLOOKUP($CM108,'Audit Values'!$A$2:$AE$252,20,FALSE))","v":0},0,{"$f":"IF(ISNA(VLOOKUP($CM108,'Audit Values'!$A$2:$AE$252,2,FALSE)),'Preliminary SO66'!U102,VLOOKUP($CM108,'Audit Values'!$A$2:$AE$252,21,FALSE))","v":0},0,0,0,0,{"$f":"'2016legmax.xls'!AH105","v":0},0,0,{"$f":"'2016legmax.xls'!CJ105","v":0},0,{"$f":"'2016legmax.xls'!CI105","v":0},0,0,0,0,0,0,0,0,0,0,0,0,0,0,null,null,null,"D0300"]
[303,"Ness","Ness City ",1908230,0,0,0,0,293.89999999999998,0,1,{"$f":"'2016legmax.xls'!BJ106","v":0},1908229,{"$f":"'2016legmax.xls'!BB106","v":0},212506,{"$f":"'2016legmax.xls'!BC106","v":150130},196736,{"$f":"'2016legmax.xls'!BD106","v":0},2270865,{"$f":"'2016legmax.xls'!DD106","v":0},29884,0,0,10000,0,0,{"$f":"'2016legmax.xls'!AV106","v":15},{"$f":"'2016legmax.xls'!AW106","v":"A"},{"$f":"'2016legmax.xls'!AX106","v":""},2347356,2310750,{"$f":"IF(Weightings!G106>0,Weightings!G106,'Preliminary SO66'!AB103)","v":2466440},2310750,2310750,2572623,{"$f":"'2016legmax.xls'!BM106","v":0.3},771787,771787,771787,null,1915894,0,0,0,0,0,0,0,0,0,7664,0,0,1908230,{"$f":"'2016legmax.xls'!F106","v":298.8},{"$f":"'2016legmax.xls'!I106","v":293.89999999999998},{"$f":"'2016legmax.xls'!K106","v":281.10000000000002},293.89999999999998,{"$f":"'2016legmax.xls'!O106","v":0},293.89999999999998,{"$f":"IF(ISNA(VLOOKUP($CM109,'Audit Values'!$A$2:$AE$252,2,FALSE)),'Preliminary SO66'!T103,VLOOKUP($CM109,'Audit Values'!$A$2:$AE$252,20,FALSE))","v":0},0,{"$f":"IF(ISNA(VLOOKUP($CM109,'Audit Values'!$A$2:$AE$252,2,FALSE)),'Preliminary SO66'!U103,VLOOKUP($CM109,'Audit Values'!$A$2:$AE$252,21,FALSE))","v":0},0,0,0,0,{"$f":"'2016legmax.xls'!AH106","v":0},0,0,{"$f":"'2016legmax.xls'!CJ106","v":0},0,{"$f":"'2016legmax.xls'!CI106","v":0},0,0,0,0,0,0,0,0,0,0,0,0,0,0,null,null,null,"D0303"]
[305,"Saline","Salina ",36776011,120582,0,0,0,6950.7,0,0,{"$f":"'2016legmax.xls'!BJ107","v":0},36896593,{"$f":"'2016legmax.xls'!BB107","v":6442128},6513844,{"$f":"'2016legmax.xls'!BC107","v":5178172},6792159,{"$f":"'2016legmax.xls'!BD107","v":365490},55396227,{"$f":"'2016legmax.xls'!DD107","v":0},69,0,0,0,215000,78500,{"$f":"'2016legmax.xls'!AV107","v":6},{"$f":"'2016legmax.xls'!AW107","v":"A"},{"$f":"'2016legmax.xls'!AX107","v":""},57303783,55689796,{"$f":"IF(Weightings!G107>0,Weightings!G107,'Preliminary SO66'!AB104)","v":58875408},55689796,55689796,50008299,{"$f":"'2016legmax.xls'!BM107","v":0.3},15002490,15002490,15002490,null,37140574,56.3,216868,0,0,0,0,0,0,0,147695,0,0,36776011,{"$f":"'2016legmax.xls'!F107","v":6894.1},{"$f":"'2016legmax.xls'!I107","v":6920.7},{"$f":"'2016legmax.xls'!K107","v":6883},6920.7,{"$f":"'2016legmax.xls'!O107","v":30},6950.7,{"$f":"IF(ISNA(VLOOKUP($CM110,'Audit Values'!$A$2:$AE$252,2,FALSE)),'Preliminary SO66'!T104,VLOOKUP($CM110,'Audit Values'!$A$2:$AE$252,20,FALSE))","v":0},0,{"$f":"IF(ISNA(VLOOKUP($CM110,'Audit Values'!$A$2:$AE$252,2,FALSE)),'Preliminary SO66'!U104,VLOOKUP($CM110,'Audit Values'!$A$2:$AE$252,21,FALSE))","v":3.4},13753,114.5,106829,120582,{"$f":"'2016legmax.xls'!AH107","v":0},0,0,{"$f":"'2016legmax.xls'!CJ107","v":0},0,{"$f":"'2016legmax.xls'!CI107","v":0},0,0,0,0,0,0,0,0,0,0,0,0,0,0,null,null,null,"D0305"]
[306,"Saline","Southeast Of Saline ",4341336,0,0,{"$f":"BV111+BZ111+CD111","v":0},0,694.5,0,79,{"$f":"'2016legmax.xls'!BJ108","v":0},4341257,{"$f":"'2016legmax.xls'!BB108","v":253149},632109,{"$f":"'2016legmax.xls'!BC108","v":367255},478755,{"$f":"'2016legmax.xls'!BD108","v":0},5593770,{"$f":"'2016legmax.xls'!DD108","v":0},152,0,0,0,0,8500,{"$f":"'2016legmax.xls'!AV108","v":13},{"$f":"'2016legmax.xls'!AW108","v":"A"},{"$f":"'2016legmax.xls'!AX108","v":""},5714001,5602501,{"$f":"IF(Weightings!G108>0,Weightings!G108,'Preliminary SO66'!AB105)","v":5841561},5602501,5602501,5725372,{"$f":"'2016legmax.xls'!BM108","v":0.3},1717612,1717612,1717612,null,4379572,5.4,20801,0,0,0,0,0,0,0,17435,0,0,4341336,{"$f":"'2016legmax.xls'!F108","v":720.2},{"$f":"'2016legmax.xls'!I108","v":692.8},{"$f":"'2016legmax.xls'!K108","v":670.5},694.5,{"$f":"'2016legmax.xls'!O108","v":0},694.5,{"$f":"IF(ISNA(VLOOKUP($CM111,'Audit Values'!$A$2:$AE$252,2,FALSE)),'Preliminary SO66'!T105,VLOOKUP($CM111,'Audit Values'!$A$2:$AE$252,20,FALSE))","v":0},0,{"$f":"IF(ISNA(VLOOKUP($CM111,'Audit Values'!$A$2:$AE$252,2,FALSE)),'Preliminary SO66'!U105,VLOOKUP($CM111,'Audit Values'!$A$2:$AE$252,21,FALSE))","v":0},0,0,0,0,{"$f":"'2016legmax.xls'!AH108","v":0},0,0,{"$f":"'2016legmax.xls'!CJ108","v":0},0,{"$f":"'2016legmax.xls'!CI108","v":0},0,0,0,0,0,0,0,0,0,0,0,0,0,0,null,null,null,"D0306"]
[307,"Saline","Ell-Saline ",3113944,15000,0,0,0,468.5,0,0,{"$f":"'2016legmax.xls'!BJ109","v":0},3128944,{"$f":"'2016legmax.xls'!BB109","v":763981},406752,{"$f":"'2016legmax.xls'!BC109","v":212874},278718,{"$f":"'2016legmax.xls'!BD109","v":29311},4541862,{"$f":"'2016legmax.xls'!DD109","v":0},0,20833,0,0,0,0,{"$f":"'2016legmax.xls'!AV109","v":13},{"$f":"'2016legmax.xls'!AW109","v":"A"},{"$f":"'2016legmax.xls'!AX109","v":""},4628539,4562695,{"$f":"IF(Weightings!G109>0,Weightings!G109,'Preliminary SO66'!AB106)","v":4908825},4562695,4562695,4111125,{"$f":"'2016legmax.xls'!BM109","v":0.3},1233338,1233338,1233338,null,3157266,8,30816,0,0,0,0,0,0,0,12506,0,0,3113944,{"$f":"'2016legmax.xls'!F109","v":489.2},{"$f":"'2016legmax.xls'!I109","v":468.5},{"$f":"'2016legmax.xls'!K109","v":445.5},468.5,{"$f":"'2016legmax.xls'!O109","v":0},468.5,{"$f":"IF(ISNA(VLOOKUP($CM112,'Audit Values'!$A$2:$AE$252,2,FALSE)),'Preliminary SO66'!T106,VLOOKUP($CM112,'Audit Values'!$A$2:$AE$252,20,FALSE))","v":3},15000,{"$f":"IF(ISNA(VLOOKUP($CM112,'Audit Values'!$A$2:$AE$252,2,FALSE)),'Preliminary SO66'!U106,VLOOKUP($CM112,'Audit Values'!$A$2:$AE$252,21,FALSE))","v":0},0,0,0,15000,{"$f":"'2016legmax.xls'!AH109","v":0},0,0,{"$f":"'2016legmax.xls'!CJ109","v":0},0,{"$f":"'2016legmax.xls'!CI109","v":0},0,0,0,0,0,0,0,0,0,21000,20883,0,0,0,null,null,null,"D0307"]
[308,"Reno","Hutchinson Public Schools ",25947982,9330,0,0,0,4818.1000000000004,0,11437,{"$f":"'2016legmax.xls'!BJ110","v":0},25945875,{"$f":"'2016legmax.xls'!BB110","v":6262320},4173582,{"$f":"'2016legmax.xls'!BC110","v":2541983},3345895,{"$f":"'2016legmax.xls'!BD110","v":287216},39210976,{"$f":"'2016legmax.xls'!DD110","v":0},0,0,0,380211,0,26917,{"$f":"'2016legmax.xls'!AV110","v":12},{"$f":"'2016legmax.xls'!AW110","v":"A"},{"$f":"'2016legmax.xls'!AX110","v":""},40053242,39629541,{"$f":"IF(Weightings!G110>0,Weightings!G110,'Preliminary SO66'!AB107)","v":41629123},39629541,39629541,34553318,{"$f":"'2016legmax.xls'!BM110","v":0.3},10365995,10287770,10287770,null,26117290,16.899999999999999,65099,0,0,0,0,0,0,0,104209,0,0,25947982,{"$f":"'2016legmax.xls'!F110","v":4852.5},{"$f":"'2016legmax.xls'!I110","v":4792.6000000000004},{"$f":"'2016legmax.xls'!K110","v":4677.7},4792.6000000000004,{"$f":"'2016legmax.xls'!O110","v":25.5},4818.1000000000004,{"$f":"IF(ISNA(VLOOKUP($CM113,'Audit Values'!$A$2:$AE$252,2,FALSE)),'Preliminary SO66'!T107,VLOOKUP($CM113,'Audit Values'!$A$2:$AE$252,20,FALSE))","v":0},0,{"$f":"IF(ISNA(VLOOKUP($CM113,'Audit Values'!$A$2:$AE$252,2,FALSE)),'Preliminary SO66'!U107,VLOOKUP($CM113,'Audit Values'!$A$2:$AE$252,21,FALSE))","v":0},0,10,9330,9330,{"$f":"'2016legmax.xls'!AH110","v":0},0,0,{"$f":"'2016legmax.xls'!CJ110","v":0},0,{"$f":"'2016legmax.xls'!CI110","v":0},0,0,0,0,0,0,0,0,0,0,0,0,0,0,null,null,null,"D0308"]
[309,"Reno","Nickerson ",6792407,17424,0,0,0,1112,0,0,{"$f":"'2016legmax.xls'!BJ111","v":0},6809831,{"$f":"'2016legmax.xls'!BB111","v":1203647},1158729,{"$f":"'2016legmax.xls'!BC111","v":553600},728075,{"$f":"'2016legmax.xls'!BD111","v":40722},9766529,{"$f":"'2016legmax.xls'!DD111","v":0},614,0,0,0,0,0,{"$f":"'2016legmax.xls'!AV111","v":14},{"$f":"'2016legmax.xls'!AW111","v":"A"},{"$f":"'2016legmax.xls'!AX111","v":""},9941618,9767143,{"$f":"IF(Weightings!G111>0,Weightings!G111,'Preliminary SO66'!AB108)","v":10204711},{"$f":"MIN(AE114,AF114)","v":9767143},9767143,9232439,{"$f":"'2016legmax.xls'!BM111","v":0.3},2769732,2769732,2769732,null,6819686,0,0,0,0,0,0,0,0,0,27279,0,0,6792407,{"$f":"'2016legmax.xls'!F111","v":1098.3},{"$f":"'2016legmax.xls'!I111","v":1106},{"$f":"'2016legmax.xls'!K111","v":1064},1106,{"$f":"'2016legmax.xls'!O111","v":6},1112,{"$f":"IF(ISNA(VLOOKUP($CM114,'Audit Values'!$A$2:$AE$252,2,FALSE)),'Preliminary SO66'!T108,VLOOKUP($CM114,'Audit Values'!$A$2:$AE$252,20,FALSE))","v":0},0,{"$f":"IF(ISNA(VLOOKUP($CM114,'Audit Values'!$A$2:$AE$252,2,FALSE)),'Preliminary SO66'!U108,VLOOKUP($CM114,'Audit Values'!$A$2:$AE$252,21,FALSE))","v":3.5},14158,3.5,3266,17424,{"$f":"'2016legmax.xls'!AH111","v":0},0,0,{"$f":"'2016legmax.xls'!CJ111","v":0},0,{"$f":"'2016legmax.xls'!CI111","v":0},0,0,0,0,0,0,0,0,0,0,0,0,0,0,null,null,null,"D0309"]
[310,"Reno","Fairfield ",2297937,0,0,0,0,287,0,14214,{"$f":"'2016legmax.xls'!BJ112","v":0},2283723,{"$f":"'2016legmax.xls'!BB112","v":0},300583,{"$f":"'2016legmax.xls'!BC112","v":197886},258506,{"$f":"'2016legmax.xls'!BD112","v":0},2782192,{"$f":"'2016legmax.xls'!DD112","v":0},3532,0,0,0,0,0,{"$f":"'2016legmax.xls'!AV112","v":4},{"$f":"'2016legmax.xls'!AW112","v":"A"},{"$f":"'2016legmax.xls'!AX112","v":""},2860558,2799938,{"$f":"IF(Weightings!G112>0,Weightings!G112,'Preliminary SO66'!AB109)","v":2993646},2799938,2799938,3102360,{"$f":"'2016legmax.xls'!BM112","v":0.3},930708,930708,930708,null,2307166,0,0,0,0,0,0,0,0,0,9229,0,0,2297937,{"$f":"'2016legmax.xls'!F112","v":272},{"$f":"'2016legmax.xls'!I112","v":274.5},{"$f":"'2016legmax.xls'!K112","v":287},287,{"$f":"'2016legmax.xls'!O112","v":0},287,{"$f":"IF(ISNA(VLOOKUP($CM115,'Audit Values'!$A$2:$AE$252,2,FALSE)),'Preliminary SO66'!T109,VLOOKUP($CM115,'Audit Values'!$A$2:$AE$252,20,FALSE))","v":0},0,{"$f":"IF(ISNA(VLOOKUP($CM115,'Audit Values'!$A$2:$AE$252,2,FALSE)),'Preliminary SO66'!U109,VLOOKUP($CM115,'Audit Values'!$A$2:$AE$252,21,FALSE))","v":0},0,0,0,0,{"$f":"'2016legmax.xls'!AH112","v":0},0,0,{"$f":"'2016legmax.xls'!CJ112","v":0},0,{"$f":"'2016legmax.xls'!CI112","v":0},0,0,0,0,0,0,0,0,0,0,0,0,0,0,null,null,null,"D0310"]
[311,"Reno","Pretty Prairie ",1942304,0,0,0,0,272.39999999999998,0,0,{"$f":"'2016legmax.xls'!BJ113","v":0},1942304,{"$f":"'2016legmax.xls'!BB113","v":344760},260066,{"$f":"'2016legmax.xls'!BC113","v":136224},176323,{"$f":"'2016legmax.xls'!BD113","v":22851},2706205,{"$f":"'2016legmax.xls'!DD113","v":0},804,0,0,0,3102,0,{"$f":"'2016legmax.xls'!AV113","v":10},{"$f":"'2016legmax.xls'!AW113","v":"A"},{"$f":"'2016legmax.xls'!AX113","v":""},2750210,2710111,{"$f":"IF(Weightings!G113>0,Weightings!G113,'Preliminary SO66'!AB110)","v":2868653},2710111,2710111,2550806,{"$f":"'2016legmax.xls'!BM113","v":0.3},765242,765242,765242,null,1950104,0,0,0,0,0,0,0,0,0,7800,0,0,1942304,{"$f":"'2016legmax.xls'!F113","v":275.3},{"$f":"'2016legmax.xls'!I113","v":272.39999999999998},{"$f":"'2016legmax.xls'!K113","v":251.5},272.39999999999998,{"$f":"'2016legmax.xls'!O113","v":0},272.39999999999998,{"$f":"IF(ISNA(VLOOKUP($CM116,'Audit Values'!$A$2:$AE$252,2,FALSE)),'Preliminary SO66'!T110,VLOOKUP($CM116,'Audit Values'!$A$2:$AE$252,20,FALSE))","v":0},0,{"$f":"IF(ISNA(VLOOKUP($CM116,'Audit Values'!$A$2:$AE$252,2,FALSE)),'Preliminary SO66'!U110,VLOOKUP($CM116,'Audit Values'!$A$2:$AE$252,21,FALSE))","v":0},0,0,0,0,{"$f":"'2016legmax.xls'!AH113","v":0},0,0,{"$f":"'2016legmax.xls'!CJ113","v":0},0,{"$f":"'2016legmax.xls'!CI113","v":0},0,0,0,0,0,0,0,0,0,0,0,0,0,0,null,null,null,"D0311"]
[312,"Reno","Haven Public Schools ",5301828,355626,0,0,0,855,0,0,{"$f":"'2016legmax.xls'!BJ114","v":0},5657454,{"$f":"'2016legmax.xls'!BB114","v":781538},901109,{"$f":"'2016legmax.xls'!BC114","v":462074},602088,{"$f":"'2016legmax.xls'!BD114","v":32227},7834402,{"$f":"'2016legmax.xls'!DD114","v":0},13806,0,0,3867,0,452,{"$f":"'2016legmax.xls'!AV114","v":18},{"$f":"'2016legmax.xls'!AW114","v":"A"},{"$f":"'2016legmax.xls'!AX114","v":""},7988674,7852527,{"$f":"IF(Weightings!G114>0,Weightings!G114,'Preliminary SO66'!AB111)","v":8051039},7852527,7852527,7254127,{"$f":"'2016legmax.xls'!BM114","v":0.31},2248779,2248779,2248779,null,5539217,56.1,216097,0,0,0,0,0,0,0,21292,0,0,5301828,{"$f":"'2016legmax.xls'!F114","v":855.5},{"$f":"'2016legmax.xls'!I114","v":850.5},{"$f":"'2016legmax.xls'!K114","v":783.5},850.5,{"$f":"'2016legmax.xls'!O114","v":4.5},855,{"$f":"IF(ISNA(VLOOKUP($CM117,'Audit Values'!$A$2:$AE$299,2,FALSE)),'Preliminary SO66'!T111,VLOOKUP($CM117,'Audit Values'!$A$2:$AE$299,20,FALSE))","v":62},310000,{"$f":"IF(ISNA(VLOOKUP($CM117,'Audit Values'!$A$2:$AE$299,2,FALSE)),'Preliminary SO66'!U111,VLOOKUP($CM117,'Audit Values'!$A$2:$AE$299,21,FALSE))","v":0.9},3641,45,41985,355626,{"$f":"'2016legmax.xls'!AH114","v":0},0,0,{"$f":"'2016legmax.xls'!CJ114","v":0},0,{"$f":"'2016legmax.xls'!CI114","v":0},0,0,0,0,0,0,0,0,0,0,0,0,0,0,null,null,null,"D0312"]
[313,"Reno","Buhler ",10377709,0,640973,0,0,2182.3000000000002,0,0,{"$f":"'2016legmax.xls'!BJ115","v":0},11018682,{"$f":"'2016legmax.xls'!BB115","v":1564516},2073552,{"$f":"'2016legmax.xls'!BC115","v":935350},1233330,{"$f":"'2016legmax.xls'!BD115","v":97426},15689526,{"$f":"'2016legmax.xls'!DD115","v":60801},4711,0,0,202393,0,0,{"$f":"'2016legmax.xls'!AV115","v":13},{"$f":"'2016legmax.xls'!AW115","v":"A"},{"$f":"'2016legmax.xls'!AX115","v":""},16053018,15957431,{"$f":"IF(Weightings!G115>0,Weightings!G115,'Preliminary SO66'!AB112)","v":16646505},15957431,15957431,15391633,{"$f":"'2016legmax.xls'!BM115","v":0.3},4617490,4617490,4617490,null,11061387,0,0,0,0,0,0,0,0,0,44246,166,639432,10377709,{"$f":"'2016legmax.xls'!F115","v":2091.6999999999998},{"$f":"'2016legmax.xls'!I115","v":2101.5},{"$f":"'2016legmax.xls'!K115","v":2160.3000000000002},2160.3000000000002,{"$f":"'2016legmax.xls'!O115","v":22},2182.3000000000002,{"$f":"IF(ISNA(VLOOKUP($CM118,'Audit Values'!$A$2:$AE$252,2,FALSE)),'Preliminary SO66'!T112,VLOOKUP($CM118,'Audit Values'!$A$2:$AE$252,20,FALSE))","v":0},0,{"$f":"IF(ISNA(VLOOKUP($CM118,'Audit Values'!$A$2:$AE$252,2,FALSE)),'Preliminary SO66'!U112,VLOOKUP($CM118,'Audit Values'!$A$2:$AE$252,21,FALSE))","v":0},0,0,0,0,{"$f":"'2016legmax.xls'!AH115","v":166.4},640973,0,{"$f":"'2016legmax.xls'!CJ115","v":0},0,{"$f":"'2016legmax.xls'!CI115","v":0},0,0,0,0,0,0,0,0,0,0,0,0,0,0,null,null,null,"D0313"]
[314,"Thomas","Brewster ",977030,0,0,0,0,125.5,0,0,{"$f":"'2016legmax.xls'!BJ116","v":0},977030,{"$f":"'2016legmax.xls'!BB116","v":0},137777,{"$f":"'2016legmax.xls'!BC116","v":65651},85235,{"$f":"'2016legmax.xls'!BD116","v":0},1180458,{"$f":"'2016legmax.xls'!DD116","v":92148},306,0,0,0,0,0,7,{"$f":"'2016legmax.xls'!AW116","v":"A"},{"$f":"'2016legmax.xls'!AX116","v":"R"},1292496,1272912,{"$f":"IF(Weightings!G116>0,Weightings!G116,'Preliminary SO66'!AB113)","v":1310085},1272912,1272912,1276090,{"$f":"'2016legmax.xls'!BM116","v":0.3},382827,344544,344544,null,980954,0,0,0,0,0,0,0,0,0,3924,0,0,977030,{"$f":"'2016legmax.xls'!F116","v":98.9},{"$f":"'2016legmax.xls'!I116","v":111},{"$f":"'2016legmax.xls'!K116","v":125.5},125.5,{"$f":"'2016legmax.xls'!O116","v":0},125.5,{"$f":"IF(ISNA(VLOOKUP($CM119,'Audit Values'!$A$2:$AE$252,2,FALSE)),'Preliminary SO66'!T113,VLOOKUP($CM119,'Audit Values'!$A$2:$AE$252,20,FALSE))","v":0},0,{"$f":"IF(ISNA(VLOOKUP($CM119,'Audit Values'!$A$2:$AE$252,2,FALSE)),'Preliminary SO66'!U113,VLOOKUP($CM119,'Audit Values'!$A$2:$AE$252,21,FALSE))","v":0},0,0,0,0,{"$f":"'2016legmax.xls'!AH116","v":0},0,0,{"$f":"'2016legmax.xls'!CJ116","v":0},0,{"$f":"'2016legmax.xls'!CI116","v":0},0,0,0,0,0,0,0,0,0,0,0,0,0,0,null,null,null,"D0314"]
[315,"Thomas","Colby Public Schools ",5299466,6866,0,0,0,895.7,0,0,{"$f":"'2016legmax.xls'!BJ117","v":0},5306332,{"$f":"'2016legmax.xls'!BB117","v":604811},669304,{"$f":"'2016legmax.xls'!BC117","v":371369},483542,{"$f":"'2016legmax.xls'!BD117","v":0},6951816,{"$f":"'2016legmax.xls'!DD117","v":0},434,0,0,0,0,1489,{"$f":"'2016legmax.xls'!AV117","v":8},{"$f":"'2016legmax.xls'!AW117","v":"A"},{"$f":"'2016legmax.xls'!AX117","v":""},7065912,6953739,{"$f":"IF(Weightings!G117>0,Weightings!G117,'Preliminary SO66'!AB114)","v":7451949},6953739,6953739,7254585,{"$f":"'2016legmax.xls'!BM117","v":0.3},2176376,2176376,2176376,null,5349254,7.4,28505,0,0,0,0,0,0,0,21283,0,0,5299466,{"$f":"'2016legmax.xls'!F117","v":914.5},{"$f":"'2016legmax.xls'!I117","v":895.7},{"$f":"'2016legmax.xls'!K117","v":868.9},895.7,{"$f":"'2016legmax.xls'!O117","v":0},895.7,{"$f":"IF(ISNA(VLOOKUP($CM120,'Audit Values'!$A$2:$AE$252,2,FALSE)),'Preliminary SO66'!T114,VLOOKUP($CM120,'Audit Values'!$A$2:$AE$252,20,FALSE))","v":1},5000,{"$f":"IF(ISNA(VLOOKUP($CM120,'Audit Values'!$A$2:$AE$252,2,FALSE)),'Preliminary SO66'!U114,VLOOKUP($CM120,'Audit Values'!$A$2:$AE$252,21,FALSE))","v":0},0,2,1866,6866,{"$f":"'2016legmax.xls'!AH117","v":0},0,0,{"$f":"'2016legmax.xls'!CJ117","v":0},0,{"$f":"'2016legmax.xls'!CI117","v":0},0,0,0,0,0,0,0,0,0,0,0,0,0,0,null,null,null,"D0315"]
[316,"Thomas","Golden Plains ",1556899,0,0,0,0,183.3,0,209,{"$f":"'2016legmax.xls'!BJ118","v":0},1556690,{"$f":"'2016legmax.xls'!BB118","v":265781},252469,{"$f":"'2016legmax.xls'!BC118","v":116235},155238,{"$f":"'2016legmax.xls'!BD118","v":0},2191175,{"$f":"'2016legmax.xls'!DD118","v":0},4446,0,0,0,0,0,{"$f":"'2016legmax.xls'!AV118","v":17},{"$f":"'2016legmax.xls'!AW118","v":"A"},{"$f":"'2016legmax.xls'!AX118","v":""},2234833,2195830,{"$f":"IF(Weightings!G118>0,Weightings!G118,'Preliminary SO66'!AB115)","v":2273112},2195830,2195830,2204762,{"$f":"'2016legmax.xls'!BM118","v":0.3},661429,661429,661429,null,1563152,0,0,0,0,0,0,0,0,0,6253,0,0,1556899,{"$f":"'2016legmax.xls'!F118","v":187.4},{"$f":"'2016legmax.xls'!I118","v":178.9},{"$f":"'2016legmax.xls'!K118","v":177.6},181.3,{"$f":"'2016legmax.xls'!O118","v":2},183.3,{"$f":"IF(ISNA(VLOOKUP($CM121,'Audit Values'!$A$2:$AE$252,2,FALSE)),'Preliminary SO66'!T115,VLOOKUP($CM121,'Audit Values'!$A$2:$AE$252,20,FALSE))","v":0},0,{"$f":"IF(ISNA(VLOOKUP($CM121,'Audit Values'!$A$2:$AE$252,2,FALSE)),'Preliminary SO66'!U115,VLOOKUP($CM121,'Audit Values'!$A$2:$AE$252,21,FALSE))","v":0},0,0,0,0,{"$f":"'2016legmax.xls'!AH118","v":0},0,0,{"$f":"'2016legmax.xls'!CJ118","v":0},0,{"$f":"'2016legmax.xls'!CI118","v":0},0,0,0,0,0,0,0,0,0,0,0,0,0,0,null,null,null,"D0316"]
[320,"Pottawatomie","Wamego ",7210394,0,0,0,0,1494.8,0,3719,{"$f":"'2016legmax.xls'!BJ119","v":0},7206675,{"$f":"'2016legmax.xls'!BB119","v":1604363},1472051,{"$f":"'2016legmax.xls'!BC119","v":968817},1273753,{"$f":"'2016legmax.xls'!BD119","v":77056},11328962,{"$f":"'2016legmax.xls'!DD119","v":0},0,0,0,0,4175,0,{"$f":"'2016legmax.xls'!AV119","v":15},{"$f":"'2016legmax.xls'!AW119","v":"A"},{"$f":"'2016legmax.xls'!AX119","v":""},11641792,11336856,{"$f":"IF(Weightings!G119>0,Weightings!G119,'Preliminary SO66'!AB116)","v":11805967},11336856,11336856,10009502,{"$f":"'2016legmax.xls'!BM119","v":0.3},3002851,3002851,3002851,null,7239351,0,0,0,0,0,0,0,0,0,28957,0,0,7210394,{"$f":"'2016legmax.xls'!F119","v":1464.6},{"$f":"'2016legmax.xls'!I119","v":1494.8},{"$f":"'2016legmax.xls'!K119","v":1470.1},1494.8,{"$f":"'2016legmax.xls'!O119","v":0},1494.8,{"$f":"IF(ISNA(VLOOKUP($CM122,'Audit Values'!$A$2:$AE$252,2,FALSE)),'Preliminary SO66'!T116,VLOOKUP($CM122,'Audit Values'!$A$2:$AE$252,20,FALSE))","v":0},0,{"$f":"IF(ISNA(VLOOKUP($CM122,'Audit Values'!$A$2:$AE$252,2,FALSE)),'Preliminary SO66'!U116,VLOOKUP($CM122,'Audit Values'!$A$2:$AE$252,21,FALSE))","v":0},0,0,0,0,{"$f":"'2016legmax.xls'!AH119","v":0},0,0,{"$f":"'2016legmax.xls'!CJ119","v":0},0,{"$f":"'2016legmax.xls'!CI119","v":0},0,0,0,0,0,0,0,0,0,0,0,0,0,0,null,null,null,"D0320"]
[321,"Pottawatomie","Kaw Valley ",6307052,0,0,0,0,1121.4000000000001,0,0,{"$f":"'2016legmax.xls'!BJ120","v":0},6307052,{"$f":"'2016legmax.xls'!BB120","v":0},1291330,{"$f":"'2016legmax.xls'!BC120","v":702904},922588,{"$f":"'2016legmax.xls'!BD120","v":0},8301286,{"$f":"'2016legmax.xls'!DD120","v":0},0,0,0,0,0,0,{"$f":"'2016legmax.xls'!AV120","v":12},{"$f":"'2016legmax.xls'!AW120","v":"A"},{"$f":"'2016legmax.xls'!AX120","v":""},8520970,8301286,{"$f":"IF(Weightings!G120>0,Weightings!G120,'Preliminary SO66'!AB117)","v":8837520},8301286,8301286,8782775,{"$f":"'2016legmax.xls'!BM120","v":0.3},2634833,2634833,2634833,null,6332382,0,0,0,0,0,0,0,0,0,25330,0,0,6307052,{"$f":"'2016legmax.xls'!F120","v":1118.5},{"$f":"'2016legmax.xls'!I120","v":1112.9000000000001},{"$f":"'2016legmax.xls'!K120","v":1097},1112.9000000000001,{"$f":"'2016legmax.xls'!O120","v":8.5},1121.4000000000001,{"$f":"IF(ISNA(VLOOKUP($CM123,'Audit Values'!$A$2:$AE$252,2,FALSE)),'Preliminary SO66'!T117,VLOOKUP($CM123,'Audit Values'!$A$2:$AE$252,20,FALSE))","v":0},0,{"$f":"IF(ISNA(VLOOKUP($CM123,'Audit Values'!$A$2:$AE$252,2,FALSE)),'Preliminary SO66'!U117,VLOOKUP($CM123,'Audit Values'!$A$2:$AE$252,21,FALSE))","v":0},0,0,0,0,{"$f":"'2016legmax.xls'!AH120","v":0},0,0,{"$f":"'2016legmax.xls'!CJ120","v":0},0,{"$f":"'2016legmax.xls'!CI120","v":0},0,0,0,0,0,0,0,0,0,0,0,0,0,0,null,null,null,"D0321"]
[322,"Pottawatomie","Onaga-Havensville-Wheaton ",2152153,0,0,0,0,304.5,0,0,{"$f":"'2016legmax.xls'!BJ121","v":0},2152153,{"$f":"'2016legmax.xls'!BB121","v":343817},312851,{"$f":"'2016legmax.xls'!BC121","v":162941},210602,{"$f":"'2016legmax.xls'!BD121","v":9750},2981512,{"$f":"'2016legmax.xls'!DD121","v":0},14,0,0,0,0,390,{"$f":"'2016legmax.xls'!AV121","v":2},{"$f":"'2016legmax.xls'!AW121","v":"A"},{"$f":"'2016legmax.xls'!AX121","v":""},3029577,2981916,{"$f":"IF(Weightings!G121>0,Weightings!G121,'Preliminary SO66'!AB118)","v":3046517},2981916,2981916,2801799,{"$f":"'2016legmax.xls'!BM121","v":0.3},840540,840540,840540,null,2160796,0,0,0,0,0,0,0,0,0,8643,0,0,2152153,{"$f":"'2016legmax.xls'!F121","v":304},{"$f":"'2016legmax.xls'!I121","v":304.5},{"$f":"'2016legmax.xls'!K121","v":289.5},304.5,{"$f":"'2016legmax.xls'!O121","v":0},304.5,{"$f":"IF(ISNA(VLOOKUP($CM124,'Audit Values'!$A$2:$AE$252,2,FALSE)),'Preliminary SO66'!T118,VLOOKUP($CM124,'Audit Values'!$A$2:$AE$252,20,FALSE))","v":0},0,{"$f":"IF(ISNA(VLOOKUP($CM124,'Audit Values'!$A$2:$AE$252,2,FALSE)),'Preliminary SO66'!U118,VLOOKUP($CM124,'Audit Values'!$A$2:$AE$252,21,FALSE))","v":0},0,0,0,0,{"$f":"'2016legmax.xls'!AH121","v":0},0,0,{"$f":"'2016legmax.xls'!CJ121","v":0},0,{"$f":"'2016legmax.xls'!CI121","v":0},0,0,0,0,0,0,0,0,0,0,0,0,0,0,null,null,null,"D0322"]
[323,"Pottawatomie","Rock Creek ",5365487,0,197222,0,0,942.1,0,0,{"$f":"'2016legmax.xls'!BJ122","v":0},5562709,{"$f":"'2016legmax.xls'!BB122","v":1054938},824006,{"$f":"'2016legmax.xls'!BC122","v":398905},520765,{"$f":"'2016legmax.xls'!BD122","v":0},7840558,{"$f":"'2016legmax.xls'!DD122","v":116778},0,0,0,0,0,3595,{"$f":"'2016legmax.xls'!AV122","v":17},{"$f":"'2016legmax.xls'!AW122","v":"A"},{"$f":"'2016legmax.xls'!AX122","v":""},8082791,7960931,{"$f":"IF(Weightings!G122>0,Weightings!G122,'Preliminary SO66'!AB119)","v":8116720},7960931,7960931,7377148,{"$f":"'2016legmax.xls'!BM122","v":0.3},2213144,1999750,1999750,null,5564552,0,0,0,0,0,0,0,0,0,22258,45.9,176807,5365487,{"$f":"'2016legmax.xls'!F122","v":854.9},{"$f":"'2016legmax.xls'!I122","v":902.1},{"$f":"'2016legmax.xls'!K122","v":942.1},942.1,{"$f":"'2016legmax.xls'!O122","v":0},942.1,{"$f":"IF(ISNA(VLOOKUP($CM125,'Audit Values'!$A$2:$AE$252,2,FALSE)),'Preliminary SO66'!T119,VLOOKUP($CM125,'Audit Values'!$A$2:$AE$252,20,FALSE))","v":0},0,{"$f":"IF(ISNA(VLOOKUP($CM125,'Audit Values'!$A$2:$AE$252,2,FALSE)),'Preliminary SO66'!U119,VLOOKUP($CM125,'Audit Values'!$A$2:$AE$252,21,FALSE))","v":0},0,0,0,0,{"$f":"'2016legmax.xls'!AH122","v":51.2},197222,0,{"$f":"'2016legmax.xls'!CJ122","v":0},0,{"$f":"'2016legmax.xls'!CI122","v":0},0,0,0,0,0,0,0,0,0,0,0,0,0,0,null,null,null,"D0323"]
[325,"Phillips","Phillipsburg ",3698144,0,0,0,0,607.5,0,0,{"$f":"'2016legmax.xls'!BJ123","v":0},3698144,{"$f":"'2016legmax.xls'!BB123","v":847787},710971,{"$f":"'2016legmax.xls'!BC123","v":268992},350969,{"$f":"'2016legmax.xls'!BD123","v":40218},5566112,{"$f":"'2016legmax.xls'!DD123","v":0},796,0,0,0,0,10460,{"$f":"'2016legmax.xls'!AV123","v":8},{"$f":"'2016legmax.xls'!AW123","v":"A"},{"$f":"'2016legmax.xls'!AX123","v":""},5659345,5577368,{"$f":"IF(Weightings!G123>0,Weightings!G123,'Preliminary SO66'!AB120)","v":5808259},5577368,5577368,5086297,{"$f":"'2016legmax.xls'!BM123","v":0.3},1525889,1525889,1525889,null,3712996,0,0,0,0,0,0,0,0,0,14852,0,0,3698144,{"$f":"'2016legmax.xls'!F123","v":587},{"$f":"'2016legmax.xls'!I123","v":591},{"$f":"'2016legmax.xls'!K123","v":607.5},607.5,{"$f":"'2016legmax.xls'!O123","v":0},607.5,{"$f":"IF(ISNA(VLOOKUP($CM126,'Audit Values'!$A$2:$AE$252,2,FALSE)),'Preliminary SO66'!T120,VLOOKUP($CM126,'Audit Values'!$A$2:$AE$252,20,FALSE))","v":0},0,{"$f":"IF(ISNA(VLOOKUP($CM126,'Audit Values'!$A$2:$AE$252,2,FALSE)),'Preliminary SO66'!U120,VLOOKUP($CM126,'Audit Values'!$A$2:$AE$252,21,FALSE))","v":0},0,0,0,0,{"$f":"'2016legmax.xls'!AH123","v":0},0,0,{"$f":"'2016legmax.xls'!CJ123","v":0},0,{"$f":"'2016legmax.xls'!CI123","v":0},0,0,0,0,0,0,0,0,0,0,0,0,0,0,null,null,null,"D0325"]
[326,"Phillips","Logan ",1417944,0,0,0,0,154.5,0,0,{"$f":"'2016legmax.xls'!BJ124","v":0},1417944,{"$f":"'2016legmax.xls'!BB124","v":46428},178978,{"$f":"'2016legmax.xls'!BC124","v":103330},133938,{"$f":"'2016legmax.xls'!BD124","v":0},1746680,{"$f":"'2016legmax.xls'!DD124","v":0},3023,0,0,0,0,1727,{"$f":"'2016legmax.xls'!AV124","v":9},{"$f":"'2016legmax.xls'!AW124","v":"A"},{"$f":"'2016legmax.xls'!AX124","v":""},1782038,1751430,{"$f":"IF(Weightings!G124>0,Weightings!G124,'Preliminary SO66'!AB121)","v":1827716},1751430,1751430,1885458,{"$f":"'2016legmax.xls'!BM124","v":0.3},565637,565637,565637,null,1423639,0,0,0,0,0,0,0,0,0,5695,0,0,1417944,{"$f":"'2016legmax.xls'!F124","v":168},{"$f":"'2016legmax.xls'!I124","v":149.5},{"$f":"'2016legmax.xls'!K124","v":144.5},154,{"$f":"'2016legmax.xls'!O124","v":0.5},154.5,{"$f":"IF(ISNA(VLOOKUP($CM127,'Audit Values'!$A$2:$AE$252,2,FALSE)),'Preliminary SO66'!T121,VLOOKUP($CM127,'Audit Values'!$A$2:$AE$252,20,FALSE))","v":0},0,{"$f":"IF(ISNA(VLOOKUP($CM127,'Audit Values'!$A$2:$AE$252,2,FALSE)),'Preliminary SO66'!U121,VLOOKUP($CM127,'Audit Values'!$A$2:$AE$252,21,FALSE))","v":0},0,0,0,0,{"$f":"'2016legmax.xls'!AH124","v":0},0,0,{"$f":"'2016legmax.xls'!CJ124","v":0},0,{"$f":"'2016legmax.xls'!CI124","v":0},0,0,0,0,0,0,0,0,0,0,0,0,0,0,null,null,null,"D0326"]
[327,"Ellsworth","Ellsworth ",3773132,0,0,0,0,602.6,0,0,{"$f":"'2016legmax.xls'!BJ125","v":0},3773132,{"$f":"'2016legmax.xls'!BB125","v":523301},522919,{"$f":"'2016legmax.xls'!BC125","v":298996},388734,{"$f":"'2016legmax.xls'!BD125","v":20329},5138677,{"$f":"'2016legmax.xls'!DD125","v":0},431,0,0,0,0,4714,{"$f":"'2016legmax.xls'!AV125","v":2},{"$f":"'2016legmax.xls'!AW125","v":"A"},{"$f":"'2016legmax.xls'!AX125","v":""},5233560,5143822,{"$f":"IF(Weightings!G125>0,Weightings!G125,'Preliminary SO66'!AB122)","v":5383834},5143822,5143822,4939030,{"$f":"'2016legmax.xls'!BM125","v":0.2999},1481215,1481000,1481000,null,3788285,0,0,0,0,0,0,0,0,0,15153,0,0,3773132,{"$f":"'2016legmax.xls'!F125","v":581.5},{"$f":"'2016legmax.xls'!I125","v":592},{"$f":"'2016legmax.xls'!K125","v":602.6},602.6,{"$f":"'2016legmax.xls'!O125","v":0},602.6,{"$f":"IF(ISNA(VLOOKUP($CM128,'Audit Values'!$A$2:$AE$252,2,FALSE)),'Preliminary SO66'!T122,VLOOKUP($CM128,'Audit Values'!$A$2:$AE$252,20,FALSE))","v":0},0,{"$f":"IF(ISNA(VLOOKUP($CM128,'Audit Values'!$A$2:$AE$252,2,FALSE)),'Preliminary SO66'!U122,VLOOKUP($CM128,'Audit Values'!$A$2:$AE$252,21,FALSE))","v":0},0,0,0,0,{"$f":"'2016legmax.xls'!AH125","v":0},0,0,{"$f":"'2016legmax.xls'!CJ125","v":0},0,{"$f":"'2016legmax.xls'!CI125","v":0},0,0,0,0,0,0,0,0,0,0,0,0,0,0,null,null,null,"D0327"]
[329,"Wabaunsee","Mill Creek Valley ",3158047,0,0,0,0,453.5,0,0,{"$f":"'2016legmax.xls'!BJ126","v":0},3158047,{"$f":"'2016legmax.xls'!BB126","v":338435},450033,{"$f":"'2016legmax.xls'!BC126","v":270120},352834,{"$f":"'2016legmax.xls'!BD126","v":0},4216635,{"$f":"'2016legmax.xls'!DD126","v":0},368,0,0,10000,0,0,{"$f":"'2016legmax.xls'!AV126","v":10},{"$f":"'2016legmax.xls'!AW126","v":"A"},{"$f":"'2016legmax.xls'!AX126","v":""},4299717,4227003,{"$f":"IF(Weightings!G126>0,Weightings!G126,'Preliminary SO66'!AB123)","v":4373691},4227003,4227003,4231783,{"$f":"'2016legmax.xls'!BM126","v":0.3},1269535,1269535,1269535,null,3170730,0,0,0,0,0,0,0,0,0,12683,0,0,3158047,{"$f":"'2016legmax.xls'!F126","v":471.5},{"$f":"'2016legmax.xls'!I126","v":453.5},{"$f":"'2016legmax.xls'!K126","v":422.4},453.5,{"$f":"'2016legmax.xls'!O126","v":0},453.5,{"$f":"IF(ISNA(VLOOKUP($CM129,'Audit Values'!$A$2:$AE$252,2,FALSE)),'Preliminary SO66'!T123,VLOOKUP($CM129,'Audit Values'!$A$2:$AE$252,20,FALSE))","v":0},0,{"$f":"IF(ISNA(VLOOKUP($CM129,'Audit Values'!$A$2:$AE$252,2,FALSE)),'Preliminary SO66'!U123,VLOOKUP($CM129,'Audit Values'!$A$2:$AE$252,21,FALSE))","v":0},0,0,0,0,{"$f":"'2016legmax.xls'!AH126","v":0},0,0,{"$f":"'2016legmax.xls'!CJ126","v":0},0,{"$f":"'2016legmax.xls'!CI126","v":0},0,0,0,0,0,0,0,0,0,0,0,0,0,0,null,null,null,"D0329"]
[330,"Wabaunsee","Mission Valley ",3275912,0,0,0,0,463.4,0,0,{"$f":"'2016legmax.xls'!BJ127","v":0},3275912,{"$f":"'2016legmax.xls'!BB127","v":406169},750808,{"$f":"'2016legmax.xls'!BC127","v":314609},409311,{"$f":"'2016legmax.xls'!BD127","v":5524},4753022,{"$f":"'2016legmax.xls'!DD127","v":0},86,0,0,0,0,0,{"$f":"'2016legmax.xls'!AV127","v":13},{"$f":"'2016legmax.xls'!AW127","v":"A"},{"$f":"'2016legmax.xls'!AX127","v":"R"},4847810,4753108,{"$f":"IF(Weightings!G127>0,Weightings!G127,'Preliminary SO66'!AB124)","v":4903056},4753108,4753108,4548470,{"$f":"'2016legmax.xls'!BM127","v":0.3},1364541,1364541,1364541,null,3289068,0,0,0,0,0,0,0,0,0,13156,0,0,3275912,{"$f":"'2016legmax.xls'!F127","v":474.1},{"$f":"'2016legmax.xls'!I127","v":454},{"$f":"'2016legmax.xls'!K127","v":462.2},463.4,{"$f":"'2016legmax.xls'!O127","v":0},463.4,{"$f":"IF(ISNA(VLOOKUP($CM130,'Audit Values'!$A$2:$AE$252,2,FALSE)),'Preliminary SO66'!T124,VLOOKUP($CM130,'Audit Values'!$A$2:$AE$252,20,FALSE))","v":0},0,{"$f":"IF(ISNA(VLOOKUP($CM130,'Audit Values'!$A$2:$AE$252,2,FALSE)),'Preliminary SO66'!U124,VLOOKUP($CM130,'Audit Values'!$A$2:$AE$252,21,FALSE))","v":0},0,0,0,0,{"$f":"'2016legmax.xls'!AH127","v":0},0,0,{"$f":"'2016legmax.xls'!CJ127","v":0},0,{"$f":"'2016legmax.xls'!CI127","v":0},0,0,0,0,0,0,0,0,0,0,0,0,0,0,null,null,null,"D0330"]
[331,"Kingman","Kingman - Norwich ",5641894,150310,0,0,0,929.8,0,0,{"$f":"'2016legmax.xls'!BJ128","v":0},5792204,{"$f":"'2016legmax.xls'!BB128","v":734292},1180795,{"$f":"'2016legmax.xls'!BC128","v":440830},577366,{"$f":"'2016legmax.xls'!BD128","v":18896},8167017,{"$f":"'2016legmax.xls'!DD128","v":0},9711,0,0,0,0,0,{"$f":"'2016legmax.xls'!AV128","v":6},{"$f":"'2016legmax.xls'!AW128","v":"A"},{"$f":"'2016legmax.xls'!AX128","v":""},8313264,8176728,{"$f":"IF(Weightings!G128>0,Weightings!G128,'Preliminary SO66'!AB125)","v":8502000},8176728,8176728,7832394,{"$f":"'2016legmax.xls'!BM128","v":0.3},2349718,2349718,2349718,null,5696524,8.3000000000000007,31972,0,0,0,0,0,0,0,22658,0,0,5641894,{"$f":"'2016legmax.xls'!F128","v":923.1},{"$f":"'2016legmax.xls'!I128","v":929.8},{"$f":"'2016legmax.xls'!K128","v":891.5},929.8,{"$f":"'2016legmax.xls'!O128","v":0},929.8,{"$f":"IF(ISNA(VLOOKUP($CM131,'Audit Values'!$A$2:$AE$252,2,FALSE)),'Preliminary SO66'!T125,VLOOKUP($CM131,'Audit Values'!$A$2:$AE$252,20,FALSE))","v":17},85000,{"$f":"IF(ISNA(VLOOKUP($CM131,'Audit Values'!$A$2:$AE$252,2,FALSE)),'Preliminary SO66'!U125,VLOOKUP($CM131,'Audit Values'!$A$2:$AE$252,21,FALSE))","v":0},0,70,65310,150310,{"$f":"'2016legmax.xls'!AH128","v":0},0,0,{"$f":"'2016legmax.xls'!CJ128","v":0},0,{"$f":"'2016legmax.xls'!CI128","v":0},0,0,0,0,0,0,0,0,0,0,0,0,0,0,null,null,null,"D0331"]
[332,"Kingman","Cunningham ",1282793,0,0,0,0,157.80000000000001,0,0,{"$f":"'2016legmax.xls'!BJ129","v":0},1282793,{"$f":"'2016legmax.xls'!BB129","v":0},239973,{"$f":"'2016legmax.xls'!BC129","v":119159},156828,{"$f":"'2016legmax.xls'!BD129","v":0},1641925,{"$f":"'2016legmax.xls'!DD129","v":0},11640,0,0,0,0,3000,{"$f":"'2016legmax.xls'!AV129","v":2},{"$f":"'2016legmax.xls'!AW129","v":"A"},{"$f":"'2016legmax.xls'!AX129","v":""},1694234,1656565,{"$f":"IF(Weightings!G129>0,Weightings!G129,'Preliminary SO66'!AB126)","v":1759839},1656565,1656565,1790519,{"$f":"'2016legmax.xls'!BM129","v":0.3},537156,537156,537156,null,1287945,0,0,0,0,0,0,0,0,0,5152,0,0,1282793,{"$f":"'2016legmax.xls'!F129","v":155.1},{"$f":"'2016legmax.xls'!I129","v":157.80000000000001},{"$f":"'2016legmax.xls'!K129","v":145.5},157.80000000000001,{"$f":"'2016legmax.xls'!O129","v":0},157.80000000000001,{"$f":"IF(ISNA(VLOOKUP($CM132,'Audit Values'!$A$2:$AE$252,2,FALSE)),'Preliminary SO66'!T126,VLOOKUP($CM132,'Audit Values'!$A$2:$AE$252,20,FALSE))","v":0},0,{"$f":"IF(ISNA(VLOOKUP($CM132,'Audit Values'!$A$2:$AE$252,2,FALSE)),'Preliminary SO66'!U126,VLOOKUP($CM132,'Audit Values'!$A$2:$AE$252,21,FALSE))","v":0},0,0,0,0,{"$f":"'2016legmax.xls'!AH129","v":0},0,0,{"$f":"'2016legmax.xls'!CJ129","v":0},0,{"$f":"'2016legmax.xls'!CI129","v":0},0,0,0,0,0,0,0,0,0,0,0,0,0,0,null,null,null,"D0332"]
[333,"Cloud","Concordia ",5811928,0,65484,0,0,1015,0,0,{"$f":"'2016legmax.xls'!BJ130","v":0},5877412,{"$f":"'2016legmax.xls'!BB130","v":1327413},880270,{"$f":"'2016legmax.xls'!BC130","v":647301},844763,{"$f":"'2016legmax.xls'!BD130","v":109682},8842078,{"$f":"'2016legmax.xls'!DD130","v":0},0,0,0,0,0,0,{"$f":"'2016legmax.xls'!AV130","v":10},{"$f":"'2016legmax.xls'!AW130","v":"A"},{"$f":"'2016legmax.xls'!AX130","v":""},9039540,8842078,{"$f":"IF(Weightings!G130>0,Weightings!G130,'Preliminary SO66'!AB127)","v":9305234},8842078,8842078,7976691,{"$f":"'2016legmax.xls'!BM130","v":0.3},2393007,2393007,2393007,null,5855685,5.3,20416,0,0,0,0,0,0,0,23341,0,0,5811928,{"$f":"'2016legmax.xls'!F130","v":996.5},{"$f":"'2016legmax.xls'!I130","v":1001.5},{"$f":"'2016legmax.xls'!K130","v":994.2},1001.5,{"$f":"'2016legmax.xls'!O130","v":13.5},1015,{"$f":"IF(ISNA(VLOOKUP($CM133,'Audit Values'!$A$2:$AE$252,2,FALSE)),'Preliminary SO66'!T127,VLOOKUP($CM133,'Audit Values'!$A$2:$AE$252,20,FALSE))","v":0},0,{"$f":"IF(ISNA(VLOOKUP($CM133,'Audit Values'!$A$2:$AE$252,2,FALSE)),'Preliminary SO66'!U127,VLOOKUP($CM133,'Audit Values'!$A$2:$AE$252,21,FALSE))","v":0},0,0,0,0,{"$f":"'2016legmax.xls'!AH130","v":17},65484,0,{"$f":"'2016legmax.xls'!CJ130","v":0},0,{"$f":"'2016legmax.xls'!CI130","v":0},0,0,0,0,0,0,0,0,0,0,0,0,0,0,null,null,null,"D0333"]
[334,"Cloud","Southern Cloud ",1751582,34258,0,0,0,203.5,0,1,{"$f":"'2016legmax.xls'!BJ131","v":-857},1784982,{"$f":"'2016legmax.xls'!BB131","v":118621},312207,{"$f":"'2016legmax.xls'!BC131","v":161452},208505,{"$f":"'2016legmax.xls'!BD131","v":0},2377262,{"$f":"'2016legmax.xls'!DD131","v":0},0,0,0,0,0,0,7,{"$f":"'2016legmax.xls'!AW131","v":"A"},{"$f":"'2016legmax.xls'!AX131","v":""},2424316,2377263,{"$f":"IF(Weightings!G131>0,Weightings!G131,'Preliminary SO66'!AB128)","v":2511683},2377263,2377263,2377374,{"$f":"'2016legmax.xls'!BM131","v":0.3},713212,713212,713212,null,1892280,34.700000000000003,133664,0,0,0,0,0,0,0,7034,0,0,1751582,{"$f":"'2016legmax.xls'!F131","v":229.6},{"$f":"'2016legmax.xls'!I131","v":199},{"$f":"'2016legmax.xls'!K131","v":182},203.5,{"$f":"'2016legmax.xls'!O131","v":0},203.5,{"$f":"IF(ISNA(VLOOKUP($CM134,'Audit Values'!$A$2:$AE$252,2,FALSE)),'Preliminary SO66'!T128,VLOOKUP($CM134,'Audit Values'!$A$2:$AE$252,20,FALSE))","v":2},10000,{"$f":"IF(ISNA(VLOOKUP($CM134,'Audit Values'!$A$2:$AE$252,2,FALSE)),'Preliminary SO66'!U128,VLOOKUP($CM134,'Audit Values'!$A$2:$AE$252,21,FALSE))","v":0},0,26,24258,34258,{"$f":"'2016legmax.xls'!AH131","v":0},0,0,{"$f":"'2016legmax.xls'!CJ131","v":0},0,{"$f":"'2016legmax.xls'!CI131","v":0},0,0,0,0,0,0,0,0,0,0,0,0,0,0,null,null,null,"D0334"]
[335,"Jackson","North Jackson ",2683019,0,0,0,0,376,0,0,{"$f":"'2016legmax.xls'!BJ132","v":0},2683019,{"$f":"'2016legmax.xls'!BB132","v":610936},315874,{"$f":"'2016legmax.xls'!BC132","v":179758},235708,{"$f":"'2016legmax.xls'!BD132","v":38853},3828440,{"$f":"'2016legmax.xls'!DD132","v":0},0,0,0,0,68,17418,{"$f":"'2016legmax.xls'!AV132","v":3},{"$f":"'2016legmax.xls'!AW132","v":"A"},{"$f":"'2016legmax.xls'!AX132","v":""},3901876,3845926,{"$f":"IF(Weightings!G132>0,Weightings!G132,'Preliminary SO66'!AB129)","v":3958707},3845926,3845926,3451351,{"$f":"'2016legmax.xls'!BM132","v":0.3},1035405,1035405,1035405,null,2693794,0,0,0,0,0,0,0,0,0,10775,0,0,2683019,{"$f":"'2016legmax.xls'!F132","v":388},{"$f":"'2016legmax.xls'!I132","v":376},{"$f":"'2016legmax.xls'!K132","v":361.5},376,{"$f":"'2016legmax.xls'!O132","v":0},376,{"$f":"IF(ISNA(VLOOKUP($CM135,'Audit Values'!$A$2:$AE$252,2,FALSE)),'Preliminary SO66'!T129,VLOOKUP($CM135,'Audit Values'!$A$2:$AE$252,20,FALSE))","v":0},0,{"$f":"IF(ISNA(VLOOKUP($CM135,'Audit Values'!$A$2:$AE$252,2,FALSE)),'Preliminary SO66'!U129,VLOOKUP($CM135,'Audit Values'!$A$2:$AE$252,21,FALSE))","v":0},0,0,0,0,{"$f":"'2016legmax.xls'!AH132","v":0},0,0,{"$f":"'2016legmax.xls'!CJ132","v":0},0,{"$f":"'2016legmax.xls'!CI132","v":0},0,0,0,0,0,0,0,0,0,0,0,0,0,0,null,null,null,"D0335"]
[336,"Jackson","Holton ",6426128,234662,0,0,0,1118.5,0,0,{"$f":"'2016legmax.xls'!BJ133","v":0},6660790,{"$f":"'2016legmax.xls'!BB133","v":1705511},885719,{"$f":"'2016legmax.xls'!BC133","v":920648},1201967,{"$f":"'2016legmax.xls'!BD133","v":135130},10307798,{"$f":"'2016legmax.xls'!DD133","v":0},0,0,0,0,0,0,{"$f":"'2016legmax.xls'!AV133","v":3},{"$f":"'2016legmax.xls'!AW133","v":"A"},{"$f":"'2016legmax.xls'!AX133","v":""},10589117,10307798,{"$f":"IF(Weightings!G133>0,Weightings!G133,'Preliminary SO66'!AB130)","v":11181761},10307798,10307798,8513744,{"$f":"'2016legmax.xls'!BM133","v":0.3},2554123,2554123,2554123,null,6451936,0,0,0,0,0,0,0,0,0,25808,0,0,6426128,{"$f":"'2016legmax.xls'!F133","v":1151.4000000000001},{"$f":"'2016legmax.xls'!I133","v":1118.5},{"$f":"'2016legmax.xls'!K133","v":1026.5},1118.5,{"$f":"'2016legmax.xls'!O133","v":0},1118.5,{"$f":"IF(ISNA(VLOOKUP($CM136,'Audit Values'!$A$2:$AE$252,2,FALSE)),'Preliminary SO66'!T130,VLOOKUP($CM136,'Audit Values'!$A$2:$AE$252,20,FALSE))","v":7},35000,{"$f":"IF(ISNA(VLOOKUP($CM136,'Audit Values'!$A$2:$AE$252,2,FALSE)),'Preliminary SO66'!U130,VLOOKUP($CM136,'Audit Values'!$A$2:$AE$252,21,FALSE))","v":0},0,214,199662,234662,{"$f":"'2016legmax.xls'!AH133","v":0},0,0,{"$f":"'2016legmax.xls'!CJ133","v":0},{"$f":"AD136*BS136","v":0},{"$f":"'2016legmax.xls'!CI133","v":0},0,0,0,0,0,0,0,0,0,0,0,0,0,0,null,null,null,"D0336"]
[337,"Jackson","Royal Valley ",{"$f":"BB137","v":5470433},{"$f":"BO137","v":0},{"$f":"BQ137","v":0},0,{"$f":"IF((CF137-CE137)<0,0,CF137-CE137)","v":0},{"$f":"BH137","v":871.5},{"$f":"I137*$J$6","v":0},0,{"$f":"'2016legmax.xls'!BJ134","v":0},{"$f":"SUM(D137+E137+F137+G137+H137+J137)-K137+L137","v":5470433},{"$f":"'2016legmax.xls'!BB134","v":1626881},860972,{"$f":"'2016legmax.xls'!BC134","v":490136},638682,{"$f":"'2016legmax.xls'!BD134","v":104157},{"$f":"M137+N137+O137+P137+R137","v":8552579},{"$f":"'2016legmax.xls'!DD134","v":0},0,238025,0,0,0,5994,{"$f":"'2016legmax.xls'!AV134","v":3},{"$f":"'2016legmax.xls'!AW134","v":"A"},{"$f":"'2016legmax.xls'!AX134","v":""},{"$f":"D137+E137+F137+BZ137+CD137+H137+J137+L137+N137+O137+Q137+R137+T137+U137+V137+W137+Y137+Z137","v":8945144},{"$f":"AD137+BV137-Q137+P137+X137","v":8796598},{"$f":"IF(Weightings!G134>0,Weightings!G134,'Preliminary SO66'!AB131)","v":9185775},8796598,{"$f":"MIN(AE137,AF137)","v":8796598},7625007,{"$f":"'2016legmax.xls'!BM134","v":0.3},{"$f":"AI137*AJ137","v":2287502},2287502,{"$f":"MIN(AK137,AL137)","v":2287502},null,5492403,0,{"$f":"AP137*$AQ$6","v":0},0,{"$f":"AR137*$AS$6","v":0},0,{"$f":"AT137*$AU$6","v":0},0,{"$f":"AV137*$AW$6","v":0},{"$f":"AS137+AU137+AW137","v":0},{"$f":"SUM(AO137-AQ137-AX137)*$AY$6","v":21970},0,{"$f":"AZ137*$BA$6","v":0},{"$f":"AO137-AQ137-AX137-AY137-BA137","v":5470433},{"$f":"'2016legmax.xls'!F134","v":917.4},{"$f":"'2016legmax.xls'!I134","v":871.5},{"$f":"'2016legmax.xls'!K134","v":810.1},{"$f":"MAX(BE137,BD137, AVERAGE(BC137,BD137,BE137))","v":871.5},{"$f":"'2016legmax.xls'!O134","v":0},{"$f":"BF137+BG137","v":871.5},{"$f":"IF(ISNA(VLOOKUP($CM137,'Audit Values'!$A$2:$AE$252,2,FALSE)),'Preliminary SO66'!T131,VLOOKUP($CM137,'Audit Values'!$A$2:$AE$252,20,FALSE))","v":0},{"$f":"BI137*$BJ$6","v":0},{"$f":"IF(ISNA(VLOOKUP($CM137,'Audit Values'!$A$2:$AE$252,2,FALSE)),'Preliminary SO66'!U131,VLOOKUP($CM137,'Audit Values'!$A$2:$AE$252,21,FALSE))","v":0},{"$f":"BK137*$BL$6","v":0},0,{"$f":"BM137*$BN$6","v":0},{"$f":"BJ137+BL137+BN137","v":0},{"$f":"'2016legmax.xls'!AH134","v":0},{"$f":"BP137*$BQ$6","v":0},0,{"$f":"'2016legmax.xls'!CJ134","v":0},0,{"$f":"'2016legmax.xls'!CI134","v":0},{"$f":"MIN(BT137,BU137)","v":0},0,0,0,{"$f":"IF(BY137>MAX(BW137,BX137), MAX(BW137,BX137),BY137)","v":0},0,0,0,{"$f":"IF(CC137>MAX(CA137,CB137),MAX(CA137,CB137),CC137)","v":0},280000,242567,0,0,0,null,null,null,"D0337"]
[338,"Jefferson","Valley Falls ",2603388,0,0,0,0,384.5,0,0,{"$f":"'2016legmax.xls'!BJ135","v":0},2603388,{"$f":"'2016legmax.xls'!BB135","v":674388},496987,{"$f":"'2016legmax.xls'!BC135","v":195053},254258,{"$f":"'2016legmax.xls'!BD135","v":46261},4016077,{"$f":"'2016legmax.xls'!DD135","v":0},0,0,0,0,0,1032,{"$f":"'2016legmax.xls'!AV135","v":2},{"$f":"'2016legmax.xls'!AW135","v":"A"},{"$f":"'2016legmax.xls'!AX135","v":""},4076314,4017109,{"$f":"IF(Weightings!G135>0,Weightings!G135,'Preliminary SO66'!AB132)","v":4161829},4017109,4017109,3521475,{"$f":"'2016legmax.xls'!BM135","v":0.3},1056443,1056443,1056443,null,2613843,0,0,0,0,0,0,0,0,0,10455,0,0,2603388,{"$f":"'2016legmax.xls'!F135","v":388.5},{"$f":"'2016legmax.xls'!I135","v":380},{"$f":"'2016legmax.xls'!K135","v":358.5},380,{"$f":"'2016legmax.xls'!O135","v":4.5},384.5,{"$f":"IF(ISNA(VLOOKUP($CM138,'Audit Values'!$A$2:$AE$252,2,FALSE)),'Preliminary SO66'!T132,VLOOKUP($CM138,'Audit Values'!$A$2:$AE$252,20,FALSE))","v":0},0,{"$f":"IF(ISNA(VLOOKUP($CM138,'Audit Values'!$A$2:$AE$252,2,FALSE)),'Preliminary SO66'!U132,VLOOKUP($CM138,'Audit Values'!$A$2:$AE$252,21,FALSE))","v":0},0,0,0,0,{"$f":"'2016legmax.xls'!AH135","v":0},0,0,{"$f":"'2016legmax.xls'!CJ135","v":0},0,{"$f":"'2016legmax.xls'!CI135","v":0},0,0,0,0,0,0,0,0,0,0,0,0,0,0,null,null,null,"D0338"]
[339,"Jefferson","Jefferson County North ",2819231,0,8089,0,0,427,0,0,{"$f":"'2016legmax.xls'!BJ136","v":0},2827320,{"$f":"'2016legmax.xls'!BB136","v":753497},634050,{"$f":"'2016legmax.xls'!BC136","v":217530},281741,{"$f":"'2016legmax.xls'!BD136","v":38026},4470423,{"$f":"'2016legmax.xls'!DD136","v":0},14,0,0,0,0,0,{"$f":"'2016legmax.xls'!AV136","v":3},{"$f":"'2016legmax.xls'!AW136","v":"A"},{"$f":"'2016legmax.xls'!AX136","v":""},4534648,4470437,{"$f":"IF(Weightings!G136>0,Weightings!G136,'Preliminary SO66'!AB133)","v":4563529},4470437,4470437,3904895,{"$f":"'2016legmax.xls'!BM136","v":0.3},1171469,1171469,1171469,null,2836741,0,0,0,0,0,0,0,0,0,11347,1.6,6163,2819231,{"$f":"'2016legmax.xls'!F136","v":431},{"$f":"'2016legmax.xls'!I136","v":415},{"$f":"'2016legmax.xls'!K136","v":420},422,{"$f":"'2016legmax.xls'!O136","v":5},427,{"$f":"IF(ISNA(VLOOKUP($CM139,'Audit Values'!$A$2:$AE$252,2,FALSE)),'Preliminary SO66'!T133,VLOOKUP($CM139,'Audit Values'!$A$2:$AE$252,20,FALSE))","v":0},0,{"$f":"IF(ISNA(VLOOKUP($CM139,'Audit Values'!$A$2:$AE$252,2,FALSE)),'Preliminary SO66'!U133,VLOOKUP($CM139,'Audit Values'!$A$2:$AE$252,21,FALSE))","v":0},0,0,0,0,{"$f":"'2016legmax.xls'!AH136","v":2.1},8089,0,{"$f":"'2016legmax.xls'!CJ136","v":0},0,{"$f":"'2016legmax.xls'!CI136","v":0},0,0,0,0,0,0,0,0,0,0,0,0,0,0,null,null,null,"D0339"]
[340,"Jefferson","Jefferson West ",4963894,0,0,0,0,837.3,0,0,{"$f":"'2016legmax.xls'!BJ137","v":0},4963894,{"$f":"'2016legmax.xls'!BB137","v":1193449},1013198,{"$f":"'2016legmax.xls'!BC137","v":374531},491051,{"$f":"'2016legmax.xls'!BD137","v":95223},7640295,{"$f":"'2016legmax.xls'!DD137","v":0},0,26368,0,0,0,6002,{"$f":"'2016legmax.xls'!AV137","v":3},{"$f":"'2016legmax.xls'!AW137","v":"A"},{"$f":"'2016legmax.xls'!AX137","v":""},7789185,7672665,{"$f":"IF(Weightings!G137>0,Weightings!G137,'Preliminary SO66'!AB134)","v":7884862},7672665,7672665,6784735,{"$f":"'2016legmax.xls'!BM137","v":0.3},2035421,2035421,2035421,null,4983829,0,0,0,0,0,0,0,0,0,19935,0,0,4963894,{"$f":"'2016legmax.xls'!F137","v":854.8},{"$f":"'2016legmax.xls'!I137","v":822},{"$f":"'2016legmax.xls'!K137","v":835},837.3,{"$f":"'2016legmax.xls'!O137","v":0},837.3,{"$f":"IF(ISNA(VLOOKUP($CM140,'Audit Values'!$A$2:$AE$252,2,FALSE)),'Preliminary SO66'!T134,VLOOKUP($CM140,'Audit Values'!$A$2:$AE$252,20,FALSE))","v":0},0,{"$f":"IF(ISNA(VLOOKUP($CM140,'Audit Values'!$A$2:$AE$252,2,FALSE)),'Preliminary SO66'!U134,VLOOKUP($CM140,'Audit Values'!$A$2:$AE$252,21,FALSE))","v":0},0,0,0,0,{"$f":"'2016legmax.xls'!AH137","v":0},0,0,{"$f":"'2016legmax.xls'!CJ137","v":0},0,{"$f":"'2016legmax.xls'!CI137","v":0},0,0,0,0,0,0,0,0,0,26600,26368,0,0,0,null,null,null,"D0340"]
[341,"Jefferson","Oskaloosa Public Schools ",3756027,0,0,0,0,543.79999999999995,0,0,{"$f":"'2016legmax.xls'!BJ138","v":0},3756027,{"$f":"'2016legmax.xls'!BB138","v":886512},955372,{"$f":"'2016legmax.xls'!BC138","v":286075},379605,{"$f":"'2016legmax.xls'!BD138","v":43180},5927166,{"$f":"'2016legmax.xls'!DD138","v":0},0,40417,0,0,0,0,{"$f":"'2016legmax.xls'!AV138","v":2},{"$f":"'2016legmax.xls'!AW138","v":"A"},{"$f":"'2016legmax.xls'!AX138","v":""},6061113,5967583,{"$f":"IF(Weightings!G138>0,Weightings!G138,'Preliminary SO66'!AB135)","v":6110334},5967583,5967583,5305419,{"$f":"'2016legmax.xls'!BM138","v":0.3},1591626,1565231,1565231,null,3771111,0,0,0,0,0,0,0,0,0,15084,0,0,3756027,{"$f":"'2016legmax.xls'!F138","v":517.5},{"$f":"'2016legmax.xls'!I138","v":519.5},{"$f":"'2016legmax.xls'!K138","v":528.79999999999995},528.79999999999995,{"$f":"'2016legmax.xls'!O138","v":15},543.79999999999995,{"$f":"IF(ISNA(VLOOKUP($CM141,'Audit Values'!$A$2:$AE$252,2,FALSE)),'Preliminary SO66'!T135,VLOOKUP($CM141,'Audit Values'!$A$2:$AE$252,20,FALSE))","v":0},0,{"$f":"IF(ISNA(VLOOKUP($CM141,'Audit Values'!$A$2:$AE$252,2,FALSE)),'Preliminary SO66'!U135,VLOOKUP($CM141,'Audit Values'!$A$2:$AE$252,21,FALSE))","v":0},0,0,0,0,{"$f":"'2016legmax.xls'!AH138","v":0},0,0,{"$f":"'2016legmax.xls'!CJ138","v":0},0,{"$f":"'2016legmax.xls'!CI138","v":0},0,0,0,0,0,0,0,0,0,39900,39893,0,0,0,null,null,null,"D0341"]
[342,"Jefferson","McLouth ",3258647,0,0,0,0,488.1,0,0,{"$f":"'2016legmax.xls'!BJ139","v":0},3258647,{"$f":"'2016legmax.xls'!BB139","v":604218},689520,{"$f":"'2016legmax.xls'!BC139","v":227379},298398,{"$f":"'2016legmax.xls'!BD139","v":24919},4804683,{"$f":"'2016legmax.xls'!DD139","v":0},325,0,0,0,0,4441,{"$f":"'2016legmax.xls'!AV139","v":1},{"$f":"'2016legmax.xls'!AW139","v":"A"},{"$f":"'2016legmax.xls'!AX139","v":""},4880468,4809449,{"$f":"IF(Weightings!G139>0,Weightings!G139,'Preliminary SO66'!AB136)","v":4940931},4809449,4809449,4466834,{"$f":"'2016legmax.xls'!BM139","v":0.3},1340050,1340050,1340050,null,3271734,0,0,0,0,0,0,0,0,0,13087,0,0,3258647,{"$f":"'2016legmax.xls'!F139","v":493.7},{"$f":"'2016legmax.xls'!I139","v":484.1},{"$f":"'2016legmax.xls'!K139","v":451},484.1,{"$f":"'2016legmax.xls'!O139","v":4},488.1,{"$f":"IF(ISNA(VLOOKUP($CM142,'Audit Values'!$A$2:$AE$252,2,FALSE)),'Preliminary SO66'!T136,VLOOKUP($CM142,'Audit Values'!$A$2:$AE$252,20,FALSE))","v":0},0,{"$f":"IF(ISNA(VLOOKUP($CM142,'Audit Values'!$A$2:$AE$252,2,FALSE)),'Preliminary SO66'!U136,VLOOKUP($CM142,'Audit Values'!$A$2:$AE$252,21,FALSE))","v":0},0,0,0,0,{"$f":"'2016legmax.xls'!AH139","v":0},0,0,{"$f":"'2016legmax.xls'!CJ139","v":0},0,{"$f":"'2016legmax.xls'!CI139","v":0},0,0,0,0,0,0,0,0,0,0,0,0,0,0,null,null,null,"D0342"]
[343,"Jefferson","Perry Public Schools ",4928562,0,0,0,0,771,0,0,{"$f":"'2016legmax.xls'!BJ140","v":0},4928562,{"$f":"'2016legmax.xls'!BB140","v":627612},1023023,{"$f":"'2016legmax.xls'!BC140","v":379778},490017,{"$f":"'2016legmax.xls'!BD140","v":17097},6976072,{"$f":"'2016legmax.xls'!DD140","v":0},0,0,0,0,0,0,{"$f":"'2016legmax.xls'!AV140","v":9},{"$f":"'2016legmax.xls'!AW140","v":"A"},{"$f":"'2016legmax.xls'!AX140","v":""},7086311,6976072,{"$f":"IF(Weightings!G140>0,Weightings!G140,'Preliminary SO66'!AB137)","v":7275402},6976072,6976072,6747606,{"$f":"'2016legmax.xls'!BM140","v":0.3},2024282,2024282,2024282,null,4948355,0,0,0,0,0,0,0,0,0,19793,0,0,4928562,{"$f":"'2016legmax.xls'!F140","v":804},{"$f":"'2016legmax.xls'!I140","v":753.6},{"$f":"'2016legmax.xls'!K140","v":736},764.5,{"$f":"'2016legmax.xls'!O140","v":6.5},771,{"$f":"IF(ISNA(VLOOKUP($CM143,'Audit Values'!$A$2:$AE$252,2,FALSE)),'Preliminary SO66'!T137,VLOOKUP($CM143,'Audit Values'!$A$2:$AE$252,20,FALSE))","v":0},0,{"$f":"IF(ISNA(VLOOKUP($CM143,'Audit Values'!$A$2:$AE$252,2,FALSE)),'Preliminary SO66'!U137,VLOOKUP($CM143,'Audit Values'!$A$2:$AE$252,21,FALSE))","v":0},0,0,0,0,{"$f":"'2016legmax.xls'!AH140","v":0},0,0,{"$f":"'2016legmax.xls'!CJ140","v":0},0,{"$f":"'2016legmax.xls'!CI140","v":0},0,0,0,0,0,0,0,0,0,0,0,0,0,0,null,null,null,"D0343"]
[344,"Linn","Pleasanton ",2622655,933,0,0,0,358.5,0,0,{"$f":"'2016legmax.xls'!BJ141","v":-8962},2614626,{"$f":"'2016legmax.xls'!BB141","v":670853},285187,{"$f":"'2016legmax.xls'!BC141","v":207681},270513,{"$f":"'2016legmax.xls'!BD141","v":21711},3800058,{"$f":"'2016legmax.xls'!DD141","v":0},0,0,0,0,0,0,7,{"$f":"'2016legmax.xls'!AW141","v":"A"},{"$f":"'2016legmax.xls'!AX141","v":""},3862890,3800058,{"$f":"IF(Weightings!G141>0,Weightings!G141,'Preliminary SO66'!AB138)","v":3983313},3800058,3800058,3292396,{"$f":"'2016legmax.xls'!BM141","v":0.3},987719,987719,987719,null,2633188,0,0,0,0,0,0,0,0,0,10533,0,0,2622655,{"$f":"'2016legmax.xls'!F141","v":365.2},{"$f":"'2016legmax.xls'!I141","v":353},{"$f":"'2016legmax.xls'!K141","v":327.5},353,{"$f":"'2016legmax.xls'!O141","v":5.5},358.5,{"$f":"IF(ISNA(VLOOKUP($CM144,'Audit Values'!$A$2:$AE$252,2,FALSE)),'Preliminary SO66'!T138,VLOOKUP($CM144,'Audit Values'!$A$2:$AE$252,20,FALSE))","v":0},0,{"$f":"IF(ISNA(VLOOKUP($CM144,'Audit Values'!$A$2:$AE$252,2,FALSE)),'Preliminary SO66'!U138,VLOOKUP($CM144,'Audit Values'!$A$2:$AE$252,21,FALSE))","v":0},0,1,933,933,{"$f":"'2016legmax.xls'!AH141","v":0},0,0,{"$f":"'2016legmax.xls'!CJ141","v":0},0,{"$f":"'2016legmax.xls'!CI141","v":0},0,0,0,0,0,0,0,0,0,0,0,0,0,0,null,null,null,"D0344"]
[345,"Shawnee","Seaman ",18140572,32192,520020,0,0,3743.2,0,0,{"$f":"'2016legmax.xls'!BJ142","v":0},{"$f":"SUM(D145+E145+F145+G145+H145+J145)-K145+L145","v":18692784},{"$f":"'2016legmax.xls'!BB142","v":3301150},3797324,{"$f":"'2016legmax.xls'!BC142","v":2042214},2679419,{"$f":"'2016legmax.xls'!BD142","v":286818},{"$f":"M145+N145+O145+P145+R145","v":28120290},{"$f":"'2016legmax.xls'!DD142","v":0},0,0,0,0,0,0,{"$f":"'2016legmax.xls'!AV142","v":4},{"$f":"'2016legmax.xls'!AW142","v":"A"},{"$f":"'2016legmax.xls'!AX142","v":""},28757495,28120290,{"$f":"IF(Weightings!G142>0,Weightings!G142,'Preliminary SO66'!AB139)","v":29207434},28120290,28120290,24919631,{"$f":"'2016legmax.xls'!BM142","v":0.3},7475889,7475889,7475889,null,18288540,19.5,75114,0,0,0,0,0,0,0,72854,0,0,18140572,{"$f":"'2016legmax.xls'!F142","v":3686.5},{"$f":"'2016legmax.xls'!I142","v":3728.2},{"$f":"'2016legmax.xls'!K142","v":3619},3728.2,{"$f":"'2016legmax.xls'!O142","v":15},3743.2,{"$f":"IF(ISNA(VLOOKUP($CM145,'Audit Values'!$A$2:$AE$252,2,FALSE)),'Preliminary SO66'!T139,VLOOKUP($CM145,'Audit Values'!$A$2:$AE$252,20,FALSE))","v":0},0,{"$f":"IF(ISNA(VLOOKUP($CM145,'Audit Values'!$A$2:$AE$252,2,FALSE)),'Preliminary SO66'!U139,VLOOKUP($CM145,'Audit Values'!$A$2:$AE$252,21,FALSE))","v":1.5},6068,28,26124,32192,{"$f":"'2016legmax.xls'!AH142","v":135},520020,0,{"$f":"'2016legmax.xls'!CJ142","v":0},0,{"$f":"'2016legmax.xls'!CI142","v":0},0,0,0,0,0,0,0,0,0,0,0,0,0,0,null,null,null,"D0345"]
[346,"Linn","Jayhawk ",3728307,13641,271181,0,0,539,0,0,{"$f":"'2016legmax.xls'!BJ143","v":0},4013129,{"$f":"'2016legmax.xls'!BB143","v":654947},467876,{"$f":"'2016legmax.xls'!BC143","v":268895},349867,{"$f":"'2016legmax.xls'!BD143","v":27030},5431877,{"$f":"'2016legmax.xls'!DD143","v":0},111,0,0,0,0,13262,{"$f":"'2016legmax.xls'!AV143","v":5},{"$f":"'2016legmax.xls'!AW143","v":"A"},{"$f":"'2016legmax.xls'!AX143","v":""},5526222,5445250,{"$f":"IF(Weightings!G143>0,Weightings!G143,'Preliminary SO66'!AB140)","v":5570089},5445250,5445250,5115321,{"$f":"'2016legmax.xls'!BM143","v":0.3},1534596,1534596,1534596,null,3974151,1.1000000000000001,4237,0,0,0,0,0,0,0,15880,58.6,225727,3728307,{"$f":"'2016legmax.xls'!F143","v":504.4},{"$f":"'2016legmax.xls'!I143","v":503.5},{"$f":"'2016legmax.xls'!K143","v":530.5},530.5,{"$f":"'2016legmax.xls'!O143","v":8.5},539,{"$f":"IF(ISNA(VLOOKUP($CM146,'Audit Values'!$A$2:$AE$252,2,FALSE)),'Preliminary SO66'!T140,VLOOKUP($CM146,'Audit Values'!$A$2:$AE$252,20,FALSE))","v":2},10000,{"$f":"IF(ISNA(VLOOKUP($CM146,'Audit Values'!$A$2:$AE$252,2,FALSE)),'Preliminary SO66'!U140,VLOOKUP($CM146,'Audit Values'!$A$2:$AE$252,21,FALSE))","v":0.9},3641,0,0,13641,{"$f":"'2016legmax.xls'!AH143","v":70.400000000000006},271181,0,{"$f":"'2016legmax.xls'!CJ143","v":0},0,{"$f":"'2016legmax.xls'!CI143","v":0},0,0,0,0,0,0,0,0,0,0,0,0,0,0,null,null,null,"D0346"]
[347,"Edwards","Kinsley-Offerle ",2588180,0,81662,0,0,338.7,0,0,{"$f":"'2016legmax.xls'!BJ144","v":0},2669842,{"$f":"'2016legmax.xls'!BB144","v":294692},366226,{"$f":"'2016legmax.xls'!BC144","v":190296},250700,{"$f":"'2016legmax.xls'!BD144","v":0},3521056,{"$f":"'2016legmax.xls'!DD144","v":0},6095,0,0,0,21352,2700,{"$f":"'2016legmax.xls'!AV144","v":10},{"$f":"'2016legmax.xls'!AW144","v":"A"},{"$f":"'2016legmax.xls'!AX144","v":""},3611607,3551203,{"$f":"IF(Weightings!G144>0,Weightings!G144,'Preliminary SO66'!AB141)","v":3778560},3551203,3551203,3443326,{"$f":"'2016legmax.xls'!BM144","v":0.3},1032998,1032998,1032998,null,2598574,0,0,0,0,0,0,0,0,0,10394,0,0,2588180,{"$f":"'2016legmax.xls'!F144","v":351.5},{"$f":"'2016legmax.xls'!I144","v":329},{"$f":"'2016legmax.xls'!K144","v":319},333.2,{"$f":"'2016legmax.xls'!O144","v":5.5},338.7,{"$f":"IF(ISNA(VLOOKUP($CM147,'Audit Values'!$A$2:$AE$252,2,FALSE)),'Preliminary SO66'!T141,VLOOKUP($CM147,'Audit Values'!$A$2:$AE$252,20,FALSE))","v":0},0,{"$f":"IF(ISNA(VLOOKUP($CM147,'Audit Values'!$A$2:$AE$252,2,FALSE)),'Preliminary SO66'!U141,VLOOKUP($CM147,'Audit Values'!$A$2:$AE$252,21,FALSE))","v":0},0,0,0,0,{"$f":"'2016legmax.xls'!AH144","v":21.2},81662,0,{"$f":"'2016legmax.xls'!CJ144","v":0},0,{"$f":"'2016legmax.xls'!CI144","v":0},0,0,0,0,0,0,0,0,0,0,0,0,0,0,null,null,null,"D0347"]
[348,"Douglas","Baldwin City ",6910324,0,0,0,0,1331.7,0,0,{"$f":"'2016legmax.xls'!BJ145","v":0},6910324,{"$f":"'2016legmax.xls'!BB145","v":1347814},1359646,{"$f":"'2016legmax.xls'!BC145","v":558392},730474,{"$f":"'2016legmax.xls'!BD145","v":121985},10298161,{"$f":"'2016legmax.xls'!DD145","v":0},4,0,0,0,0,6252,{"$f":"'2016legmax.xls'!AV145","v":6},{"$f":"'2016legmax.xls'!AW145","v":"A"},{"$f":"'2016legmax.xls'!AX145","v":""},10476499,10304417,{"$f":"IF(Weightings!G145>0,Weightings!G145,'Preliminary SO66'!AB142)","v":10697302},10304417,10304417,9416475,{"$f":"'2016legmax.xls'!BM145","v":0.3},2824943,2824943,2824943,null,6946165,2.1,8089,0,0,0,0,0,0,0,27752,0,0,6910324,{"$f":"'2016legmax.xls'!F145","v":1326},{"$f":"'2016legmax.xls'!I145","v":1316.7},{"$f":"'2016legmax.xls'!K145","v":1298.2},1316.7,{"$f":"'2016legmax.xls'!O145","v":15},1331.7,{"$f":"IF(ISNA(VLOOKUP($CM148,'Audit Values'!$A$2:$AE$252,2,FALSE)),'Preliminary SO66'!T142,VLOOKUP($CM148,'Audit Values'!$A$2:$AE$252,20,FALSE))","v":0},0,{"$f":"IF(ISNA(VLOOKUP($CM148,'Audit Values'!$A$2:$AE$252,2,FALSE)),'Preliminary SO66'!U142,VLOOKUP($CM148,'Audit Values'!$A$2:$AE$252,21,FALSE))","v":0},0,0,0,0,{"$f":"'2016legmax.xls'!AH145","v":0},0,0,{"$f":"'2016legmax.xls'!CJ145","v":1.0800000000000001E-2},113146,{"$f":"'2016legmax.xls'!CI145","v":0},0,0,0,0,0,0,0,0,0,0,0,0,0,0,null,null,null,"D0348"]
[349,"Stafford","Stafford ",1859260,0,0,0,0,262.89999999999998,0,5000,{"$f":"'2016legmax.xls'!BJ146","v":0},1854260,{"$f":"'2016legmax.xls'!BB146","v":232290},305855,{"$f":"'2016legmax.xls'!BC146","v":140850},185052,{"$f":"'2016legmax.xls'!BD146","v":3406},2536661,{"$f":"'2016legmax.xls'!DD146","v":0},4140,0,0,72925,0,0,{"$f":"'2016legmax.xls'!AV146","v":2},{"$f":"'2016legmax.xls'!AW146","v":"A"},{"$f":"'2016legmax.xls'!AX146","v":""},2590003,2618726,{"$f":"IF(Weightings!G146>0,Weightings!G146,'Preliminary SO66'!AB143)","v":2633817},2618726,2618726,2469966,{"$f":"'2016legmax.xls'!BM146","v":0.3},740990,740990,740990,null,1866727,0,0,0,0,0,0,0,0,0,7467,0,0,1859260,{"$f":"'2016legmax.xls'!F146","v":269.5},{"$f":"'2016legmax.xls'!I146","v":262.89999999999998},{"$f":"'2016legmax.xls'!K146","v":243.4},262.89999999999998,{"$f":"'2016legmax.xls'!O146","v":0},262.89999999999998,{"$f":"IF(ISNA(VLOOKUP($CM149,'Audit Values'!$A$2:$AE$252,2,FALSE)),'Preliminary SO66'!T143,VLOOKUP($CM149,'Audit Values'!$A$2:$AE$252,20,FALSE))","v":0},0,{"$f":"IF(ISNA(VLOOKUP($CM149,'Audit Values'!$A$2:$AE$252,2,FALSE)),'Preliminary SO66'!U143,VLOOKUP($CM149,'Audit Values'!$A$2:$AE$252,21,FALSE))","v":0},0,0,0,0,{"$f":"'2016legmax.xls'!AH146","v":0},0,0,{"$f":"'2016legmax.xls'!CJ146","v":0},0,{"$f":"'2016legmax.xls'!CI146","v":0},0,0,0,0,0,0,0,0,0,0,0,0,0,0,null,null,null,"D0349"]
[350,"Stafford","St John-Hudson ",2330085,0,0,0,0,345,0,0,{"$f":"'2016legmax.xls'!BJ147","v":0},2330085,{"$f":"'2016legmax.xls'!BB147","v":0},419592,{"$f":"'2016legmax.xls'!BC147","v":181268},236620,{"$f":"'2016legmax.xls'!BD147","v":0},2930945,{"$f":"'2016legmax.xls'!DD147","v":0},16588,0,0,0,0,0,{"$f":"'2016legmax.xls'!AV147","v":14},{"$f":"'2016legmax.xls'!AW147","v":"A"},{"$f":"'2016legmax.xls'!AX147","v":""},3002885,2947533,{"$f":"IF(Weightings!G147>0,Weightings!G147,'Preliminary SO66'!AB144)","v":3052926},2947533,2947533,3167014,{"$f":"'2016legmax.xls'!BM147","v":0.31},981774,981774,981774,null,2339443,0,0,0,0,0,0,0,0,0,9358,0,0,2330085,{"$f":"'2016legmax.xls'!F147","v":331},{"$f":"'2016legmax.xls'!I147","v":345},{"$f":"'2016legmax.xls'!K147","v":327.39999999999998},345,{"$f":"'2016legmax.xls'!O147","v":0},345,{"$f":"IF(ISNA(VLOOKUP($CM150,'Audit Values'!$A$2:$AE$252,2,FALSE)),'Preliminary SO66'!T144,VLOOKUP($CM150,'Audit Values'!$A$2:$AE$252,20,FALSE))","v":0},0,{"$f":"IF(ISNA(VLOOKUP($CM150,'Audit Values'!$A$2:$AE$252,2,FALSE)),'Preliminary SO66'!U144,VLOOKUP($CM150,'Audit Values'!$A$2:$AE$252,21,FALSE))","v":0},0,0,0,0,{"$f":"'2016legmax.xls'!AH147","v":0},0,0,{"$f":"'2016legmax.xls'!CJ147","v":0},0,{"$f":"'2016legmax.xls'!CI147","v":0},0,0,0,0,0,0,0,0,0,0,0,0,0,0,null,null,null,"D0350"]
[351,"Stafford","Macksville ",2001125,0,0,0,0,239,0,677,{"$f":"'2016legmax.xls'!BJ148","v":0},2000448,{"$f":"'2016legmax.xls'!BB148","v":0},306375,{"$f":"'2016legmax.xls'!BC148","v":164823},216042,{"$f":"'2016legmax.xls'!BD148","v":0},2471646,{"$f":"'2016legmax.xls'!DD148","v":0},9295,0,0,0,0,6500,{"$f":"'2016legmax.xls'!AV148","v":15},{"$f":"'2016legmax.xls'!AW148","v":"A"},{"$f":"'2016legmax.xls'!AX148","v":""},2539337,2488118,{"$f":"IF(Weightings!G148>0,Weightings!G148,'Preliminary SO66'!AB145)","v":2610945},2488118,2488118,2678157,{"$f":"'2016legmax.xls'!BM148","v":0.3},803447,803447,803447,null,2009162,0,0,0,0,0,0,0,0,0,8037,0,0,2001125,{"$f":"'2016legmax.xls'!F148","v":261.2},{"$f":"'2016legmax.xls'!I148","v":235.9},{"$f":"'2016legmax.xls'!K148","v":212.5},236.5,{"$f":"'2016legmax.xls'!O148","v":2.5},239,{"$f":"IF(ISNA(VLOOKUP($CM151,'Audit Values'!$A$2:$AE$252,2,FALSE)),'Preliminary SO66'!T145,VLOOKUP($CM151,'Audit Values'!$A$2:$AE$252,20,FALSE))","v":0},0,{"$f":"IF(ISNA(VLOOKUP($CM151,'Audit Values'!$A$2:$AE$252,2,FALSE)),'Preliminary SO66'!U145,VLOOKUP($CM151,'Audit Values'!$A$2:$AE$252,21,FALSE))","v":0},0,0,0,0,{"$f":"'2016legmax.xls'!AH148","v":0},0,0,{"$f":"'2016legmax.xls'!CJ148","v":0},0,{"$f":"'2016legmax.xls'!CI148","v":0},0,0,0,0,0,0,0,0,0,0,0,0,0,0,null,null,null,"D0351"]
[352,"Sherman","Goodland ",5992865,53714,94759,0,0,1041.5,0,0,{"$f":"'2016legmax.xls'!BJ149","v":0},6141338,{"$f":"'2016legmax.xls'!BB149","v":849982},936407,{"$f":"'2016legmax.xls'!BC149","v":485686},634419,{"$f":"'2016legmax.xls'!BD149","v":34887},8448300,{"$f":"'2016legmax.xls'!DD149","v":0},802,0,0,0,0,2410,{"$f":"'2016legmax.xls'!AV149","v":14},{"$f":"'2016legmax.xls'!AW149","v":"A"},{"$f":"'2016legmax.xls'!AX149","v":""},8600245,8451512,{"$f":"IF(Weightings!G149>0,Weightings!G149,'Preliminary SO66'!AB146)","v":8783752},8451512,8451512,8026827,{"$f":"'2016legmax.xls'!BM149","v":0.3},2408048,2408048,2408048,null,6156467,5.3,20416,0,0,0,0,0,0,0,24544,30.8,118642,5992865,{"$f":"'2016legmax.xls'!F149","v":1032.3},{"$f":"'2016legmax.xls'!I149","v":1041.5},{"$f":"'2016legmax.xls'!K149","v":879.7},1041.5,{"$f":"'2016legmax.xls'!O149","v":0},1041.5,{"$f":"IF(ISNA(VLOOKUP($CM152,'Audit Values'!$A$2:$AE$252,2,FALSE)),'Preliminary SO66'!T146,VLOOKUP($CM152,'Audit Values'!$A$2:$AE$252,20,FALSE))","v":5},25000,{"$f":"IF(ISNA(VLOOKUP($CM152,'Audit Values'!$A$2:$AE$252,2,FALSE)),'Preliminary SO66'!U146,VLOOKUP($CM152,'Audit Values'!$A$2:$AE$252,21,FALSE))","v":4.0999999999999996},16585,13,12129,53714,{"$f":"'2016legmax.xls'!AH149","v":24.6},94759,0,{"$f":"'2016legmax.xls'!CJ149","v":0},0,{"$f":"'2016legmax.xls'!CI149","v":0},0,0,0,0,0,0,0,0,0,0,0,0,0,0,null,null,null,"D0352"]
[353,"Sumner","Wellington ",8163733,0,0,0,0,1555,0,0,{"$f":"'2016legmax.xls'!BJ150","v":0},8163733,{"$f":"'2016legmax.xls'!BB150","v":2238469},2104469,{"$f":"'2016legmax.xls'!BC150","v":795028},1047199,{"$f":"'2016legmax.xls'!BD150","v":122041},13423740,{"$f":"'2016legmax.xls'!DD150","v":0},4413,0,0,0,0,30464,{"$f":"'2016legmax.xls'!AV150","v":2},{"$f":"'2016legmax.xls'!AW150","v":"A"},{"$f":"'2016legmax.xls'!AX150","v":""},13710788,13458617,{"$f":"IF(Weightings!G150>0,Weightings!G150,'Preliminary SO66'!AB147)","v":13870620},13458617,13458617,11572640,{"$f":"'2016legmax.xls'!BM150","v":0.3},3471792,3471792,3471792,null,8196519,0,0,0,0,0,0,0,0,0,32786,0,0,8163733,{"$f":"'2016legmax.xls'!F150","v":1515.5},{"$f":"'2016legmax.xls'!I150","v":1551.5},{"$f":"'2016legmax.xls'!K150","v":1534.5},1551.5,{"$f":"'2016legmax.xls'!O150","v":3.5},1555,{"$f":"IF(ISNA(VLOOKUP($CM153,'Audit Values'!$A$2:$AE$252,2,FALSE)),'Preliminary SO66'!T147,VLOOKUP($CM153,'Audit Values'!$A$2:$AE$252,20,FALSE))","v":0},0,{"$f":"IF(ISNA(VLOOKUP($CM153,'Audit Values'!$A$2:$AE$252,2,FALSE)),'Preliminary SO66'!U147,VLOOKUP($CM153,'Audit Values'!$A$2:$AE$252,21,FALSE))","v":0},0,0,0,0,{"$f":"'2016legmax.xls'!AH150","v":0},0,0,{"$f":"'2016legmax.xls'!CJ150","v":0},0,{"$f":"'2016legmax.xls'!CI150","v":0},0,0,0,0,0,0,0,0,0,0,0,0,0,0,null,null,null,"D0353"]
[355,"Barton","Ellinwood Public Schools ",2713588,0,0,0,0,424.3,0,0,{"$f":"'2016legmax.xls'!BJ151","v":0},2713588,{"$f":"'2016legmax.xls'!BB151","v":70631},474174,{"$f":"'2016legmax.xls'!BC151","v":246029},321687,{"$f":"'2016legmax.xls'!BD151","v":0},3504422,{"$f":"'2016legmax.xls'!DD151","v":0},13167,0,0,0,0,0,{"$f":"'2016legmax.xls'!AV151","v":10},{"$f":"'2016legmax.xls'!AW151","v":"A"},{"$f":"'2016legmax.xls'!AX151","v":""},3593247,3517589,{"$f":"IF(Weightings!G151>0,Weightings!G151,'Preliminary SO66'!AB148)","v":3798668},3517589,3517589,3637310,{"$f":"'2016legmax.xls'!BM151","v":0.3},1091193,1091193,1091193,null,2724486,0,0,0,0,0,0,0,0,0,10898,0,0,2713588,{"$f":"'2016legmax.xls'!F151","v":409.2},{"$f":"'2016legmax.xls'!I151","v":414.2},{"$f":"'2016legmax.xls'!K151","v":424.3},424.3,{"$f":"'2016legmax.xls'!O151","v":0},424.3,{"$f":"IF(ISNA(VLOOKUP($CM154,'Audit Values'!$A$2:$AE$252,2,FALSE)),'Preliminary SO66'!T148,VLOOKUP($CM154,'Audit Values'!$A$2:$AE$252,20,FALSE))","v":0},0,{"$f":"IF(ISNA(VLOOKUP($CM154,'Audit Values'!$A$2:$AE$252,2,FALSE)),'Preliminary SO66'!U148,VLOOKUP($CM154,'Audit Values'!$A$2:$AE$252,21,FALSE))","v":0},0,0,0,0,{"$f":"'2016legmax.xls'!AH151","v":0},0,0,{"$f":"'2016legmax.xls'!CJ151","v":0},0,{"$f":"'2016legmax.xls'!CI151","v":0},0,0,0,0,0,0,0,0,0,0,0,0,0,0,null,null,null,"D0355"]
[356,"Sumner","Conway Springs ",3114498,0,0,0,0,481,0,0,{"$f":"'2016legmax.xls'!BJ152","v":0},3114498,{"$f":"'2016legmax.xls'!BB152","v":789805},465879,{"$f":"'2016legmax.xls'!BC152","v":256421},335527,{"$f":"'2016legmax.xls'!BD152","v":37436},4664039,{"$f":"'2016legmax.xls'!DD152","v":0},1073,0,0,0,0,6383,{"$f":"'2016legmax.xls'!AV152","v":5},{"$f":"'2016legmax.xls'!AW152","v":"A"},{"$f":"'2016legmax.xls'!AX152","v":""},4750601,4671495,{"$f":"IF(Weightings!G152>0,Weightings!G152,'Preliminary SO66'!AB149)","v":4878536},4671495,4671495,4162101,{"$f":"'2016legmax.xls'!BM152","v":0.3},1248630,1248630,1248630,null,3127006,0,0,0,0,0,0,0,0,0,12508,0,0,3114498,{"$f":"'2016legmax.xls'!F152","v":492.3},{"$f":"'2016legmax.xls'!I152","v":480.5},{"$f":"'2016legmax.xls'!K152","v":470.3},481,{"$f":"'2016legmax.xls'!O152","v":0},481,{"$f":"IF(ISNA(VLOOKUP($CM155,'Audit Values'!$A$2:$AE$252,2,FALSE)),'Preliminary SO66'!T149,VLOOKUP($CM155,'Audit Values'!$A$2:$AE$252,20,FALSE))","v":0},0,{"$f":"IF(ISNA(VLOOKUP($CM155,'Audit Values'!$A$2:$AE$252,2,FALSE)),'Preliminary SO66'!U149,VLOOKUP($CM155,'Audit Values'!$A$2:$AE$252,21,FALSE))","v":0},0,0,0,0,{"$f":"'2016legmax.xls'!AH152","v":0},0,0,{"$f":"'2016legmax.xls'!CJ152","v":0},0,{"$f":"'2016legmax.xls'!CI152","v":0},0,0,0,0,0,0,0,0,0,0,0,0,0,0,null,null,null,"D0356"]
[357,"Sumner","Belle Plaine ",3716421,89437,0,0,0,599.79999999999995,0,0,{"$f":"'2016legmax.xls'!BJ153","v":0},3805858,{"$f":"'2016legmax.xls'!BB153","v":1077565},752622,{"$f":"'2016legmax.xls'!BC153","v":317659},416676,{"$f":"'2016legmax.xls'!BD153","v":71308},6025012,{"$f":"'2016legmax.xls'!DD153","v":0},558,0,0,0,0,1539,{"$f":"'2016legmax.xls'!AV153","v":18},{"$f":"'2016legmax.xls'!AW153","v":"A"},{"$f":"'2016legmax.xls'!AX153","v":""},6126126,6027109,{"$f":"IF(Weightings!G153>0,Weightings!G153,'Preliminary SO66'!AB150)","v":6337020},6027109,6027109,5296014,{"$f":"'2016legmax.xls'!BM153","v":0.3},1588804,1588804,1588804,null,3731346,0,0,0,0,0,0,0,0,0,14925,0,0,3716421,{"$f":"'2016legmax.xls'!F153","v":582.5},{"$f":"'2016legmax.xls'!I153","v":592.29999999999995},{"$f":"'2016legmax.xls'!K153","v":574.5},592.29999999999995,{"$f":"'2016legmax.xls'!O153","v":7.5},599.79999999999995,{"$f":"IF(ISNA(VLOOKUP($CM156,'Audit Values'!$A$2:$AE$252,2,FALSE)),'Preliminary SO66'!T150,VLOOKUP($CM156,'Audit Values'!$A$2:$AE$252,20,FALSE))","v":1},5000,{"$f":"IF(ISNA(VLOOKUP($CM156,'Audit Values'!$A$2:$AE$252,2,FALSE)),'Preliminary SO66'!U150,VLOOKUP($CM156,'Audit Values'!$A$2:$AE$252,21,FALSE))","v":0},0,90.5,84437,89437,{"$f":"'2016legmax.xls'!AH153","v":0},0,0,{"$f":"'2016legmax.xls'!CJ153","v":0},0,{"$f":"'2016legmax.xls'!CI153","v":0},0,0,0,0,0,0,0,0,0,0,0,0,0,0,null,null,null,"D0357"]
[358,"Sumner","Oxford ",2199874,390209,0,0,0,318.10000000000002,0,0,{"$f":"'2016legmax.xls'!BJ154","v":0},2590083,{"$f":"'2016legmax.xls'!BB154","v":483501},426352,{"$f":"'2016legmax.xls'!BC154","v":179609},235344,{"$f":"'2016legmax.xls'!BD154","v":32924},3712469,{"$f":"'2016legmax.xls'!DD154","v":0},3360,0,0,0,0,0,{"$f":"'2016legmax.xls'!AV154","v":12},{"$f":"'2016legmax.xls'!AW154","v":"A"},{"$f":"'2016legmax.xls'!AX154","v":""},3771564,3715829,{"$f":"IF(Weightings!G154>0,Weightings!G154,'Preliminary SO66'!AB151)","v":3998962},3715829,3715829,3085096,{"$f":"'2016legmax.xls'!BM154","v":0.3},925529,925000,925000,null,2352003,37.200000000000003,143294,0,0,0,0,0,0,0,8835,0,0,2199874,{"$f":"'2016legmax.xls'!F154","v":315.2},{"$f":"'2016legmax.xls'!I154","v":315.60000000000002},{"$f":"'2016legmax.xls'!K154","v":287},315.60000000000002,{"$f":"'2016legmax.xls'!O154","v":2.5},318.10000000000002,{"$f":"IF(ISNA(VLOOKUP($CM157,'Audit Values'!$A$2:$AE$252,2,FALSE)),'Preliminary SO66'!T151,VLOOKUP($CM157,'Audit Values'!$A$2:$AE$252,20,FALSE))","v":38},190000,{"$f":"IF(ISNA(VLOOKUP($CM157,'Audit Values'!$A$2:$AE$252,2,FALSE)),'Preliminary SO66'!U151,VLOOKUP($CM157,'Audit Values'!$A$2:$AE$252,21,FALSE))","v":8.9},36001,176,164208,390209,{"$f":"'2016legmax.xls'!AH154","v":0},0,0,{"$f":"'2016legmax.xls'!CJ154","v":0},0,{"$f":"'2016legmax.xls'!CI154","v":0},0,0,0,0,0,0,0,0,0,0,0,0,0,0,null,null,null,"D0358"]
[359,"Sumner","Argonia Public Schools ",1340395,0,0,0,0,165.9,0,0,{"$f":"'2016legmax.xls'!BJ155","v":0},1340395,{"$f":"'2016legmax.xls'!BB155","v":93494},215139,{"$f":"'2016legmax.xls'!BC155","v":105986},139785,{"$f":"'2016legmax.xls'!BD155","v":0},1755014,{"$f":"'2016legmax.xls'!DD155","v":0},2242,0,0,0,0,0,{"$f":"'2016legmax.xls'!AV155","v":16},{"$f":"'2016legmax.xls'!AW155","v":"A"},{"$f":"'2016legmax.xls'!AX155","v":""},1791055,1757256,{"$f":"IF(Weightings!G155>0,Weightings!G155,'Preliminary SO66'!AB152)","v":1846737},1757256,1757256,1821451,{"$f":"'2016legmax.xls'!BM155","v":0.3},546435,510140,510140,null,1345778,0,0,0,0,0,0,0,0,0,5383,0,0,1340395,{"$f":"'2016legmax.xls'!F155","v":160},{"$f":"'2016legmax.xls'!I155","v":163.9},{"$f":"'2016legmax.xls'!K155","v":155},163.9,{"$f":"'2016legmax.xls'!O155","v":2},165.9,{"$f":"IF(ISNA(VLOOKUP($CM158,'Audit Values'!$A$2:$AE$252,2,FALSE)),'Preliminary SO66'!T152,VLOOKUP($CM158,'Audit Values'!$A$2:$AE$252,20,FALSE))","v":0},0,{"$f":"IF(ISNA(VLOOKUP($CM158,'Audit Values'!$A$2:$AE$252,2,FALSE)),'Preliminary SO66'!U152,VLOOKUP($CM158,'Audit Values'!$A$2:$AE$252,21,FALSE))","v":0},0,0,0,0,{"$f":"'2016legmax.xls'!AH155","v":0},0,0,{"$f":"'2016legmax.xls'!CJ155","v":0},0,{"$f":"'2016legmax.xls'!CI155","v":0},0,0,0,0,0,0,0,0,0,0,0,0,0,0,null,null,null,"D0359"]
[360,"Sumner","Caldwell ",1808343,11866,0,0,0,247.5,0,0,{"$f":"'2016legmax.xls'!BJ156","v":0},1820209,{"$f":"'2016legmax.xls'!BB156","v":318536},296405,{"$f":"'2016legmax.xls'!BC156","v":136987},179248,{"$f":"'2016legmax.xls'!BD156","v":21437},2593574,{"$f":"'2016legmax.xls'!DD156","v":0},3560,0,0,0,0,3727,{"$f":"'2016legmax.xls'!AV156","v":9},{"$f":"'2016legmax.xls'!AW156","v":"A"},{"$f":"'2016legmax.xls'!AX156","v":""},2643122,2600861,{"$f":"IF(Weightings!G156>0,Weightings!G156,'Preliminary SO66'!AB153)","v":2705457},2600861,2600861,2443091,{"$f":"'2016legmax.xls'!BM156","v":0.33},806220,772000,772000,null,1815605,0,0,0,0,0,0,0,0,0,7262,0,0,1808343,{"$f":"'2016legmax.xls'!F156","v":240.5},{"$f":"'2016legmax.xls'!I156","v":243.5},{"$f":"'2016legmax.xls'!K156","v":222},243.5,{"$f":"'2016legmax.xls'!O156","v":4},247.5,{"$f":"IF(ISNA(VLOOKUP($CM159,'Audit Values'!$A$2:$AE$252,2,FALSE)),'Preliminary SO66'!T153,VLOOKUP($CM159,'Audit Values'!$A$2:$AE$252,20,FALSE))","v":2},10000,{"$f":"IF(ISNA(VLOOKUP($CM159,'Audit Values'!$A$2:$AE$252,2,FALSE)),'Preliminary SO66'!U153,VLOOKUP($CM159,'Audit Values'!$A$2:$AE$252,21,FALSE))","v":0},0,2,1866,11866,{"$f":"'2016legmax.xls'!AH156","v":0},0,0,{"$f":"'2016legmax.xls'!CJ156","v":0},0,{"$f":"'2016legmax.xls'!CI156","v":0},0,0,0,0,0,0,0,0,0,0,0,0,0,0,null,null,null,"D0360"]
[361,"Harper","Chaparral Schools",5148810,39653,0,0,0,848.8,0,19780,{"$f":"'2016legmax.xls'!BJ157","v":0},5168683,{"$f":"'2016legmax.xls'!BB157","v":79661},1099340,{"$f":"'2016legmax.xls'!BC157","v":431012},567226,{"$f":"'2016legmax.xls'!BD157","v":0},6778696,{"$f":"'2016legmax.xls'!DD157","v":0},228551,0,0,0,0,0,{"$f":"'2016legmax.xls'!AV157","v":17},{"$f":"'2016legmax.xls'!AW157","v":"A"},{"$f":"'2016legmax.xls'!AX157","v":""},7163241,7027027,{"$f":"IF(Weightings!G157>0,Weightings!G157,'Preliminary SO66'!AB154)","v":6978382},6978382,6978382,7720712,{"$f":"'2016legmax.xls'!BM157","v":0.29370000000000002},2267573,2254448,2254448,null,5169488,0,0,0,0,0,0,0,0,0,20678,0,0,5148810,{"$f":"'2016legmax.xls'!F157","v":828.7},{"$f":"'2016legmax.xls'!I157","v":839.8},{"$f":"'2016legmax.xls'!K157","v":788.5},839.8,{"$f":"'2016legmax.xls'!O157","v":9},848.8,{"$f":"IF(ISNA(VLOOKUP($CM160,'Audit Values'!$A$2:$AE$252,2,FALSE)),'Preliminary SO66'!T154,VLOOKUP($CM160,'Audit Values'!$A$2:$AE$252,20,FALSE))","v":0},0,{"$f":"IF(ISNA(VLOOKUP($CM160,'Audit Values'!$A$2:$AE$252,2,FALSE)),'Preliminary SO66'!U154,VLOOKUP($CM160,'Audit Values'!$A$2:$AE$252,21,FALSE))","v":0},0,42.5,39653,39653,{"$f":"'2016legmax.xls'!AH157","v":0},0,0,{"$f":"'2016legmax.xls'!CJ157","v":0},0,{"$f":"'2016legmax.xls'!CI157","v":0},0,0,0,0,0,0,0,0,0,0,0,0,0,0,null,null,null,"D0361"]
[362,"Linn","Prairie View ",5738890,0,90522,0,0,875.3,0,282,{"$f":"'2016legmax.xls'!BJ158","v":0},5829130,{"$f":"'2016legmax.xls'!BB158","v":0},1221718,{"$f":"'2016legmax.xls'!BC158","v":547584},716112,{"$f":"'2016legmax.xls'!BD158","v":0},7598432,{"$f":"'2016legmax.xls'!DD158","v":0},0,0,0,0,0,31544,{"$f":"'2016legmax.xls'!AV158","v":6},{"$f":"'2016legmax.xls'!AW158","v":"A"},{"$f":"'2016legmax.xls'!AX158","v":""},7798786,7630258,{"$f":"IF(Weightings!G158>0,Weightings!G158,'Preliminary SO66'!AB155)","v":8195719},7630258,7630258,8198831,{"$f":"'2016legmax.xls'!BM158","v":0.3},2459649,2459649,2459649,null,5834975,3.7,14252,0,0,0,0,0,0,0,23283,15.2,58550,5738890,{"$f":"'2016legmax.xls'!F158","v":909.3},{"$f":"'2016legmax.xls'!I158","v":864.6},{"$f":"'2016legmax.xls'!K158","v":852.1},875.3,{"$f":"'2016legmax.xls'!O158","v":0},875.3,{"$f":"IF(ISNA(VLOOKUP($CM161,'Audit Values'!$A$2:$AE$252,2,FALSE)),'Preliminary SO66'!T155,VLOOKUP($CM161,'Audit Values'!$A$2:$AE$252,20,FALSE))","v":0},0,{"$f":"IF(ISNA(VLOOKUP($CM161,'Audit Values'!$A$2:$AE$252,2,FALSE)),'Preliminary SO66'!U155,VLOOKUP($CM161,'Audit Values'!$A$2:$AE$252,21,FALSE))","v":0},0,0,0,0,{"$f":"'2016legmax.xls'!AH158","v":23.5},90522,0,{"$f":"'2016legmax.xls'!CJ158","v":0},0,{"$f":"'2016legmax.xls'!CI158","v":0},0,0,0,0,0,0,0,0,0,0,0,0,0,0,null,null,null,"D0362"]
[363,"Finney","Holcomb ",5639316,10080,0,0,0,958.5,0,0,{"$f":"'2016legmax.xls'!BJ159","v":0},5649396,{"$f":"'2016legmax.xls'!BB159","v":0},497963,{"$f":"'2016legmax.xls'!BC159","v":478548},620840,{"$f":"'2016legmax.xls'!BD159","v":0},6625907,{"$f":"'2016legmax.xls'!DD159","v":0},68670,0,0,0,0,4005,{"$f":"'2016legmax.xls'!AV159","v":17},{"$f":"'2016legmax.xls'!AW159","v":"A"},{"$f":"'2016legmax.xls'!AX159","v":""},6840874,6698582,{"$f":"IF(Weightings!G159>0,Weightings!G159,'Preliminary SO66'!AB156)","v":7160331},6698582,6698582,7377175,{"$f":"'2016legmax.xls'!BM159","v":0.3},2213153,2150000,2150000,null,5677372,4,15408,0,0,0,0,0,0,0,22648,0,0,5639316,{"$f":"'2016legmax.xls'!F159","v":913.4},{"$f":"'2016legmax.xls'!I159","v":937.3},{"$f":"'2016legmax.xls'!K159","v":946.5},946.5,{"$f":"'2016legmax.xls'!O159","v":12},958.5,{"$f":"IF(ISNA(VLOOKUP($CM162,'Audit Values'!$A$2:$AE$269,2,FALSE)),'Preliminary SO66'!T156,VLOOKUP($CM162,'Audit Values'!$A$2:$AE$269,20,FALSE))","v":0},0,{"$f":"IF(ISNA(VLOOKUP($CM162,'Audit Values'!$A$2:$AE$269,2,FALSE)),'Preliminary SO66'!U156,VLOOKUP($CM162,'Audit Values'!$A$2:$AE$269,21,FALSE))","v":1.8},7281,3,2799,10080,{"$f":"'2016legmax.xls'!AH159","v":0},0,0,{"$f":"'2016legmax.xls'!CJ159","v":0},0,{"$f":"'2016legmax.xls'!CI159","v":0},0,0,0,0,0,0,0,0,0,0,0,0,0,0,null,null,null,"D0363"]
[364,"Marshall","Marysville ",4399630,0,0,0,0,705.8,0,0,{"$f":"'2016legmax.xls'!BJ160","v":0},4399630,{"$f":"'2016legmax.xls'!BB160","v":172213},594924,{"$f":"'2016legmax.xls'!BC160","v":468882},625721,{"$f":"'2016legmax.xls'!BD160","v":0},5635649,{"$f":"'2016legmax.xls'!DD160","v":0},0,0,0,10000,53622,9068,{"$f":"'2016legmax.xls'!AV160","v":2},{"$f":"'2016legmax.xls'!AW160","v":"A"},{"$f":"'2016legmax.xls'!AX160","v":""},5855178,5708339,{"$f":"IF(Weightings!G160>0,Weightings!G160,'Preliminary SO66'!AB157)","v":5947721},5708339,5708339,6012683,{"$f":"'2016legmax.xls'!BM160","v":0.3},1803805,1803805,1803805,null,4417299,0,0,0,0,0,0,0,0,0,17669,0,0,4399630,{"$f":"'2016legmax.xls'!F160","v":683.7},{"$f":"'2016legmax.xls'!I160","v":701.8},{"$f":"'2016legmax.xls'!K160","v":689.5},701.8,{"$f":"'2016legmax.xls'!O160","v":4},705.8,{"$f":"IF(ISNA(VLOOKUP($CM163,'Audit Values'!$A$2:$AE$252,2,FALSE)),'Preliminary SO66'!T157,VLOOKUP($CM163,'Audit Values'!$A$2:$AE$252,20,FALSE))","v":0},0,{"$f":"IF(ISNA(VLOOKUP($CM163,'Audit Values'!$A$2:$AE$252,2,FALSE)),'Preliminary SO66'!U157,VLOOKUP($CM163,'Audit Values'!$A$2:$AE$252,21,FALSE))","v":0},0,0,0,0,{"$f":"'2016legmax.xls'!AH160","v":0},0,0,{"$f":"'2016legmax.xls'!CJ160","v":0},0,{"$f":"'2016legmax.xls'!CI160","v":0},0,0,0,0,0,0,0,0,0,0,0,0,0,0,null,null,null,"D0364"]
[365,"Anderson","Garnett ",6233209,0,0,0,0,1026.9000000000001,0,0,{"$f":"'2016legmax.xls'!BJ161","v":0},6233209,{"$f":"'2016legmax.xls'!BB161","v":1090944},912331,{"$f":"'2016legmax.xls'!BC161","v":516389},679143,{"$f":"'2016legmax.xls'!BD161","v":69526},8822399,{"$f":"'2016legmax.xls'!DD161","v":0},0,0,0,0,0,7187,{"$f":"'2016legmax.xls'!AV161","v":3},{"$f":"'2016legmax.xls'!AW161","v":"A"},{"$f":"'2016legmax.xls'!AX161","v":""},8992340,8829586,{"$f":"IF(Weightings!G161>0,Weightings!G161,'Preliminary SO66'!AB158)","v":9062160},8829586,8829586,8281363,{"$f":"'2016legmax.xls'!BM161","v":0.3},2484409,2484409,2484409,null,6258242,0,0,0,0,0,0,0,0,0,25033,0,0,6233209,{"$f":"'2016legmax.xls'!F161","v":1070.5999999999999},{"$f":"'2016legmax.xls'!I161","v":1022},{"$f":"'2016legmax.xls'!K161","v":988},1026.9000000000001,{"$f":"'2016legmax.xls'!O161","v":0},1026.9000000000001,{"$f":"IF(ISNA(VLOOKUP($CM164,'Audit Values'!$A$2:$AE$252,2,FALSE)),'Preliminary SO66'!T158,VLOOKUP($CM164,'Audit Values'!$A$2:$AE$252,20,FALSE))","v":0},0,{"$f":"IF(ISNA(VLOOKUP($CM164,'Audit Values'!$A$2:$AE$252,2,FALSE)),'Preliminary SO66'!U158,VLOOKUP($CM164,'Audit Values'!$A$2:$AE$252,21,FALSE))","v":0},0,0,0,0,{"$f":"'2016legmax.xls'!AH161","v":0},0,0,{"$f":"'2016legmax.xls'!CJ161","v":0},0,{"$f":"'2016legmax.xls'!CI161","v":0},0,0,0,0,0,0,0,0,0,0,0,0,0,0,null,null,null,"D0365"]
[366,"Woodson","Woodson ",3106922,0,0,0,0,436.2,0,1549,{"$f":"'2016legmax.xls'!BJ162","v":0},3105373,{"$f":"'2016legmax.xls'!BB162","v":420995},516729,{"$f":"'2016legmax.xls'!BC162","v":239857},315666,{"$f":"'2016legmax.xls'!BD162","v":15344},4298298,{"$f":"'2016legmax.xls'!DD162","v":0},655,0,0,0,0,0,{"$f":"'2016legmax.xls'!AV162","v":17},{"$f":"'2016legmax.xls'!AW162","v":"A"},{"$f":"'2016legmax.xls'!AX162","v":""},4376311,4300502,{"$f":"IF(Weightings!G162>0,Weightings!G162,'Preliminary SO66'!AB159)","v":4491284},4300502,4300502,4203789,{"$f":"'2016legmax.xls'!BM162","v":0.3},1261137,1261137,1261137,null,3119400,0,0,0,0,0,0,0,0,0,12478,0,0,3106922,{"$f":"'2016legmax.xls'!F162","v":437.5},{"$f":"'2016legmax.xls'!I162","v":425.6},{"$f":"'2016legmax.xls'!K162","v":421.5},428.2,{"$f":"'2016legmax.xls'!O162","v":8},436.2,{"$f":"IF(ISNA(VLOOKUP($CM165,'Audit Values'!$A$2:$AE$252,2,FALSE)),'Preliminary SO66'!T159,VLOOKUP($CM165,'Audit Values'!$A$2:$AE$252,20,FALSE))","v":0},0,{"$f":"IF(ISNA(VLOOKUP($CM165,'Audit Values'!$A$2:$AE$252,2,FALSE)),'Preliminary SO66'!U159,VLOOKUP($CM165,'Audit Values'!$A$2:$AE$252,21,FALSE))","v":0},0,0,0,0,{"$f":"'2016legmax.xls'!AH162","v":0},0,0,{"$f":"'2016legmax.xls'!CJ162","v":0},0,{"$f":"'2016legmax.xls'!CI162","v":0},0,0,0,0,0,0,0,0,0,0,0,0,0,0,null,null,null,"D0366"]
[367,"Miami","Osawatomie ",7146514,0,36594,0,0,1166,0,0,{"$f":"'2016legmax.xls'!BJ163","v":0},7183108,{"$f":"'2016legmax.xls'!BB163","v":1961727},1805011,{"$f":"'2016legmax.xls'!BC163","v":584504},766496,{"$f":"'2016legmax.xls'!BD163","v":133156},11667506,{"$f":"'2016legmax.xls'!DD163","v":0},0,0,0,0,0,0,{"$f":"'2016legmax.xls'!AV163","v":3},{"$f":"'2016legmax.xls'!AW163","v":"A"},{"$f":"'2016legmax.xls'!AX163","v":""},11849498,11667506,{"$f":"IF(Weightings!G163>0,Weightings!G163,'Preliminary SO66'!AB160)","v":11982484},11667506,11667506,10093058,{"$f":"'2016legmax.xls'!BM163","v":0.3},3027917,3027917,3027917,null,7213116,0,0,0,0,0,0,0,0,0,28852,9.8000000000000007,37750,7146514,{"$f":"'2016legmax.xls'!F163","v":1131},{"$f":"'2016legmax.xls'!I163","v":1159.5},{"$f":"'2016legmax.xls'!K163","v":1119},1159.5,{"$f":"'2016legmax.xls'!O163","v":6.5},1166,{"$f":"IF(ISNA(VLOOKUP($CM166,'Audit Values'!$A$2:$AE$252,2,FALSE)),'Preliminary SO66'!T160,VLOOKUP($CM166,'Audit Values'!$A$2:$AE$252,20,FALSE))","v":0},0,{"$f":"IF(ISNA(VLOOKUP($CM166,'Audit Values'!$A$2:$AE$252,2,FALSE)),'Preliminary SO66'!U160,VLOOKUP($CM166,'Audit Values'!$A$2:$AE$252,21,FALSE))","v":0},0,0,0,0,{"$f":"'2016legmax.xls'!AH163","v":9.5},36594,0,{"$f":"'2016legmax.xls'!CJ163","v":0},0,{"$f":"'2016legmax.xls'!CI163","v":0},0,0,0,0,0,0,0,0,0,0,0,0,0,0,null,null,null,"D0367"]
[368,"Miami","Paola ",9528282,0,0,0,0,1936.1,0,0,{"$f":"'2016legmax.xls'!BJ164","v":0},9528282,{"$f":"'2016legmax.xls'!BB164","v":1370766},1867478,{"$f":"'2016legmax.xls'!BC164","v":1704543},2221051,{"$f":"'2016legmax.xls'!BD164","v":92603},14563672,{"$f":"'2016legmax.xls'!DD164","v":0},0,0,0,0,0,42443,{"$f":"'2016legmax.xls'!AV164","v":7},{"$f":"'2016legmax.xls'!AW164","v":"A"},{"$f":"'2016legmax.xls'!AX164","v":""},15122623,14606115,{"$f":"IF(Weightings!G164>0,Weightings!G164,'Preliminary SO66'!AB161)","v":15657287},14606115,14606115,13052753,{"$f":"'2016legmax.xls'!BM164","v":0.33},4307408,4307408,4307408,null,9566548,0,0,0,0,0,0,0,0,0,38266,0,0,9528282,{"$f":"'2016legmax.xls'!F164","v":1919},{"$f":"'2016legmax.xls'!I164","v":1931},{"$f":"'2016legmax.xls'!K164","v":1936.1},1936.1,{"$f":"'2016legmax.xls'!O164","v":0},1936.1,{"$f":"IF(ISNA(VLOOKUP($CM167,'Audit Values'!$A$2:$AE$252,2,FALSE)),'Preliminary SO66'!T161,VLOOKUP($CM167,'Audit Values'!$A$2:$AE$252,20,FALSE))","v":0},0,{"$f":"IF(ISNA(VLOOKUP($CM167,'Audit Values'!$A$2:$AE$252,2,FALSE)),'Preliminary SO66'!U161,VLOOKUP($CM167,'Audit Values'!$A$2:$AE$252,21,FALSE))","v":0},0,0,0,0,{"$f":"'2016legmax.xls'!AH164","v":0},0,0,{"$f":"'2016legmax.xls'!CJ164","v":2.3E-3},34782,{"$f":"'2016legmax.xls'!CI164","v":0},0,0,0,0,0,0,0,0,0,0,0,0,0,0,null,null,null,"D0368"]
[369,"Harvey","Burrton ",1762421,0,0,0,0,241.5,0,29,{"$f":"'2016legmax.xls'!BJ165","v":0},1762392,{"$f":"'2016legmax.xls'!BB165","v":162944},229783,{"$f":"'2016legmax.xls'!BC165","v":149752},191955,{"$f":"'2016legmax.xls'!BD165","v":0},2304871,{"$f":"'2016legmax.xls'!DD165","v":14652},8042,0,0,0,0,0,{"$f":"'2016legmax.xls'!AV165","v":6},{"$f":"'2016legmax.xls'!AW165","v":"A"},{"$f":"'2016legmax.xls'!AX165","v":""},2369797,2327594,{"$f":"IF(Weightings!G165>0,Weightings!G165,'Preliminary SO66'!AB162)","v":2433635},2327594,2327594,2321673,{"$f":"'2016legmax.xls'!BM165","v":0.3},696502,696502,696502,null,1769499,0,0,0,0,0,0,0,0,0,7078,0,0,1762421,{"$f":"'2016legmax.xls'!F165","v":230},{"$f":"'2016legmax.xls'!I165","v":220.5},{"$f":"'2016legmax.xls'!K165","v":237},237,{"$f":"'2016legmax.xls'!O165","v":4.5},241.5,{"$f":"IF(ISNA(VLOOKUP($CM168,'Audit Values'!$A$2:$AE$252,2,FALSE)),'Preliminary SO66'!T162,VLOOKUP($CM168,'Audit Values'!$A$2:$AE$252,20,FALSE))","v":0},0,{"$f":"IF(ISNA(VLOOKUP($CM168,'Audit Values'!$A$2:$AE$252,2,FALSE)),'Preliminary SO66'!U162,VLOOKUP($CM168,'Audit Values'!$A$2:$AE$252,21,FALSE))","v":0},0,0,0,0,{"$f":"'2016legmax.xls'!AH165","v":0},0,0,{"$f":"'2016legmax.xls'!CJ165","v":0},0,{"$f":"'2016legmax.xls'!CI165","v":0},0,0,0,0,0,0,0,0,0,0,0,0,0,0,null,null,null,"D0369"]
[371,"Gray","Montezuma ",1832349,83122,0,0,0,242.3,0,23,{"$f":"'2016legmax.xls'!BJ166","v":0},1915448,{"$f":"'2016legmax.xls'!BB166","v":202948},141108,{"$f":"'2016legmax.xls'!BC166","v":144962},188831,{"$f":"'2016legmax.xls'!BD166","v":1765},2406231,{"$f":"'2016legmax.xls'!DD166","v":0},1232,0,0,0,18468,7061,{"$f":"'2016legmax.xls'!AV166","v":18},{"$f":"'2016legmax.xls'!AW166","v":"A"},{"$f":"'2016legmax.xls'!AX166","v":""},2476884,2433015,{"$f":"IF(Weightings!G166>0,Weightings!G166,'Preliminary SO66'!AB163)","v":2498811},2433015,2433015,2304851,{"$f":"'2016legmax.xls'!BM166","v":0.3},691455,691455,691455,null,1839708,0,0,0,0,0,0,0,0,0,7359,0,0,1832349,{"$f":"'2016legmax.xls'!F166","v":233.4},{"$f":"'2016legmax.xls'!I166","v":238.8},{"$f":"'2016legmax.xls'!K166","v":206.5},238.8,{"$f":"'2016legmax.xls'!O166","v":3.5},242.3,{"$f":"IF(ISNA(VLOOKUP($CM169,'Audit Values'!$A$2:$AE$252,2,FALSE)),'Preliminary SO66'!T163,VLOOKUP($CM169,'Audit Values'!$A$2:$AE$252,20,FALSE))","v":10},50000,{"$f":"IF(ISNA(VLOOKUP($CM169,'Audit Values'!$A$2:$AE$252,2,FALSE)),'Preliminary SO66'!U163,VLOOKUP($CM169,'Audit Values'!$A$2:$AE$252,21,FALSE))","v":0},0,35.5,33122,83122,{"$f":"'2016legmax.xls'!AH166","v":0},0,0,{"$f":"'2016legmax.xls'!CJ166","v":0},0,{"$f":"'2016legmax.xls'!CI166","v":0},0,0,0,0,0,0,0,0,0,0,0,0,0,0,null,null,null,"D0371"]
[372,"Shawnee","Silver Lake ",4005747,1866,0,0,0,688,0,0,{"$f":"'2016legmax.xls'!BJ167","v":0},4007613,{"$f":"'2016legmax.xls'!BB167","v":944864},551013,{"$f":"'2016legmax.xls'!BC167","v":394649},521015,{"$f":"'2016legmax.xls'!BD167","v":80824},5978963,{"$f":"'2016legmax.xls'!DD167","v":0},0,0,0,0,0,0,{"$f":"'2016legmax.xls'!AV167","v":16},{"$f":"'2016legmax.xls'!AW167","v":"A"},{"$f":"'2016legmax.xls'!AX167","v":""},6105329,5978963,{"$f":"IF(Weightings!G167>0,Weightings!G167,'Preliminary SO66'!AB164)","v":6287367},5978963,5978963,5308230,{"$f":"'2016legmax.xls'!BM167","v":0.3},1592469,1592469,1592469,null,4021834,0,0,0,0,0,0,0,0,0,16087,0,0,4005747,{"$f":"'2016legmax.xls'!F167","v":685.7},{"$f":"'2016legmax.xls'!I167","v":681},{"$f":"'2016legmax.xls'!K167","v":656},681,{"$f":"'2016legmax.xls'!O167","v":7},688,{"$f":"IF(ISNA(VLOOKUP($CM170,'Audit Values'!$A$2:$AE$252,2,FALSE)),'Preliminary SO66'!T164,VLOOKUP($CM170,'Audit Values'!$A$2:$AE$252,20,FALSE))","v":0},0,{"$f":"IF(ISNA(VLOOKUP($CM170,'Audit Values'!$A$2:$AE$252,2,FALSE)),'Preliminary SO66'!U164,VLOOKUP($CM170,'Audit Values'!$A$2:$AE$252,21,FALSE))","v":0},0,2,1866,1866,{"$f":"'2016legmax.xls'!AH167","v":0},0,0,{"$f":"'2016legmax.xls'!CJ167","v":0},0,{"$f":"'2016legmax.xls'!CI167","v":0},0,0,0,0,0,0,0,0,0,0,0,0,0,0,null,null,null,"D0372"]
[373,"Harvey","Newton ",17096261,42715,0,0,0,3357.1,0,0,{"$f":"'2016legmax.xls'!BJ168","v":0},17138976,{"$f":"'2016legmax.xls'!BB168","v":4245802},2802391,{"$f":"'2016legmax.xls'!BC168","v":2021333},2662239,{"$f":"'2016legmax.xls'!BD168","v":406877},26615379,{"$f":"'2016legmax.xls'!DD168","v":0},0,0,0,11678,0,0,{"$f":"'2016legmax.xls'!AV168","v":18},{"$f":"'2016legmax.xls'!AW168","v":"A"},{"$f":"'2016legmax.xls'!AX168","v":""},27256285,26627057,{"$f":"IF(Weightings!G168>0,Weightings!G168,'Preliminary SO66'!AB165)","v":27812879},26627057,26627057,23038662,{"$f":"'2016legmax.xls'!BM168","v":0.3},6911599,6911599,6911599,null,17319386,40.1,154465,0,0,0,0,0,0,0,68660,0,0,17096261,{"$f":"'2016legmax.xls'!F168","v":3345.4},{"$f":"'2016legmax.xls'!I168","v":3329.1},{"$f":"'2016legmax.xls'!K168","v":3289.3},3329.1,{"$f":"'2016legmax.xls'!O168","v":28},3357.1,{"$f":"IF(ISNA(VLOOKUP($CM171,'Audit Values'!$A$2:$AE$299,2,FALSE)),'Preliminary SO66'!T165,VLOOKUP($CM171,'Audit Values'!$A$2:$AE$299,20,FALSE))","v":4},20000,{"$f":"IF(ISNA(VLOOKUP($CM171,'Audit Values'!$A$2:$AE$299,2,FALSE)),'Preliminary SO66'!U165,VLOOKUP($CM171,'Audit Values'!$A$2:$AE$299,21,FALSE))","v":5.5},22248,0.5,467,42715,{"$f":"'2016legmax.xls'!AH168","v":0},0,0,{"$f":"'2016legmax.xls'!CJ168","v":0},0,{"$f":"'2016legmax.xls'!CI168","v":0},0,0,0,0,0,0,0,0,0,0,0,0,0,0,null,null,null,"D0373"]
[374,"Haskell","Sublette ",3458910,4199,0,0,0,484.4,0,0,{"$f":"'2016legmax.xls'!BJ169","v":0},3463109,{"$f":"'2016legmax.xls'!BB169","v":0},262404,{"$f":"'2016legmax.xls'!BC169","v":309839},404912,{"$f":"'2016legmax.xls'!BD169","v":0},4035352,{"$f":"'2016legmax.xls'!DD169","v":0},44064,0,0,0,0,2356,{"$f":"'2016legmax.xls'!AV169","v":10},{"$f":"'2016legmax.xls'!AW169","v":"A"},{"$f":"'2016legmax.xls'!AX169","v":""},4176845,4081772,{"$f":"IF(Weightings!G169>0,Weightings!G169,'Preliminary SO66'!AB166)","v":4627900},4081772,4081772,4509641,{"$f":"'2016legmax.xls'!BM169","v":0.3},1352892,1352892,1352892,null,3490135,4.5,17334,0,0,0,0,0,0,0,13891,0,0,3458910,{"$f":"'2016legmax.xls'!F169","v":443.5},{"$f":"'2016legmax.xls'!I169","v":476.4},{"$f":"'2016legmax.xls'!K169","v":432.7},476.4,{"$f":"'2016legmax.xls'!O169","v":8},484.4,{"$f":"IF(ISNA(VLOOKUP($CM172,'Audit Values'!$A$2:$AE$252,2,FALSE)),'Preliminary SO66'!T166,VLOOKUP($CM172,'Audit Values'!$A$2:$AE$252,20,FALSE))","v":0},0,{"$f":"IF(ISNA(VLOOKUP($CM172,'Audit Values'!$A$2:$AE$252,2,FALSE)),'Preliminary SO66'!U166,VLOOKUP($CM172,'Audit Values'!$A$2:$AE$252,21,FALSE))","v":0},0,4.5,4199,4199,{"$f":"'2016legmax.xls'!AH169","v":0},0,0,{"$f":"'2016legmax.xls'!CJ169","v":0},0,{"$f":"'2016legmax.xls'!CI169","v":0},0,0,0,0,0,0,0,0,0,0,0,0,0,0,null,null,null,"D0374"]
[375,"Butler","Circle ",8752643,146719,546214,0,0,1860.8,0,13006,{"$f":"'2016legmax.xls'!BJ170","v":0},9432570,{"$f":"'2016legmax.xls'!BB170","v":467378},1456715,{"$f":"'2016legmax.xls'!BC170","v":854703},1114697,{"$f":"'2016legmax.xls'!BD170","v":0},12211366,{"$f":"'2016legmax.xls'!DD170","v":0},0,0,0,0,0,0,{"$f":"'2016legmax.xls'!AV170","v":7},{"$f":"'2016legmax.xls'!AW170","v":"A"},{"$f":"'2016legmax.xls'!AX170","v":""},12484366,12224372,{"$f":"IF(Weightings!G170>0,Weightings!G170,'Preliminary SO66'!AB167)","v":12797457},12224372,12224372,11856358,{"$f":"'2016legmax.xls'!BM170","v":0.3},3556907,3556907,3556907,null,9025965,29.2,112478,0,0,0,0,0,0,0,35654,32.5,125190,8752643,{"$f":"'2016legmax.xls'!F170","v":1804.3},{"$f":"'2016legmax.xls'!I170","v":1854.8},{"$f":"'2016legmax.xls'!K170","v":1860.8},1860.8,{"$f":"'2016legmax.xls'!O170","v":0},1860.8,{"$f":"IF(ISNA(VLOOKUP($CM173,'Audit Values'!$A$2:$AE$252,2,FALSE)),'Preliminary SO66'!T167,VLOOKUP($CM173,'Audit Values'!$A$2:$AE$252,20,FALSE))","v":16},80000,{"$f":"IF(ISNA(VLOOKUP($CM173,'Audit Values'!$A$2:$AE$252,2,FALSE)),'Preliminary SO66'!U167,VLOOKUP($CM173,'Audit Values'!$A$2:$AE$252,21,FALSE))","v":4.5},18203,52,48516,146719,{"$f":"'2016legmax.xls'!AH170","v":141.80000000000001},546214,0,{"$f":"'2016legmax.xls'!CJ170","v":0},0,{"$f":"'2016legmax.xls'!CI170","v":0},0,0,0,0,0,0,0,0,0,0,0,0,0,0,null,null,null,"D0375"]
[376,"Rice","Sterling ",3284505,0,0,0,0,518.4,0,0,{"$f":"'2016legmax.xls'!BJ171","v":0},3284505,{"$f":"'2016legmax.xls'!BB171","v":722010},617355,{"$f":"'2016legmax.xls'!BC171","v":281427},367530,{"$f":"'2016legmax.xls'!BD171","v":49063},4954360,{"$f":"'2016legmax.xls'!DD171","v":0},2768,0,0,0,0,0,{"$f":"'2016legmax.xls'!AV171","v":13},{"$f":"'2016legmax.xls'!AW171","v":"A"},{"$f":"'2016legmax.xls'!AX171","v":""},5043231,4957128,{"$f":"IF(Weightings!G171>0,Weightings!G171,'Preliminary SO66'!AB168)","v":5152685},4957128,4957128,4458500,{"$f":"'2016legmax.xls'!BM171","v":0.3},1337550,1337550,1337550,null,3297696,0,0,0,0,0,0,0,0,0,13191,0,0,3284505,{"$f":"'2016legmax.xls'!F171","v":495.4},{"$f":"'2016legmax.xls'!I171","v":514.4},{"$f":"'2016legmax.xls'!K171","v":505.2},514.4,{"$f":"'2016legmax.xls'!O171","v":4},518.4,{"$f":"IF(ISNA(VLOOKUP($CM174,'Audit Values'!$A$2:$AE$252,2,FALSE)),'Preliminary SO66'!T168,VLOOKUP($CM174,'Audit Values'!$A$2:$AE$252,20,FALSE))","v":0},0,{"$f":"IF(ISNA(VLOOKUP($CM174,'Audit Values'!$A$2:$AE$252,2,FALSE)),'Preliminary SO66'!U168,VLOOKUP($CM174,'Audit Values'!$A$2:$AE$252,21,FALSE))","v":0},0,0,0,0,{"$f":"'2016legmax.xls'!AH171","v":0},0,0,{"$f":"'2016legmax.xls'!CJ171","v":0},0,{"$f":"'2016legmax.xls'!CI171","v":0},0,0,0,0,0,0,0,0,0,0,0,0,0,0,null,null,null,"D0376"]
[377,"Atchison","Atchison Co Comm Schools ",4062625,19708,0,{"$f":"BV175+BZ175+CD175","v":0},0,576.5,0,0,{"$f":"'2016legmax.xls'!BJ172","v":0},4082333,{"$f":"'2016legmax.xls'!BB172","v":464230},807668,{"$f":"'2016legmax.xls'!BC172","v":295486},388834,{"$f":"'2016legmax.xls'!BD172","v":0},5649717,{"$f":"'2016legmax.xls'!DD172","v":0},0,0,0,0,0,2820,{"$f":"'2016legmax.xls'!AV172","v":18},{"$f":"'2016legmax.xls'!AW172","v":"A"},{"$f":"'2016legmax.xls'!AX172","v":"R"},5745885,5652537,{"$f":"IF(Weightings!G172>0,Weightings!G172,'Preliminary SO66'!AB169)","v":5813215},5652537,5652537,5626460,{"$f":"'2016legmax.xls'!BM172","v":0.3},1687938,1687938,1687938,null,4078941,0,0,0,0,0,0,0,0,0,16316,0,0,4062625,{"$f":"'2016legmax.xls'!F172","v":580},{"$f":"'2016legmax.xls'!I172","v":574},{"$f":"'2016legmax.xls'!K172","v":550},574,{"$f":"'2016legmax.xls'!O172","v":2.5},576.5,{"$f":"IF(ISNA(VLOOKUP($CM175,'Audit Values'!$A$2:$AE$252,2,FALSE)),'Preliminary SO66'!T169,VLOOKUP($CM175,'Audit Values'!$A$2:$AE$252,20,FALSE))","v":2},10000,{"$f":"IF(ISNA(VLOOKUP($CM175,'Audit Values'!$A$2:$AE$252,2,FALSE)),'Preliminary SO66'!U169,VLOOKUP($CM175,'Audit Values'!$A$2:$AE$252,21,FALSE))","v":2.4},9708,0,0,19708,{"$f":"'2016legmax.xls'!AH172","v":0},0,0,{"$f":"'2016legmax.xls'!CJ172","v":0},0,{"$f":"'2016legmax.xls'!CI172","v":0},0,0,0,0,0,0,0,0,0,0,0,0,0,0,null,null,null,"D0377"]
[378,"Riley","Riley County ",4169041,0,0,0,9791,670.6,0,0,{"$f":"'2016legmax.xls'!BJ173","v":0},4178832,{"$f":"'2016legmax.xls'!BB173","v":772699},704933,{"$f":"'2016legmax.xls'!BC173","v":269930},396792,{"$f":"'2016legmax.xls'!BD173","v":60973},5987367,{"$f":"'2016legmax.xls'!DD173","v":0},0,4095,0,0,0,0,{"$f":"'2016legmax.xls'!AV173","v":4},{"$f":"'2016legmax.xls'!AW173","v":"A"},{"$f":"'2016legmax.xls'!AX173","v":""},6118324,5991462,{"$f":"IF(Weightings!G173>0,Weightings!G173,'Preliminary SO66'!AB170)","v":6289057},5991462,5991462,5598145,{"$f":"'2016legmax.xls'!BM173","v":0.3},1679444,1679444,1679444,null,4185784,0,0,0,0,0,0,0,0,0,16743,0,0,4169041,{"$f":"'2016legmax.xls'!F173","v":685.8},{"$f":"'2016legmax.xls'!I173","v":656.5},{"$f":"'2016legmax.xls'!K173","v":669.4},670.6,{"$f":"'2016legmax.xls'!O173","v":0},670.6,{"$f":"IF(ISNA(VLOOKUP($CM176,'Audit Values'!$A$2:$AE$252,2,FALSE)),'Preliminary SO66'!T170,VLOOKUP($CM176,'Audit Values'!$A$2:$AE$252,20,FALSE))","v":0},0,{"$f":"IF(ISNA(VLOOKUP($CM176,'Audit Values'!$A$2:$AE$252,2,FALSE)),'Preliminary SO66'!U170,VLOOKUP($CM176,'Audit Values'!$A$2:$AE$252,21,FALSE))","v":0},0,0,0,0,{"$f":"'2016legmax.xls'!AH173","v":0},0,0,{"$f":"'2016legmax.xls'!CJ173","v":0},0,{"$f":"'2016legmax.xls'!CI173","v":0},0,0,0,0,0,0,0,0,0,0,{"$f":"9790+1","v":9791},0,0,0,null,null,null,"D0378"]
[379,"Clay","Clay Center ",7146390,50867,0,0,27645,1328.6,0,0,{"$f":"'2016legmax.xls'!BJ174","v":0},7224902,{"$f":"'2016legmax.xls'!BB174","v":1394177},1214769,{"$f":"'2016legmax.xls'!BC174","v":873772},1146303,{"$f":"'2016legmax.xls'!BD174","v":89511},10797131,{"$f":"'2016legmax.xls'!DD174","v":0},0,27002,0,0,0,0,{"$f":"'2016legmax.xls'!AV174","v":18},{"$f":"'2016legmax.xls'!AW174","v":"A"},{"$f":"'2016legmax.xls'!AX174","v":""},11096664,10824133,{"$f":"IF(Weightings!G174>0,Weightings!G174,'Preliminary SO66'!AB171)","v":11437444},10824133,10824133,9601533,{"$f":"'2016legmax.xls'!BM174","v":0.3},2880460,2880460,2880460,null,7213610,10,38520,0,0,0,0,0,0,0,28700,0,0,7146390,{"$f":"'2016legmax.xls'!F174","v":1346.3},{"$f":"'2016legmax.xls'!I174","v":1327.4},{"$f":"'2016legmax.xls'!K174","v":1312.1},1328.6,{"$f":"'2016legmax.xls'!O174","v":0},1328.6,{"$f":"IF(ISNA(VLOOKUP($CM177,'Audit Values'!$A$2:$AE$286,2,FALSE)),'Preliminary SO66'!T171,VLOOKUP($CM177,'Audit Values'!$A$2:$AE$286,20,FALSE))","v":7},35000,{"$f":"IF(ISNA(VLOOKUP($CM177,'Audit Values'!$A$2:$AE$286,2,FALSE)),'Preliminary SO66'!U171,VLOOKUP($CM177,'Audit Values'!$A$2:$AE$286,21,FALSE))","v":3},12135,4,3732,50867,{"$f":"'2016legmax.xls'!AH174","v":0},0,0,{"$f":"'2016legmax.xls'!CJ174","v":0},0,{"$f":"'2016legmax.xls'!CI174","v":0},0,0,0,0,0,0,0,0,0,0,27645,0,0,0,null,null,null,"D0379"]
[380,"Marshall","Vermillion ",3418859,0,0,0,0,530,0,0,{"$f":"'2016legmax.xls'!BJ175","v":0},3418859,{"$f":"'2016legmax.xls'!BB175","v":635988},291608,{"$f":"'2016legmax.xls'!BC175","v":267404},351157,{"$f":"'2016legmax.xls'!BD175","v":54102},4667961,{"$f":"'2016legmax.xls'!DD175","v":0},313,0,0,100000,0,0,{"$f":"'2016legmax.xls'!AV175","v":14},{"$f":"'2016legmax.xls'!AW175","v":"A"},{"$f":"'2016legmax.xls'!AX175","v":""},4752027,4768274,{"$f":"IF(Weightings!G175>0,Weightings!G175,'Preliminary SO66'!AB172)","v":4955582},{"$f":"MIN(AE178,AF178)","v":4768274},4768274,4383304,{"$f":"'2016legmax.xls'!BM175","v":0.3},1314991,1314991,1314991,null,3432589,0,0,0,0,0,0,0,0,0,13730,0,0,3418859,{"$f":"'2016legmax.xls'!F175","v":515.5},{"$f":"'2016legmax.xls'!I175","v":509},{"$f":"'2016legmax.xls'!K175","v":521},521,{"$f":"'2016legmax.xls'!O175","v":9},530,{"$f":"IF(ISNA(VLOOKUP($CM178,'Audit Values'!$A$2:$AE$252,2,FALSE)),'Preliminary SO66'!T172,VLOOKUP($CM178,'Audit Values'!$A$2:$AE$252,20,FALSE))","v":0},0,{"$f":"IF(ISNA(VLOOKUP($CM178,'Audit Values'!$A$2:$AE$252,2,FALSE)),'Preliminary SO66'!U172,VLOOKUP($CM178,'Audit Values'!$A$2:$AE$252,21,FALSE))","v":0},0,0,0,0,{"$f":"'2016legmax.xls'!AH175","v":0},0,0,{"$f":"'2016legmax.xls'!CJ175","v":0},0,{"$f":"'2016legmax.xls'!CI175","v":0},0,0,0,0,0,0,0,0,0,0,0,0,0,0,null,null,null,"D0380"]
[381,"Ford","Spearville ",2187021,0,16178,0,0,341.5,0,0,{"$f":"'2016legmax.xls'!BJ176","v":0},2203199,{"$f":"'2016legmax.xls'!BB176","v":359761},253437,{"$f":"'2016legmax.xls'!BC176","v":159781},207964,{"$f":"'2016legmax.xls'!BD176","v":0},2976178,{"$f":"'2016legmax.xls'!DD176","v":0},4258,0,0,0,0,0,{"$f":"'2016legmax.xls'!AV176","v":10},{"$f":"'2016legmax.xls'!AW176","v":"A"},{"$f":"'2016legmax.xls'!AX176","v":""},3028619,2980436,{"$f":"IF(Weightings!G176>0,Weightings!G176,'Preliminary SO66'!AB173)","v":3100817},2980436,2980436,2947716,{"$f":"'2016legmax.xls'!BM176","v":0.3},884315,884315,884315,null,2272767,0,0,0,0,0,0,0,0,0,9091,19.899999999999999,76655,2187021,{"$f":"'2016legmax.xls'!F176","v":339.5},{"$f":"'2016legmax.xls'!I176","v":338.5},{"$f":"'2016legmax.xls'!K176","v":341.5},341.5,{"$f":"'2016legmax.xls'!O176","v":0},341.5,{"$f":"IF(ISNA(VLOOKUP($CM179,'Audit Values'!$A$2:$AE$252,2,FALSE)),'Preliminary SO66'!T173,VLOOKUP($CM179,'Audit Values'!$A$2:$AE$252,20,FALSE))","v":0},0,{"$f":"IF(ISNA(VLOOKUP($CM179,'Audit Values'!$A$2:$AE$252,2,FALSE)),'Preliminary SO66'!U173,VLOOKUP($CM179,'Audit Values'!$A$2:$AE$252,21,FALSE))","v":0},0,0,0,0,{"$f":"'2016legmax.xls'!AH176","v":4.2},16178,0,{"$f":"'2016legmax.xls'!CJ176","v":0},0,{"$f":"'2016legmax.xls'!CI176","v":0},0,0,0,0,0,0,0,0,0,0,0,0,0,0,null,null,null,"D0381"]
[382,"Pratt","Pratt ",6418049,213871,0,0,0,1170.7,0,0,{"$f":"'2016legmax.xls'!BJ177","v":0},6631920,{"$f":"'2016legmax.xls'!BB177","v":862111},1188750,{"$f":"'2016legmax.xls'!BC177","v":504563},651204,{"$f":"'2016legmax.xls'!BD177","v":29334},9216678,{"$f":"'2016legmax.xls'!DD177","v":0},0,0,0,0,0,0,{"$f":"'2016legmax.xls'!AV177","v":20},{"$f":"'2016legmax.xls'!AW177","v":"A"},{"$f":"'2016legmax.xls'!AX177","v":""},9363319,9216678,{"$f":"IF(Weightings!G177>0,Weightings!G177,'Preliminary SO66'!AB174)","v":10514679},9216678,9216678,8702546,{"$f":"'2016legmax.xls'!BM177","v":0.3},2610764,2610764,2610764,null,6443824,0,0,0,0,0,0,0,0,0,25775,0,0,6418049,{"$f":"'2016legmax.xls'!F177","v":1163.2},{"$f":"'2016legmax.xls'!I177","v":1160.7},{"$f":"'2016legmax.xls'!K177","v":1033.9000000000001},1160.7,{"$f":"'2016legmax.xls'!O177","v":10},1170.7,{"$f":"IF(ISNA(VLOOKUP($CM180,'Audit Values'!$A$2:$AE$300,2,FALSE)),'Preliminary SO66'!T174,VLOOKUP($CM180,'Audit Values'!$A$2:$AE$300,20,FALSE))","v":3},15000,{"$f":"IF(ISNA(VLOOKUP($CM180,'Audit Values'!$A$2:$AE$300,2,FALSE)),'Preliminary SO66'!U174,VLOOKUP($CM180,'Audit Values'!$A$2:$AE$300,21,FALSE))","v":0.9},3641,209.25,195230,213871,{"$f":"'2016legmax.xls'!AH177","v":0},0,0,{"$f":"'2016legmax.xls'!CJ177","v":0},0,{"$f":"'2016legmax.xls'!CI177","v":0},0,0,0,0,0,0,0,0,0,0,0,0,0,0,null,null,null,"D0382"]
[383,"Riley","Manhattan-Ogden ",28711657,695852,0,0,0,5945.9,0,10152,{"$f":"'2016legmax.xls'!BJ178","v":0},29397357,{"$f":"'2016legmax.xls'!BB178","v":1522578},6764502,{"$f":"'2016legmax.xls'!BC178","v":3346213},4637714,{"$f":"'2016legmax.xls'!BD178","v":0},41030650,{"$f":"'2016legmax.xls'!DD178","v":0},0,94480,0,400000,2489,14320,{"$f":"'2016legmax.xls'!AV178","v":8},{"$f":"'2016legmax.xls'!AW178","v":"A"},{"$f":"'2016legmax.xls'!AX178","v":""},42443592,41552091,{"$f":"IF(Weightings!G178>0,Weightings!G178,'Preliminary SO66'!AB175)","v":43268562},41552091,41552091,40497712,{"$f":"'2016legmax.xls'!BM178","v":0.33},13364245,13254291,13254291,null,29381454,131.9,508079,0,0,0,0,0,0,0,115494,12,46224,28711657,{"$f":"'2016legmax.xls'!F178","v":5726},{"$f":"'2016legmax.xls'!I178","v":5925.9},{"$f":"'2016legmax.xls'!K178","v":5808.3},5925.9,{"$f":"'2016legmax.xls'!O178","v":20},5945.9,{"$f":"IF(ISNA(VLOOKUP($CM181,'Audit Values'!$A$2:$AE$252,2,FALSE)),'Preliminary SO66'!T175,VLOOKUP($CM181,'Audit Values'!$A$2:$AE$252,20,FALSE))","v":115},575000,{"$f":"IF(ISNA(VLOOKUP($CM181,'Audit Values'!$A$2:$AE$252,2,FALSE)),'Preliminary SO66'!U175,VLOOKUP($CM181,'Audit Values'!$A$2:$AE$252,21,FALSE))","v":29.3},118519,2.5,2333,695852,{"$f":"'2016legmax.xls'!AH178","v":0},0,0,{"$f":"'2016legmax.xls'!CJ178","v":0.02},848872,{"$f":"'2016legmax.xls'!CI178","v":0},0,0,0,0,0,0,0,0,0,116078,116077,0,0,0,null,null,null,"D0383"]
[384,"Riley","Blue Valley ",1436800,0,0,0,36646,187.5,0,0,{"$f":"'2016legmax.xls'!BJ179","v":0},1473446,{"$f":"'2016legmax.xls'!BB179","v":62338},270392,{"$f":"'2016legmax.xls'!BC179","v":98081},129851,{"$f":"'2016legmax.xls'!BD179","v":0},1904257,{"$f":"'2016legmax.xls'!DD179","v":0},0,57621,0,0,0,778,{"$f":"'2016legmax.xls'!AV179","v":12},{"$f":"'2016legmax.xls'!AW179","v":"A"},{"$f":"'2016legmax.xls'!AX179","v":""},1994426,1962656,{"$f":"IF(Weightings!G179>0,Weightings!G179,'Preliminary SO66'!AB176)","v":1999954},1962656,1962656,2035257,{"$f":"'2016legmax.xls'!BM179","v":0.33},671635,671635,671635,null,1442570,0,0,0,0,0,0,0,0,0,5770,0,0,1436800,{"$f":"'2016legmax.xls'!F179","v":178},{"$f":"'2016legmax.xls'!I179","v":178},{"$f":"'2016legmax.xls'!K179","v":184},184,{"$f":"'2016legmax.xls'!O179","v":3.5},187.5,{"$f":"IF(ISNA(VLOOKUP($CM182,'Audit Values'!$A$2:$AE$252,2,FALSE)),'Preliminary SO66'!T176,VLOOKUP($CM182,'Audit Values'!$A$2:$AE$252,20,FALSE))","v":0},0,{"$f":"IF(ISNA(VLOOKUP($CM182,'Audit Values'!$A$2:$AE$252,2,FALSE)),'Preliminary SO66'!U176,VLOOKUP($CM182,'Audit Values'!$A$2:$AE$252,21,FALSE))","v":0},0,0,0,0,{"$f":"'2016legmax.xls'!AH179","v":0},0,0,{"$f":"'2016legmax.xls'!CJ179","v":0},0,{"$f":"'2016legmax.xls'!CI179","v":0},0,0,0,0,0,0,0,0,0,21000,57646,0,0,0,null,null,null,"D0384"]
[385,"Butler","Andover ",21960833,2883786,0,0,0,4962.7,0,414,{"$f":"'2016legmax.xls'!BJ180","v":0},24844205,{"$f":"'2016legmax.xls'!BB180","v":5432120},4240465,{"$f":"'2016legmax.xls'!BC180","v":2186449},2859678,{"$f":"'2016legmax.xls'!BD180","v":639242},37342481,{"$f":"'2016legmax.xls'!DD180","v":0},4,0,0,0,0,4654,{"$f":"'2016legmax.xls'!AV180","v":17},{"$f":"'2016legmax.xls'!AW180","v":"A"},{"$f":"'2016legmax.xls'!AX180","v":""},38020782,37347553,{"$f":"IF(Weightings!G180>0,Weightings!G180,'Preliminary SO66'!AB177)","v":39278481},37347553,37347553,29849758,{"$f":"'2016legmax.xls'!BM180","v":0.31},9253425,9253425,9253425,null,24917228,744.6,2868199,0,0,0,0,0,0,0,88196,0,0,21960833,{"$f":"'2016legmax.xls'!F180","v":4800.2},{"$f":"'2016legmax.xls'!I180","v":4924.5},{"$f":"'2016legmax.xls'!K180","v":4940.2},4940.2,{"$f":"'2016legmax.xls'!O180","v":22.5},4962.7,{"$f":"IF(ISNA(VLOOKUP($CM183,'Audit Values'!$A$2:$AE$269,2,FALSE)),'Preliminary SO66'!T177,VLOOKUP($CM183,'Audit Values'!$A$2:$AE$269,20,FALSE))","v":318},1590000,{"$f":"IF(ISNA(VLOOKUP($CM183,'Audit Values'!$A$2:$AE$269,2,FALSE)),'Preliminary SO66'!U177,VLOOKUP($CM183,'Audit Values'!$A$2:$AE$269,21,FALSE))","v":308.2},1246669,50.5,47117,2883786,{"$f":"'2016legmax.xls'!AH180","v":0},0,0,{"$f":"'2016legmax.xls'!CJ180","v":0.05},1901039,{"$f":"'2016legmax.xls'!CI180","v":0},0,0,0,0,0,0,0,0,0,0,0,0,0,0,null,null,null,"D0385"]
[386,"Greenwood","Madison-Virgil ",1807177,0,0,0,0,230.2,0,0,{"$f":"'2016legmax.xls'!BJ181","v":0},1807177,{"$f":"'2016legmax.xls'!BB181","v":256997},329226,{"$f":"'2016legmax.xls'!BC181","v":131338},173146,{"$f":"'2016legmax.xls'!BD181","v":6429},2531167,{"$f":"'2016legmax.xls'!DD181","v":0},670,0,0,0,0,0,{"$f":"'2016legmax.xls'!AV181","v":16},{"$f":"'2016legmax.xls'!AW181","v":"A"},{"$f":"'2016legmax.xls'!AX181","v":""},2573645,2531837,{"$f":"IF(Weightings!G181>0,Weightings!G181,'Preliminary SO66'!AB178)","v":2591191},2531837,2531837,2442301,{"$f":"'2016legmax.xls'!BM181","v":0.3},732690,664000,664000,null,1814435,0,0,0,0,0,0,0,0,0,7258,0,0,1807177,{"$f":"'2016legmax.xls'!F181","v":240},{"$f":"'2016legmax.xls'!I181","v":225.5},{"$f":"'2016legmax.xls'!K181","v":220.5},228.7,{"$f":"'2016legmax.xls'!O181","v":1.5},230.2,{"$f":"IF(ISNA(VLOOKUP($CM184,'Audit Values'!$A$2:$AE$252,2,FALSE)),'Preliminary SO66'!T178,VLOOKUP($CM184,'Audit Values'!$A$2:$AE$252,20,FALSE))","v":0},0,{"$f":"IF(ISNA(VLOOKUP($CM184,'Audit Values'!$A$2:$AE$252,2,FALSE)),'Preliminary SO66'!U178,VLOOKUP($CM184,'Audit Values'!$A$2:$AE$252,21,FALSE))","v":0},0,0,0,0,{"$f":"'2016legmax.xls'!AH181","v":0},0,0,{"$f":"'2016legmax.xls'!CJ181","v":0},0,{"$f":"'2016legmax.xls'!CI181","v":0},0,0,0,0,0,0,0,0,0,0,0,0,0,0,null,null,null,"D0386"]
[387,"Wilson","Altoona-Midway ",1771247,0,0,0,0,206.5,0,23752,{"$f":"'2016legmax.xls'!BJ182","v":0},1747495,{"$f":"'2016legmax.xls'!BB182","v":39534},232181,{"$f":"'2016legmax.xls'!BC182","v":103683},134591,{"$f":"'2016legmax.xls'!BD182","v":0},2122893,{"$f":"'2016legmax.xls'!DD182","v":0},1994,0,0,0,0,0,{"$f":"'2016legmax.xls'!AV182","v":7},{"$f":"'2016legmax.xls'!AW182","v":"A"},{"$f":"'2016legmax.xls'!AX182","v":""},2179547,2148639,{"$f":"IF(Weightings!G182>0,Weightings!G182,'Preliminary SO66'!AB179)","v":2248640},2148639,2148639,2348179,{"$f":"'2016legmax.xls'!BM182","v":0.25800000000000001},605830,605830,605830,null,1778360,0,0,0,0,0,0,0,0,0,7113,0,0,1771247,{"$f":"'2016legmax.xls'!F182","v":184.5},{"$f":"'2016legmax.xls'!I182","v":204},{"$f":"'2016legmax.xls'!K182","v":177.5},204,{"$f":"'2016legmax.xls'!O182","v":2.5},206.5,{"$f":"IF(ISNA(VLOOKUP($CM185,'Audit Values'!$A$2:$AE$252,2,FALSE)),'Preliminary SO66'!T179,VLOOKUP($CM185,'Audit Values'!$A$2:$AE$252,20,FALSE))","v":0},0,{"$f":"IF(ISNA(VLOOKUP($CM185,'Audit Values'!$A$2:$AE$252,2,FALSE)),'Preliminary SO66'!U179,VLOOKUP($CM185,'Audit Values'!$A$2:$AE$252,21,FALSE))","v":0},0,0,0,0,{"$f":"'2016legmax.xls'!AH182","v":0},0,0,{"$f":"'2016legmax.xls'!CJ182","v":0},0,{"$f":"'2016legmax.xls'!CI182","v":0},0,0,0,0,0,0,0,0,0,0,0,0,0,0,null,null,null,"D0387"]
[388,"Ellis","Ellis ",2539416,0,0,0,0,419.6,0,0,{"$f":"'2016legmax.xls'!BJ183","v":0},2539416,{"$f":"'2016legmax.xls'!BB183","v":127738},309119,{"$f":"'2016legmax.xls'!BC183","v":214630},280839,{"$f":"'2016legmax.xls'!BD183","v":0},3190903,{"$f":"'2016legmax.xls'!DD183","v":0},8463,0,0,0,0,0,{"$f":"'2016legmax.xls'!AV183","v":11},{"$f":"'2016legmax.xls'!AW183","v":"A"},{"$f":"'2016legmax.xls'!AX183","v":""},3265575,3199366,{"$f":"IF(Weightings!G183>0,Weightings!G183,'Preliminary SO66'!AB180)","v":3414300},3199366,3199366,3369679,{"$f":"'2016legmax.xls'!BM183","v":0.3},1010904,846000,846000,null,2549614,0,0,0,0,0,0,0,0,0,10198,0,0,2539416,{"$f":"'2016legmax.xls'!F183","v":412},{"$f":"'2016legmax.xls'!I183","v":411},{"$f":"'2016legmax.xls'!K183","v":419.6},419.6,{"$f":"'2016legmax.xls'!O183","v":0},419.6,{"$f":"IF(ISNA(VLOOKUP($CM186,'Audit Values'!$A$2:$AE$252,2,FALSE)),'Preliminary SO66'!T180,VLOOKUP($CM186,'Audit Values'!$A$2:$AE$252,20,FALSE))","v":0},0,{"$f":"IF(ISNA(VLOOKUP($CM186,'Audit Values'!$A$2:$AE$252,2,FALSE)),'Preliminary SO66'!U180,VLOOKUP($CM186,'Audit Values'!$A$2:$AE$252,21,FALSE))","v":0},0,0,0,0,{"$f":"'2016legmax.xls'!AH183","v":0},0,0,{"$f":"'2016legmax.xls'!CJ183","v":0},0,{"$f":"'2016legmax.xls'!CI183","v":0},0,0,0,0,0,0,0,0,0,0,0,0,0,0,null,null,null,"D0388"]
[389,"Greenwood","Eureka ",4421486,0,0,0,0,632,0,1,{"$f":"'2016legmax.xls'!BJ184","v":0},4421485,{"$f":"'2016legmax.xls'!BB184","v":951011},532823,{"$f":"'2016legmax.xls'!BC184","v":417134},550166,{"$f":"'2016legmax.xls'!BD184","v":69331},6391784,{"$f":"'2016legmax.xls'!DD184","v":0},232,8342,0,0,0,0,{"$f":"'2016legmax.xls'!AV184","v":16},{"$f":"'2016legmax.xls'!AW184","v":"A"},{"$f":"'2016legmax.xls'!AX184","v":""},6533391,6400359,{"$f":"IF(Weightings!G184>0,Weightings!G184,'Preliminary SO66'!AB181)","v":6691172},6400359,6400359,5748460,{"$f":"'2016legmax.xls'!BM184","v":0.3},1724538,1724538,1724538,null,4439243,0,0,0,0,0,0,0,0,0,17757,0,0,4421486,{"$f":"'2016legmax.xls'!F184","v":628},{"$f":"'2016legmax.xls'!I184","v":621.5},{"$f":"'2016legmax.xls'!K184","v":606},621.5,{"$f":"'2016legmax.xls'!O184","v":10.5},632,{"$f":"IF(ISNA(VLOOKUP($CM187,'Audit Values'!$A$2:$AE$252,2,FALSE)),'Preliminary SO66'!T181,VLOOKUP($CM187,'Audit Values'!$A$2:$AE$252,20,FALSE))","v":0},0,{"$f":"IF(ISNA(VLOOKUP($CM187,'Audit Values'!$A$2:$AE$252,2,FALSE)),'Preliminary SO66'!U181,VLOOKUP($CM187,'Audit Values'!$A$2:$AE$252,21,FALSE))","v":0},0,0,0,0,{"$f":"'2016legmax.xls'!AH184","v":0},0,0,{"$f":"'2016legmax.xls'!CJ184","v":0},0,{"$f":"'2016legmax.xls'!CI184","v":0},0,0,0,0,0,0,0,0,0,8342,8342,0,0,0,null,null,null,"D0389"]
[390,"Greenwood","Hamilton ",845773,0,0,0,0,87.5,0,0,{"$f":"'2016legmax.xls'!BJ185","v":0},845773,{"$f":"'2016legmax.xls'!BB185","v":7073},140690,{"$f":"'2016legmax.xls'!BC185","v":53573},70408,{"$f":"'2016legmax.xls'!BD185","v":0},1047109,{"$f":"'2016legmax.xls'!DD185","v":0},424,0,0,0,0,0,{"$f":"'2016legmax.xls'!AV185","v":16},{"$f":"'2016legmax.xls'!AW185","v":"A"},{"$f":"'2016legmax.xls'!AX185","v":""},1064368,1047533,{"$f":"IF(Weightings!G185>0,Weightings!G185,'Preliminary SO66'!AB182)","v":1101321},1047533,1047533,1140319,{"$f":"'2016legmax.xls'!BM185","v":0.28060000000000002},319974,288957,288957,null,849170,0,0,0,0,0,0,0,0,0,3397,0,0,845773,{"$f":"'2016legmax.xls'!F185","v":82},{"$f":"'2016legmax.xls'!I185","v":86.5},{"$f":"'2016legmax.xls'!K185","v":75.5},86.5,{"$f":"'2016legmax.xls'!O185","v":1},87.5,{"$f":"IF(ISNA(VLOOKUP($CM188,'Audit Values'!$A$2:$AE$252,2,FALSE)),'Preliminary SO66'!T182,VLOOKUP($CM188,'Audit Values'!$A$2:$AE$252,20,FALSE))","v":0},0,{"$f":"IF(ISNA(VLOOKUP($CM188,'Audit Values'!$A$2:$AE$252,2,FALSE)),'Preliminary SO66'!U182,VLOOKUP($CM188,'Audit Values'!$A$2:$AE$252,21,FALSE))","v":0},0,0,0,0,{"$f":"'2016legmax.xls'!AH185","v":0},0,0,{"$f":"'2016legmax.xls'!CJ185","v":0},0,{"$f":"'2016legmax.xls'!CI185","v":0},0,0,0,0,0,0,0,0,0,0,0,0,0,0,null,null,null,"D0390"]
[392,"Osborne","Osborne County ",2062456,0,0,0,0,280.10000000000002,0,0,{"$f":"'2016legmax.xls'!BJ186","v":0},2062456,{"$f":"'2016legmax.xls'!BB186","v":232843},341892,{"$f":"'2016legmax.xls'!BC186","v":143307},188083,{"$f":"'2016legmax.xls'!BD186","v":0},2780498,{"$f":"'2016legmax.xls'!DD186","v":0},2091,0,0,0,338,4687,{"$f":"'2016legmax.xls'!AV186","v":3},{"$f":"'2016legmax.xls'!AW186","v":"A"},{"$f":"'2016legmax.xls'!AX186","v":""},2832390,2787614,{"$f":"IF(Weightings!G186>0,Weightings!G186,'Preliminary SO66'!AB183)","v":2887615},2787614,2787614,2818692,{"$f":"'2016legmax.xls'!BM186","v":0.3},845608,845508,845508,null,2070739,0,0,0,0,0,0,0,0,0,8283,0,0,2062456,{"$f":"'2016legmax.xls'!F186","v":285.60000000000002},{"$f":"'2016legmax.xls'!I186","v":280.10000000000002},{"$f":"'2016legmax.xls'!K186","v":273.60000000000002},280.10000000000002,{"$f":"'2016legmax.xls'!O186","v":0},280.10000000000002,{"$f":"IF(ISNA(VLOOKUP($CM189,'Audit Values'!$A$2:$AE$252,2,FALSE)),'Preliminary SO66'!T183,VLOOKUP($CM189,'Audit Values'!$A$2:$AE$252,20,FALSE))","v":0},0,{"$f":"IF(ISNA(VLOOKUP($CM189,'Audit Values'!$A$2:$AE$252,2,FALSE)),'Preliminary SO66'!U183,VLOOKUP($CM189,'Audit Values'!$A$2:$AE$252,21,FALSE))","v":0},0,0,0,0,{"$f":"'2016legmax.xls'!AH186","v":0},0,0,{"$f":"'2016legmax.xls'!CJ186","v":0},0,{"$f":"'2016legmax.xls'!CI186","v":0},0,0,0,0,0,0,0,0,0,0,0,0,0,0,null,null,null,"D0392"]
[393,"Dickinson","Solomon ",2179250,0,0,0,0,312.60000000000002,0,0,{"$f":"'2016legmax.xls'!BJ187","v":0},2179250,{"$f":"'2016legmax.xls'!BB187","v":300756},305434,{"$f":"'2016legmax.xls'!BC187","v":175300},227246,{"$f":"'2016legmax.xls'!BD187","v":11826},2972566,{"$f":"'2016legmax.xls'!DD187","v":0},0,0,0,0,0,4811,{"$f":"'2016legmax.xls'!AV187","v":11},{"$f":"'2016legmax.xls'!AW187","v":"A"},{"$f":"'2016legmax.xls'!AX187","v":""},3029323,2977377,{"$f":"IF(Weightings!G187>0,Weightings!G187,'Preliminary SO66'!AB184)","v":3095427},2977377,2977377,2917860,{"$f":"'2016legmax.xls'!BM187","v":0.3},875358,875358,875358,null,2248864,15.8,60862,0,0,0,0,0,0,0,8752,0,0,2179250,{"$f":"'2016legmax.xls'!F187","v":324.2},{"$f":"'2016legmax.xls'!I187","v":311},{"$f":"'2016legmax.xls'!K187","v":302.60000000000002},312.60000000000002,{"$f":"'2016legmax.xls'!O187","v":0},312.60000000000002,{"$f":"IF(ISNA(VLOOKUP($CM190,'Audit Values'!$A$2:$AE$252,2,FALSE)),'Preliminary SO66'!T184,VLOOKUP($CM190,'Audit Values'!$A$2:$AE$252,20,FALSE))","v":0},0,{"$f":"IF(ISNA(VLOOKUP($CM190,'Audit Values'!$A$2:$AE$252,2,FALSE)),'Preliminary SO66'!U184,VLOOKUP($CM190,'Audit Values'!$A$2:$AE$252,21,FALSE))","v":0},0,0,0,0,{"$f":"'2016legmax.xls'!AH187","v":0},0,0,{"$f":"'2016legmax.xls'!CJ187","v":0},0,{"$f":"'2016legmax.xls'!CI187","v":0},0,0,0,0,0,0,0,0,0,0,0,0,0,0,null,null,null,"D0393"]
[394,"Butler","Rose Hill Public Schools ",7625860,160251,0,0,0,1574.3,0,0,{"$f":"'2016legmax.xls'!BJ188","v":0},7786111,{"$f":"'2016legmax.xls'!BB188","v":2025917},1323684,{"$f":"'2016legmax.xls'!BC188","v":690041},902104,{"$f":"'2016legmax.xls'!BD188","v":194297},12020050,{"$f":"'2016legmax.xls'!DD188","v":0},35,0,0,0,0,0,{"$f":"'2016legmax.xls'!AV188","v":18},{"$f":"'2016legmax.xls'!AW188","v":"A"},{"$f":"'2016legmax.xls'!AX188","v":""},12232148,12020085,{"$f":"IF(Weightings!G188>0,Weightings!G188,'Preliminary SO66'!AB185)","v":12542612},12020085,12020085,10298690,{"$f":"'2016legmax.xls'!BM188","v":0.33},3398568,3214300,3214300,null,7770890,29.7,114404,0,0,0,0,0,0,0,30626,0,0,7625860,{"$f":"'2016legmax.xls'!F188","v":1583.7},{"$f":"'2016legmax.xls'!I188","v":1562.8},{"$f":"'2016legmax.xls'!K188","v":1520},1562.8,{"$f":"'2016legmax.xls'!O188","v":11.5},1574.3,{"$f":"IF(ISNA(VLOOKUP($CM191,'Audit Values'!$A$2:$AE$252,2,FALSE)),'Preliminary SO66'!T185,VLOOKUP($CM191,'Audit Values'!$A$2:$AE$252,20,FALSE))","v":23},115000,{"$f":"IF(ISNA(VLOOKUP($CM191,'Audit Values'!$A$2:$AE$252,2,FALSE)),'Preliminary SO66'!U185,VLOOKUP($CM191,'Audit Values'!$A$2:$AE$252,21,FALSE))","v":0},0,48.5,45251,160251,{"$f":"'2016legmax.xls'!AH188","v":0},0,0,{"$f":"'2016legmax.xls'!CJ188","v":0},0,{"$f":"'2016legmax.xls'!CI188","v":0},0,0,0,0,0,0,0,0,0,0,0,0,0,0,null,null,null,"D0394"]
[395,"Rush","LaCrosse ",2066717,0,0,0,0,291,0,0,{"$f":"'2016legmax.xls'!BJ189","v":0},2066717,{"$f":"'2016legmax.xls'!BB189","v":136560},250262,{"$f":"'2016legmax.xls'!BC189","v":177517},230603,{"$f":"'2016legmax.xls'!BD189","v":0},2631056,{"$f":"'2016legmax.xls'!DD189","v":0},532,0,0,0,0,1841,{"$f":"'2016legmax.xls'!AV189","v":9},{"$f":"'2016legmax.xls'!AW189","v":"A"},{"$f":"'2016legmax.xls'!AX189","v":""},2686515,2633429,{"$f":"IF(Weightings!G189>0,Weightings!G189,'Preliminary SO66'!AB186)","v":2733414},2633429,2633429,2796806,{"$f":"'2016legmax.xls'!BM189","v":0.3},839042,790000,790000,null,2075017,0,0,0,0,0,0,0,0,0,8300,0,0,2066717,{"$f":"'2016legmax.xls'!F189","v":272},{"$f":"'2016legmax.xls'!I189","v":291},{"$f":"'2016legmax.xls'!K189","v":282},291,{"$f":"'2016legmax.xls'!O189","v":0},291,{"$f":"IF(ISNA(VLOOKUP($CM192,'Audit Values'!$A$2:$AE$252,2,FALSE)),'Preliminary SO66'!T186,VLOOKUP($CM192,'Audit Values'!$A$2:$AE$252,20,FALSE))","v":0},0,{"$f":"IF(ISNA(VLOOKUP($CM192,'Audit Values'!$A$2:$AE$252,2,FALSE)),'Preliminary SO66'!U186,VLOOKUP($CM192,'Audit Values'!$A$2:$AE$252,21,FALSE))","v":0},0,0,0,0,{"$f":"'2016legmax.xls'!AH189","v":0},0,0,{"$f":"'2016legmax.xls'!CJ189","v":0},0,{"$f":"'2016legmax.xls'!CI189","v":0},0,0,0,0,0,0,0,0,0,0,0,0,0,0,null,null,null,"D0395"]
[396,"Butler","Douglass Public Schools ",4094428,53825,0,0,0,660.9,0,0,{"$f":"'2016legmax.xls'!BJ190","v":0},4148253,{"$f":"'2016legmax.xls'!BB190","v":1102834},688565,{"$f":"'2016legmax.xls'!BC190","v":333554},437910,{"$f":"'2016legmax.xls'!BD190","v":79368},6352574,{"$f":"'2016legmax.xls'!DD190","v":0},235,0,0,0,0,2110,{"$f":"'2016legmax.xls'!AV190","v":15},{"$f":"'2016legmax.xls'!AW190","v":"A"},{"$f":"'2016legmax.xls'!AX190","v":""},6459275,6354919,{"$f":"IF(Weightings!G190>0,Weightings!G190,'Preliminary SO66'!AB187)","v":6805617},6354919,6354919,5538225,{"$f":"'2016legmax.xls'!BM190","v":0.33},1827614,1827614,1827614,null,4217186,27.6,106315,0,0,0,0,0,0,0,16443,0,0,4094428,{"$f":"'2016legmax.xls'!F190","v":664.3},{"$f":"'2016legmax.xls'!I190","v":654.20000000000005},{"$f":"'2016legmax.xls'!K190","v":649.1},655.9,{"$f":"'2016legmax.xls'!O190","v":5},660.9,{"$f":"IF(ISNA(VLOOKUP($CM193,'Audit Values'!$A$2:$AE$252,2,FALSE)),'Preliminary SO66'!T187,VLOOKUP($CM193,'Audit Values'!$A$2:$AE$252,20,FALSE))","v":6},30000,{"$f":"IF(ISNA(VLOOKUP($CM193,'Audit Values'!$A$2:$AE$252,2,FALSE)),'Preliminary SO66'!U187,VLOOKUP($CM193,'Audit Values'!$A$2:$AE$252,21,FALSE))","v":0.7},2832,22.5,20993,53825,{"$f":"'2016legmax.xls'!AH190","v":0},0,0,{"$f":"'2016legmax.xls'!CJ190","v":0},0,{"$f":"'2016legmax.xls'!CI190","v":0},0,0,0,0,0,0,0,0,0,0,0,0,0,0,null,null,null,"D0396"]
[397,"Marion","Centre ",1819774,422785,0,0,0,216.4,0,0,{"$f":"'2016legmax.xls'!BJ191","v":0},2242559,{"$f":"'2016legmax.xls'!BB191","v":364370},435185,{"$f":"'2016legmax.xls'!BC191","v":125768},165838,{"$f":"'2016legmax.xls'!BD191","v":22682},3190564,{"$f":"'2016legmax.xls'!DD191","v":0},17,0,0,0,0,0,{"$f":"'2016legmax.xls'!AV191","v":4},{"$f":"'2016legmax.xls'!AW191","v":"A"},{"$f":"'2016legmax.xls'!AX191","v":""},3230651,3190581,{"$f":"IF(Weightings!G191>0,Weightings!G191,'Preliminary SO66'!AB188)","v":3464475},3190581,3190581,2547135,{"$f":"'2016legmax.xls'!BM191","v":0.3},764141,764141,764141,null,2916428,282.8,1089346,0,0,0,0,0,0,0,7308,0,0,1819774,{"$f":"'2016legmax.xls'!F191","v":226.3},{"$f":"'2016legmax.xls'!I191","v":213.5},{"$f":"'2016legmax.xls'!K191","v":209.5},216.4,{"$f":"'2016legmax.xls'!O191","v":0},216.4,{"$f":"IF(ISNA(VLOOKUP($CM194,'Audit Values'!$A$2:$AE$252,2,FALSE)),'Preliminary SO66'!T188,VLOOKUP($CM194,'Audit Values'!$A$2:$AE$252,20,FALSE))","v":56},280000,{"$f":"IF(ISNA(VLOOKUP($CM194,'Audit Values'!$A$2:$AE$252,2,FALSE)),'Preliminary SO66'!U188,VLOOKUP($CM194,'Audit Values'!$A$2:$AE$252,21,FALSE))","v":2.2000000000000002},8899,143.5,133886,422785,{"$f":"'2016legmax.xls'!AH191","v":0},0,0,{"$f":"'2016legmax.xls'!CJ191","v":0},0,{"$f":"'2016legmax.xls'!CI191","v":0},0,0,0,0,0,0,0,0,0,0,0,0,0,0,null,null,null,"D0397"]
[398,"Marion","Peabody-Burns ",1977848,15000,0,0,0,250.5,0,0,{"$f":"'2016legmax.xls'!BJ192","v":0},1992848,{"$f":"'2016legmax.xls'!BB192","v":124179},359832,{"$f":"'2016legmax.xls'!BC192","v":152619},201237,{"$f":"'2016legmax.xls'!BD192","v":0},2629478,{"$f":"'2016legmax.xls'!DD192","v":0},411,0,0,0,0,4160,{"$f":"'2016legmax.xls'!AV192","v":4},{"$f":"'2016legmax.xls'!AW192","v":"A"},{"$f":"'2016legmax.xls'!AX192","v":""},2682667,2634049,{"$f":"IF(Weightings!G192>0,Weightings!G192,'Preliminary SO66'!AB189)","v":2792665},2634049,2634049,2746780,{"$f":"'2016legmax.xls'!BM192","v":0.33},906437,906437,906437,null,1990028,1.1000000000000001,4237,0,0,0,0,0,0,0,7943,0,0,1977848,{"$f":"'2016legmax.xls'!F192","v":255.5},{"$f":"'2016legmax.xls'!I192","v":246.5},{"$f":"'2016legmax.xls'!K192","v":239},247,{"$f":"'2016legmax.xls'!O192","v":3.5},250.5,{"$f":"IF(ISNA(VLOOKUP($CM195,'Audit Values'!$A$2:$AE$252,2,FALSE)),'Preliminary SO66'!T189,VLOOKUP($CM195,'Audit Values'!$A$2:$AE$252,20,FALSE))","v":3},15000,{"$f":"IF(ISNA(VLOOKUP($CM195,'Audit Values'!$A$2:$AE$252,2,FALSE)),'Preliminary SO66'!U189,VLOOKUP($CM195,'Audit Values'!$A$2:$AE$252,21,FALSE))","v":0},0,0,0,15000,{"$f":"'2016legmax.xls'!AH192","v":0},0,0,{"$f":"'2016legmax.xls'!CJ192","v":0},0,{"$f":"'2016legmax.xls'!CI192","v":0},0,0,0,0,0,0,0,0,0,0,0,0,0,0,null,null,null,"D0398"]
[399,"Russell","Paradise ",1097342,0,0,0,0,121.4,0,0,{"$f":"'2016legmax.xls'!BJ193","v":0},1097342,{"$f":"'2016legmax.xls'!BB193","v":0},138660,{"$f":"'2016legmax.xls'!BC193","v":100572},130191,{"$f":"'2016legmax.xls'!BD193","v":0},1336574,{"$f":"'2016legmax.xls'!DD193","v":0},9428,0,0,0,0,488,{"$f":"'2016legmax.xls'!AV193","v":14},{"$f":"'2016legmax.xls'!AW193","v":"A"},{"$f":"'2016legmax.xls'!AX193","v":""},1376109,1346490,{"$f":"IF(Weightings!G193>0,Weightings!G193,'Preliminary SO66'!AB190)","v":1414436},1346490,1346490,1488242,{"$f":"'2016legmax.xls'!BM193","v":0.3},446473,446473,446473,null,1101749,0,0,0,0,0,0,0,0,0,4407,0,0,1097342,{"$f":"'2016legmax.xls'!F193","v":127.1},{"$f":"'2016legmax.xls'!I193","v":116.8},{"$f":"'2016legmax.xls'!K193","v":109.7},117.9,{"$f":"'2016legmax.xls'!O193","v":3.5},121.4,{"$f":"IF(ISNA(VLOOKUP($CM196,'Audit Values'!$A$2:$AE$252,2,FALSE)),'Preliminary SO66'!T190,VLOOKUP($CM196,'Audit Values'!$A$2:$AE$252,20,FALSE))","v":0},0,{"$f":"IF(ISNA(VLOOKUP($CM196,'Audit Values'!$A$2:$AE$252,2,FALSE)),'Preliminary SO66'!U190,VLOOKUP($CM196,'Audit Values'!$A$2:$AE$252,21,FALSE))","v":0},0,0,0,0,{"$f":"'2016legmax.xls'!AH193","v":0},0,0,{"$f":"'2016legmax.xls'!CJ193","v":0},0,{"$f":"'2016legmax.xls'!CI193","v":0},0,0,0,0,0,0,0,0,0,0,0,0,0,0,null,null,null,"D0399"]
[400,"McPherson","Smoky Valley ",5105094,735012,0,0,0,850.3,0,0,{"$f":"'2016legmax.xls'!BJ194","v":0},5840106,{"$f":"'2016legmax.xls'!BB194","v":986531},1027321,{"$f":"'2016legmax.xls'!BC194","v":410420},542236,{"$f":"'2016legmax.xls'!BD194","v":63201},8327579,{"$f":"'2016legmax.xls'!DD194","v":0},44,0,0,0,0,0,{"$f":"'2016legmax.xls'!AV194","v":10},{"$f":"'2016legmax.xls'!AW194","v":"A"},{"$f":"'2016legmax.xls'!AX194","v":""},8459439,8327623,{"$f":"IF(Weightings!G194>0,Weightings!G194,'Preliminary SO66'!AB191)","v":9445438},8327623,8327623,7065539,{"$f":"'2016legmax.xls'!BM194","v":0.33},2331628,2331628,2331628,null,5458024,86.3,332428,0,0,0,0,0,0,0,20502,0,0,5105094,{"$f":"'2016legmax.xls'!F194","v":857.2},{"$f":"'2016legmax.xls'!I194","v":823.1},{"$f":"'2016legmax.xls'!K194","v":836.1},838.8,{"$f":"'2016legmax.xls'!O194","v":11.5},850.3,{"$f":"IF(ISNA(VLOOKUP($CM197,'Audit Values'!$A$2:$AE$252,2,FALSE)),'Preliminary SO66'!T191,VLOOKUP($CM197,'Audit Values'!$A$2:$AE$252,20,FALSE))","v":40},200000,{"$f":"IF(ISNA(VLOOKUP($CM197,'Audit Values'!$A$2:$AE$252,2,FALSE)),'Preliminary SO66'!U191,VLOOKUP($CM197,'Audit Values'!$A$2:$AE$252,21,FALSE))","v":123.5},499558,38,35454,735012,{"$f":"'2016legmax.xls'!AH194","v":0},0,0,{"$f":"'2016legmax.xls'!CJ194","v":0},0,{"$f":"'2016legmax.xls'!CI194","v":0},0,0,0,0,0,0,0,0,0,0,0,0,0,0,null,null,null,"D0400"]
[401,"Rice","Chase-Raymond ",1458507,0,0,0,0,164.5,0,0,{"$f":"'2016legmax.xls'!BJ195","v":0},1458507,{"$f":"'2016legmax.xls'!BB195","v":0},202986,{"$f":"'2016legmax.xls'!BC195","v":105279},136141,{"$f":"'2016legmax.xls'!BD195","v":0},1766772,{"$f":"'2016legmax.xls'!DD195","v":0},3821,0,0,0,0,0,{"$f":"'2016legmax.xls'!AV195","v":11},{"$f":"'2016legmax.xls'!AW195","v":"A"},{"$f":"'2016legmax.xls'!AX195","v":""},1801455,1770593,{"$f":"IF(Weightings!G195>0,Weightings!G195,'Preliminary SO66'!AB192)","v":1832855},1770593,1770593,1930220,{"$f":"'2016legmax.xls'!BM195","v":0.3},579066,579066,579066,null,1464364,0,0,0,0,0,0,0,0,0,5857,0,0,1458507,{"$f":"'2016legmax.xls'!F195","v":158},{"$f":"'2016legmax.xls'!I195","v":160.5},{"$f":"'2016legmax.xls'!K195","v":159},160.5,{"$f":"'2016legmax.xls'!O195","v":4},164.5,{"$f":"IF(ISNA(VLOOKUP($CM198,'Audit Values'!$A$2:$AE$252,2,FALSE)),'Preliminary SO66'!T192,VLOOKUP($CM198,'Audit Values'!$A$2:$AE$252,20,FALSE))","v":0},0,{"$f":"IF(ISNA(VLOOKUP($CM198,'Audit Values'!$A$2:$AE$252,2,FALSE)),'Preliminary SO66'!U192,VLOOKUP($CM198,'Audit Values'!$A$2:$AE$252,21,FALSE))","v":0},0,0,0,0,{"$f":"'2016legmax.xls'!AH195","v":0},0,0,{"$f":"'2016legmax.xls'!CJ195","v":0},0,{"$f":"'2016legmax.xls'!CI195","v":0},0,0,0,0,0,0,0,0,0,0,0,0,0,0,null,null,null,"D0401"]
[402,"Butler","Augusta ",10422164,28886,0,0,0,2173.6999999999998,0,68,{"$f":"'2016legmax.xls'!BJ196","v":0},10450982,{"$f":"'2016legmax.xls'!BB196","v":2828686},1665619,{"$f":"'2016legmax.xls'!BC196","v":903675},1181323,{"$f":"'2016legmax.xls'!BD196","v":191825},16040787,{"$f":"'2016legmax.xls'!DD196","v":0},568,0,0,0,0,1300,{"$f":"'2016legmax.xls'!AV196","v":18},{"$f":"'2016legmax.xls'!AW196","v":"A"},{"$f":"'2016legmax.xls'!AX196","v":""},16320371,16042723,{"$f":"IF(Weightings!G196>0,Weightings!G196,'Preliminary SO66'!AB193)","v":16959176},16042723,16042723,14217597,{"$f":"'2016legmax.xls'!BM196","v":0.3},4265279,4265279,4265279,null,10768777,0,0,0,0,0,0,0,0,0,43075,78.8,303538,10422164,{"$f":"'2016legmax.xls'!F196","v":2160.1999999999998},{"$f":"'2016legmax.xls'!I196","v":2158.6999999999998},{"$f":"'2016legmax.xls'!K196","v":2077.6999999999998},2158.6999999999998,{"$f":"'2016legmax.xls'!O196","v":15},2173.6999999999998,{"$f":"IF(ISNA(VLOOKUP($CM199,'Audit Values'!$A$2:$AE$252,2,FALSE)),'Preliminary SO66'!T193,VLOOKUP($CM199,'Audit Values'!$A$2:$AE$252,20,FALSE))","v":1},5000,{"$f":"IF(ISNA(VLOOKUP($CM199,'Audit Values'!$A$2:$AE$252,2,FALSE)),'Preliminary SO66'!U193,VLOOKUP($CM199,'Audit Values'!$A$2:$AE$252,21,FALSE))","v":0.6},2427,23,21459,28886,{"$f":"'2016legmax.xls'!AH196","v":0},0,0,{"$f":"'2016legmax.xls'!CJ196","v":0},0,{"$f":"'2016legmax.xls'!CI196","v":0},0,0,0,0,0,0,0,0,0,0,0,0,0,0,null,null,null,"D0402"]
[403,"Rush","Otis-Bison ",1762054,27832,0,0,0,222.9,0,0,{"$f":"'2016legmax.xls'!BJ197","v":0},1789886,{"$f":"'2016legmax.xls'!BB197","v":0},300980,{"$f":"'2016legmax.xls'!BC197","v":135452},177773,{"$f":"'2016legmax.xls'!BD197","v":0},2226318,{"$f":"'2016legmax.xls'!DD197","v":0},1438,0,0,0,0,0,{"$f":"'2016legmax.xls'!AV197","v":11},{"$f":"'2016legmax.xls'!AW197","v":"A"},{"$f":"'2016legmax.xls'!AX197","v":""},2270077,2227756,{"$f":"IF(Weightings!G197>0,Weightings!G197,'Preliminary SO66'!AB194)","v":2410760},2227756,2227756,2355477,{"$f":"'2016legmax.xls'!BM197","v":0.3},706643,685444,685444,null,1799947,8,30816,0,0,0,0,0,0,0,7077,0,0,1762054,{"$f":"'2016legmax.xls'!F197","v":205.5},{"$f":"'2016legmax.xls'!I197","v":222.9},{"$f":"'2016legmax.xls'!K197","v":214.3},222.9,{"$f":"'2016legmax.xls'!O197","v":0},222.9,{"$f":"IF(ISNA(VLOOKUP($CM200,'Audit Values'!$A$2:$AE$252,2,FALSE)),'Preliminary SO66'!T194,VLOOKUP($CM200,'Audit Values'!$A$2:$AE$252,20,FALSE))","v":5},25000,{"$f":"IF(ISNA(VLOOKUP($CM200,'Audit Values'!$A$2:$AE$252,2,FALSE)),'Preliminary SO66'!U194,VLOOKUP($CM200,'Audit Values'!$A$2:$AE$252,21,FALSE))","v":0.7},2832,0,0,27832,{"$f":"'2016legmax.xls'!AH197","v":0},0,0,{"$f":"'2016legmax.xls'!CJ197","v":0},{"$f":"AD200*BS200","v":0},{"$f":"'2016legmax.xls'!CI197","v":0},0,0,0,0,0,0,0,0,0,0,0,0,0,0,null,null,null,"D0403"]
[404,"Cherokee","Riverton ",{"$f":"BB201","v":4731425},{"$f":"BO201","v":27931},{"$f":"BQ201","v":0},0,{"$f":"IF((CF201-CE201)<0,0,CF201-CE201)","v":0},{"$f":"BH201","v":730.9},{"$f":"I201*$J$6","v":0},0,{"$f":"'2016legmax.xls'!BJ198","v":0},{"$f":"SUM(D201+E201+F201+G201+H201+J201)-K201+L201","v":4759356},{"$f":"'2016legmax.xls'!BB198","v":1026501},671522,{"$f":"'2016legmax.xls'!BC198","v":409439},531785,{"$f":"'2016legmax.xls'!BD198","v":57711},{"$f":"M201+N201+O201+P201+R201","v":6924529},{"$f":"'2016legmax.xls'!DD198","v":0},0,0,0,19405,0,263,{"$f":"'2016legmax.xls'!AV198","v":2},{"$f":"'2016legmax.xls'!AW198","v":"A"},{"$f":"'2016legmax.xls'!AX198","v":""},{"$f":"D201+E201+F201+BZ201+CD201+H201+J201+L201+N201+O201+Q201+R201+T201+U201+V201+W201+Y201+Z201","v":7047138},{"$f":"AD201+BV201-Q201+P201+X201","v":6944197},{"$f":"IF(Weightings!G198>0,Weightings!G198,'Preliminary SO66'!AB195)","v":7336038},6944197,{"$f":"MIN(AE201,AF201)","v":6944197},6212071,{"$f":"'2016legmax.xls'!BM198","v":0.3},{"$f":"AI201*AJ201","v":1863621},1863621,{"$f":"MIN(AK201,AL201)","v":1863621},null,4750427,0,{"$f":"AP201*$AQ$6","v":0},0,{"$f":"AR201*$AS$6","v":0},0,{"$f":"AT201*$AU$6","v":0},0,{"$f":"AV201*$AW$6","v":0},{"$f":"AS201+AU201+AW201","v":0},{"$f":"SUM(AO201-AQ201-AX201)*$AY$6","v":19002},0,{"$f":"AZ201*$BA$6","v":0},{"$f":"AO201-AQ201-AX201-AY201-BA201","v":4731425},{"$f":"'2016legmax.xls'!F198","v":725.7},{"$f":"'2016legmax.xls'!I198","v":726.4},{"$f":"'2016legmax.xls'!K198","v":705},{"$f":"MAX(BE201,BD201, AVERAGE(BC201,BD201,BE201))","v":726.4},{"$f":"'2016legmax.xls'!O198","v":4.5},{"$f":"BF201+BG201","v":730.9},{"$f":"IF(ISNA(VLOOKUP($CM201,'Audit Values'!$A$2:$AE$252,2,FALSE)),'Preliminary SO66'!T195,VLOOKUP($CM201,'Audit Values'!$A$2:$AE$252,20,FALSE))","v":4},{"$f":"BI201*$BJ$6","v":20000},{"$f":"IF(ISNA(VLOOKUP($CM201,'Audit Values'!$A$2:$AE$252,2,FALSE)),'Preliminary SO66'!U195,VLOOKUP($CM201,'Audit Values'!$A$2:$AE$252,21,FALSE))","v":0},{"$f":"BK201*$BL$6","v":0},8.5,{"$f":"BM201*$BN$6","v":7931},{"$f":"BJ201+BL201+BN201","v":27931},{"$f":"'2016legmax.xls'!AH198","v":0},{"$f":"BP201*$BQ$6","v":0},0,{"$f":"'2016legmax.xls'!CJ198","v":0},0,{"$f":"'2016legmax.xls'!CI198","v":0},{"$f":"MIN(BT201,BU201)","v":0},0,0,0,{"$f":"IF(BY201>MAX(BW201,BX201), MAX(BW201,BX201),BY201)","v":0},0,0,0,{"$f":"IF(CC201>MAX(CA201,CB201),MAX(CA201,CB201),CC201)","v":0},0,0,0,0,0,null,null,null,"D0404"]
[405,"Rice","Lyons ",5129052,0,166792,0,0,774.8,0,0,{"$f":"'2016legmax.xls'!BJ199","v":0},5295844,{"$f":"'2016legmax.xls'!BB199","v":1039500},880182,{"$f":"'2016legmax.xls'!BC199","v":656029},872605,{"$f":"'2016legmax.xls'!BD199","v":39672},7911227,{"$f":"'2016legmax.xls'!DD199","v":0},90,0,0,8742,0,0,{"$f":"'2016legmax.xls'!AV199","v":14},{"$f":"'2016legmax.xls'!AW199","v":"A"},{"$f":"'2016legmax.xls'!AX199","v":""},8127893,7920059,{"$f":"IF(Weightings!G199>0,Weightings!G199,'Preliminary SO66'!AB196)","v":8602441},7920059,7920059,6845074,{"$f":"'2016legmax.xls'!BM199","v":0.3},2053522,2053522,2053522,null,5250959,26.3,101308,0,0,0,0,0,0,0,20599,0,0,5129052,{"$f":"'2016legmax.xls'!F199","v":727.5},{"$f":"'2016legmax.xls'!I199","v":753.4},{"$f":"'2016legmax.xls'!K199","v":755.8},755.8,{"$f":"'2016legmax.xls'!O199","v":19},774.8,{"$f":"IF(ISNA(VLOOKUP($CM202,'Audit Values'!$A$2:$AE$252,2,FALSE)),'Preliminary SO66'!T196,VLOOKUP($CM202,'Audit Values'!$A$2:$AE$252,20,FALSE))","v":0},0,{"$f":"IF(ISNA(VLOOKUP($CM202,'Audit Values'!$A$2:$AE$252,2,FALSE)),'Preliminary SO66'!U196,VLOOKUP($CM202,'Audit Values'!$A$2:$AE$252,21,FALSE))","v":0},0,0,0,0,{"$f":"'2016legmax.xls'!AH199","v":43.3},166792,0,{"$f":"'2016legmax.xls'!CJ199","v":0},0,{"$f":"'2016legmax.xls'!CI199","v":0},0,0,0,0,0,0,0,0,0,0,0,0,0,0,null,null,null,"D0405"]
[407,"Russell","Russell County ",4684771,0,0,0,0,792.5,0,4684,{"$f":"'2016legmax.xls'!BJ200","v":0},4680087,{"$f":"'2016legmax.xls'!BB200","v":16955},730435,{"$f":"'2016legmax.xls'!BC200","v":455941},601610,{"$f":"'2016legmax.xls'!BD200","v":0},5883418,{"$f":"'2016legmax.xls'!DD200","v":0},17792,0,0,0,0,0,{"$f":"'2016legmax.xls'!AV200","v":9},{"$f":"'2016legmax.xls'!AW200","v":"A"},{"$f":"'2016legmax.xls'!AX200","v":""},6051563,5905894,{"$f":"IF(Weightings!G200>0,Weightings!G200,'Preliminary SO66'!AB197)","v":6255228},5905894,5905894,6398486,{"$f":"'2016legmax.xls'!BM200","v":0.33},2111500,2111500,2111500,null,4703585,0,0,0,0,0,0,0,0,0,18814,0,0,4684771,{"$f":"'2016legmax.xls'!F200","v":778.5},{"$f":"'2016legmax.xls'!I200","v":762.7},{"$f":"'2016legmax.xls'!K200","v":792.5},792.5,{"$f":"'2016legmax.xls'!O200","v":0},792.5,{"$f":"IF(ISNA(VLOOKUP($CM203,'Audit Values'!$A$2:$AE$252,2,FALSE)),'Preliminary SO66'!T197,VLOOKUP($CM203,'Audit Values'!$A$2:$AE$252,20,FALSE))","v":0},0,{"$f":"IF(ISNA(VLOOKUP($CM203,'Audit Values'!$A$2:$AE$252,2,FALSE)),'Preliminary SO66'!U197,VLOOKUP($CM203,'Audit Values'!$A$2:$AE$252,21,FALSE))","v":0},0,0,0,0,{"$f":"'2016legmax.xls'!AH200","v":0},0,0,{"$f":"'2016legmax.xls'!CJ200","v":0},0,{"$f":"'2016legmax.xls'!CI200","v":0},0,0,0,0,0,0,0,0,0,0,0,0,0,0,null,null,null,"D0407"]
[408,"Marion","Marion-Florence ",3217746,20000,0,0,0,498,0,0,{"$f":"'2016legmax.xls'!BJ201","v":0},3237746,{"$f":"'2016legmax.xls'!BB201","v":587829},663868,{"$f":"'2016legmax.xls'!BC201","v":269594},352319,{"$f":"'2016legmax.xls'!BD201","v":0},4759037,{"$f":"'2016legmax.xls'!DD201","v":0},366,0,0,0,0,0,{"$f":"'2016legmax.xls'!AV201","v":18},{"$f":"'2016legmax.xls'!AW201","v":"A"},{"$f":"'2016legmax.xls'!AX201","v":"R"},4842128,4759403,{"$f":"IF(Weightings!G201>0,Weightings!G201,'Preliminary SO66'!AB198)","v":5011242},4759403,4759403,4499923,{"$f":"'2016legmax.xls'!BM201","v":0.3},1349977,1349977,1349977,null,3230669,0,0,0,0,0,0,0,0,0,12923,0,0,3217746,{"$f":"'2016legmax.xls'!F201","v":500.4},{"$f":"'2016legmax.xls'!I201","v":486},{"$f":"'2016legmax.xls'!K201","v":498},498,{"$f":"'2016legmax.xls'!O201","v":0},498,{"$f":"IF(ISNA(VLOOKUP($CM204,'Audit Values'!$A$2:$AE$252,2,FALSE)),'Preliminary SO66'!T198,VLOOKUP($CM204,'Audit Values'!$A$2:$AE$252,20,FALSE))","v":4},20000,{"$f":"IF(ISNA(VLOOKUP($CM204,'Audit Values'!$A$2:$AE$252,2,FALSE)),'Preliminary SO66'!U198,VLOOKUP($CM204,'Audit Values'!$A$2:$AE$252,21,FALSE))","v":0},0,0,0,20000,{"$f":"'2016legmax.xls'!AH201","v":0},0,0,{"$f":"'2016legmax.xls'!CJ201","v":0},0,{"$f":"'2016legmax.xls'!CI201","v":0},0,0,0,0,0,0,0,0,0,0,0,0,0,0,null,null,null,"D0408"]
[409,"Atchison","Atchison Public Schools ",8582214,0,97456,0,0,1625.3,0,0,{"$f":"'2016legmax.xls'!BJ202","v":0},8679670,{"$f":"'2016legmax.xls'!BB202","v":1959154},1888829,{"$f":"'2016legmax.xls'!BC202","v":957433},1235173,{"$f":"'2016legmax.xls'!BD202","v":82759},13567845,{"$f":"'2016legmax.xls'!DD202","v":0},0,0,0,0,0,0,{"$f":"'2016legmax.xls'!AV202","v":6},{"$f":"'2016legmax.xls'!AW202","v":"A"},{"$f":"'2016legmax.xls'!AX202","v":""},13845585,13567845,{"$f":"IF(Weightings!G202>0,Weightings!G202,'Preliminary SO66'!AB199)","v":14199851},13567845,13567845,11928208,{"$f":"'2016legmax.xls'!BM202","v":0.3},3578462,3578462,3578462,null,8716074,0,0,0,0,0,0,0,0,0,34864,25.7,98996,8582214,{"$f":"'2016legmax.xls'!F202","v":1546.4},{"$f":"'2016legmax.xls'!I202","v":1564.5},{"$f":"'2016legmax.xls'!K202","v":1606.3},1606.3,{"$f":"'2016legmax.xls'!O202","v":19},1625.3,{"$f":"IF(ISNA(VLOOKUP($CM205,'Audit Values'!$A$2:$AE$252,2,FALSE)),'Preliminary SO66'!T199,VLOOKUP($CM205,'Audit Values'!$A$2:$AE$252,20,FALSE))","v":0},0,{"$f":"IF(ISNA(VLOOKUP($CM205,'Audit Values'!$A$2:$AE$252,2,FALSE)),'Preliminary SO66'!U199,VLOOKUP($CM205,'Audit Values'!$A$2:$AE$252,21,FALSE))","v":0},0,0,0,0,{"$f":"'2016legmax.xls'!AH202","v":25.3},97456,0,{"$f":"'2016legmax.xls'!CJ202","v":0},0,{"$f":"'2016legmax.xls'!CI202","v":0},0,0,0,0,0,0,0,0,0,0,0,0,0,0,null,null,null,"D0409"]
[410,"Marion","Durham-Hillsboro-Lehigh ",3526326,12085,0,0,0,535.79999999999995,0,0,{"$f":"'2016legmax.xls'!BJ203","v":0},3538411,{"$f":"'2016legmax.xls'!BB203","v":649819},746318,{"$f":"'2016legmax.xls'!BC203","v":289648},377866,{"$f":"'2016legmax.xls'!BD203","v":28306},5252502,{"$f":"'2016legmax.xls'!DD203","v":0},0,0,0,0,0,8000,{"$f":"'2016legmax.xls'!AV203","v":15},{"$f":"'2016legmax.xls'!AW203","v":"A"},{"$f":"'2016legmax.xls'!AX203","v":""},5348720,5260502,{"$f":"IF(Weightings!G203>0,Weightings!G203,'Preliminary SO66'!AB200)","v":5508538},5260502,5260502,4913629,{"$f":"'2016legmax.xls'!BM203","v":0.33},1621498,1564426,1564426,null,3568222,7.2,27734,0,0,0,0,0,0,0,14162,0,0,3526326,{"$f":"'2016legmax.xls'!F203","v":528.1},{"$f":"'2016legmax.xls'!I203","v":534.29999999999995},{"$f":"'2016legmax.xls'!K203","v":523.4},534.29999999999995,{"$f":"'2016legmax.xls'!O203","v":1.5},535.79999999999995,{"$f":"IF(ISNA(VLOOKUP($CM206,'Audit Values'!$A$2:$AE$252,2,FALSE)),'Preliminary SO66'!T200,VLOOKUP($CM206,'Audit Values'!$A$2:$AE$252,20,FALSE))","v":2},10000,{"$f":"IF(ISNA(VLOOKUP($CM206,'Audit Values'!$A$2:$AE$252,2,FALSE)),'Preliminary SO66'!U200,VLOOKUP($CM206,'Audit Values'!$A$2:$AE$252,21,FALSE))","v":0.4},1618,0.5,467,12085,{"$f":"'2016legmax.xls'!AH203","v":0},0,0,{"$f":"'2016legmax.xls'!CJ203","v":0},0,{"$f":"'2016legmax.xls'!CI203","v":0},0,0,0,0,0,0,0,0,0,0,0,0,0,0,null,null,null,"D0410"]
[411,"Marion","Goessel ",1910678,0,25808,0,0,276.10000000000002,0,0,{"$f":"'2016legmax.xls'!BJ204","v":0},1936486,{"$f":"'2016legmax.xls'!BB204","v":448537},381423,{"$f":"'2016legmax.xls'!BC204","v":140424},184674,{"$f":"'2016legmax.xls'!BD204","v":15987},2922857,{"$f":"'2016legmax.xls'!DD204","v":0},44,0,0,0,0,1771,{"$f":"'2016legmax.xls'!AV204","v":2},{"$f":"'2016legmax.xls'!AW204","v":"A"},{"$f":"'2016legmax.xls'!AX204","v":""},2968922,2924672,{"$f":"IF(Weightings!G204>0,Weightings!G204,'Preliminary SO66'!AB201)","v":3062265},2924672,2924672,2617270,{"$f":"'2016legmax.xls'!BM204","v":0.33},863699,815000,815000,null,1918351,0,0,0,0,0,0,0,0,0,7673,0,0,1910678,{"$f":"'2016legmax.xls'!F204","v":273},{"$f":"'2016legmax.xls'!I204","v":276.10000000000002},{"$f":"'2016legmax.xls'!K204","v":266},276.10000000000002,{"$f":"'2016legmax.xls'!O204","v":0},276.10000000000002,{"$f":"IF(ISNA(VLOOKUP($CM207,'Audit Values'!$A$2:$AE$252,2,FALSE)),'Preliminary SO66'!T201,VLOOKUP($CM207,'Audit Values'!$A$2:$AE$252,20,FALSE))","v":0},0,{"$f":"IF(ISNA(VLOOKUP($CM207,'Audit Values'!$A$2:$AE$252,2,FALSE)),'Preliminary SO66'!U201,VLOOKUP($CM207,'Audit Values'!$A$2:$AE$252,21,FALSE))","v":0},0,0,0,0,{"$f":"'2016legmax.xls'!AH204","v":6.7},25808,0,{"$f":"'2016legmax.xls'!CJ204","v":0},0,{"$f":"'2016legmax.xls'!CI204","v":0},0,0,0,0,0,0,0,0,0,0,0,0,0,0,null,null,null,"D0411"]
[412,"Sheridan","Hoxie Community Schools ",2185216,0,0,0,0,355.3,0,0,{"$f":"'2016legmax.xls'!BJ205","v":0},2185216,{"$f":"'2016legmax.xls'!BB205","v":63679},254885,{"$f":"'2016legmax.xls'!BC205","v":184039},239955,{"$f":"'2016legmax.xls'!BD205","v":0},2687819,{"$f":"'2016legmax.xls'!DD205","v":53754},9165,0,0,0,0,0,{"$f":"'2016legmax.xls'!AV205","v":3},{"$f":"'2016legmax.xls'!AW205","v":"A"},{"$f":"'2016legmax.xls'!AX205","v":""},2806654,2750738,{"$f":"IF(Weightings!G205>0,Weightings!G205,'Preliminary SO66'!AB202)","v":2866273},2750738,2750738,2959928,{"$f":"'2016legmax.xls'!BM205","v":0.3},887978,887978,887978,null,2193992,0,0,0,0,0,0,0,0,0,8776,0,0,2185216,{"$f":"'2016legmax.xls'!F205","v":335.5},{"$f":"'2016legmax.xls'!I205","v":339},{"$f":"'2016legmax.xls'!K205","v":355.3},355.3,{"$f":"'2016legmax.xls'!O205","v":0},355.3,{"$f":"IF(ISNA(VLOOKUP($CM208,'Audit Values'!$A$2:$AE$252,2,FALSE)),'Preliminary SO66'!T202,VLOOKUP($CM208,'Audit Values'!$A$2:$AE$252,20,FALSE))","v":0},0,{"$f":"IF(ISNA(VLOOKUP($CM208,'Audit Values'!$A$2:$AE$252,2,FALSE)),'Preliminary SO66'!U202,VLOOKUP($CM208,'Audit Values'!$A$2:$AE$252,21,FALSE))","v":0},0,0,0,0,{"$f":"'2016legmax.xls'!AH205","v":0},0,0,{"$f":"'2016legmax.xls'!CJ205","v":0},0,{"$f":"'2016legmax.xls'!CI205","v":0},0,0,0,0,0,0,0,0,0,0,0,0,0,0,null,null,null,"D0412"]
[413,"Neosho","Chanute Public Schools ",9781427,29462,0,0,0,1772.2,0,9697,{"$f":"'2016legmax.xls'!BJ206","v":0},9801192,{"$f":"'2016legmax.xls'!BB206-285691","v":1976669},2016822,{"$f":"'2016legmax.xls'!BC206","v":822230},1071335,{"$f":"'2016legmax.xls'!BD206-39399","v":93571},14710484,{"$f":"'2016legmax.xls'!DD206","v":0},30,0,0,0,0,0,7,{"$f":"'2016legmax.xls'!AW206","v":"A"},{"$f":"'2016legmax.xls'!AX206","v":""},14969316,14720211,{"$f":"IF(Weightings!G206>0,Weightings!G206,'Preliminary SO66'!AB203)","v":16153820},14720211,14720211,13634672,{"$f":"'2016legmax.xls'!BM206","v":0.3},4090402,4090402,4090402,null,9885809,16.899999999999999,65099,0,0,0,0,0,0,0,39283,0,0,9781427,{"$f":"'2016legmax.xls'!F206","v":1790.9},{"$f":"'2016legmax.xls'!I206","v":1750.7},{"$f":"'2016legmax.xls'!K206","v":1733},1758.2,{"$f":"'2016legmax.xls'!O206","v":14},1772.2,{"$f":"IF(ISNA(VLOOKUP($CM209,'Audit Values'!$A$2:$AE$252,2,FALSE)),'Preliminary SO66'!T203,VLOOKUP($CM209,'Audit Values'!$A$2:$AE$252,20,FALSE))","v":3},15000,{"$f":"IF(ISNA(VLOOKUP($CM209,'Audit Values'!$A$2:$AE$252,2,FALSE)),'Preliminary SO66'!U203,VLOOKUP($CM209,'Audit Values'!$A$2:$AE$252,21,FALSE))","v":0},0,15.5,14462,29462,{"$f":"'2016legmax.xls'!AH206","v":0},0,0,{"$f":"'2016legmax.xls'!CJ206","v":0},0,{"$f":"'2016legmax.xls'!CI206","v":0},0,0,0,0,0,0,0,0,0,0,0,0,0,0,null,null,null,"D0413"]
[415,"Brown","Hiawatha ",5278880,0,0,0,0,852,0,583,{"$f":"'2016legmax.xls'!BJ207","v":0},5278297,{"$f":"'2016legmax.xls'!BB207","v":195413},1041915,{"$f":"'2016legmax.xls'!BC207","v":432624},567370,{"$f":"'2016legmax.xls'!BD207","v":0},6948249,{"$f":"'2016legmax.xls'!DD207","v":0},0,0,0,0,0,80086,{"$f":"'2016legmax.xls'!AV207","v":15},{"$f":"'2016legmax.xls'!AW207","v":"A"},{"$f":"'2016legmax.xls'!AX207","v":""},7163664,7028918,{"$f":"IF(Weightings!G207>0,Weightings!G207,'Preliminary SO66'!AB204)","v":7259255},7028918,7028918,7146035,{"$f":"'2016legmax.xls'!BM207","v":0.3},2143811,2143811,2143811,null,5300080,0,0,0,0,0,0,0,0,0,21200,0,0,5278880,{"$f":"'2016legmax.xls'!F207","v":813.7},{"$f":"'2016legmax.xls'!I207","v":837.2},{"$f":"'2016legmax.xls'!K207","v":852},852,{"$f":"'2016legmax.xls'!O207","v":0},852,{"$f":"IF(ISNA(VLOOKUP($CM210,'Audit Values'!$A$2:$AE$252,2,FALSE)),'Preliminary SO66'!T204,VLOOKUP($CM210,'Audit Values'!$A$2:$AE$252,20,FALSE))","v":0},0,{"$f":"IF(ISNA(VLOOKUP($CM210,'Audit Values'!$A$2:$AE$252,2,FALSE)),'Preliminary SO66'!U204,VLOOKUP($CM210,'Audit Values'!$A$2:$AE$252,21,FALSE))","v":0},0,0,0,0,{"$f":"'2016legmax.xls'!AH207","v":0},0,0,{"$f":"'2016legmax.xls'!CJ207","v":0},0,{"$f":"'2016legmax.xls'!CI207","v":0},0,0,0,0,0,0,0,0,0,0,0,0,0,0,null,null,null,"D0415"]
[416,"Miami","Louisburg ",7934717,41531,0,0,0,1671.7,0,0,{"$f":"'2016legmax.xls'!BJ208","v":0},7976248,{"$f":"'2016legmax.xls'!BB208","v":1255432},1407135,{"$f":"'2016legmax.xls'!BC208","v":642788},835546,{"$f":"'2016legmax.xls'!BD208","v":88257},11369860,{"$f":"'2016legmax.xls'!DD208","v":0},0,0,0,0,0,0,{"$f":"'2016legmax.xls'!AV208","v":13},{"$f":"'2016legmax.xls'!AW208","v":"A"},{"$f":"'2016legmax.xls'!AX208","v":""},11562618,11369860,{"$f":"IF(Weightings!G208>0,Weightings!G208,'Preliminary SO66'!AB205)","v":11837765},11369860,11369860,10692411,{"$f":"'2016legmax.xls'!BM208","v":0.33},3528496,3528496,3528496,null,7966583,0,0,0,0,0,0,0,0,0,31866,0,0,7934717,{"$f":"'2016legmax.xls'!F208","v":1691.1},{"$f":"'2016legmax.xls'!I208","v":1661.5},{"$f":"'2016legmax.xls'!K208","v":1662.4},1671.7,{"$f":"'2016legmax.xls'!O208","v":0},1671.7,{"$f":"IF(ISNA(VLOOKUP($CM211,'Audit Values'!$A$2:$AE$252,2,FALSE)),'Preliminary SO66'!T205,VLOOKUP($CM211,'Audit Values'!$A$2:$AE$252,20,FALSE))","v":7},35000,{"$f":"IF(ISNA(VLOOKUP($CM211,'Audit Values'!$A$2:$AE$252,2,FALSE)),'Preliminary SO66'!U205,VLOOKUP($CM211,'Audit Values'!$A$2:$AE$252,21,FALSE))","v":0},0,7,6531,41531,{"$f":"'2016legmax.xls'!AH208","v":0},0,0,{"$f":"'2016legmax.xls'!CJ208","v":2.4799999999999999E-2},286753,{"$f":"'2016legmax.xls'!CI208","v":0},0,0,0,0,0,0,0,0,0,0,0,0,0,0,null,null,null,"D0416"]
[417,"Morris","Morris County ",4491451,0,0,0,0,716.2,0,0,{"$f":"'2016legmax.xls'!BJ209","v":0},4491451,{"$f":"'2016legmax.xls'!BB209","v":445989},604195,{"$f":"'2016legmax.xls'!BC209","v":361819},467326,{"$f":"'2016legmax.xls'!BD209","v":0},5903454,{"$f":"'2016legmax.xls'!DD209","v":0},139,0,0,0,6321,0,{"$f":"'2016legmax.xls'!AV209","v":9},{"$f":"'2016legmax.xls'!AW209","v":"A"},{"$f":"'2016legmax.xls'!AX209","v":""},6015421,5909914,{"$f":"IF(Weightings!G209>0,Weightings!G209,'Preliminary SO66'!AB206)","v":6004179},5909914,5909914,5940241,{"$f":"'2016legmax.xls'!BM209","v":0.3},1782072,1782072,1782072,null,4509489,0,0,0,0,0,0,0,0,0,18038,0,0,4491451,{"$f":"'2016legmax.xls'!F209","v":701},{"$f":"'2016legmax.xls'!I209","v":703.3},{"$f":"'2016legmax.xls'!K209","v":708.7},708.7,{"$f":"'2016legmax.xls'!O209","v":7.5},716.2,{"$f":"IF(ISNA(VLOOKUP($CM212,'Audit Values'!$A$2:$AE$252,2,FALSE)),'Preliminary SO66'!T206,VLOOKUP($CM212,'Audit Values'!$A$2:$AE$252,20,FALSE))","v":0},0,{"$f":"IF(ISNA(VLOOKUP($CM212,'Audit Values'!$A$2:$AE$252,2,FALSE)),'Preliminary SO66'!U206,VLOOKUP($CM212,'Audit Values'!$A$2:$AE$252,21,FALSE))","v":0},0,0,0,0,{"$f":"'2016legmax.xls'!AH209","v":0},0,0,{"$f":"'2016legmax.xls'!CJ209","v":0},0,{"$f":"'2016legmax.xls'!CI209","v":0},0,0,0,0,0,0,0,0,0,0,0,0,0,0,null,null,null,"D0417"]
[418,"McPherson","McPherson ",10605243,0,0,0,0,2296.4,0,0,{"$f":"'2016legmax.xls'!BJ210","v":0},10605243,{"$f":"'2016legmax.xls'!BB210","v":1131328},2693574,{"$f":"'2016legmax.xls'!BC210","v":1505423},1975728,{"$f":"'2016legmax.xls'!BD210","v":0},15935568,{"$f":"'2016legmax.xls'!DD210","v":0},0,0,0,0,0,0,{"$f":"'2016legmax.xls'!AV210","v":18},{"$f":"'2016legmax.xls'!AW210","v":"A"},{"$f":"'2016legmax.xls'!AX210","v":""},16405873,15935568,{"$f":"IF(Weightings!G210>0,Weightings!G210,'Preliminary SO66'!AB207)","v":17468945},15935568,15935568,15238224,{"$f":"'2016legmax.xls'!BM210","v":0.33},5028614,5028614,5028614,null,10815296,0,0,0,0,0,0,0,0,0,43261,43.3,166792,10605243,{"$f":"'2016legmax.xls'!F210","v":2225.9},{"$f":"'2016legmax.xls'!I210","v":2267.8000000000002},{"$f":"'2016legmax.xls'!K210","v":2287.4},2287.4,{"$f":"'2016legmax.xls'!O210","v":9},2296.4,{"$f":"IF(ISNA(VLOOKUP($CM213,'Audit Values'!$A$2:$AE$252,2,FALSE)),'Preliminary SO66'!T207,VLOOKUP($CM213,'Audit Values'!$A$2:$AE$252,20,FALSE))","v":0},0,{"$f":"IF(ISNA(VLOOKUP($CM213,'Audit Values'!$A$2:$AE$252,2,FALSE)),'Preliminary SO66'!U207,VLOOKUP($CM213,'Audit Values'!$A$2:$AE$252,21,FALSE))","v":0},0,0,0,0,{"$f":"'2016legmax.xls'!AH210","v":0},0,0,{"$f":"'2016legmax.xls'!CJ210","v":0},0,{"$f":"'2016legmax.xls'!CI210","v":0},0,0,0,0,0,0,0,0,0,0,0,0,0,0,null,null,null,"D0418"]
[419,"McPherson","Canton-Galva ",2522068,0,83974,0,0,366.8,0,0,{"$f":"'2016legmax.xls'!BJ211","v":0},2606042,{"$f":"'2016legmax.xls'!BB211","v":266257},424119,{"$f":"'2016legmax.xls'!BC211","v":195810},253963,{"$f":"'2016legmax.xls'!BD211","v":0},3492228,{"$f":"'2016legmax.xls'!DD211","v":0},0,0,0,0,0,1915,{"$f":"'2016legmax.xls'!AV211","v":2},{"$f":"'2016legmax.xls'!AW211","v":"A"},{"$f":"'2016legmax.xls'!AX211","v":""},3552296,3494143,{"$f":"IF(Weightings!G211>0,Weightings!G211,'Preliminary SO66'!AB208)","v":3642421},3494143,3494143,3487946,{"$f":"'2016legmax.xls'!BM211","v":0.33},1151022,1151022,1151022,null,2612641,0,0,0,0,0,0,0,0,0,10451,20.8,80122,2522068,{"$f":"'2016legmax.xls'!F211","v":374.5},{"$f":"'2016legmax.xls'!I211","v":356.5},{"$f":"'2016legmax.xls'!K211","v":357.4},362.8,{"$f":"'2016legmax.xls'!O211","v":4},366.8,{"$f":"IF(ISNA(VLOOKUP($CM214,'Audit Values'!$A$2:$AE$252,2,FALSE)),'Preliminary SO66'!T208,VLOOKUP($CM214,'Audit Values'!$A$2:$AE$252,20,FALSE))","v":0},0,{"$f":"IF(ISNA(VLOOKUP($CM214,'Audit Values'!$A$2:$AE$252,2,FALSE)),'Preliminary SO66'!U208,VLOOKUP($CM214,'Audit Values'!$A$2:$AE$252,21,FALSE))","v":0},0,0,0,0,{"$f":"'2016legmax.xls'!AH211","v":21.8},83974,0,{"$f":"'2016legmax.xls'!CJ211","v":0},0,{"$f":"'2016legmax.xls'!CI211","v":0},0,0,0,0,0,0,0,0,0,0,0,0,0,0,null,null,null,"D0419"]
[420,"Osage","Osage City ",3914381,40172,18490,0,0,634.5,0,0,{"$f":"'2016legmax.xls'!BJ212","v":0},3973043,{"$f":"'2016legmax.xls'!BB212","v":998925},734700,{"$f":"'2016legmax.xls'!BC212","v":312574},402827,{"$f":"'2016legmax.xls'!BD212","v":36436},6055678,{"$f":"'2016legmax.xls'!DD212","v":0},0,0,0,0,0,0,{"$f":"'2016legmax.xls'!AV212","v":9},{"$f":"'2016legmax.xls'!AW212","v":"A"},{"$f":"'2016legmax.xls'!AX212","v":""},6145931,6055678,{"$f":"IF(Weightings!G212>0,Weightings!G212,'Preliminary SO66'!AB209)","v":6168566},6055678,6055678,5412692,{"$f":"'2016legmax.xls'!BM212","v":0.3},1623808,1623808,1623808,null,3938223,0,0,0,0,0,0,0,0,0,15753,2.1,8089,3914381,{"$f":"'2016legmax.xls'!F212","v":619.70000000000005},{"$f":"'2016legmax.xls'!I212","v":631},{"$f":"'2016legmax.xls'!K212","v":634.5},634.5,{"$f":"'2016legmax.xls'!O212","v":0},634.5,{"$f":"IF(ISNA(VLOOKUP($CM215,'Audit Values'!$A$2:$AE$252,2,FALSE)),'Preliminary SO66'!T209,VLOOKUP($CM215,'Audit Values'!$A$2:$AE$252,20,FALSE))","v":6},30000,{"$f":"IF(ISNA(VLOOKUP($CM215,'Audit Values'!$A$2:$AE$252,2,FALSE)),'Preliminary SO66'!U209,VLOOKUP($CM215,'Audit Values'!$A$2:$AE$252,21,FALSE))","v":0.9},3641,7,6531,40172,{"$f":"'2016legmax.xls'!AH212","v":4.8},18490,0,{"$f":"'2016legmax.xls'!CJ212","v":0},0,{"$f":"'2016legmax.xls'!CI212","v":0},0,0,0,0,0,0,0,0,0,0,0,0,0,0,null,null,null,"D0420"]
[421,"Osage","Lyndon ",2715171,4665,0,0,0,408.2,0,0,{"$f":"'2016legmax.xls'!BJ213","v":0},2719836,{"$f":"'2016legmax.xls'!BB213","v":633120},460316,{"$f":"'2016legmax.xls'!BC213","v":196761},257132,{"$f":"'2016legmax.xls'!BD213","v":17774},4027807,{"$f":"'2016legmax.xls'!DD213","v":0},0,0,0,0,0,0,{"$f":"'2016legmax.xls'!AV213","v":7},{"$f":"'2016legmax.xls'!AW213","v":"A"},{"$f":"'2016legmax.xls'!AX213","v":""},4088178,4027807,{"$f":"IF(Weightings!G213>0,Weightings!G213,'Preliminary SO66'!AB210)","v":4236054},4027807,4027807,3706161,{"$f":"'2016legmax.xls'!BM213","v":0.3},1111848,1111848,1111848,null,2726075,0,0,0,0,0,0,0,0,0,10904,0,0,2715171,{"$f":"'2016legmax.xls'!F213","v":428.5},{"$f":"'2016legmax.xls'!I213","v":399.5},{"$f":"'2016legmax.xls'!K213","v":396.5},408.2,{"$f":"'2016legmax.xls'!O213","v":0},408.2,{"$f":"IF(ISNA(VLOOKUP($CM216,'Audit Values'!$A$2:$AE$252,2,FALSE)),'Preliminary SO66'!T210,VLOOKUP($CM216,'Audit Values'!$A$2:$AE$252,20,FALSE))","v":0},0,{"$f":"IF(ISNA(VLOOKUP($CM216,'Audit Values'!$A$2:$AE$252,2,FALSE)),'Preliminary SO66'!U210,VLOOKUP($CM216,'Audit Values'!$A$2:$AE$252,21,FALSE))","v":0},0,5,4665,4665,{"$f":"'2016legmax.xls'!AH213","v":0},0,0,{"$f":"'2016legmax.xls'!CJ213","v":0},0,{"$f":"'2016legmax.xls'!CI213","v":0},0,0,0,0,0,0,0,0,0,0,0,0,0,0,null,null,null,"D0421"]
[422,"Kiowa","Kiowa County ",2670529,569705,0,0,0,232.5,0,0,{"$f":"'2016legmax.xls'!BJ214","v":0},3240234,{"$f":"'2016legmax.xls'!BB214","v":0},296348,{"$f":"'2016legmax.xls'!BC214","v":205240},265186,{"$f":"'2016legmax.xls'!BD214","v":0},3741822,{"$f":"'2016legmax.xls'!DD214","v":0},13634,0,0,0,15196,13085,{"$f":"'2016legmax.xls'!AV214","v":18},{"$f":"'2016legmax.xls'!AW214","v":"A"},{"$f":"'2016legmax.xls'!AX214","v":""},3843683,3783737,{"$f":"IF(Weightings!G214>0,Weightings!G214,'Preliminary SO66'!AB211)","v":3896359},3783737,3783737,2370658,{"$f":"'2016legmax.xls'!BM214","v":0.3},711197,711197,711197,null,3104974,110,423720,0,0,0,0,0,0,0,10725,0,0,2670529,{"$f":"'2016legmax.xls'!F214","v":232.5},{"$f":"'2016legmax.xls'!I214","v":229},{"$f":"'2016legmax.xls'!K214","v":232.5},232.5,{"$f":"'2016legmax.xls'!O214","v":0},232.5,{"$f":"IF(ISNA(VLOOKUP($CM217,'Audit Values'!$A$2:$AE$299,2,FALSE)),'Preliminary SO66'!T211,VLOOKUP($CM217,'Audit Values'!$A$2:$AE$299,20,FALSE))","v":88},440000,{"$f":"IF(ISNA(VLOOKUP($CM217,'Audit Values'!$A$2:$AE$299,2,FALSE)),'Preliminary SO66'!U211,VLOOKUP($CM217,'Audit Values'!$A$2:$AE$299,21,FALSE))","v":9},36405,100,93300,569705,{"$f":"'2016legmax.xls'!AH214","v":0},0,0,{"$f":"'2016legmax.xls'!CJ214","v":0},0,{"$f":"'2016legmax.xls'!CI214","v":0},0,0,0,0,0,0,0,0,0,0,0,0,0,0,null,null,null,"D0422"]
[423,"McPherson","Moundridge ",2563617,0,0,0,0,406.2,0,0,{"$f":"'2016legmax.xls'!BJ215","v":0},2563617,{"$f":"'2016legmax.xls'!BB215","v":120456},493704,{"$f":"'2016legmax.xls'!BC215","v":185794},244305,{"$f":"'2016legmax.xls'!BD215","v":0},3363571,{"$f":"'2016legmax.xls'!DD215","v":0},0,0,0,0,0,0,{"$f":"'2016legmax.xls'!AV215","v":18},{"$f":"'2016legmax.xls'!AW215","v":"A"},{"$f":"'2016legmax.xls'!AX215","v":""},3422082,3363571,{"$f":"IF(Weightings!G215>0,Weightings!G215,'Preliminary SO66'!AB212)","v":3490589},3363571,3363571,3496348,{"$f":"'2016legmax.xls'!BM215","v":0.33},1153795,1153795,1153795,null,2573913,0,0,0,0,0,0,0,0,0,10296,0,0,2563617,{"$f":"'2016legmax.xls'!F215","v":391},{"$f":"'2016legmax.xls'!I215","v":401.2},{"$f":"'2016legmax.xls'!K215","v":377.3},401.2,{"$f":"'2016legmax.xls'!O215","v":5},406.2,{"$f":"IF(ISNA(VLOOKUP($CM218,'Audit Values'!$A$2:$AE$252,2,FALSE)),'Preliminary SO66'!T212,VLOOKUP($CM218,'Audit Values'!$A$2:$AE$252,20,FALSE))","v":0},0,{"$f":"IF(ISNA(VLOOKUP($CM218,'Audit Values'!$A$2:$AE$252,2,FALSE)),'Preliminary SO66'!U212,VLOOKUP($CM218,'Audit Values'!$A$2:$AE$252,21,FALSE))","v":0},0,0,0,0,{"$f":"'2016legmax.xls'!AH215","v":0},0,0,{"$f":"'2016legmax.xls'!CJ215","v":0},0,{"$f":"'2016legmax.xls'!CI215","v":0},0,0,0,0,0,0,0,0,0,0,0,0,0,0,null,null,null,"D0423"]
[426,"Republic","Pike Valley ",1704399,0,0,0,0,211.5,0,49,{"$f":"'2016legmax.xls'!BJ216","v":0},1704350,{"$f":"'2016legmax.xls'!BB216","v":205137},185437,{"$f":"'2016legmax.xls'!BC216","v":118186},152287,{"$f":"'2016legmax.xls'!BD216","v":2024},2215134,{"$f":"'2016legmax.xls'!DD216","v":0},0,0,0,0,0,0,{"$f":"'2016legmax.xls'!AV216","v":16},{"$f":"'2016legmax.xls'!AW216","v":"A"},{"$f":"'2016legmax.xls'!AX216","v":""},2249284,2215183,{"$f":"IF(Weightings!G216>0,Weightings!G216,'Preliminary SO66'!AB213)","v":2310823},2215183,2215183,2287163,{"$f":"'2016legmax.xls'!BM216","v":0.3},686149,686149,686149,null,1711244,0,0,0,0,0,0,0,0,0,6845,0,0,1704399,{"$f":"'2016legmax.xls'!F216","v":212},{"$f":"'2016legmax.xls'!I216","v":205.5},{"$f":"'2016legmax.xls'!K216","v":211.5},211.5,{"$f":"'2016legmax.xls'!O216","v":0},211.5,{"$f":"IF(ISNA(VLOOKUP($CM219,'Audit Values'!$A$2:$AE$252,2,FALSE)),'Preliminary SO66'!T213,VLOOKUP($CM219,'Audit Values'!$A$2:$AE$252,20,FALSE))","v":0},0,{"$f":"IF(ISNA(VLOOKUP($CM219,'Audit Values'!$A$2:$AE$252,2,FALSE)),'Preliminary SO66'!U213,VLOOKUP($CM219,'Audit Values'!$A$2:$AE$252,21,FALSE))","v":0},0,0,0,0,{"$f":"'2016legmax.xls'!AH216","v":0},0,0,{"$f":"'2016legmax.xls'!CJ216","v":0},0,{"$f":"'2016legmax.xls'!CI216","v":0},0,0,0,0,0,0,0,0,0,0,0,0,0,0,null,null,null,"D0426"]
[428,"Barton","Great Bend ",16645094,0,0,0,0,3019,0,1,{"$f":"'2016legmax.xls'!BJ217","v":0},16645093,{"$f":"'2016legmax.xls'!BB217","v":3586820},2287743,{"$f":"'2016legmax.xls'!BC217","v":2063776},2723299,{"$f":"'2016legmax.xls'!BD217","v":155700},24739132,{"$f":"'2016legmax.xls'!DD217","v":0},6225,0,0,0,0,0,{"$f":"'2016legmax.xls'!AV217","v":6},{"$f":"'2016legmax.xls'!AW217","v":"A"},{"$f":"'2016legmax.xls'!AX217","v":""},25404881,24745358,{"$f":"IF(Weightings!G217>0,Weightings!G217,'Preliminary SO66'!AB214)","v":25801720},24745358,24745358,21665233,{"$f":"'2016legmax.xls'!BM217","v":0.3},6499570,6499570,6499570,null,16711942,0,0,0,0,0,0,0,0,0,66848,0,0,16645094,{"$f":"'2016legmax.xls'!F217","v":2984.1},{"$f":"'2016legmax.xls'!I217","v":3004},{"$f":"'2016legmax.xls'!K217","v":2924.5},3004,{"$f":"'2016legmax.xls'!O217","v":15},3019,{"$f":"IF(ISNA(VLOOKUP($CM220,'Audit Values'!$A$2:$AE$252,2,FALSE)),'Preliminary SO66'!T214,VLOOKUP($CM220,'Audit Values'!$A$2:$AE$252,20,FALSE))","v":0},0,{"$f":"IF(ISNA(VLOOKUP($CM220,'Audit Values'!$A$2:$AE$252,2,FALSE)),'Preliminary SO66'!U214,VLOOKUP($CM220,'Audit Values'!$A$2:$AE$252,21,FALSE))","v":0},0,0,0,0,{"$f":"'2016legmax.xls'!AH217","v":0},0,0,{"$f":"'2016legmax.xls'!CJ217","v":0},0,{"$f":"'2016legmax.xls'!CI217","v":0},0,0,0,0,0,0,0,0,0,0,0,0,0,0,null,null,null,"D0428"]
[429,"Doniphan","Troy Public Schools ",2119207,0,0,0,0,326.5,0,308,{"$f":"'2016legmax.xls'!BJ218","v":0},2118899,{"$f":"'2016legmax.xls'!BB218-5786","v":381235},282063,{"$f":"'2016legmax.xls'!BC218","v":125016},163028,{"$f":"'2016legmax.xls'!BD218","v":8693},2915906,{"$f":"'2016legmax.xls'!DD218","v":0},0,0,0,0,0,0,{"$f":"'2016legmax.xls'!AV218","v":14},{"$f":"'2016legmax.xls'!AW218","v":"A"},{"$f":"'2016legmax.xls'!AX218","v":""},2954226,2916214,{"$f":"IF(Weightings!G218>0,Weightings!G218,'Preliminary SO66'!AB215)","v":3118528},2916214,2916214,2820294,{"$f":"'2016legmax.xls'!BM218","v":0.3},846088,846088,846088,null,2127718,0,0,0,0,0,0,0,0,0,8511,0,0,2119207,{"$f":"'2016legmax.xls'!F218","v":324},{"$f":"'2016legmax.xls'!I218","v":317},{"$f":"'2016legmax.xls'!K218","v":326.5},326.5,{"$f":"'2016legmax.xls'!O218","v":0},326.5,{"$f":"IF(ISNA(VLOOKUP($CM221,'Audit Values'!$A$2:$AE$252,2,FALSE)),'Preliminary SO66'!T215,VLOOKUP($CM221,'Audit Values'!$A$2:$AE$252,20,FALSE))","v":0},0,{"$f":"IF(ISNA(VLOOKUP($CM221,'Audit Values'!$A$2:$AE$252,2,FALSE)),'Preliminary SO66'!U215,VLOOKUP($CM221,'Audit Values'!$A$2:$AE$252,21,FALSE))","v":0},0,0,0,0,{"$f":"'2016legmax.xls'!AH218","v":0},0,0,{"$f":"'2016legmax.xls'!CJ218","v":0},0,{"$f":"'2016legmax.xls'!CI218","v":0},0,0,0,0,0,0,0,0,0,0,0,0,0,0,null,null,null,"D0429"]
[430,"Brown","South Brown County ",3978647,0,0,0,51017,552.20000000000005,0,0,{"$f":"'2016legmax.xls'!BJ219","v":0},4029664,{"$f":"'2016legmax.xls'!BB219","v":999998},757283,{"$f":"'2016legmax.xls'!BC219","v":339495},445062,{"$f":"'2016legmax.xls'!BD219","v":0},6126440,{"$f":"'2016legmax.xls'!DD219","v":0},0,52853,0,0,0,8722,{"$f":"'2016legmax.xls'!AV219","v":2},{"$f":"'2016legmax.xls'!AW219","v":"A"},{"$f":"'2016legmax.xls'!AX219","v":""},6293582,6188015,{"$f":"IF(Weightings!G219>0,Weightings!G219,'Preliminary SO66'!AB216)","v":6449375},6188015,6188015,5603263,{"$f":"'2016legmax.xls'!BM219","v":0.3},1680979,1680979,1680979,null,3994626,0,0,0,0,0,0,0,0,0,15979,0,0,3978647,{"$f":"'2016legmax.xls'!F219","v":563.20000000000005},{"$f":"'2016legmax.xls'!I219","v":545.5},{"$f":"'2016legmax.xls'!K219","v":548},552.20000000000005,{"$f":"'2016legmax.xls'!O219","v":0},552.20000000000005,{"$f":"IF(ISNA(VLOOKUP($CM222,'Audit Values'!$A$2:$AE$252,2,FALSE)),'Preliminary SO66'!T216,VLOOKUP($CM222,'Audit Values'!$A$2:$AE$252,20,FALSE))","v":0},0,{"$f":"IF(ISNA(VLOOKUP($CM222,'Audit Values'!$A$2:$AE$252,2,FALSE)),'Preliminary SO66'!U216,VLOOKUP($CM222,'Audit Values'!$A$2:$AE$252,21,FALSE))","v":0},0,0,0,0,{"$f":"'2016legmax.xls'!AH219","v":0},0,0,{"$f":"'2016legmax.xls'!CJ219","v":0},0,{"$f":"'2016legmax.xls'!CI219","v":0},0,0,0,0,0,0,0,0,0,49000,100017,0,0,0,null,null,null,"D0430"]
[431,"Barton","Hoisington ",4391104,0,0,0,0,702.9,0,0,{"$f":"'2016legmax.xls'!BJ220","v":0},4391104,{"$f":"'2016legmax.xls'!BB220","v":612994},701160,{"$f":"'2016legmax.xls'!BC220","v":317636},414022,{"$f":"'2016legmax.xls'!BD220","v":19367},6042261,{"$f":"'2016legmax.xls'!DD220","v":0},10261,0,0,0,0,0,{"$f":"'2016legmax.xls'!AV220","v":1},{"$f":"'2016legmax.xls'!AW220","v":"A"},{"$f":"'2016legmax.xls'!AX220","v":""},6148908,6052522,{"$f":"IF(Weightings!G220>0,Weightings!G220,'Preliminary SO66'!AB217)","v":6415855},6052522,6052522,5812563,{"$f":"'2016legmax.xls'!BM220","v":0.3},1743769,1743769,1743769,null,4408739,0,0,0,0,0,0,0,0,0,17635,0,0,4391104,{"$f":"'2016legmax.xls'!F220","v":668.5},{"$f":"'2016legmax.xls'!I220","v":680},{"$f":"'2016legmax.xls'!K220","v":692.4},692.4,{"$f":"'2016legmax.xls'!O220","v":10.5},702.9,{"$f":"IF(ISNA(VLOOKUP($CM223,'Audit Values'!$A$2:$AE$252,2,FALSE)),'Preliminary SO66'!T217,VLOOKUP($CM223,'Audit Values'!$A$2:$AE$252,20,FALSE))","v":0},0,{"$f":"IF(ISNA(VLOOKUP($CM223,'Audit Values'!$A$2:$AE$252,2,FALSE)),'Preliminary SO66'!U217,VLOOKUP($CM223,'Audit Values'!$A$2:$AE$252,21,FALSE))","v":0},0,0,0,0,{"$f":"'2016legmax.xls'!AH220","v":0},0,0,{"$f":"'2016legmax.xls'!CJ220","v":0},0,{"$f":"'2016legmax.xls'!CI220","v":0},0,0,0,0,0,0,0,0,0,0,0,0,0,0,null,null,null,"D0431"]
[432,"Ellis","Victoria ",1871830,0,0,0,0,286.5,0,0,{"$f":"'2016legmax.xls'!BJ221","v":0},1871830,{"$f":"'2016legmax.xls'!BB221","v":0},202329,{"$f":"'2016legmax.xls'!BC221","v":135332},177255,{"$f":"'2016legmax.xls'!BD221","v":0},2209491,{"$f":"'2016legmax.xls'!DD221","v":0},8256,0,0,0,0,449,{"$f":"'2016legmax.xls'!AV221","v":9},{"$f":"'2016legmax.xls'!AW221","v":"A"},{"$f":"'2016legmax.xls'!AX221","v":""},2260119,2218196,{"$f":"IF(Weightings!G221>0,Weightings!G221,'Preliminary SO66'!AB218)","v":2327093},2218196,2218196,2465379,{"$f":"'2016legmax.xls'!BM221","v":0.3},739614,739614,739614,null,1879347,0,0,0,0,0,0,0,0,0,7517,0,0,1871830,{"$f":"'2016legmax.xls'!F221","v":267},{"$f":"'2016legmax.xls'!I221","v":281},{"$f":"'2016legmax.xls'!K221","v":286.5},286.5,{"$f":"'2016legmax.xls'!O221","v":0},286.5,{"$f":"IF(ISNA(VLOOKUP($CM224,'Audit Values'!$A$2:$AE$252,2,FALSE)),'Preliminary SO66'!T218,VLOOKUP($CM224,'Audit Values'!$A$2:$AE$252,20,FALSE))","v":0},0,{"$f":"IF(ISNA(VLOOKUP($CM224,'Audit Values'!$A$2:$AE$252,2,FALSE)),'Preliminary SO66'!U218,VLOOKUP($CM224,'Audit Values'!$A$2:$AE$252,21,FALSE))","v":0},0,0,0,0,{"$f":"'2016legmax.xls'!AH221","v":0},0,0,{"$f":"'2016legmax.xls'!CJ221","v":0},0,{"$f":"'2016legmax.xls'!CI221","v":0},0,0,0,0,0,0,0,0,0,0,0,0,0,0,null,null,null,"D0432"]
[434,"Osage","Santa Fe Trail ",6088477,47392,36209,0,0,993,0,0,{"$f":"'2016legmax.xls'!BJ222","v":0},6172078,{"$f":"'2016legmax.xls'!BB222","v":1455082},1360047,{"$f":"'2016legmax.xls'!BC222","v":424553},555856,{"$f":"'2016legmax.xls'!BD222","v":108827},9520587,{"$f":"'2016legmax.xls'!DD222","v":0},0,0,0,0,0,15939,{"$f":"'2016legmax.xls'!AV222","v":9},{"$f":"'2016legmax.xls'!AW222","v":"A"},{"$f":"'2016legmax.xls'!AX222","v":""},9667829,9536526,{"$f":"IF(Weightings!G222>0,Weightings!G222,'Preliminary SO66'!AB219)","v":9914700},9536526,9536526,8540568,{"$f":"'2016legmax.xls'!BM222","v":0.3},2562170,2562170,2562170,null,6120248,1.9,7319,0,0,0,0,0,0,0,24452,0,0,6088477,{"$f":"'2016legmax.xls'!F222","v":968.5},{"$f":"'2016legmax.xls'!I222","v":982.5},{"$f":"'2016legmax.xls'!K222","v":963.7},982.5,{"$f":"'2016legmax.xls'!O222","v":10.5},993,{"$f":"IF(ISNA(VLOOKUP($CM225,'Audit Values'!$A$2:$AE$252,2,FALSE)),'Preliminary SO66'!T219,VLOOKUP($CM225,'Audit Values'!$A$2:$AE$252,20,FALSE))","v":5},25000,{"$f":"IF(ISNA(VLOOKUP($CM225,'Audit Values'!$A$2:$AE$252,2,FALSE)),'Preliminary SO66'!U219,VLOOKUP($CM225,'Audit Values'!$A$2:$AE$252,21,FALSE))","v":0},0,24,22392,47392,{"$f":"'2016legmax.xls'!AH222","v":9.4},36209,0,{"$f":"'2016legmax.xls'!CJ222","v":0},0,{"$f":"'2016legmax.xls'!CI222","v":0},0,0,0,0,0,0,0,0,0,0,0,0,0,0,null,null,null,"D0434"]
[435,"Dickinson","Abilene ",7546776,55890,87055,0,0,1549.2,0,0,{"$f":"'2016legmax.xls'!BJ223","v":0},7689721,{"$f":"'2016legmax.xls'!BB223","v":1675717},1335135,{"$f":"'2016legmax.xls'!BC223","v":699141},913222,{"$f":"'2016legmax.xls'!BD223","v":122665},11522379,{"$f":"'2016legmax.xls'!DD223","v":0},0,1451,0,0,0,0,{"$f":"'2016legmax.xls'!AV223","v":12},{"$f":"'2016legmax.xls'!AW223","v":"A"},{"$f":"'2016legmax.xls'!AX223","v":""},11737911,11523830,{"$f":"IF(Weightings!G223>0,Weightings!G223,'Preliminary SO66'!AB220)","v":12265159},11523830,11523830,10457049,{"$f":"'2016legmax.xls'!BM223","v":0.3},3137115,3137115,3137115,null,7664910,22.8,87826,0,0,0,0,0,0,0,30308,0,0,7546776,{"$f":"'2016legmax.xls'!F223","v":1524},{"$f":"'2016legmax.xls'!I223","v":1549.2},{"$f":"'2016legmax.xls'!K223","v":1524.3},1549.2,{"$f":"'2016legmax.xls'!O223","v":0},1549.2,{"$f":"IF(ISNA(VLOOKUP($CM226,'Audit Values'!$A$2:$AE$252,2,FALSE)),'Preliminary SO66'!T220,VLOOKUP($CM226,'Audit Values'!$A$2:$AE$252,20,FALSE))","v":5},25000,{"$f":"IF(ISNA(VLOOKUP($CM226,'Audit Values'!$A$2:$AE$252,2,FALSE)),'Preliminary SO66'!U220,VLOOKUP($CM226,'Audit Values'!$A$2:$AE$252,21,FALSE))","v":3.6},14562,17.5,16328,55890,{"$f":"'2016legmax.xls'!AH223","v":22.6},87055,0,{"$f":"'2016legmax.xls'!CJ223","v":0},0,{"$f":"'2016legmax.xls'!CI223","v":0},0,0,0,0,0,0,0,0,0,1750,1476,0,0,0,null,null,null,"D0435"]
[436,"Montgomery","Caney Valley ",4797460,20933,0,0,0,746.3,0,1,{"$f":"'2016legmax.xls'!BJ224","v":0},4818392,{"$f":"'2016legmax.xls'!BB224","v":712610},437121,{"$f":"'2016legmax.xls'!BC224","v":387732},509387,{"$f":"'2016legmax.xls'!BD224","v":85513},6441368,{"$f":"'2016legmax.xls'!DD224","v":0},1589,0,0,0,0,0,{"$f":"'2016legmax.xls'!AV224","v":9},{"$f":"'2016legmax.xls'!AW224","v":"A"},{"$f":"'2016legmax.xls'!AX224","v":""},6564613,6442958,{"$f":"IF(Weightings!G224>0,Weightings!G224,'Preliminary SO66'!AB221)","v":6841149},6442958,6442958,6151553,{"$f":"'2016legmax.xls'!BM224","v":0.3},1845466,1653300,1653300,null,4862951,12,46224,0,0,0,0,0,0,0,19267,0,0,4797460,{"$f":"'2016legmax.xls'!F224","v":765.5},{"$f":"'2016legmax.xls'!I224","v":721.5},{"$f":"'2016legmax.xls'!K224","v":735.5},740.8,{"$f":"'2016legmax.xls'!O224","v":5.5},746.3,{"$f":"IF(ISNA(VLOOKUP($CM227,'Audit Values'!$A$2:$AE$252,2,FALSE)),'Preliminary SO66'!T221,VLOOKUP($CM227,'Audit Values'!$A$2:$AE$252,20,FALSE))","v":4},20000,{"$f":"IF(ISNA(VLOOKUP($CM227,'Audit Values'!$A$2:$AE$252,2,FALSE)),'Preliminary SO66'!U221,VLOOKUP($CM227,'Audit Values'!$A$2:$AE$252,21,FALSE))","v":0},0,1,933,20933,{"$f":"'2016legmax.xls'!AH224","v":0},0,0,{"$f":"'2016legmax.xls'!CJ224","v":0},0,{"$f":"'2016legmax.xls'!CI224","v":0},0,0,0,0,0,0,0,0,0,0,0,0,0,0,null,null,null,"D0436"]
[437,"Shawnee","Auburn Washburn ",28236724,21181,0,0,0,6006.2,0,394,{"$f":"'2016legmax.xls'!BJ225","v":0},28257511,{"$f":"'2016legmax.xls'!BB225","v":3034669},5807968,{"$f":"'2016legmax.xls'!BC225","v":3097910},4052781,{"$f":"'2016legmax.xls'!BD225","v":0},40198058,{"$f":"'2016legmax.xls'!DD225","v":0},0,0,0,799725,2499,27425,{"$f":"'2016legmax.xls'!AV225","v":3},{"$f":"'2016legmax.xls'!AW225","v":"A"},{"$f":"'2016legmax.xls'!AX225","v":""},41183247,41028101,{"$f":"IF(Weightings!G225>0,Weightings!G225,'Preliminary SO66'!AB222)","v":42302452},41028101,41028101,38715787,{"$f":"'2016legmax.xls'!BM225","v":0.3},11614736,11614736,11614736,null,28404053,14,53928,0,0,0,0,0,0,0,113401,0,0,28236724,{"$f":"'2016legmax.xls'!F225","v":5720},{"$f":"'2016legmax.xls'!I225","v":5874.8},{"$f":"'2016legmax.xls'!K225","v":5976.2},5976.2,{"$f":"'2016legmax.xls'!O225","v":30},6006.2,{"$f":"IF(ISNA(VLOOKUP($CM228,'Audit Values'!$A$2:$AE$252,2,FALSE)),'Preliminary SO66'!T222,VLOOKUP($CM228,'Audit Values'!$A$2:$AE$252,20,FALSE))","v":2},10000,{"$f":"IF(ISNA(VLOOKUP($CM228,'Audit Values'!$A$2:$AE$252,2,FALSE)),'Preliminary SO66'!U222,VLOOKUP($CM228,'Audit Values'!$A$2:$AE$252,21,FALSE))","v":0.4},1618,10.25,9563,21181,{"$f":"'2016legmax.xls'!AH225","v":0},0,0,{"$f":"'2016legmax.xls'!CJ225","v":2.5000000000000001E-2},1029581,{"$f":"'2016legmax.xls'!CI225","v":0},0,0,0,0,0,0,0,0,0,0,0,0,0,0,null,null,null,"D0437"]
[438,"Pratt","Skyline Schools ",2585097,0,0,0,0,395.5,0,101,{"$f":"'2016legmax.xls'!BJ226","v":0},2584996,{"$f":"'2016legmax.xls'!BB226","v":372306},477109,{"$f":"'2016legmax.xls'!BC226","v":193748},249926,{"$f":"'2016legmax.xls'!BD226","v":14587},3642746,{"$f":"'2016legmax.xls'!DD226","v":0},1954,0,0,0,0,0,{"$f":"'2016legmax.xls'!AV226","v":16},{"$f":"'2016legmax.xls'!AW226","v":"A"},{"$f":"'2016legmax.xls'!AX226","v":""},3700979,3644801,{"$f":"IF(Weightings!G226>0,Weightings!G226,'Preliminary SO66'!AB223)","v":3777974},3644801,3644801,3484935,{"$f":"'2016legmax.xls'!BM226","v":0.31},1080330,1080330,1080330,null,2652103,14.7,56624,0,0,0,0,0,0,0,10382,0,0,2585097,{"$f":"'2016legmax.xls'!F226","v":400},{"$f":"'2016legmax.xls'!I226","v":392},{"$f":"'2016legmax.xls'!K226","v":394.5},395.5,{"$f":"'2016legmax.xls'!O226","v":0},395.5,{"$f":"IF(ISNA(VLOOKUP($CM229,'Audit Values'!$A$2:$AE$252,2,FALSE)),'Preliminary SO66'!T223,VLOOKUP($CM229,'Audit Values'!$A$2:$AE$252,20,FALSE))","v":0},0,{"$f":"IF(ISNA(VLOOKUP($CM229,'Audit Values'!$A$2:$AE$252,2,FALSE)),'Preliminary SO66'!U223,VLOOKUP($CM229,'Audit Values'!$A$2:$AE$252,21,FALSE))","v":0},0,0,0,0,{"$f":"'2016legmax.xls'!AH226","v":0},0,0,{"$f":"'2016legmax.xls'!CJ226","v":0},0,{"$f":"'2016legmax.xls'!CI226","v":0},0,0,0,0,0,0,0,0,0,0,0,0,0,0,null,null,null,"D0438"]
[439,"Harvey","Sedgwick Public Schools ",3073890,0,0,0,0,483.9,0,6,{"$f":"'2016legmax.xls'!BJ227","v":0},3073884,{"$f":"'2016legmax.xls'!BB227","v":713503},458481,{"$f":"'2016legmax.xls'!BC227","v":240678},317511,{"$f":"'2016legmax.xls'!BD227","v":29363},4515909,{"$f":"'2016legmax.xls'!DD227","v":0},0,0,0,0,124,18677,{"$f":"'2016legmax.xls'!AV227","v":18},{"$f":"'2016legmax.xls'!AW227","v":"A"},{"$f":"'2016legmax.xls'!AX227","v":""},4611549,4534716,{"$f":"IF(Weightings!G227>0,Weightings!G227,'Preliminary SO66'!AB224)","v":4868189},4534716,4534716,4064408,{"$f":"'2016legmax.xls'!BM227","v":0.3},1219322,1138034,1138034,null,3086235,0,0,0,0,0,0,0,0,0,12345,0,0,3073890,{"$f":"'2016legmax.xls'!F227","v":500.4},{"$f":"'2016legmax.xls'!I227","v":483.9},{"$f":"'2016legmax.xls'!K227","v":459},483.9,{"$f":"'2016legmax.xls'!O227","v":0},483.9,{"$f":"IF(ISNA(VLOOKUP($CM230,'Audit Values'!$A$2:$AE$252,2,FALSE)),'Preliminary SO66'!T224,VLOOKUP($CM230,'Audit Values'!$A$2:$AE$252,20,FALSE))","v":0},0,{"$f":"IF(ISNA(VLOOKUP($CM230,'Audit Values'!$A$2:$AE$252,2,FALSE)),'Preliminary SO66'!U224,VLOOKUP($CM230,'Audit Values'!$A$2:$AE$252,21,FALSE))","v":0},0,0,0,0,{"$f":"'2016legmax.xls'!AH227","v":0},0,0,{"$f":"'2016legmax.xls'!CJ227","v":0},0,{"$f":"'2016legmax.xls'!CI227","v":0},0,0,0,0,0,0,0,0,0,0,0,0,0,0,null,null,null,"D0439"]
[440,"Harvey","Halstead ",4803321,0,0,0,0,762.4,0,0,{"$f":"'2016legmax.xls'!BJ228","v":0},4803321,{"$f":"'2016legmax.xls'!BB228","v":1036165},656433,{"$f":"'2016legmax.xls'!BC228","v":369756},483187,{"$f":"'2016legmax.xls'!BD228","v":42356},6908031,{"$f":"'2016legmax.xls'!DD228","v":0},0,0,0,0,0,0,{"$f":"'2016legmax.xls'!AV228","v":15},{"$f":"'2016legmax.xls'!AW228","v":"A"},{"$f":"'2016legmax.xls'!AX228","v":""},7021462,6908031,{"$f":"IF(Weightings!G228>0,Weightings!G228,'Preliminary SO66'!AB225)","v":7109240},6908031,6908031,6279215,{"$f":"'2016legmax.xls'!BM228","v":0.3},1883765,1883765,1883765,null,4822611,0,0,0,0,0,0,0,0,0,19290,0,0,4803321,{"$f":"'2016legmax.xls'!F228","v":753.5},{"$f":"'2016legmax.xls'!I228","v":753.4},{"$f":"'2016legmax.xls'!K228","v":719.5},753.4,{"$f":"'2016legmax.xls'!O228","v":9},762.4,{"$f":"IF(ISNA(VLOOKUP($CM231,'Audit Values'!$A$2:$AE$252,2,FALSE)),'Preliminary SO66'!T225,VLOOKUP($CM231,'Audit Values'!$A$2:$AE$252,20,FALSE))","v":0},0,{"$f":"IF(ISNA(VLOOKUP($CM231,'Audit Values'!$A$2:$AE$252,2,FALSE)),'Preliminary SO66'!U225,VLOOKUP($CM231,'Audit Values'!$A$2:$AE$252,21,FALSE))","v":0},0,0,0,0,{"$f":"'2016legmax.xls'!AH228","v":0},0,0,{"$f":"'2016legmax.xls'!CJ228","v":0},0,{"$f":"'2016legmax.xls'!CI228","v":0},0,0,0,0,0,0,0,0,0,0,0,0,0,0,null,null,null,"D0440"]
[443,"Ford","Dodge City ",41433296,46962,0,0,0,6487.1,0,12777,{"$f":"'2016legmax.xls'!BJ229","v":0},41467481,{"$f":"'2016legmax.xls'!BB229","v":11094655},4913191,{"$f":"'2016legmax.xls'!BC229","v":3706851},4886619,{"$f":"'2016legmax.xls'!BD229","v":713567},61895745,{"$f":"'2016legmax.xls'!DD229","v":0},12154,0,0,2311,0,0,{"$f":"'2016legmax.xls'!AV229","v":10},{"$f":"'2016legmax.xls'!AW229","v":"A"},{"$f":"'2016legmax.xls'!AX229","v":""},63100444,61922987,{"$f":"IF(Weightings!G229>0,Weightings!G229,'Preliminary SO66'!AB226)","v":64559187},61922987,61922987,53360336,{"$f":"'2016legmax.xls'!BM229","v":0.3},16008101,16008101,16008101,null,41602006,0.6,2311,0,0,0,0,0,0,0,166399,0,0,41433296,{"$f":"'2016legmax.xls'!F229","v":6194.4},{"$f":"'2016legmax.xls'!I229","v":6326.5},{"$f":"'2016legmax.xls'!K229","v":6412.6},6412.6,{"$f":"'2016legmax.xls'!O229","v":74.5},6487.1,{"$f":"IF(ISNA(VLOOKUP($CM232,'Audit Values'!$A$2:$AE$252,2,FALSE)),'Preliminary SO66'!T226,VLOOKUP($CM232,'Audit Values'!$A$2:$AE$252,20,FALSE))","v":1},5000,{"$f":"IF(ISNA(VLOOKUP($CM232,'Audit Values'!$A$2:$AE$252,2,FALSE)),'Preliminary SO66'!U226,VLOOKUP($CM232,'Audit Values'!$A$2:$AE$252,21,FALSE))","v":3.8},15371,28.5,26591,46962,{"$f":"'2016legmax.xls'!AH229","v":0},0,0,{"$f":"'2016legmax.xls'!CJ229","v":0},0,{"$f":"'2016legmax.xls'!CI229","v":0},0,0,0,0,0,0,0,0,0,0,0,0,0,0,null,null,null,"D0443"]
[444,"Rice","Little River ",2222739,0,0,0,0,322.8,0,0,{"$f":"'2016legmax.xls'!BJ230","v":0},2222739,{"$f":"'2016legmax.xls'!BB230","v":0},415878,{"$f":"'2016legmax.xls'!BC230","v":151300},197936,{"$f":"'2016legmax.xls'!BD230","v":0},2789917,{"$f":"'2016legmax.xls'!DD230","v":0},1109,0,0,0,0,380,{"$f":"'2016legmax.xls'!AV230","v":14},{"$f":"'2016legmax.xls'!AW230","v":"A"},{"$f":"'2016legmax.xls'!AX230","v":""},2838042,2791406,{"$f":"IF(Weightings!G230>0,Weightings!G230,'Preliminary SO66'!AB227)","v":2921990},2791406,2791406,3037385,{"$f":"'2016legmax.xls'!BM230","v":0.3},911216,911216,911216,null,2235903,1.1000000000000001,4237,0,0,0,0,0,0,0,8927,0,0,2222739,{"$f":"'2016legmax.xls'!F230","v":325.89999999999998},{"$f":"'2016legmax.xls'!I230","v":319.3},{"$f":"'2016legmax.xls'!K230","v":309.39999999999998},319.3,{"$f":"'2016legmax.xls'!O230","v":3.5},322.8,{"$f":"IF(ISNA(VLOOKUP($CM233,'Audit Values'!$A$2:$AE$252,2,FALSE)),'Preliminary SO66'!T227,VLOOKUP($CM233,'Audit Values'!$A$2:$AE$252,20,FALSE))","v":0},0,{"$f":"IF(ISNA(VLOOKUP($CM233,'Audit Values'!$A$2:$AE$252,2,FALSE)),'Preliminary SO66'!U227,VLOOKUP($CM233,'Audit Values'!$A$2:$AE$252,21,FALSE))","v":0},0,0,0,0,{"$f":"'2016legmax.xls'!AH230","v":0},0,0,{"$f":"'2016legmax.xls'!CJ230","v":0},0,{"$f":"'2016legmax.xls'!CI230","v":0},0,0,0,0,0,0,0,0,0,0,0,0,0,0,null,null,null,"D0444"]
[445,"Montgomery","Coffeyville ",9913422,10000,0,0,0,1678.6,0,0,{"$f":"'2016legmax.xls'!BJ231","v":0},9923422,{"$f":"'2016legmax.xls'!BB231","v":1168553},1309321,{"$f":"'2016legmax.xls'!BC231","v":787343},1023918,{"$f":"'2016legmax.xls'!BD231","v":6137},13194776,{"$f":"'2016legmax.xls'!DD231","v":0},657,0,0,0,84394,7224,{"$f":"'2016legmax.xls'!AV231","v":9},{"$f":"'2016legmax.xls'!AW231","v":"A"},{"$f":"'2016legmax.xls'!AX231","v":""},13523626,13287051,{"$f":"IF(Weightings!G231>0,Weightings!G231,'Preliminary SO66'!AB228)","v":13716688},13287051,13287051,13154845,{"$f":"'2016legmax.xls'!BM231","v":0.3},3946454,3946454,3946454,null,9963250,2.6,10015,0,0,0,0,0,0,0,39813,0,0,9913422,{"$f":"'2016legmax.xls'!F231","v":1701.1},{"$f":"'2016legmax.xls'!I231","v":1629.5},{"$f":"'2016legmax.xls'!K231","v":1625.6},1652.1,{"$f":"'2016legmax.xls'!O231","v":26.5},1678.6,{"$f":"IF(ISNA(VLOOKUP($CM234,'Audit Values'!$A$2:$AE$252,2,FALSE)),'Preliminary SO66'!T228,VLOOKUP($CM234,'Audit Values'!$A$2:$AE$252,20,FALSE))","v":2},10000,{"$f":"IF(ISNA(VLOOKUP($CM234,'Audit Values'!$A$2:$AE$252,2,FALSE)),'Preliminary SO66'!U228,VLOOKUP($CM234,'Audit Values'!$A$2:$AE$252,21,FALSE))","v":0},0,0,0,10000,{"$f":"'2016legmax.xls'!AH231","v":0},0,0,{"$f":"'2016legmax.xls'!CJ231","v":0},0,{"$f":"'2016legmax.xls'!CI231","v":0},0,0,0,0,0,0,0,0,0,0,0,0,0,0,null,null,null,"D0445"]
[446,"Montgomery","Independence ",10453545,0,0,0,22490,1939.7,0,0,{"$f":"'2016legmax.xls'!BJ232","v":0},10476035,{"$f":"'2016legmax.xls'!BB232","v":2209610},1351657,{"$f":"'2016legmax.xls'!BC232","v":940238},1234444,{"$f":"'2016legmax.xls'!BD232","v":101884},15079424,{"$f":"'2016legmax.xls'!DD232","v":0},2417,21898,0,0,2930,5770,{"$f":"'2016legmax.xls'!AV232","v":9},{"$f":"'2016legmax.xls'!AW232","v":"A"},{"$f":"'2016legmax.xls'!AX232","v":""},15406645,15112439,{"$f":"IF(Weightings!G232>0,Weightings!G232,'Preliminary SO66'!AB229)","v":15759777},15112439,15112439,13695489,{"$f":"'2016legmax.xls'!BM232","v":0.3},4108647,4108647,4108647,null,10495527,0,0,0,0,0,0,0,0,0,41982,0,0,10453545,{"$f":"'2016legmax.xls'!F232","v":1936.2},{"$f":"'2016legmax.xls'!I232","v":1924.8},{"$f":"'2016legmax.xls'!K232","v":1916},1925.7,{"$f":"'2016legmax.xls'!O232","v":14},1939.7,{"$f":"IF(ISNA(VLOOKUP($CM235,'Audit Values'!$A$2:$AE$252,2,FALSE)),'Preliminary SO66'!T229,VLOOKUP($CM235,'Audit Values'!$A$2:$AE$252,20,FALSE))","v":0},0,{"$f":"IF(ISNA(VLOOKUP($CM235,'Audit Values'!$A$2:$AE$252,2,FALSE)),'Preliminary SO66'!U229,VLOOKUP($CM235,'Audit Values'!$A$2:$AE$252,21,FALSE))","v":0},0,0,0,0,{"$f":"'2016legmax.xls'!AH232","v":0},0,0,{"$f":"'2016legmax.xls'!CJ232","v":0},0,{"$f":"'2016legmax.xls'!CI232","v":0},0,0,0,0,0,0,0,0,0,0,22490,0,0,0,null,null,null,"D0446"]
[447,"Montgomery","Cherryvale ",5209266,176593,0,0,0,804.5,0,0,{"$f":"'2016legmax.xls'!BJ233","v":0},5385859,{"$f":"'2016legmax.xls'!BB233","v":1499840},575841,{"$f":"'2016legmax.xls'!BC233","v":430227},566634,{"$f":"'2016legmax.xls'!BD233","v":0},7891767,{"$f":"'2016legmax.xls'!DD233","v":0},1043,0,0,0,508,0,{"$f":"'2016legmax.xls'!AV233","v":5},{"$f":"'2016legmax.xls'!AW233","v":"A"},{"$f":"'2016legmax.xls'!AX233","v":""},8029725,7893318,{"$f":"IF(Weightings!G233>0,Weightings!G233,'Preliminary SO66'!AB230)","v":8250304},7893318,7893318,6712803,{"$f":"'2016legmax.xls'!BM233","v":0.3},2013841,2013841,2013841,null,5604987,97.3,374800,0,0,0,0,0,0,0,20921,0,0,5209266,{"$f":"'2016legmax.xls'!F233","v":799.4},{"$f":"'2016legmax.xls'!I233","v":793},{"$f":"'2016legmax.xls'!K233","v":770.7},793,{"$f":"'2016legmax.xls'!O233","v":11.5},804.5,{"$f":"IF(ISNA(VLOOKUP($CM236,'Audit Values'!$A$2:$AE$252,2,FALSE)),'Preliminary SO66'!T230,VLOOKUP($CM236,'Audit Values'!$A$2:$AE$252,20,FALSE))","v":21},105000,{"$f":"IF(ISNA(VLOOKUP($CM236,'Audit Values'!$A$2:$AE$252,2,FALSE)),'Preliminary SO66'!U230,VLOOKUP($CM236,'Audit Values'!$A$2:$AE$252,21,FALSE))","v":0.4},1618,75,69975,176593,{"$f":"'2016legmax.xls'!AH233","v":0},0,0,{"$f":"'2016legmax.xls'!CJ233","v":0},0,{"$f":"'2016legmax.xls'!CI233","v":0},0,0,0,0,0,0,0,0,0,0,0,0,0,0,null,null,null,"D0447"]
[448,"McPherson","Inman ",2637208,0,54313,0,0,419.8,0,0,{"$f":"'2016legmax.xls'!BJ234","v":0},2691521,{"$f":"'2016legmax.xls'!BB234","v":313364},481523,{"$f":"'2016legmax.xls'!BC234","v":213345},278275,{"$f":"'2016legmax.xls'!BD234","v":0},3699753,{"$f":"'2016legmax.xls'!DD234","v":0},0,0,0,0,0,3815,{"$f":"'2016legmax.xls'!AV234","v":14},{"$f":"'2016legmax.xls'!AW234","v":"A"},{"$f":"'2016legmax.xls'!AX234","v":""},3768498,3703568,{"$f":"IF(Weightings!G234>0,Weightings!G234,'Preliminary SO66'!AB231)","v":3876273},3703568,3703568,3626789,{"$f":"'2016legmax.xls'!BM234","v":0.33},1196840,1196840,1196840,null,2713546,0,0,0,0,0,0,0,0,0,10854,17,65484,2637208,{"$f":"'2016legmax.xls'!F234","v":404.3},{"$f":"'2016legmax.xls'!I234","v":412.3},{"$f":"'2016legmax.xls'!K234","v":410.1},412.3,{"$f":"'2016legmax.xls'!O234","v":7.5},419.8,{"$f":"IF(ISNA(VLOOKUP($CM237,'Audit Values'!$A$2:$AE$252,2,FALSE)),'Preliminary SO66'!T231,VLOOKUP($CM237,'Audit Values'!$A$2:$AE$252,20,FALSE))","v":0},0,{"$f":"IF(ISNA(VLOOKUP($CM237,'Audit Values'!$A$2:$AE$252,2,FALSE)),'Preliminary SO66'!U231,VLOOKUP($CM237,'Audit Values'!$A$2:$AE$252,21,FALSE))","v":0},0,0,0,0,{"$f":"'2016legmax.xls'!AH234","v":14.1},54313,0,{"$f":"'2016legmax.xls'!CJ234","v":0},0,{"$f":"'2016legmax.xls'!CI234","v":0},0,0,0,0,0,0,0,0,0,0,0,0,0,0,null,null,null,"D0448"]
[449,"Leavenworth","Easton ",4060509,0,0,0,0,624.1,0,60,{"$f":"'2016legmax.xls'!BJ235","v":0},4060449,{"$f":"'2016legmax.xls'!BB235","v":885932},826457,{"$f":"'2016legmax.xls'!BC235","v":351192},458991,{"$f":"'2016legmax.xls'!BD235","v":40894},6164924,{"$f":"'2016legmax.xls'!DD235","v":0},333,0,0,0,762,0,{"$f":"'2016legmax.xls'!AV235","v":7},{"$f":"'2016legmax.xls'!AW235","v":"A"},{"$f":"'2016legmax.xls'!AX235","v":""},6273878,6166079,{"$f":"IF(Weightings!G235>0,Weightings!G235,'Preliminary SO66'!AB232)","v":6286447},6166079,6166079,5624265,{"$f":"'2016legmax.xls'!BM235","v":0.3},1687280,1687280,1687280,null,4185492,0,0,0,0,0,0,0,0,0,16742,28.1,108241,4060509,{"$f":"'2016legmax.xls'!F235","v":652.70000000000005},{"$f":"'2016legmax.xls'!I235","v":620.1},{"$f":"'2016legmax.xls'!K235","v":599.5},624.1,{"$f":"'2016legmax.xls'!O235","v":0},624.1,{"$f":"IF(ISNA(VLOOKUP($CM238,'Audit Values'!$A$2:$AE$252,2,FALSE)),'Preliminary SO66'!T232,VLOOKUP($CM238,'Audit Values'!$A$2:$AE$252,20,FALSE))","v":0},0,{"$f":"IF(ISNA(VLOOKUP($CM238,'Audit Values'!$A$2:$AE$252,2,FALSE)),'Preliminary SO66'!U232,VLOOKUP($CM238,'Audit Values'!$A$2:$AE$252,21,FALSE))","v":0},0,0,0,0,{"$f":"'2016legmax.xls'!AH235","v":0},0,0,{"$f":"'2016legmax.xls'!CJ235","v":0},0,{"$f":"'2016legmax.xls'!CI235","v":0},0,0,0,0,0,0,0,0,0,140,0,0,0,0,null,null,null,"D0449"]
[450,"Shawnee","Shawnee Heights ",17230652,27217,72803,{"$f":"BV239+BZ239+CD239","v":0},0,3488.5,0,0,{"$f":"'2016legmax.xls'!BJ236","v":0},17330672,{"$f":"'2016legmax.xls'!BB236","v":3423124},3061124,{"$f":"'2016legmax.xls'!BC236","v":1811285},2346717,{"$f":"'2016legmax.xls'!BD236","v":336624},25962829,{"$f":"'2016legmax.xls'!DD236","v":0},0,0,0,600000,34948,0,{"$f":"'2016legmax.xls'!AV236","v":17},{"$f":"'2016legmax.xls'!AW236","v":"A"},{"$f":"'2016legmax.xls'!AX236","v":""},26533209,26597777,{"$f":"IF(Weightings!G236>0,Weightings!G236,'Preliminary SO66'!AB233)","v":27356885},26597777,26597777,23225884,{"$f":"'2016legmax.xls'!BM236","v":0.3},6967765,6967765,6967765,null,17393642,12.2,46994,0,0,0,0,0,0,0,69387,12.1,46609,17230652,{"$f":"'2016legmax.xls'!F236","v":3464.1},{"$f":"'2016legmax.xls'!I236","v":3488.5},{"$f":"'2016legmax.xls'!K236","v":3427},3488.5,{"$f":"'2016legmax.xls'!O236","v":0},3488.5,{"$f":"IF(ISNA(VLOOKUP($CM239,'Audit Values'!$A$2:$AE$252,2,FALSE)),'Preliminary SO66'!T233,VLOOKUP($CM239,'Audit Values'!$A$2:$AE$252,20,FALSE))","v":0},0,{"$f":"IF(ISNA(VLOOKUP($CM239,'Audit Values'!$A$2:$AE$252,2,FALSE)),'Preliminary SO66'!U233,VLOOKUP($CM239,'Audit Values'!$A$2:$AE$252,21,FALSE))","v":2},8090,20.5,19127,27217,{"$f":"'2016legmax.xls'!AH236","v":18.899999999999999},72803,0,{"$f":"'2016legmax.xls'!CJ236","v":0},0,{"$f":"'2016legmax.xls'!CI236","v":0},0,0,0,0,0,0,0,0,0,0,0,0,0,0,null,null,null,"D0450"]
[452,"Stanton","Stanton County ",3106115,0,0,0,0,430.2,0,0,{"$f":"'2016legmax.xls'!BJ237","v":0},3106115,{"$f":"'2016legmax.xls'!BB237","v":0},245993,{"$f":"'2016legmax.xls'!BC237","v":238713},306883,{"$f":"'2016legmax.xls'!BD237","v":0},3590821,{"$f":"'2016legmax.xls'!DD237","v":0},35056,0,0,0,0,0,{"$f":"'2016legmax.xls'!AV237","v":12},{"$f":"'2016legmax.xls'!AW237","v":"A"},{"$f":"'2016legmax.xls'!AX237","v":""},3694047,3625877,{"$f":"IF(Weightings!G237>0,Weightings!G237,'Preliminary SO66'!AB234)","v":3817367},3625877,3625877,4042875,{"$f":"'2016legmax.xls'!BM237","v":0.3},1212863,1212863,1212863,null,3118589,0,0,0,0,0,0,0,0,0,12474,0,0,3106115,{"$f":"'2016legmax.xls'!F237","v":419.1},{"$f":"'2016legmax.xls'!I237","v":415.6},{"$f":"'2016legmax.xls'!K237","v":430.2},430.2,{"$f":"'2016legmax.xls'!O237","v":0},430.2,{"$f":"IF(ISNA(VLOOKUP($CM240,'Audit Values'!$A$2:$AE$252,2,FALSE)),'Preliminary SO66'!T234,VLOOKUP($CM240,'Audit Values'!$A$2:$AE$252,20,FALSE))","v":0},0,{"$f":"IF(ISNA(VLOOKUP($CM240,'Audit Values'!$A$2:$AE$252,2,FALSE)),'Preliminary SO66'!U234,VLOOKUP($CM240,'Audit Values'!$A$2:$AE$252,21,FALSE))","v":0},0,0,0,0,{"$f":"'2016legmax.xls'!AH237","v":0},0,0,{"$f":"'2016legmax.xls'!CJ237","v":0},0,{"$f":"'2016legmax.xls'!CI237","v":0},0,0,0,0,0,0,0,0,0,0,0,0,0,0,null,null,null,"D0452"]
[453,"Leavenworth","Leavenworth ",19094464,414383,0,0,26608,3559.7,0,19813,{"$f":"'2016legmax.xls'!BJ238","v":0},19515642,{"$f":"'2016legmax.xls'!BB238","v":4259697},3578076,{"$f":"'2016legmax.xls'!BC238","v":1993087},2587604,{"$f":"'2016legmax.xls'!BD238","v":378655},29725157,{"$f":"'2016legmax.xls'!DD238","v":0},0,71553,0,0,0,0,{"$f":"'2016legmax.xls'!AV238","v":10},{"$f":"'2016legmax.xls'!AW238","v":"A"},{"$f":"'2016legmax.xls'!AX238","v":""},30411040,29816523,{"$f":"IF(Weightings!G238>0,Weightings!G238,'Preliminary SO66'!AB235)","v":31923239},29816523,29816523,26313916,{"$f":"'2016legmax.xls'!BM238","v":0.3},7894175,7894175,7894175,null,19503962,86.4,332813,0,0,0,0,0,0,0,76685,0,0,19094464,{"$f":"'2016legmax.xls'!F238","v":3472.5},{"$f":"'2016legmax.xls'!I238","v":3507.7},{"$f":"'2016legmax.xls'!K238","v":3463.3},3507.7,{"$f":"'2016legmax.xls'!O238","v":52},3559.7,{"$f":"IF(ISNA(VLOOKUP($CM241,'Audit Values'!$A$2:$AE$252,2,FALSE)),'Preliminary SO66'!T235,VLOOKUP($CM241,'Audit Values'!$A$2:$AE$252,20,FALSE))","v":76},380000,{"$f":"IF(ISNA(VLOOKUP($CM241,'Audit Values'!$A$2:$AE$252,2,FALSE)),'Preliminary SO66'!U235,VLOOKUP($CM241,'Audit Values'!$A$2:$AE$252,21,FALSE))","v":8.5},34383,0,0,414383,{"$f":"'2016legmax.xls'!AH238","v":0},0,0,{"$f":"'2016legmax.xls'!CJ238","v":0},0,{"$f":"'2016legmax.xls'!CI238","v":0},0,0,0,0,0,0,0,0,0,45500,72108,0,0,0,null,null,null,"D0453"]
[454,"Osage","Burlingame Public School ",2074097,0,0,0,0,304.89999999999998,0,0,{"$f":"'2016legmax.xls'!BJ239","v":0},2074097,{"$f":"'2016legmax.xls'!BB239","v":534198},358421,{"$f":"'2016legmax.xls'!BC239","v":139598},181592,{"$f":"'2016legmax.xls'!BD239","v":0},3106314,{"$f":"'2016legmax.xls'!DD239","v":0},0,0,0,0,0,0,{"$f":"'2016legmax.xls'!AV239","v":9},{"$f":"'2016legmax.xls'!AW239","v":"A"},{"$f":"'2016legmax.xls'!AX239","v":""},3148308,3106314,{"$f":"IF(Weightings!G239>0,Weightings!G239,'Preliminary SO66'!AB236)","v":3216913},{"$f":"MIN(AE242,AF242)","v":3106314},3106314,2813829,{"$f":"'2016legmax.xls'!BM239","v":0.3},844149,812000,812000,null,2082427,0,0,0,0,0,0,0,0,0,8330,0,0,2074097,{"$f":"'2016legmax.xls'!F239","v":306.5},{"$f":"'2016legmax.xls'!I239","v":298.10000000000002},{"$f":"'2016legmax.xls'!K239","v":292},298.89999999999998,{"$f":"'2016legmax.xls'!O239","v":6},304.89999999999998,{"$f":"IF(ISNA(VLOOKUP($CM242,'Audit Values'!$A$2:$AE$252,2,FALSE)),'Preliminary SO66'!T236,VLOOKUP($CM242,'Audit Values'!$A$2:$AE$252,20,FALSE))","v":0},0,{"$f":"IF(ISNA(VLOOKUP($CM242,'Audit Values'!$A$2:$AE$252,2,FALSE)),'Preliminary SO66'!U236,VLOOKUP($CM242,'Audit Values'!$A$2:$AE$252,21,FALSE))","v":0},0,0,0,0,{"$f":"'2016legmax.xls'!AH239","v":0},0,0,{"$f":"'2016legmax.xls'!CJ239","v":0},0,{"$f":"'2016legmax.xls'!CI239","v":0},0,0,0,0,0,0,0,0,0,0,0,0,0,0,null,null,null,"D0454"]
[456,"Osage","Marais Des Cygnes Valley ",2121031,7373,0,0,0,255.3,0,0,{"$f":"'2016legmax.xls'!BJ240","v":0},2128404,{"$f":"'2016legmax.xls'!BB240","v":313870},298946,{"$f":"'2016legmax.xls'!BC240","v":147971},190982,{"$f":"'2016legmax.xls'!BD240","v":0},2889191,{"$f":"'2016legmax.xls'!DD240","v":0},0,0,0,0,0,0,{"$f":"'2016legmax.xls'!AV240","v":7},{"$f":"'2016legmax.xls'!AW240","v":"A"},{"$f":"'2016legmax.xls'!AX240","v":""},2932202,2889191,{"$f":"IF(Weightings!G240>0,Weightings!G240,'Preliminary SO66'!AB237)","v":3071617},2889191,2889191,2824867,{"$f":"'2016legmax.xls'!BM240","v":0.3},847460,670000,670000,null,2129549,0,0,0,0,0,0,0,0,0,8518,0,0,2121031,{"$f":"'2016legmax.xls'!F240","v":278},{"$f":"'2016legmax.xls'!I240","v":254.5},{"$f":"'2016legmax.xls'!K240","v":233.5},255.3,{"$f":"'2016legmax.xls'!O240","v":0},255.3,{"$f":"IF(ISNA(VLOOKUP($CM243,'Audit Values'!$A$2:$AE$252,2,FALSE)),'Preliminary SO66'!T237,VLOOKUP($CM243,'Audit Values'!$A$2:$AE$252,20,FALSE))","v":0},0,{"$f":"IF(ISNA(VLOOKUP($CM243,'Audit Values'!$A$2:$AE$252,2,FALSE)),'Preliminary SO66'!U237,VLOOKUP($CM243,'Audit Values'!$A$2:$AE$252,21,FALSE))","v":0.9},3641,4,3732,7373,{"$f":"'2016legmax.xls'!AH240","v":0},0,0,{"$f":"'2016legmax.xls'!CJ240","v":0},0,{"$f":"'2016legmax.xls'!CI240","v":0},0,0,0,0,0,0,0,0,0,0,0,0,0,0,null,null,null,"D0456"]
[457,"Finney","Garden City ",42501374,214389,0,0,0,7237,0,44500,{"$f":"'2016legmax.xls'!BJ241","v":0},42671263,{"$f":"'2016legmax.xls'!BB241","v":9153630},4962670,{"$f":"'2016legmax.xls'!BC241","v":4162797},5403388,{"$f":"'2016legmax.xls'!BD241","v":412547},61362907,{"$f":"'2016legmax.xls'!DD241","v":0},61832,0,0,0,81046,0,{"$f":"'2016legmax.xls'!AV241","v":11},{"$f":"'2016legmax.xls'!AW241","v":"A"},{"$f":"'2016legmax.xls'!AX241","v":""},62790876,61550285,{"$f":"IF(Weightings!G241>0,Weightings!G241,'Preliminary SO66'!AB238)","v":63728307},61550285,61550285,55589200,{"$f":"'2016legmax.xls'!BM241","v":0.3},16676760,16000000,16000000,null,42923598,65.3,251536,0,0,0,0,0,0,0,170688,0,0,42501374,{"$f":"'2016legmax.xls'!F241","v":6981.1},{"$f":"'2016legmax.xls'!I241","v":7055.2},{"$f":"'2016legmax.xls'!K241","v":7139.5},7139.5,{"$f":"'2016legmax.xls'!O241","v":97.5},7237,{"$f":"IF(ISNA(VLOOKUP($CM244,'Audit Values'!$A$2:$AE$252,2,FALSE)),'Preliminary SO66'!T238,VLOOKUP($CM244,'Audit Values'!$A$2:$AE$252,20,FALSE))","v":30},150000,{"$f":"IF(ISNA(VLOOKUP($CM244,'Audit Values'!$A$2:$AE$252,2,FALSE)),'Preliminary SO66'!U238,VLOOKUP($CM244,'Audit Values'!$A$2:$AE$252,21,FALSE))","v":6},24270,43,40119,214389,{"$f":"'2016legmax.xls'!AH241","v":0},0,0,{"$f":"'2016legmax.xls'!CJ241","v":0},0,{"$f":"'2016legmax.xls'!CI241","v":0},0,0,0,0,0,0,0,0,0,0,0,0,0,0,null,null,null,"D0457"]
[458,"Leavenworth","Basehor-Linwood ",9661299,888339,0,0,0,2160.9,0,0,{"$f":"'2016legmax.xls'!BJ242","v":0},10549638,{"$f":"'2016legmax.xls'!BB242-1450","v":1891333},1739720,{"$f":"'2016legmax.xls'!BC242","v":1087087},1417491,{"$f":"'2016legmax.xls'!BD242","v":211606},15479384,{"$f":"'2016legmax.xls'!DD242","v":134640},2,0,0,0,0,22000,{"$f":"'2016legmax.xls'!AV242","v":18},{"$f":"'2016legmax.xls'!AW242","v":"A"},{"$f":"'2016legmax.xls'!AX242","v":""},15966430,15636026,{"$f":"IF(Weightings!G242>0,Weightings!G242,'Preliminary SO66'!AB239)","v":16115127},15636026,15636026,12941896,{"$f":"'2016legmax.xls'!BM242","v":0.3},3882569,3882569,3882569,null,10664640,250.4,964541,0,0,0,0,0,0,0,38800,0,0,9661299,{"$f":"'2016legmax.xls'!F242","v":2030.2},{"$f":"'2016legmax.xls'!I242","v":2081.5},{"$f":"'2016legmax.xls'!K242","v":2160.9},2160.9,{"$f":"'2016legmax.xls'!O242","v":0},2160.9,{"$f":"IF(ISNA(VLOOKUP($CM245,'Audit Values'!$A$2:$AE$286,2,FALSE)),'Preliminary SO66'!T239,VLOOKUP($CM245,'Audit Values'!$A$2:$AE$286,20,FALSE))","v":157},785000,{"$f":"IF(ISNA(VLOOKUP($CM245,'Audit Values'!$A$2:$AE$286,2,FALSE)),'Preliminary SO66'!U239,VLOOKUP($CM245,'Audit Values'!$A$2:$AE$286,21,FALSE))","v":12.4},50158,57,53181,888339,{"$f":"'2016legmax.xls'!AH242","v":0},0,0,{"$f":"'2016legmax.xls'!CJ242","v":2.47E-2},394371,{"$f":"'2016legmax.xls'!CI242","v":0},0,0,0,0,0,0,0,0,0,0,0,0,0,0,null,null,null,"D0458"]
[459,"Ford","Bucklin ",1766986,0,0,0,0,225.4,0,0,{"$f":"'2016legmax.xls'!BJ243","v":0},1766986,{"$f":"'2016legmax.xls'!BB243","v":0},156438,{"$f":"'2016legmax.xls'!BC243","v":132761},171511,{"$f":"'2016legmax.xls'!BD243","v":0},2056185,{"$f":"'2016legmax.xls'!DD243","v":0},22821,0,0,0,0,0,{"$f":"'2016legmax.xls'!AV243","v":13},{"$f":"'2016legmax.xls'!AW243","v":"A"},{"$f":"'2016legmax.xls'!AX243","v":""},2117756,2079006,{"$f":"IF(Weightings!G243>0,Weightings!G243,'Preliminary SO66'!AB240)","v":2227105},2079006,2079006,2320799,{"$f":"'2016legmax.xls'!BM243","v":0.3},696240,670000,670000,null,1774082,0,0,0,0,0,0,0,0,0,7096,0,0,1766986,{"$f":"'2016legmax.xls'!F243","v":225.7},{"$f":"'2016legmax.xls'!I243","v":220.1},{"$f":"'2016legmax.xls'!K243","v":216.8},220.9,{"$f":"'2016legmax.xls'!O243","v":4.5},225.4,{"$f":"IF(ISNA(VLOOKUP($CM246,'Audit Values'!$A$2:$AE$252,2,FALSE)),'Preliminary SO66'!T240,VLOOKUP($CM246,'Audit Values'!$A$2:$AE$252,20,FALSE))","v":0},0,{"$f":"IF(ISNA(VLOOKUP($CM246,'Audit Values'!$A$2:$AE$252,2,FALSE)),'Preliminary SO66'!U240,VLOOKUP($CM246,'Audit Values'!$A$2:$AE$252,21,FALSE))","v":0},0,0,0,0,{"$f":"'2016legmax.xls'!AH243","v":0},0,0,{"$f":"'2016legmax.xls'!CJ243","v":0},0,{"$f":"'2016legmax.xls'!CI243","v":0},0,0,0,0,0,0,0,0,0,0,0,0,0,0,null,null,null,"D0459"]
[460,"Harvey","Hesston ",4499047,0,0,0,0,798,0,51,{"$f":"'2016legmax.xls'!BJ244","v":0},4498996,{"$f":"'2016legmax.xls'!BB244","v":1062420},645328,{"$f":"'2016legmax.xls'!BC244","v":368234},480146,{"$f":"'2016legmax.xls'!BD244","v":70568},6645546,{"$f":"'2016legmax.xls'!DD244","v":0},0,0,0,0,0,2796,{"$f":"'2016legmax.xls'!AV244","v":4},{"$f":"'2016legmax.xls'!AW244","v":"A"},{"$f":"'2016legmax.xls'!AX244","v":""},6760305,6648393,{"$f":"IF(Weightings!G244>0,Weightings!G244,'Preliminary SO66'!AB241)","v":6863572},6648393,6648393,5921544,{"$f":"'2016legmax.xls'!BM244","v":0.33},1954110,1954110,1954110,null,4517115,0,0,0,0,0,0,0,0,0,18068,0,0,4499047,{"$f":"'2016legmax.xls'!F244","v":794},{"$f":"'2016legmax.xls'!I244","v":798},{"$f":"'2016legmax.xls'!K244","v":774.1},798,{"$f":"'2016legmax.xls'!O244","v":0},798,{"$f":"IF(ISNA(VLOOKUP($CM247,'Audit Values'!$A$2:$AE$252,2,FALSE)),'Preliminary SO66'!T241,VLOOKUP($CM247,'Audit Values'!$A$2:$AE$252,20,FALSE))","v":0},0,{"$f":"IF(ISNA(VLOOKUP($CM247,'Audit Values'!$A$2:$AE$252,2,FALSE)),'Preliminary SO66'!U241,VLOOKUP($CM247,'Audit Values'!$A$2:$AE$252,21,FALSE))","v":0},0,0,0,0,{"$f":"'2016legmax.xls'!AH244","v":0},0,0,{"$f":"'2016legmax.xls'!CJ244","v":0},0,{"$f":"'2016legmax.xls'!CI244","v":0},0,0,0,0,0,0,0,0,0,0,0,0,0,0,null,null,null,"D0460"]
[461,"Wilson","Neodesha ",4390979,0,0,0,0,699,0,9,{"$f":"'2016legmax.xls'!BJ245","v":0},4390970,{"$f":"'2016legmax.xls'!BB245","v":1148085},529063,{"$f":"'2016legmax.xls'!BC245","v":357365},465703,{"$f":"'2016legmax.xls'!BD245","v":83970},6509453,{"$f":"'2016legmax.xls'!DD245","v":50526},0,0,0,0,0,5183,{"$f":"'2016legmax.xls'!AV245","v":20},{"$f":"'2016legmax.xls'!AW245","v":"A"},{"$f":"'2016legmax.xls'!AX245","v":"R"},6673509,6565171,{"$f":"IF(Weightings!G245>0,Weightings!G245,'Preliminary SO66'!AB242)","v":6767192},6565171,6565171,5732792,{"$f":"'2016legmax.xls'!BM245","v":0.33},1891821,1891821,1891821,null,4408613,0,0,0,0,0,0,0,0,0,17634,0,0,4390979,{"$f":"'2016legmax.xls'!F245","v":663.5},{"$f":"'2016legmax.xls'!I245","v":670},{"$f":"'2016legmax.xls'!K245","v":691},691,{"$f":"'2016legmax.xls'!O245","v":8},699,{"$f":"IF(ISNA(VLOOKUP($CM248,'Audit Values'!$A$2:$AE$252,2,FALSE)),'Preliminary SO66'!T242,VLOOKUP($CM248,'Audit Values'!$A$2:$AE$252,20,FALSE))","v":0},0,{"$f":"IF(ISNA(VLOOKUP($CM248,'Audit Values'!$A$2:$AE$252,2,FALSE)),'Preliminary SO66'!U242,VLOOKUP($CM248,'Audit Values'!$A$2:$AE$252,21,FALSE))","v":0},0,0,0,0,{"$f":"'2016legmax.xls'!AH245","v":0},0,0,{"$f":"'2016legmax.xls'!CJ245","v":0},0,{"$f":"'2016legmax.xls'!CI245","v":0},0,0,0,0,0,0,0,0,0,0,0,0,0,0,null,null,null,"D0461"]
[462,"Cowley","Central ",2315495,0,0,0,0,310.39999999999998,0,0,{"$f":"'2016legmax.xls'!BJ246","v":0},2315495,{"$f":"'2016legmax.xls'!BB246","v":560069},306653,{"$f":"'2016legmax.xls'!BC246","v":173801},227043,{"$f":"'2016legmax.xls'!BD246","v":37232},3393250,{"$f":"'2016legmax.xls'!DD246","v":0},3520,0,0,0,0,0,{"$f":"'2016legmax.xls'!AV246","v":12},{"$f":"'2016legmax.xls'!AW246","v":"A"},{"$f":"'2016legmax.xls'!AX246","v":""},3450012,3396770,{"$f":"IF(Weightings!G246>0,Weightings!G246,'Preliminary SO66'!AB243)","v":3508312},3396770,3396770,3024258,{"$f":"'2016legmax.xls'!BM246","v":0.3},907277,907277,907277,null,2324794,0,0,0,0,0,0,0,0,0,9299,0,0,2315495,{"$f":"'2016legmax.xls'!F246","v":313},{"$f":"'2016legmax.xls'!I246","v":310.39999999999998},{"$f":"'2016legmax.xls'!K246","v":284.2},310.39999999999998,{"$f":"'2016legmax.xls'!O246","v":0},310.39999999999998,{"$f":"IF(ISNA(VLOOKUP($CM249,'Audit Values'!$A$2:$AE$252,2,FALSE)),'Preliminary SO66'!T243,VLOOKUP($CM249,'Audit Values'!$A$2:$AE$252,20,FALSE))","v":0},0,{"$f":"IF(ISNA(VLOOKUP($CM249,'Audit Values'!$A$2:$AE$252,2,FALSE)),'Preliminary SO66'!U243,VLOOKUP($CM249,'Audit Values'!$A$2:$AE$252,21,FALSE))","v":0},0,0,0,0,{"$f":"'2016legmax.xls'!AH246","v":0},0,0,{"$f":"'2016legmax.xls'!CJ246","v":0},0,{"$f":"'2016legmax.xls'!CI246","v":0},0,0,0,0,0,0,0,0,0,0,0,0,0,0,null,null,null,"D0462"]
[463,"Cowley","Udall ",2323214,0,0,0,0,334.1,0,0,{"$f":"'2016legmax.xls'!BJ247","v":0},2323214,{"$f":"'2016legmax.xls'!BB247","v":489744},348685,{"$f":"'2016legmax.xls'!BC247","v":178692},234596,{"$f":"'2016legmax.xls'!BD247","v":26598},3366933,{"$f":"'2016legmax.xls'!DD247","v":0},581,0,0,0,0,0,{"$f":"'2016legmax.xls'!AV247","v":12},{"$f":"'2016legmax.xls'!AW247","v":"A"},{"$f":"'2016legmax.xls'!AX247","v":""},3423418,3367514,{"$f":"IF(Weightings!G247>0,Weightings!G247,'Preliminary SO66'!AB244)","v":3496843},3367514,3367514,3093431,{"$f":"'2016legmax.xls'!BM247","v":0.3},928029,928029,928029,null,2332544,0,0,0,0,0,0,0,0,0,9330,0,0,2323214,{"$f":"'2016legmax.xls'!F247","v":340},{"$f":"'2016legmax.xls'!I247","v":331},{"$f":"'2016legmax.xls'!K247","v":331.2},334.1,{"$f":"'2016legmax.xls'!O247","v":0},334.1,{"$f":"IF(ISNA(VLOOKUP($CM250,'Audit Values'!$A$2:$AE$252,2,FALSE)),'Preliminary SO66'!T244,VLOOKUP($CM250,'Audit Values'!$A$2:$AE$252,20,FALSE))","v":0},0,{"$f":"IF(ISNA(VLOOKUP($CM250,'Audit Values'!$A$2:$AE$252,2,FALSE)),'Preliminary SO66'!U244,VLOOKUP($CM250,'Audit Values'!$A$2:$AE$252,21,FALSE))","v":0},0,0,0,0,{"$f":"'2016legmax.xls'!AH247","v":0},0,0,{"$f":"'2016legmax.xls'!CJ247","v":0},0,{"$f":"'2016legmax.xls'!CI247","v":0},0,0,0,0,0,0,0,0,0,0,0,0,0,0,null,null,null,"D0463"]
[464,"Leavenworth","Tonganoxie ",9167274,0,774637,0,0,1906.5,0,1,{"$f":"'2016legmax.xls'!BJ248","v":0},9941910,{"$f":"'2016legmax.xls'!BB248","v":1999066},1577350,{"$f":"'2016legmax.xls'!BC248","v":870174},1141623,{"$f":"'2016legmax.xls'!BD248","v":184317},14572817,{"$f":"'2016legmax.xls'!DD248","v":0},1,0,0,0,0,7168,{"$f":"'2016legmax.xls'!AV248","v":15},{"$f":"'2016legmax.xls'!AW248","v":"A"},{"$f":"'2016legmax.xls'!AX248","v":""},14851436,14579987,{"$f":"IF(Weightings!G248>0,Weightings!G248,'Preliminary SO66'!AB245)","v":15098107},14579987,14579987,12282025,{"$f":"'2016legmax.xls'!BM248","v":0.3},3684608,3684608,3684608,null,9208327,1.1000000000000001,4237,0,0,0,0,0,0,0,36816,0,0,9167274,{"$f":"'2016legmax.xls'!F248","v":1861.6},{"$f":"'2016legmax.xls'!I248","v":1906.5},{"$f":"'2016legmax.xls'!K248","v":1890.2},1906.5,{"$f":"'2016legmax.xls'!O248","v":0},1906.5,{"$f":"IF(ISNA(VLOOKUP($CM251,'Audit Values'!$A$2:$AE$252,2,FALSE)),'Preliminary SO66'!T245,VLOOKUP($CM251,'Audit Values'!$A$2:$AE$252,20,FALSE))","v":0},0,{"$f":"IF(ISNA(VLOOKUP($CM251,'Audit Values'!$A$2:$AE$252,2,FALSE)),'Preliminary SO66'!U245,VLOOKUP($CM251,'Audit Values'!$A$2:$AE$252,21,FALSE))","v":0},0,0,0,0,{"$f":"'2016legmax.xls'!AH248","v":201.1},774637,0,{"$f":"'2016legmax.xls'!CJ248","v":3.5000000000000001E-3},51980,{"$f":"'2016legmax.xls'!CI248","v":0},0,0,0,0,0,0,0,0,0,0,0,0,0,0,null,null,null,"D0464"]
[465,"Cowley","Winfield ",11748597,0,0,0,0,2192.9,0,0,{"$f":"'2016legmax.xls'!BJ249","v":0},11748597,{"$f":"'2016legmax.xls'!BB249","v":2812704},2258416,{"$f":"'2016legmax.xls'!BC249","v":1564794},2056035,{"$f":"'2016legmax.xls'!BD249","v":253992},18638503,{"$f":"'2016legmax.xls'!DD249","v":0},13351,0,0,0,0,0,{"$f":"'2016legmax.xls'!AV249","v":18},{"$f":"'2016legmax.xls'!AW249","v":"A"},{"$f":"'2016legmax.xls'!AX249","v":""},19143095,18651854,{"$f":"IF(Weightings!G249>0,Weightings!G249,'Preliminary SO66'!AB246)","v":19650099},18651854,18651854,16070897,{"$f":"'2016legmax.xls'!BM249","v":0.3},4821269,4821269,4821269,null,11795780,0,0,0,0,0,0,0,0,0,47183,0,0,11748597,{"$f":"'2016legmax.xls'!F249","v":2208.6999999999998},{"$f":"'2016legmax.xls'!I249","v":2177.9},{"$f":"'2016legmax.xls'!K249","v":2140.1999999999998},2177.9,{"$f":"'2016legmax.xls'!O249","v":15},2192.9,{"$f":"IF(ISNA(VLOOKUP($CM252,'Audit Values'!$A$2:$AE$252,2,FALSE)),'Preliminary SO66'!T246,VLOOKUP($CM252,'Audit Values'!$A$2:$AE$252,20,FALSE))","v":0},0,{"$f":"IF(ISNA(VLOOKUP($CM252,'Audit Values'!$A$2:$AE$252,2,FALSE)),'Preliminary SO66'!U246,VLOOKUP($CM252,'Audit Values'!$A$2:$AE$252,21,FALSE))","v":0},0,0,0,0,{"$f":"'2016legmax.xls'!AH249","v":0},0,0,{"$f":"'2016legmax.xls'!CJ249","v":0},0,{"$f":"'2016legmax.xls'!CI249","v":0},0,0,0,0,0,0,0,0,0,0,0,0,0,0,null,null,null,"D0465"]
[466,"Scott","Scott County ",5368480,69330,0,0,0,920.5,0,893,{"$f":"'2016legmax.xls'!BJ250","v":0},5436917,{"$f":"'2016legmax.xls'!BB250","v":196236},471940,{"$f":"'2016legmax.xls'!BC250","v":422853},551906,{"$f":"'2016legmax.xls'!BD250","v":0},6527946,{"$f":"'2016legmax.xls'!DD250","v":82439},43965,0,0,0,0,0,{"$f":"'2016legmax.xls'!AV250","v":9},{"$f":"'2016legmax.xls'!AW250","v":"A"},{"$f":"'2016legmax.xls'!AX250","v":""},6784296,6655243,{"$f":"IF(Weightings!G250>0,Weightings!G250,'Preliminary SO66'!AB247)","v":6932394},6655243,6655243,6988906,{"$f":"'2016legmax.xls'!BM250","v":0.3},2096672,2096672,2096672,null,5483258,24.2,93218,0,0,0,0,0,0,0,21560,0,0,5368480,{"$f":"'2016legmax.xls'!F250","v":871.5},{"$f":"'2016legmax.xls'!I250","v":874},{"$f":"'2016legmax.xls'!K250","v":909},909,{"$f":"'2016legmax.xls'!O250","v":11.5},920.5,{"$f":"IF(ISNA(VLOOKUP($CM253,'Audit Values'!$A$2:$AE$252,2,FALSE)),'Preliminary SO66'!T247,VLOOKUP($CM253,'Audit Values'!$A$2:$AE$252,20,FALSE))","v":12},60000,{"$f":"IF(ISNA(VLOOKUP($CM253,'Audit Values'!$A$2:$AE$252,2,FALSE)),'Preliminary SO66'!U247,VLOOKUP($CM253,'Audit Values'!$A$2:$AE$252,21,FALSE))","v":0},0,10,9330,69330,{"$f":"'2016legmax.xls'!AH250","v":0},0,0,{"$f":"'2016legmax.xls'!CJ250","v":0},0,{"$f":"'2016legmax.xls'!CI250","v":0},0,0,0,0,0,0,0,0,0,0,0,0,0,0,null,null,null,"D0466"]
[467,"Wichita","Leoti ",2979063,0,0,0,0,402.5,0,1,{"$f":"'2016legmax.xls'!BJ251","v":0},2979062,{"$f":"'2016legmax.xls'!BB251","v":156279},224614,{"$f":"'2016legmax.xls'!BC251","v":239143},314034,{"$f":"'2016legmax.xls'!BD251","v":0},3599098,{"$f":"'2016legmax.xls'!DD251","v":0},11295,0,0,10000,0,5224,{"$f":"'2016legmax.xls'!AV251","v":11},{"$f":"'2016legmax.xls'!AW251","v":"A"},{"$f":"'2016legmax.xls'!AX251","v":""},3690509,3625618,{"$f":"IF(Weightings!G251>0,Weightings!G251,'Preliminary SO66'!AB248)","v":3767417},3625618,3625618,3805801,{"$f":"'2016legmax.xls'!BM251","v":0.3},1141740,1141740,1141740,null,2991027,0,0,0,0,0,0,0,0,0,11964,0,0,2979063,{"$f":"'2016legmax.xls'!F251","v":391},{"$f":"'2016legmax.xls'!I251","v":398},{"$f":"'2016legmax.xls'!K251","v":382},398,{"$f":"'2016legmax.xls'!O251","v":4.5},402.5,{"$f":"IF(ISNA(VLOOKUP($CM254,'Audit Values'!$A$2:$AE$252,2,FALSE)),'Preliminary SO66'!T248,VLOOKUP($CM254,'Audit Values'!$A$2:$AE$252,20,FALSE))","v":0},0,{"$f":"IF(ISNA(VLOOKUP($CM254,'Audit Values'!$A$2:$AE$252,2,FALSE)),'Preliminary SO66'!U248,VLOOKUP($CM254,'Audit Values'!$A$2:$AE$252,21,FALSE))","v":0},0,0,0,0,{"$f":"'2016legmax.xls'!AH251","v":0},0,0,{"$f":"'2016legmax.xls'!CJ251","v":0},0,{"$f":"'2016legmax.xls'!CI251","v":0},0,0,0,0,0,0,0,0,0,0,0,0,0,0,null,null,null,"D0467"]
[468,"Lane","Healy Public Schools ",669158,0,0,0,0,71.599999999999994,0,0,{"$f":"'2016legmax.xls'!BJ252","v":0},669158,{"$f":"'2016legmax.xls'!BB252","v":0},104481,{"$f":"'2016legmax.xls'!BC252","v":49890},66387,{"$f":"'2016legmax.xls'!BD252","v":0},823529,{"$f":"'2016legmax.xls'!DD252","v":0},6140,0,0,0,1600,2066,{"$f":"'2016legmax.xls'!AV252","v":11},{"$f":"'2016legmax.xls'!AW252","v":"A"},{"$f":"'2016legmax.xls'!AX252","v":""},849832,833335,{"$f":"IF(Weightings!G252>0,Weightings!G252,'Preliminary SO66'!AB249)","v":916602},833335,833335,929162,{"$f":"'2016legmax.xls'!BM252","v":0.33},306623,306623,306623,null,671845,0,0,0,0,0,0,0,0,0,2687,0,0,669158,{"$f":"'2016legmax.xls'!F252","v":79.5},{"$f":"'2016legmax.xls'!I252","v":67.8},{"$f":"'2016legmax.xls'!K252","v":67.5},71.599999999999994,{"$f":"'2016legmax.xls'!O252","v":0},71.599999999999994,{"$f":"IF(ISNA(VLOOKUP($CM255,'Audit Values'!$A$2:$AE$252,2,FALSE)),'Preliminary SO66'!T249,VLOOKUP($CM255,'Audit Values'!$A$2:$AE$252,20,FALSE))","v":0},0,{"$f":"IF(ISNA(VLOOKUP($CM255,'Audit Values'!$A$2:$AE$252,2,FALSE)),'Preliminary SO66'!U249,VLOOKUP($CM255,'Audit Values'!$A$2:$AE$252,21,FALSE))","v":0},0,0,0,0,{"$f":"'2016legmax.xls'!AH252","v":0},0,0,{"$f":"'2016legmax.xls'!CJ252","v":0},0,{"$f":"'2016legmax.xls'!CI252","v":0},0,0,0,0,0,0,0,0,0,0,0,0,0,0,null,null,null,"D0468"]
[469,"Leavenworth","Lansing ",11480546,0,878256,0,0,2544.4,0,4740,{"$f":"'2016legmax.xls'!BJ253","v":0},12354062,{"$f":"'2016legmax.xls'!BB253","v":2816435},3068665,{"$f":"'2016legmax.xls'!BC253","v":1449747},1894090,{"$f":"'2016legmax.xls'!BD253","v":140111},19829020,{"$f":"'2016legmax.xls'!DD253","v":0},17,20565,0,0,0,0,{"$f":"'2016legmax.xls'!AV253","v":15},{"$f":"'2016legmax.xls'!AW253","v":"A"},{"$f":"'2016legmax.xls'!AX253","v":""},20298685,19854342,{"$f":"IF(Weightings!G253>0,Weightings!G253,'Preliminary SO66'!AB250)","v":20609139},19854342,19854342,16280440,{"$f":"'2016legmax.xls'!BM253","v":0.3},4884132,4884132,4884132,null,11526653,0,0,0,0,0,0,0,0,0,46107,0,0,11480546,{"$f":"'2016legmax.xls'!F253","v":2557.1},{"$f":"'2016legmax.xls'!I253","v":2534.6},{"$f":"'2016legmax.xls'!K253","v":2541.5},2544.4,{"$f":"'2016legmax.xls'!O253","v":0},2544.4,{"$f":"IF(ISNA(VLOOKUP($CM256,'Audit Values'!$A$2:$AE$252,2,FALSE)),'Preliminary SO66'!T250,VLOOKUP($CM256,'Audit Values'!$A$2:$AE$252,20,FALSE))","v":0},0,{"$f":"IF(ISNA(VLOOKUP($CM256,'Audit Values'!$A$2:$AE$252,2,FALSE)),'Preliminary SO66'!U250,VLOOKUP($CM256,'Audit Values'!$A$2:$AE$252,21,FALSE))","v":0},0,0,0,0,{"$f":"'2016legmax.xls'!AH253","v":228},878256,0,{"$f":"'2016legmax.xls'!CJ253","v":1.66E-2},336958,{"$f":"'2016legmax.xls'!CI253","v":0},0,0,0,0,0,0,0,0,0,0,0,0,0,0,null,null,null,"D0469"]
[470,"Cowley","Arkansas City ",15974164,0,0,0,0,2752.1,0,0,{"$f":"'2016legmax.xls'!BJ254","v":0},15974164,{"$f":"'2016legmax.xls'!BB254-8349","v":4419108},2577217,{"$f":"'2016legmax.xls'!BC254","v":1359037},1788026,{"$f":"'2016legmax.xls'!BD254","v":209631},24539157,{"$f":"'2016legmax.xls'!DD254","v":0},4105,0,0,0,0,0,{"$f":"'2016legmax.xls'!AV254","v":10},{"$f":"'2016legmax.xls'!AW254","v":"A"},{"$f":"'2016legmax.xls'!AX254","v":""},24972251,24543262,{"$f":"IF(Weightings!G254>0,Weightings!G254,'Preliminary SO66'!AB251)","v":25787164},24543262,24543262,21189692,{"$f":"'2016legmax.xls'!BM254","v":0.3},6356908,6281908,6281908,null,16038317,0,0,0,0,0,0,0,0,0,64153,0,0,15974164,{"$f":"'2016legmax.xls'!F254","v":2590.5},{"$f":"'2016legmax.xls'!I254","v":2715.6},{"$f":"'2016legmax.xls'!K254","v":2653.2},2715.6,{"$f":"'2016legmax.xls'!O254","v":36.5},2752.1,{"$f":"IF(ISNA(VLOOKUP($CM257,'Audit Values'!$A$2:$AE$252,2,FALSE)),'Preliminary SO66'!T251,VLOOKUP($CM257,'Audit Values'!$A$2:$AE$252,20,FALSE))","v":0},0,{"$f":"IF(ISNA(VLOOKUP($CM257,'Audit Values'!$A$2:$AE$252,2,FALSE)),'Preliminary SO66'!U251,VLOOKUP($CM257,'Audit Values'!$A$2:$AE$252,21,FALSE))","v":0},0,0,0,0,{"$f":"'2016legmax.xls'!AH254","v":0},0,0,{"$f":"'2016legmax.xls'!CJ254","v":0},0,{"$f":"'2016legmax.xls'!CI254","v":0},0,0,0,0,0,0,0,0,0,0,0,0,0,0,null,null,null,"D0470"]
[471,"Cowley","Dexter ",1248213,0,0,0,0,145,0,0,{"$f":"'2016legmax.xls'!BJ255","v":0},1248213,{"$f":"'2016legmax.xls'!BB255","v":224910},142547,{"$f":"'2016legmax.xls'!BC255","v":97453},127365,{"$f":"'2016legmax.xls'!BD255","v":0},1713123,{"$f":"'2016legmax.xls'!DD255","v":0},2465,0,0,0,0,0,{"$f":"'2016legmax.xls'!AV255","v":11},{"$f":"'2016legmax.xls'!AW255","v":"A"},{"$f":"'2016legmax.xls'!AX255","v":""},1745500,1715588,{"$f":"IF(Weightings!G255>0,Weightings!G255,'Preliminary SO66'!AB252)","v":1813219},1715588,1715588,1650244,{"$f":"'2016legmax.xls'!BM255","v":0.3},495073,425000,425000,null,1253226,0,0,0,0,0,0,0,0,0,5013,0,0,1248213,{"$f":"'2016legmax.xls'!F255","v":146.80000000000001},{"$f":"'2016legmax.xls'!I255","v":145},{"$f":"'2016legmax.xls'!K255","v":141.5},145,{"$f":"'2016legmax.xls'!O255","v":0},145,{"$f":"IF(ISNA(VLOOKUP($CM258,'Audit Values'!$A$2:$AE$252,2,FALSE)),'Preliminary SO66'!T252,VLOOKUP($CM258,'Audit Values'!$A$2:$AE$252,20,FALSE))","v":0},0,{"$f":"IF(ISNA(VLOOKUP($CM258,'Audit Values'!$A$2:$AE$252,2,FALSE)),'Preliminary SO66'!U252,VLOOKUP($CM258,'Audit Values'!$A$2:$AE$252,21,FALSE))","v":0},0,0,0,0,{"$f":"'2016legmax.xls'!AH255","v":0},0,0,{"$f":"'2016legmax.xls'!CJ255","v":0},0,{"$f":"'2016legmax.xls'!CI255","v":0},0,0,0,0,0,0,0,0,0,0,0,0,0,0,null,null,null,"D0471"]
[473,"Dickinson","Chapman ",6260274,5000,0,0,0,1047.5,0,0,{"$f":"'2016legmax.xls'!BJ256","v":0},6265274,{"$f":"'2016legmax.xls'!BB256","v":862582},910988,{"$f":"'2016legmax.xls'!BC256","v":594876},789796,{"$f":"'2016legmax.xls'!BD256","v":25831},8659551,{"$f":"'2016legmax.xls'!DD256","v":0},9,21988,0,0,1423,8706,{"$f":"'2016legmax.xls'!AV256","v":15},{"$f":"'2016legmax.xls'!AW256","v":"A"},{"$f":"'2016legmax.xls'!AX256","v":""},8886597,8691677,{"$f":"IF(Weightings!G256>0,Weightings!G256,'Preliminary SO66'!AB253)","v":9152633},8691677,8691677,8252368,{"$f":"'2016legmax.xls'!BM256","v":0.3},2475710,2475710,2475710,null,6287342,0.5,1926,0,0,0,0,0,0,0,25142,0,0,6260274,{"$f":"'2016legmax.xls'!F256","v":1050},{"$f":"'2016legmax.xls'!I256","v":1047.5},{"$f":"'2016legmax.xls'!K256","v":1032.2},1047.5,{"$f":"'2016legmax.xls'!O256","v":0},1047.5,{"$f":"IF(ISNA(VLOOKUP($CM259,'Audit Values'!$A$2:$AE$252,2,FALSE)),'Preliminary SO66'!T253,VLOOKUP($CM259,'Audit Values'!$A$2:$AE$252,20,FALSE))","v":1},5000,{"$f":"IF(ISNA(VLOOKUP($CM259,'Audit Values'!$A$2:$AE$252,2,FALSE)),'Preliminary SO66'!U253,VLOOKUP($CM259,'Audit Values'!$A$2:$AE$252,21,FALSE))","v":0},0,0,0,5000,{"$f":"'2016legmax.xls'!AH256","v":0},0,0,{"$f":"'2016legmax.xls'!CJ256","v":0},0,{"$f":"'2016legmax.xls'!CI256","v":0},0,0,0,0,0,0,0,0,0,62969,11106,0,0,0,null,null,null,"D0473"]
[474,"Kiowa","Haviland ",929607,0,0,0,0,101.3,0,0,{"$f":"'2016legmax.xls'!BJ257","v":0},929607,{"$f":"'2016legmax.xls'!BB257","v":0},127857,{"$f":"'2016legmax.xls'!BC257","v":54384},71310,{"$f":"'2016legmax.xls'!BD257","v":0},1111848,{"$f":"'2016legmax.xls'!DD257","v":0},5361,0,0,0,9146,3566,{"$f":"'2016legmax.xls'!AV257","v":4},{"$f":"'2016legmax.xls'!AW257","v":"A"},{"$f":"'2016legmax.xls'!AX257","v":""},1146847,1129921,{"$f":"IF(Weightings!G257>0,Weightings!G257,'Preliminary SO66'!AB254)","v":1202338},1129921,1129921,1266489,{"$f":"'2016legmax.xls'!BM257","v":0.3},379947,379947,379947,null,933340,0,0,0,0,0,0,0,0,0,3733,0,0,929607,{"$f":"'2016legmax.xls'!F257","v":105},{"$f":"'2016legmax.xls'!I257","v":101.3},{"$f":"'2016legmax.xls'!K257","v":96.5},101.3,{"$f":"'2016legmax.xls'!O257","v":0},101.3,{"$f":"IF(ISNA(VLOOKUP($CM260,'Audit Values'!$A$2:$AE$252,2,FALSE)),'Preliminary SO66'!T254,VLOOKUP($CM260,'Audit Values'!$A$2:$AE$252,20,FALSE))","v":0},0,{"$f":"IF(ISNA(VLOOKUP($CM260,'Audit Values'!$A$2:$AE$252,2,FALSE)),'Preliminary SO66'!U254,VLOOKUP($CM260,'Audit Values'!$A$2:$AE$252,21,FALSE))","v":0},0,0,0,0,{"$f":"'2016legmax.xls'!AH257","v":0},0,0,{"$f":"'2016legmax.xls'!CJ257","v":0},0,{"$f":"'2016legmax.xls'!CI257","v":0},0,0,0,0,0,0,0,0,0,0,0,0,0,0,null,null,null,"D0474"]
[475,"Geary","Geary County Schools ",32134033,75875,985342,0,0,8114.7,0,0,{"$f":"'2016legmax.xls'!BJ258","v":0},33195250,{"$f":"'2016legmax.xls'!BB258","v":13350881},7579038,{"$f":"'2016legmax.xls'!BC258","v":4466593},5930152,{"$f":"'2016legmax.xls'!BD258","v":418310},59010072,{"$f":"'2016legmax.xls'!DD258","v":0},173,10843113,0,0,2682,107665,{"$f":"'2016legmax.xls'!AV258","v":8},{"$f":"'2016legmax.xls'!AW258","v":"A"},{"$f":"'2016legmax.xls'!AX258","v":""},71427264,69963705,{"$f":"IF(Weightings!G258>0,Weightings!G258,'Preliminary SO66'!AB255)","v":72449705},69963705,69963705,58488382,{"$f":"'2016legmax.xls'!BM258","v":0.3},17546515,17546515,17546515,null,32997132,0,0,0,0,0,0,0,0,0,131989,189.8,731110,32134033,{"$f":"'2016legmax.xls'!F258","v":8072.6},{"$f":"'2016legmax.xls'!I258","v":8090.7},{"$f":"'2016legmax.xls'!K258","v":7268.5},8090.7,{"$f":"'2016legmax.xls'!O258","v":24},8114.7,{"$f":"IF(ISNA(VLOOKUP($CM261,'Audit Values'!$A$2:$AE$252,2,FALSE)),'Preliminary SO66'!T255,VLOOKUP($CM261,'Audit Values'!$A$2:$AE$252,20,FALSE))","v":2},10000,{"$f":"IF(ISNA(VLOOKUP($CM261,'Audit Values'!$A$2:$AE$252,2,FALSE)),'Preliminary SO66'!U255,VLOOKUP($CM261,'Audit Values'!$A$2:$AE$252,21,FALSE))","v":2.1},8495,61.5,57380,75875,{"$f":"'2016legmax.xls'!AH258","v":255.8},985342,0,{"$f":"'2016legmax.xls'!CJ258","v":0},0,{"$f":"'2016legmax.xls'!CI258","v":0},0,0,0,0,0,0,0,0,0,10464071,10464071,0,0,0,null,null,null,"D0475"]
[476,"Gray","Copeland ",1094852,22799,0,0,0,105,0,13,{"$f":"'2016legmax.xls'!BJ259","v":0},1117638,{"$f":"'2016legmax.xls'!BB259","v":0},79097,{"$f":"'2016legmax.xls'!BC259","v":76677},99931,{"$f":"'2016legmax.xls'!BD259","v":0},1273412,{"$f":"'2016legmax.xls'!DD259","v":0},3612,0,0,0,39090,4413,{"$f":"'2016legmax.xls'!AV259","v":11},{"$f":"'2016legmax.xls'!AW259","v":"A"},{"$f":"'2016legmax.xls'!AX259","v":""},1343794,1320540,{"$f":"IF(Weightings!G259>0,Weightings!G259,'Preliminary SO66'!AB256)","v":1360979},1320540,1320540,1394372,{"$f":"'2016legmax.xls'!BM259","v":0.3},418312,418312,418312,null,1099249,0,0,0,0,0,0,0,0,0,4397,0,0,1094852,{"$f":"'2016legmax.xls'!F259","v":106.5},{"$f":"'2016legmax.xls'!I259","v":103},{"$f":"'2016legmax.xls'!K259","v":88.5},103,{"$f":"'2016legmax.xls'!O259","v":2},105,{"$f":"IF(ISNA(VLOOKUP($CM262,'Audit Values'!$A$2:$AE$252,2,FALSE)),'Preliminary SO66'!T256,VLOOKUP($CM262,'Audit Values'!$A$2:$AE$252,20,FALSE))","v":4},20000,{"$f":"IF(ISNA(VLOOKUP($CM262,'Audit Values'!$A$2:$AE$252,2,FALSE)),'Preliminary SO66'!U256,VLOOKUP($CM262,'Audit Values'!$A$2:$AE$252,21,FALSE))","v":0},0,3,2799,22799,{"$f":"'2016legmax.xls'!AH259","v":0},0,0,{"$f":"'2016legmax.xls'!CJ259","v":0},0,{"$f":"'2016legmax.xls'!CI259","v":0},0,0,0,0,0,0,0,0,0,0,0,0,0,0,null,null,null,"D0476"]
[477,"Gray","Ingalls ",1723951,0,0,0,0,232,0,0,{"$f":"'2016legmax.xls'!BJ260","v":0},1723951,{"$f":"'2016legmax.xls'!BB260","v":16113},159375,{"$f":"'2016legmax.xls'!BC260","v":129869},171020,{"$f":"'2016legmax.xls'!BD260","v":0},2029308,{"$f":"'2016legmax.xls'!DD260","v":0},5154,0,0,0,0,0,{"$f":"'2016legmax.xls'!AV260","v":17},{"$f":"'2016legmax.xls'!AW260","v":"A"},{"$f":"'2016legmax.xls'!AX260","v":""},2075613,2034462,{"$f":"IF(Weightings!G260>0,Weightings!G260,'Preliminary SO66'!AB257)","v":2133092},2034462,2034462,2246868,{"$f":"'2016legmax.xls'!BM260","v":0.3},674060,674060,674060,null,1730875,0,0,0,0,0,0,0,0,0,6924,0,0,1723951,{"$f":"'2016legmax.xls'!F260","v":221},{"$f":"'2016legmax.xls'!I260","v":224.5},{"$f":"'2016legmax.xls'!K260","v":230},230,{"$f":"'2016legmax.xls'!O260","v":2},232,{"$f":"IF(ISNA(VLOOKUP($CM263,'Audit Values'!$A$2:$AE$252,2,FALSE)),'Preliminary SO66'!T257,VLOOKUP($CM263,'Audit Values'!$A$2:$AE$252,20,FALSE))","v":0},0,{"$f":"IF(ISNA(VLOOKUP($CM263,'Audit Values'!$A$2:$AE$252,2,FALSE)),'Preliminary SO66'!U257,VLOOKUP($CM263,'Audit Values'!$A$2:$AE$252,21,FALSE))","v":0},0,0,0,0,{"$f":"'2016legmax.xls'!AH260","v":0},0,0,{"$f":"'2016legmax.xls'!CJ260","v":0},0,{"$f":"'2016legmax.xls'!CI260","v":0},0,0,0,0,0,0,0,0,0,0,0,0,0,0,null,null,null,"D0477"]
[479,"Anderson","Crest ",1662194,0,0,0,0,200,0,0,{"$f":"'2016legmax.xls'!BJ261","v":0},1662194,{"$f":"'2016legmax.xls'!BB261","v":146232},262508,{"$f":"'2016legmax.xls'!BC261","v":129712},169814,{"$f":"'2016legmax.xls'!BD261","v":0},2200646,{"$f":"'2016legmax.xls'!DD261","v":0},0,0,0,0,0,0,{"$f":"'2016legmax.xls'!AV261","v":3},{"$f":"'2016legmax.xls'!AW261","v":"A"},{"$f":"'2016legmax.xls'!AX261","v":""},2240748,2200646,{"$f":"IF(Weightings!G261>0,Weightings!G261,'Preliminary SO66'!AB258)","v":2343679},2200646,2200646,2253705,{"$f":"'2016legmax.xls'!BM261","v":0.3},676112,534000,534000,null,1668869,0,0,0,0,0,0,0,0,0,6675,0,0,1662194,{"$f":"'2016legmax.xls'!F261","v":204.5},{"$f":"'2016legmax.xls'!I261","v":195},{"$f":"'2016legmax.xls'!K261","v":190},196.5,{"$f":"'2016legmax.xls'!O261","v":3.5},200,{"$f":"IF(ISNA(VLOOKUP($CM264,'Audit Values'!$A$2:$AE$252,2,FALSE)),'Preliminary SO66'!T258,VLOOKUP($CM264,'Audit Values'!$A$2:$AE$252,20,FALSE))","v":0},0,{"$f":"IF(ISNA(VLOOKUP($CM264,'Audit Values'!$A$2:$AE$252,2,FALSE)),'Preliminary SO66'!U258,VLOOKUP($CM264,'Audit Values'!$A$2:$AE$252,21,FALSE))","v":0},0,0,0,0,{"$f":"'2016legmax.xls'!AH261","v":0},0,0,{"$f":"'2016legmax.xls'!CJ261","v":0},{"$f":"AD264*BS264","v":0},{"$f":"'2016legmax.xls'!CI261","v":0},0,0,0,0,0,0,0,0,0,0,0,0,0,0,null,null,null,"D0479"]
[480,"Seward","Liberal ",{"$f":"BB265","v":28926427},{"$f":"BO265","v":0},{"$f":"BQ265","v":0},0,{"$f":"IF((CF265-CE265)<0,0,CF265-CE265)","v":0},{"$f":"BH265","v":4737.5},{"$f":"I265*$J$6","v":0},0,{"$f":"'2016legmax.xls'!BJ262","v":0},{"$f":"SUM(D265+E265+F265+G265+H265+J265)-K265+L265","v":28926427},{"$f":"'2016legmax.xls'!BB262","v":6820169},2666098,{"$f":"'2016legmax.xls'!BC262","v":2604177},3399466,{"$f":"'2016legmax.xls'!BD262","v":0},{"$f":"M265+N265+O265+P265+R265","v":41016871},{"$f":"'2016legmax.xls'!DD262","v":0},12561,0,0,0,0,0,{"$f":"'2016legmax.xls'!AV262","v":15},{"$f":"'2016legmax.xls'!AW262","v":"A"},{"$f":"'2016legmax.xls'!AX262","v":""},{"$f":"D265+E265+F265+BZ265+CD265+H265+J265+L265+N265+O265+Q265+R265+T265+U265+V265+W265+Y265+Z265","v":41824721},{"$f":"AD265+BV265-Q265+P265+X265","v":41029432},{"$f":"IF(Weightings!G262>0,Weightings!G262,'Preliminary SO66'!AB259)","v":42395613},41029432,{"$f":"MIN(AE265,AF265)","v":41029432},36455034,{"$f":"'2016legmax.xls'!BM262","v":0.3},{"$f":"AI265*AJ265","v":10936510},9978000,{"$f":"MIN(AK265,AL265)","v":9978000},null,29042597,0,{"$f":"AP265*$AQ$6","v":0},0,{"$f":"AR265*$AS$6","v":0},0,{"$f":"AT265*$AU$6","v":0},0,{"$f":"AV265*$AW$6","v":0},{"$f":"AS265+AU265+AW265","v":0},{"$f":"SUM(AO265-AQ265-AX265)*$AY$6","v":116170},0,{"$f":"AZ265*$BA$6","v":0},{"$f":"AO265-AQ265-AX265-AY265-BA265","v":28926427},{"$f":"'2016legmax.xls'!F262","v":4536.1000000000004},{"$f":"'2016legmax.xls'!I262","v":4639.5},{"$f":"'2016legmax.xls'!K262","v":4666.5},{"$f":"MAX(BE265,BD265, AVERAGE(BC265,BD265,BE265))","v":4666.5},{"$f":"'2016legmax.xls'!O262","v":71},{"$f":"BF265+BG265","v":4737.5},{"$f":"IF(ISNA(VLOOKUP($CM265,'Audit Values'!$A$2:$AE$252,2,FALSE)),'Preliminary SO66'!T259,VLOOKUP($CM265,'Audit Values'!$A$2:$AE$252,20,FALSE))","v":0},{"$f":"BI265*$BJ$6","v":0},{"$f":"IF(ISNA(VLOOKUP($CM265,'Audit Values'!$A$2:$AE$252,2,FALSE)),'Preliminary SO66'!U259,VLOOKUP($CM265,'Audit Values'!$A$2:$AE$252,21,FALSE))","v":0},{"$f":"BK265*$BL$6","v":0},0,{"$f":"BM265*$BN$6","v":0},{"$f":"BJ265+BL265+BN265","v":0},{"$f":"'2016legmax.xls'!AH262","v":0},{"$f":"BP265*$BQ$6","v":0},0,{"$f":"'2016legmax.xls'!CJ262","v":0},0,{"$f":"'2016legmax.xls'!CI262","v":0},{"$f":"MIN(BT265,BU265)","v":0},0,0,0,{"$f":"IF(BY265>MAX(BW265,BX265), MAX(BW265,BX265),BY265)","v":0},0,0,0,{"$f":"IF(CC265>MAX(CA265,CB265),MAX(CA265,CB265),CC265)","v":0},0,0,0,0,0,null,null,null,"D0480"]
[481,"Dickinson","Rural Vista ",2281706,0,0,0,0,301.8,0,0,{"$f":"'2016legmax.xls'!BJ263","v":0},2281706,{"$f":"'2016legmax.xls'!BB263","v":140099},240756,{"$f":"'2016legmax.xls'!BC263","v":163469},213972,{"$f":"'2016legmax.xls'!BD263","v":0},2826030,{"$f":"'2016legmax.xls'!DD263","v":0},0,0,0,0,0,0,{"$f":"'2016legmax.xls'!AV263","v":9},{"$f":"'2016legmax.xls'!AW263","v":"A"},{"$f":"'2016legmax.xls'!AX263","v":""},2876533,2826030,{"$f":"IF(Weightings!G263>0,Weightings!G263,'Preliminary SO66'!AB260)","v":2929878},2826030,2826030,3071227,{"$f":"'2016legmax.xls'!BM263","v":0.3},921368,921368,921368,null,2290869,0,0,0,0,0,0,0,0,0,9163,0,0,2281706,{"$f":"'2016legmax.xls'!F263","v":309.5},{"$f":"'2016legmax.xls'!I263","v":285},{"$f":"'2016legmax.xls'!K263","v":293},295.8,{"$f":"'2016legmax.xls'!O263","v":6},301.8,{"$f":"IF(ISNA(VLOOKUP($CM266,'Audit Values'!$A$2:$AE$252,2,FALSE)),'Preliminary SO66'!T260,VLOOKUP($CM266,'Audit Values'!$A$2:$AE$252,20,FALSE))","v":0},0,{"$f":"IF(ISNA(VLOOKUP($CM266,'Audit Values'!$A$2:$AE$252,2,FALSE)),'Preliminary SO66'!U260,VLOOKUP($CM266,'Audit Values'!$A$2:$AE$252,21,FALSE))","v":0},0,0,0,0,{"$f":"'2016legmax.xls'!AH263","v":0},0,0,{"$f":"'2016legmax.xls'!CJ263","v":0},0,{"$f":"'2016legmax.xls'!CI263","v":0},0,0,0,0,0,0,0,0,0,0,0,0,0,0,null,null,null,"D0481"]
[482,"Lane","Dighton ",1707880,0,9245,0,0,233.5,0,0,{"$f":"'2016legmax.xls'!BJ264","v":0},1717125,{"$f":"'2016legmax.xls'!BB264","v":0},163047,{"$f":"'2016legmax.xls'!BC264","v":127294},165722,{"$f":"'2016legmax.xls'!BD264","v":0},2007466,{"$f":"'2016legmax.xls'!DD264","v":0},17581,0,0,0,0,689,{"$f":"'2016legmax.xls'!AV264","v":11},{"$f":"'2016legmax.xls'!AW264","v":"A"},{"$f":"'2016legmax.xls'!AX264","v":""},2064164,2025736,{"$f":"IF(Weightings!G264>0,Weightings!G264,'Preliminary SO66'!AB261)","v":2235390},2025736,2025736,2279658,{"$f":"'2016legmax.xls'!BM264","v":0.3},683897,683897,683897,null,1714739,0,0,0,0,0,0,0,0,0,6859,0,0,1707880,{"$f":"'2016legmax.xls'!F264","v":242.5},{"$f":"'2016legmax.xls'!I264","v":230},{"$f":"'2016legmax.xls'!K264","v":212.5},230,{"$f":"'2016legmax.xls'!O264","v":3.5},233.5,{"$f":"IF(ISNA(VLOOKUP($CM267,'Audit Values'!$A$2:$AE$252,2,FALSE)),'Preliminary SO66'!T261,VLOOKUP($CM267,'Audit Values'!$A$2:$AE$252,20,FALSE))","v":0},0,{"$f":"IF(ISNA(VLOOKUP($CM267,'Audit Values'!$A$2:$AE$252,2,FALSE)),'Preliminary SO66'!U261,VLOOKUP($CM267,'Audit Values'!$A$2:$AE$252,21,FALSE))","v":0},0,0,0,0,{"$f":"'2016legmax.xls'!AH264","v":2.4},9245,0,{"$f":"'2016legmax.xls'!CJ264","v":0},0,{"$f":"'2016legmax.xls'!CI264","v":0},0,0,0,0,0,0,0,0,0,0,0,0,0,0,null,null,null,"D0482"]
[483,"Seward","Kismet-Plains ",5864166,0,0,0,0,693.5,0,16894,{"$f":"'2016legmax.xls'!BJ265","v":0},5847272,{"$f":"'2016legmax.xls'!BB265","v":0},527605,{"$f":"'2016legmax.xls'!BC265","v":434596},569484,{"$f":"'2016legmax.xls'!BD265","v":0},6809473,{"$f":"'2016legmax.xls'!DD265","v":0},25822,0,0,0,0,5253,{"$f":"'2016legmax.xls'!AV265","v":13},{"$f":"'2016legmax.xls'!AW265","v":"A"},{"$f":"'2016legmax.xls'!AX265","v":""},6992330,6857442,{"$f":"IF(Weightings!G265>0,Weightings!G265,'Preliminary SO66'!AB262)","v":7217357},6857442,6857442,7545875,{"$f":"'2016legmax.xls'!BM265","v":0.3},2263763,1379609,1379609,null,5887717,0,0,0,0,0,0,0,0,0,23551,0,0,5864166,{"$f":"'2016legmax.xls'!F265","v":659.5},{"$f":"'2016legmax.xls'!I265","v":679.5},{"$f":"'2016legmax.xls'!K265","v":667},679.5,{"$f":"'2016legmax.xls'!O265","v":14},693.5,{"$f":"IF(ISNA(VLOOKUP($CM268,'Audit Values'!$A$2:$AE$252,2,FALSE)),'Preliminary SO66'!T262,VLOOKUP($CM268,'Audit Values'!$A$2:$AE$252,20,FALSE))","v":0},0,{"$f":"IF(ISNA(VLOOKUP($CM268,'Audit Values'!$A$2:$AE$252,2,FALSE)),'Preliminary SO66'!U262,VLOOKUP($CM268,'Audit Values'!$A$2:$AE$252,21,FALSE))","v":0},0,0,0,0,{"$f":"'2016legmax.xls'!AH265","v":0},0,0,{"$f":"'2016legmax.xls'!CJ265","v":0},0,{"$f":"'2016legmax.xls'!CI265","v":0},0,0,0,0,0,0,0,0,0,0,0,0,0,0,null,null,null,"D0483"]
[484,"Wilson","Fredonia ",4323603,20473,0,0,0,652.5,0,1087,{"$f":"'2016legmax.xls'!BJ266","v":0},4342989,{"$f":"'2016legmax.xls'!BB266","v":718659},500355,{"$f":"'2016legmax.xls'!BC266","v":330219},431246,{"$f":"'2016legmax.xls'!BD266","v":12250},5904472,{"$f":"'2016legmax.xls'!DD266","v":0},144,0,0,0,0,0,{"$f":"'2016legmax.xls'!AV266","v":7},{"$f":"'2016legmax.xls'!AW266","v":"A"},{"$f":"'2016legmax.xls'!AX266","v":""},6006730,5905703,{"$f":"IF(Weightings!G266>0,Weightings!G266,'Preliminary SO66'!AB263)","v":6156117},5905703,5905703,5731534,{"$f":"'2016legmax.xls'!BM266","v":0.3},1719460,1719460,1719460,null,4344434,0.9,3467,0,0,0,0,0,0,0,17364,0,0,4323603,{"$f":"'2016legmax.xls'!F266","v":648.20000000000005},{"$f":"'2016legmax.xls'!I266","v":642.5},{"$f":"'2016legmax.xls'!K266","v":631.29999999999995},642.5,{"$f":"'2016legmax.xls'!O266","v":10},652.5,{"$f":"IF(ISNA(VLOOKUP($CM269,'Audit Values'!$A$2:$AE$252,2,FALSE)),'Preliminary SO66'!T263,VLOOKUP($CM269,'Audit Values'!$A$2:$AE$252,20,FALSE))","v":0},0,{"$f":"IF(ISNA(VLOOKUP($CM269,'Audit Values'!$A$2:$AE$252,2,FALSE)),'Preliminary SO66'!U263,VLOOKUP($CM269,'Audit Values'!$A$2:$AE$252,21,FALSE))","v":4.5999999999999996},18607,2,1866,20473,{"$f":"'2016legmax.xls'!AH266","v":0},0,0,{"$f":"'2016legmax.xls'!CJ266","v":0},0,{"$f":"'2016legmax.xls'!CI266","v":0},0,0,0,0,0,0,0,0,0,0,0,0,0,0,null,null,null,"D0484"]
[487,"Dickinson","Herington ",3110697,50993,0,0,0,449,0,17,{"$f":"'2016legmax.xls'!BJ267","v":0},3161673,{"$f":"'2016legmax.xls'!BB267","v":705774},385340,{"$f":"'2016legmax.xls'!BC267","v":242495},317454,{"$f":"'2016legmax.xls'!BD267","v":0},4495282,{"$f":"'2016legmax.xls'!DD267","v":0},12,0,0,0,0,0,{"$f":"'2016legmax.xls'!AV267","v":12},{"$f":"'2016legmax.xls'!AW267","v":"A"},{"$f":"'2016legmax.xls'!AX267","v":""},4570270,4495311,{"$f":"IF(Weightings!G267>0,Weightings!G267,'Preliminary SO66'!AB264)","v":4766548},4495311,4495311,4104795,{"$f":"'2016legmax.xls'!BM267","v":0.3},1231439,1231439,1231439,null,3192526,18,69336,0,0,0,0,0,0,0,12493,0,0,3110697,{"$f":"'2016legmax.xls'!F267","v":436},{"$f":"'2016legmax.xls'!I267","v":442.5},{"$f":"'2016legmax.xls'!K267","v":421.5},442.5,{"$f":"'2016legmax.xls'!O267","v":6.5},449,{"$f":"IF(ISNA(VLOOKUP($CM270,'Audit Values'!$A$2:$AE$252,2,FALSE)),'Preliminary SO66'!T264,VLOOKUP($CM270,'Audit Values'!$A$2:$AE$252,20,FALSE))","v":6},30000,{"$f":"IF(ISNA(VLOOKUP($CM270,'Audit Values'!$A$2:$AE$252,2,FALSE)),'Preliminary SO66'!U264,VLOOKUP($CM270,'Audit Values'!$A$2:$AE$252,21,FALSE))","v":0},0,22.5,20993,50993,{"$f":"'2016legmax.xls'!AH267","v":0},0,0,{"$f":"'2016legmax.xls'!CJ267","v":0},0,{"$f":"'2016legmax.xls'!CI267","v":0},0,0,0,0,0,0,0,0,0,0,0,0,0,0,null,null,null,"D0487"]
[489,"Ellis","Hays ",13486465,218228,0,483454,0,2807.5,0,4700,{"$f":"'2016legmax.xls'!BJ268","v":0},14183447,{"$f":"'2016legmax.xls'!BB268","v":315086},2187138,{"$f":"'2016legmax.xls'!BC268","v":1661747},2146629,{"$f":"'2016legmax.xls'!BD268","v":0},18347418,{"$f":"'2016legmax.xls'!DD268","v":0},15324,0,0,0,0,5771,{"$f":"'2016legmax.xls'!AV268","v":10},{"$f":"'2016legmax.xls'!AW268","v":"A"},{"$f":"'2016legmax.xls'!AX268","v":""},18858095,18373213,{"$f":"IF(Weightings!G268>0,Weightings!G268,'Preliminary SO66'!AB265)","v":19373317},18373213,18373213,19501768,{"$f":"'2016legmax.xls'!BM268","v":0.3},5850530,5850530,5850530,null,14236299,55.1,212245,0,0,125.5,483426,0,0,483426,54163,0,0,13486465,{"$f":"'2016legmax.xls'!F268","v":2761.2},{"$f":"'2016legmax.xls'!I268","v":2779.1},{"$f":"'2016legmax.xls'!K268","v":2787.5},2787.5,{"$f":"'2016legmax.xls'!O268","v":20},2807.5,{"$f":"IF(ISNA(VLOOKUP($CM271,'Audit Values'!$A$2:$AE$252,2,FALSE)),'Preliminary SO66'!T265,VLOOKUP($CM271,'Audit Values'!$A$2:$AE$252,20,FALSE))","v":28},140000,{"$f":"IF(ISNA(VLOOKUP($CM271,'Audit Values'!$A$2:$AE$252,2,FALSE)),'Preliminary SO66'!U265,VLOOKUP($CM271,'Audit Values'!$A$2:$AE$252,21,FALSE))","v":5.5},22248,60,55980,218228,{"$f":"'2016legmax.xls'!AH268","v":0},0,0,{"$f":"'2016legmax.xls'!CJ268","v":4.1000000000000003E-3},77318,{"$f":"'2016legmax.xls'!CI268","v":0},0,483454,483454,483454,483454,0,0,0,0,0,0,0,0,0,null,null,null,"D0489"]
[490,"Butler","El Dorado ",9893238,71256,374800,0,0,1866,0,0,{"$f":"'2016legmax.xls'!BJ269","v":0},10339294,{"$f":"'2016legmax.xls'!BB269","v":762578},1483129,{"$f":"'2016legmax.xls'!BC269","v":833780},1094383,{"$f":"'2016legmax.xls'!BD269","v":0},13418781,{"$f":"'2016legmax.xls'!DD269","v":0},202,0,0,0,0,0,{"$f":"'2016legmax.xls'!AV269","v":14},{"$f":"'2016legmax.xls'!AW269","v":"A"},{"$f":"'2016legmax.xls'!AX269","v":""},13679586,13418983,{"$f":"IF(Weightings!G269>0,Weightings!G269,'Preliminary SO66'!AB266)","v":14733144},13418983,13418983,13895050,{"$f":"'2016legmax.xls'!BM269","v":0.3},4168515,4168515,4168515,null,10366254,16.8,64714,0,0,0,0,0,0,0,41206,95.3,367096,9893238,{"$f":"'2016legmax.xls'!F269","v":1849.6},{"$f":"'2016legmax.xls'!I269","v":1851},{"$f":"'2016legmax.xls'!K269","v":1834},1851,{"$f":"'2016legmax.xls'!O269","v":15},1866,{"$f":"IF(ISNA(VLOOKUP($CM272,'Audit Values'!$A$2:$AE$252,2,FALSE)),'Preliminary SO66'!T266,VLOOKUP($CM272,'Audit Values'!$A$2:$AE$252,20,FALSE))","v":8},40000,{"$f":"IF(ISNA(VLOOKUP($CM272,'Audit Values'!$A$2:$AE$252,2,FALSE)),'Preliminary SO66'!U266,VLOOKUP($CM272,'Audit Values'!$A$2:$AE$252,21,FALSE))","v":0},0,33.5,31256,71256,{"$f":"'2016legmax.xls'!AH269","v":97.3},374800,0,{"$f":"'2016legmax.xls'!CJ269","v":0},0,{"$f":"'2016legmax.xls'!CI269","v":0},0,0,0,0,0,0,0,0,0,0,0,0,0,0,null,null,null,"D0490"]
[491,"Douglas","Eudora ",7501331,129203,0,0,0,1629.7,0,0,{"$f":"'2016legmax.xls'!BJ270","v":0},7630534,{"$f":"'2016legmax.xls'!BB270-12046","v":2052328},1601883,{"$f":"'2016legmax.xls'!BC270","v":729984},953491,{"$f":"'2016legmax.xls'!BD270","v":184564},12199293,{"$f":"'2016legmax.xls'!DD270","v":0},0,0,0,0,0,0,{"$f":"'2016legmax.xls'!AV270","v":2},{"$f":"'2016legmax.xls'!AW270","v":"A"},{"$f":"'2016legmax.xls'!AX270","v":""},12422800,12199293,{"$f":"IF(Weightings!G270>0,Weightings!G270,'Preliminary SO66'!AB267)","v":12639211},12199293,12199293,10311147,{"$f":"'2016legmax.xls'!BM270","v":0.3},3093344,3093344,3093344,null,7531457,0,0,0,0,0,0,0,0,0,30126,0,0,7501331,{"$f":"'2016legmax.xls'!F270","v":1571.7},{"$f":"'2016legmax.xls'!I270","v":1589.7},{"$f":"'2016legmax.xls'!K270","v":1629.7},1629.7,{"$f":"'2016legmax.xls'!O270","v":0},1629.7,{"$f":"IF(ISNA(VLOOKUP($CM273,'Audit Values'!$A$2:$AE$252,2,FALSE)),'Preliminary SO66'!T267,VLOOKUP($CM273,'Audit Values'!$A$2:$AE$252,20,FALSE))","v":21},105000,{"$f":"IF(ISNA(VLOOKUP($CM273,'Audit Values'!$A$2:$AE$252,2,FALSE)),'Preliminary SO66'!U267,VLOOKUP($CM273,'Audit Values'!$A$2:$AE$252,21,FALSE))","v":3.1},12540,12.5,11663,129203,{"$f":"'2016legmax.xls'!AH270","v":0},0,0,{"$f":"'2016legmax.xls'!CJ270","v":0},0,{"$f":"'2016legmax.xls'!CI270","v":0},0,0,0,0,0,0,0,0,0,0,0,0,0,0,null,null,null,"D0491"]
[492,"Butler","Flinthills ",1886137,5000,0,0,0,256.5,0,144,{"$f":"'2016legmax.xls'!BJ271","v":0},1890993,{"$f":"'2016legmax.xls'!BB271","v":341887},317500,{"$f":"'2016legmax.xls'!BC271","v":162665},213113,{"$f":"'2016legmax.xls'!BD271","v":11737},2724782,{"$f":"'2016legmax.xls'!DD271","v":0},226,0,0,0,0,156,{"$f":"'2016legmax.xls'!AV271","v":14},{"$f":"'2016legmax.xls'!AW271","v":"A"},{"$f":"'2016legmax.xls'!AX271","v":""},2775756,2725308,{"$f":"IF(Weightings!G271>0,Weightings!G271,'Preliminary SO66'!AB268)","v":2808613},2725308,2725308,2530065,{"$f":"'2016legmax.xls'!BM271","v":0.3},759020,759020,759020,null,1981538,22.8,87826,0,0,0,0,0,0,0,7575,0,0,1886137,{"$f":"'2016legmax.xls'!F271","v":264.89999999999998},{"$f":"'2016legmax.xls'!I271","v":254.3},{"$f":"'2016legmax.xls'!K271","v":250.4},256.5,{"$f":"'2016legmax.xls'!O271","v":0},256.5,{"$f":"IF(ISNA(VLOOKUP($CM274,'Audit Values'!$A$2:$AE$252,2,FALSE)),'Preliminary SO66'!T268,VLOOKUP($CM274,'Audit Values'!$A$2:$AE$252,20,FALSE))","v":1},5000,{"$f":"IF(ISNA(VLOOKUP($CM274,'Audit Values'!$A$2:$AE$252,2,FALSE)),'Preliminary SO66'!U268,VLOOKUP($CM274,'Audit Values'!$A$2:$AE$252,21,FALSE))","v":0},0,0,0,5000,{"$f":"'2016legmax.xls'!AH271","v":0},0,0,{"$f":"'2016legmax.xls'!CJ271","v":0},0,{"$f":"'2016legmax.xls'!CI271","v":0},0,0,0,0,0,0,0,0,0,0,0,0,0,0,null,null,null,"D0492"]
[493,"Cherokee","Columbus ",6213800,0,0,0,0,972.4,0,0,{"$f":"'2016legmax.xls'!BJ272","v":0},6213800,{"$f":"'2016legmax.xls'!BB272","v":1150759},980573,{"$f":"'2016legmax.xls'!BC272","v":653177},850610,{"$f":"'2016legmax.xls'!BD272","v":42313},9040622,{"$f":"'2016legmax.xls'!DD272","v":0},0,0,0,0,0,557,{"$f":"'2016legmax.xls'!AV272","v":2},{"$f":"'2016legmax.xls'!AW272","v":"A"},{"$f":"'2016legmax.xls'!AX272","v":""},9238612,9041179,{"$f":"IF(Weightings!G272>0,Weightings!G272,'Preliminary SO66'!AB269)","v":9412145},9041179,9041179,8320526,{"$f":"'2016legmax.xls'!BM272","v":0.3},2496158,2496158,2496158,null,6238755,0,0,0,0,0,0,0,0,0,24955,0,0,6213800,{"$f":"'2016legmax.xls'!F272","v":972.5},{"$f":"'2016legmax.xls'!I272","v":960.4},{"$f":"'2016legmax.xls'!K272","v":919},960.4,{"$f":"'2016legmax.xls'!O272","v":12},972.4,{"$f":"IF(ISNA(VLOOKUP($CM275,'Audit Values'!$A$2:$AE$252,2,FALSE)),'Preliminary SO66'!T269,VLOOKUP($CM275,'Audit Values'!$A$2:$AE$252,20,FALSE))","v":0},0,{"$f":"IF(ISNA(VLOOKUP($CM275,'Audit Values'!$A$2:$AE$252,2,FALSE)),'Preliminary SO66'!U269,VLOOKUP($CM275,'Audit Values'!$A$2:$AE$252,21,FALSE))","v":0},0,0,0,0,{"$f":"'2016legmax.xls'!AH272","v":0},0,0,{"$f":"'2016legmax.xls'!CJ272","v":0},0,{"$f":"'2016legmax.xls'!CI272","v":0},0,0,0,0,0,0,0,0,0,0,0,0,0,0,null,null,null,"D0493"]
[494,"Hamilton","Syracuse ",3779212,0,11171,0,0,502.5,0,0,{"$f":"'2016legmax.xls'!BJ273","v":0},3790383,{"$f":"'2016legmax.xls'!BB273","v":212394},267237,{"$f":"'2016legmax.xls'!BC273","v":234176},306478,{"$f":"'2016legmax.xls'!BD273","v":0},4504190,{"$f":"'2016legmax.xls'!DD273","v":0},3545,0,0,0,0,0,{"$f":"'2016legmax.xls'!AV273","v":12},{"$f":"'2016legmax.xls'!AW273","v":"A"},{"$f":"'2016legmax.xls'!AX273","v":""},4580037,4507735,{"$f":"IF(Weightings!G273>0,Weightings!G273,'Preliminary SO66'!AB270)","v":4733752},4507735,4507735,4743393,{"$f":"'2016legmax.xls'!BM273","v":0.3},1423018,1423018,1423018,null,3794390,0,0,0,0,0,0,0,0,0,15178,0,0,3779212,{"$f":"'2016legmax.xls'!F273","v":470},{"$f":"'2016legmax.xls'!I273","v":490.5},{"$f":"'2016legmax.xls'!K273","v":495},495,{"$f":"'2016legmax.xls'!O273","v":7.5},502.5,{"$f":"IF(ISNA(VLOOKUP($CM276,'Audit Values'!$A$2:$AE$252,2,FALSE)),'Preliminary SO66'!T270,VLOOKUP($CM276,'Audit Values'!$A$2:$AE$252,20,FALSE))","v":0},0,{"$f":"IF(ISNA(VLOOKUP($CM276,'Audit Values'!$A$2:$AE$252,2,FALSE)),'Preliminary SO66'!U270,VLOOKUP($CM276,'Audit Values'!$A$2:$AE$252,21,FALSE))","v":0},0,0,0,0,{"$f":"'2016legmax.xls'!AH273","v":2.9},11171,0,{"$f":"'2016legmax.xls'!CJ273","v":0},0,{"$f":"'2016legmax.xls'!CI273","v":0},0,0,0,0,0,0,0,0,0,0,0,0,0,0,null,null,null,"D0494"]
[495,"Pawnee","Ft Larned ",5600585,0,0,0,0,885.4,0,0,{"$f":"'2016legmax.xls'!BJ274","v":0},5600585,{"$f":"'2016legmax.xls'!BB274","v":1118037},1044763,{"$f":"'2016legmax.xls'!BC274","v":688907},903350,{"$f":"'2016legmax.xls'!BD274","v":91624},8543916,{"$f":"'2016legmax.xls'!DD274","v":0},8808,0,0,0,70083,9863,{"$f":"'2016legmax.xls'!AV274","v":15},{"$f":"'2016legmax.xls'!AW274","v":"A"},{"$f":"'2016legmax.xls'!AX274","v":""},8847113,8632670,{"$f":"IF(Weightings!G274>0,Weightings!G274,'Preliminary SO66'!AB271)","v":9385795},8632670,8632670,7692478,{"$f":"'2016legmax.xls'!BM274","v":0.3},2307743,2307743,2307743,null,5623077,0,0,0,0,0,0,0,0,0,22492,0,0,5600585,{"$f":"'2016legmax.xls'!F274","v":906.9},{"$f":"'2016legmax.xls'!I274","v":864.8},{"$f":"'2016legmax.xls'!K274","v":839.5},870.4,{"$f":"'2016legmax.xls'!O274","v":15},885.4,{"$f":"IF(ISNA(VLOOKUP($CM277,'Audit Values'!$A$2:$AE$252,2,FALSE)),'Preliminary SO66'!T271,VLOOKUP($CM277,'Audit Values'!$A$2:$AE$252,20,FALSE))","v":0},0,{"$f":"IF(ISNA(VLOOKUP($CM277,'Audit Values'!$A$2:$AE$252,2,FALSE)),'Preliminary SO66'!U271,VLOOKUP($CM277,'Audit Values'!$A$2:$AE$252,21,FALSE))","v":0},0,0,0,0,{"$f":"'2016legmax.xls'!AH274","v":0},0,0,{"$f":"'2016legmax.xls'!CJ274","v":0},0,{"$f":"'2016legmax.xls'!CI274","v":0},0,0,0,0,0,0,0,0,0,0,0,0,0,0,null,null,null,"D0495"]
[496,"Pawnee","Pawnee Heights ",990684,32990,0,0,0,134.5,0,1,{"$f":"'2016legmax.xls'!BJ275","v":0},1023673,{"$f":"'2016legmax.xls'!BB275","v":84524},128033,{"$f":"'2016legmax.xls'!BC275","v":77709},101499,{"$f":"'2016legmax.xls'!BD275","v":0},1313939,{"$f":"'2016legmax.xls'!DD275","v":174824},2237,0,0,90760,28826,1375,{"$f":"'2016legmax.xls'!AV275","v":15},{"$f":"'2016legmax.xls'!AW275","v":"A"},{"$f":"'2016legmax.xls'!AX275","v":"R"},1544992,1611962,{"$f":"IF(Weightings!G275>0,Weightings!G275,'Preliminary SO66'!AB272)","v":1697061},1611962,1611962,1342420,{"$f":"'2016legmax.xls'!BM275","v":0.33},442999,442999,442999,null,1203441,54.2,208778,0,0,0,0,0,0,0,3979,0,0,990684,{"$f":"'2016legmax.xls'!F275","v":112.5},{"$f":"'2016legmax.xls'!I275","v":112.5},{"$f":"'2016legmax.xls'!K275","v":134.5},134.5,{"$f":"'2016legmax.xls'!O275","v":0},134.5,{"$f":"IF(ISNA(VLOOKUP($CM278,'Audit Values'!$A$2:$AE$252,2,FALSE)),'Preliminary SO66'!T272,VLOOKUP($CM278,'Audit Values'!$A$2:$AE$252,20,FALSE))","v":1},5000,{"$f":"IF(ISNA(VLOOKUP($CM278,'Audit Values'!$A$2:$AE$252,2,FALSE)),'Preliminary SO66'!U272,VLOOKUP($CM278,'Audit Values'!$A$2:$AE$252,21,FALSE))","v":0},0,30,27990,32990,{"$f":"'2016legmax.xls'!AH275","v":0},0,0,{"$f":"'2016legmax.xls'!CJ275","v":0},0,{"$f":"'2016legmax.xls'!CI275","v":0},0,0,0,0,0,0,0,0,0,0,0,0,0,0,null,null,null,"D0496"]
[497,"Douglas","Lawrence ",48823571,5765133,619787,1571491,0,10261.299999999999,0,7815,{"$f":"'2016legmax.xls'!BJ276","v":0},56772167,{"$f":"'2016legmax.xls'!BB276","v":4203557},12325306,{"$f":"'2016legmax.xls'!BC276","v":6090694},8008142,{"$f":"'2016legmax.xls'!BD276","v":0},79391724,{"$f":"'2016legmax.xls'!DD276","v":0},0,0,15602,125000,0,10000,{"$f":"'2016legmax.xls'!AV276","v":15},{"$f":"'2016legmax.xls'!AW276","v":"A"},{"$f":"'2016legmax.xls'!AX276","v":""},79771098,79550141,{"$f":"IF(Weightings!G276>0,Weightings!G276,'Preliminary SO66'!AB273)","v":83287891},79550141,79550141,70597520,{"$f":"'2016legmax.xls'!BM276","v":0.33},23297182,23297182,23297182,null,55094254,1242,4784184,335,1290420,0,0,0,0,1290420,196079,0,0,48823571,{"$f":"'2016legmax.xls'!F276","v":9971.1},{"$f":"'2016legmax.xls'!I276","v":10088},{"$f":"'2016legmax.xls'!K276","v":10227.299999999999},10227.299999999999,{"$f":"'2016legmax.xls'!O276","v":34},10261.299999999999,{"$f":"IF(ISNA(VLOOKUP($CM279,'Audit Values'!$A$2:$AE$252,2,FALSE)),'Preliminary SO66'!T273,VLOOKUP($CM279,'Audit Values'!$A$2:$AE$252,20,FALSE))","v":1066},5330000,{"$f":"IF(ISNA(VLOOKUP($CM279,'Audit Values'!$A$2:$AE$252,2,FALSE)),'Preliminary SO66'!U273,VLOOKUP($CM279,'Audit Values'!$A$2:$AE$252,21,FALSE))","v":93.3},377399,61.88,57734,5765133,{"$f":"'2016legmax.xls'!AH276","v":160.9},619787,1290500,{"$f":"'2016legmax.xls'!CJ276","v":1.9699999999999999E-2},1571491,{"$f":"'2016legmax.xls'!CI276","v":1609073},1571491,0,0,0,0,0,0,0,0,0,0,30000,0,0,null,null,null,"D0497"]
[498,"Marshall","Valley Heights ",2907504,0,0,0,0,405,0,0,{"$f":"'2016legmax.xls'!BJ277","v":0},2907504,{"$f":"'2016legmax.xls'!BB277","v":672055},351577,{"$f":"'2016legmax.xls'!BC277","v":211791},277296,{"$f":"'2016legmax.xls'!BD277","v":46676},4189603,{"$f":"'2016legmax.xls'!DD277","v":0},0,0,0,0,0,0,{"$f":"'2016legmax.xls'!AV277","v":10},{"$f":"'2016legmax.xls'!AW277","v":"A"},{"$f":"'2016legmax.xls'!AX277","v":""},4255108,4189603,{"$f":"IF(Weightings!G277>0,Weightings!G277,'Preliminary SO66'!AB274)","v":4300727},4189603,4189603,3911676,{"$f":"'2016legmax.xls'!BM277","v":0.3},1173503,1173503,1173503,null,2919181,0,0,0,0,0,0,0,0,0,11677,0,0,2907504,{"$f":"'2016legmax.xls'!F277","v":390.9},{"$f":"'2016legmax.xls'!I277","v":403.5},{"$f":"'2016legmax.xls'!K277","v":372.5},403.5,{"$f":"'2016legmax.xls'!O277","v":1.5},405,{"$f":"IF(ISNA(VLOOKUP($CM280,'Audit Values'!$A$2:$AE$252,2,FALSE)),'Preliminary SO66'!T274,VLOOKUP($CM280,'Audit Values'!$A$2:$AE$252,20,FALSE))","v":0},0,{"$f":"IF(ISNA(VLOOKUP($CM280,'Audit Values'!$A$2:$AE$252,2,FALSE)),'Preliminary SO66'!U274,VLOOKUP($CM280,'Audit Values'!$A$2:$AE$252,21,FALSE))","v":0},0,0,0,0,{"$f":"'2016legmax.xls'!AH277","v":0},0,0,{"$f":"'2016legmax.xls'!CJ277","v":0},0,{"$f":"'2016legmax.xls'!CI277","v":0},0,0,0,0,0,0,0,0,0,0,0,0,0,0,null,null,null,"D0498"]
[499,"Cherokee","Galena ",5255464,66065,46994,0,0,794.2,0,0,{"$f":"'2016legmax.xls'!BJ278","v":0},5368523,{"$f":"'2016legmax.xls'!BB278","v":1677503},733000,{"$f":"'2016legmax.xls'!BC278","v":426122},557789,{"$f":"'2016legmax.xls'!BD278","v":0},8205148,{"$f":"'2016legmax.xls'!DD278","v":0},0,0,0,0,0,0,{"$f":"'2016legmax.xls'!AV278","v":2},{"$f":"'2016legmax.xls'!AW278","v":"A"},{"$f":"'2016legmax.xls'!AX278","v":""},8336815,8205148,{"$f":"IF(Weightings!G278>0,Weightings!G278,'Preliminary SO66'!AB275)","v":8512278},8205148,8205148,6974731,{"$f":"'2016legmax.xls'!BM278","v":0.3},2092419,2092419,2092419,null,5365108,1.8,6934,0,0,0,0,0,0,0,21433,21.1,81277,5255464,{"$f":"'2016legmax.xls'!F278","v":800.2},{"$f":"'2016legmax.xls'!I278","v":785.2},{"$f":"'2016legmax.xls'!K278","v":767.2},785.2,{"$f":"'2016legmax.xls'!O278","v":9},794.2,{"$f":"IF(ISNA(VLOOKUP($CM281,'Audit Values'!$A$2:$AE$252,2,FALSE)),'Preliminary SO66'!T275,VLOOKUP($CM281,'Audit Values'!$A$2:$AE$252,20,FALSE))","v":8},40000,{"$f":"IF(ISNA(VLOOKUP($CM281,'Audit Values'!$A$2:$AE$252,2,FALSE)),'Preliminary SO66'!U275,VLOOKUP($CM281,'Audit Values'!$A$2:$AE$252,21,FALSE))","v":1.6},6472,21,19593,66065,{"$f":"'2016legmax.xls'!AH278","v":12.2},46994,0,{"$f":"'2016legmax.xls'!CJ278","v":0},0,{"$f":"'2016legmax.xls'!CI278","v":0},0,0,0,0,0,0,0,0,0,0,0,0,0,0,null,null,null,"D0499"]
[500,"Wyandotte","Kansas City ",128898033,554616,0,0,0,20512.2,0,0,{"$f":"'2016legmax.xls'!BJ279","v":0},129452649,{"$f":"'2016legmax.xls'!BB279","v":34674673},15314917,{"$f":"'2016legmax.xls'!BC279","v":13265415},18252778,{"$f":"'2016legmax.xls'!BD279","v":2290527},194998181,{"$f":"'2016legmax.xls'!DD279","v":0},0,0,1853,0,0,0,{"$f":"'2016legmax.xls'!AV279","v":7},{"$f":"'2016legmax.xls'!AW279","v":"A"},{"$f":"'2016legmax.xls'!AX279","v":""},199987397,195000034,{"$f":"IF(Weightings!G279>0,Weightings!G279,'Preliminary SO66'!AB276)","v":203195748},195000034,195000034,166575112,{"$f":"'2016legmax.xls'!BM279","v":0.3},49972534,49972534,49972534,null,129415696,0,0,0,0,0,0,0,0,0,517663,0,0,128898033,{"$f":"'2016legmax.xls'!F279","v":19713.2},{"$f":"'2016legmax.xls'!I279","v":20238.7},{"$f":"'2016legmax.xls'!K279","v":19981.5},20238.7,{"$f":"'2016legmax.xls'!O279","v":273.5},20512.2,{"$f":"IF(ISNA(VLOOKUP($CM282,'Audit Values'!$A$2:$AE$252,2,FALSE)),'Preliminary SO66'!T276,VLOOKUP($CM282,'Audit Values'!$A$2:$AE$252,20,FALSE))","v":43},215000,{"$f":"IF(ISNA(VLOOKUP($CM282,'Audit Values'!$A$2:$AE$252,2,FALSE)),'Preliminary SO66'!U276,VLOOKUP($CM282,'Audit Values'!$A$2:$AE$252,21,FALSE))","v":17.3},69979,289,269637,554616,{"$f":"'2016legmax.xls'!AH279","v":0},0,0,{"$f":"'2016legmax.xls'!CJ279","v":0},0,{"$f":"'2016legmax.xls'!CI279","v":0},0,0,0,0,0,0,0,0,0,0,0,0,0,0,null,null,null,"D0500"]
[501,"Shawnee","Topeka Public Schools ",74212990,354876,0,0,0,13073.3,0,0,{"$f":"'2016legmax.xls'!BJ280","v":0},74567866,{"$f":"'2016legmax.xls'!BB280","v":17843394},15081185,{"$f":"'2016legmax.xls'!BC280","v":8594373},11172901,{"$f":"'2016legmax.xls'!BD280","v":1461763},117548581,{"$f":"'2016legmax.xls'!DD280","v":0},0,0,0,3235437,0,1701,{"$f":"'2016legmax.xls'!AV280","v":3},{"$f":"'2016legmax.xls'!AW280","v":"A"},{"$f":"'2016legmax.xls'!AX280","v":""},120128810,120785719,{"$f":"IF(Weightings!G280>0,Weightings!G280,'Preliminary SO66'!AB277)","v":124893357},120785719,120785719,101868532,{"$f":"'2016legmax.xls'!BM280","v":0.33},33616616,30562561,30562561,null,75405854,232.3,894820,0,0,0,0,0,0,0,298044,0,0,74212990,{"$f":"'2016legmax.xls'!F280","v":12857.2},{"$f":"'2016legmax.xls'!I280","v":12973.3},{"$f":"'2016legmax.xls'!K280","v":12872.5},12973.3,{"$f":"'2016legmax.xls'!O280","v":100},13073.3,{"$f":"IF(ISNA(VLOOKUP($CM283,'Audit Values'!$A$2:$AE$252,2,FALSE)),'Preliminary SO66'!T277,VLOOKUP($CM283,'Audit Values'!$A$2:$AE$252,20,FALSE))","v":1},5000,{"$f":"IF(ISNA(VLOOKUP($CM283,'Audit Values'!$A$2:$AE$252,2,FALSE)),'Preliminary SO66'!U277,VLOOKUP($CM283,'Audit Values'!$A$2:$AE$252,21,FALSE))","v":7.9},31956,340.75,317920,354876,{"$f":"'2016legmax.xls'!AH280","v":0},0,0,{"$f":"'2016legmax.xls'!CJ280","v":0},0,{"$f":"'2016legmax.xls'!CI280","v":0},0,0,0,0,0,0,0,0,0,0,0,0,0,0,null,null,null,"D0501"]
[502,"Edwards","Lewis ",963879,0,0,0,0,113,0,0,{"$f":"'2016legmax.xls'!BJ281","v":0},963879,{"$f":"'2016legmax.xls'!BB281","v":0},134039,{"$f":"'2016legmax.xls'!BC281","v":61523},80478,{"$f":"'2016legmax.xls'!BD281","v":0},1159441,{"$f":"'2016legmax.xls'!DD281","v":0},2068,0,0,0,12382,3200,{"$f":"'2016legmax.xls'!AV281","v":" "},{"$f":"'2016legmax.xls'!AW281","v":"A"},{"$f":"'2016legmax.xls'!AX281","v":""},1196046,1177091,{"$f":"IF(Weightings!G281>0,Weightings!G281,'Preliminary SO66'!AB278)","v":1236337},1177091,1177091,1260744,{"$f":"'2016legmax.xls'!BM281","v":0.3},378223,378223,378223,null,967750,0,0,0,0,0,0,0,0,0,3871,0,0,963879,{"$f":"'2016legmax.xls'!F281","v":99},{"$f":"'2016legmax.xls'!I281","v":104},{"$f":"'2016legmax.xls'!K281","v":109.5},109.5,{"$f":"'2016legmax.xls'!O281","v":3.5},113,{"$f":"IF(ISNA(VLOOKUP($CM284,'Audit Values'!$A$2:$AE$252,2,FALSE)),'Preliminary SO66'!T278,VLOOKUP($CM284,'Audit Values'!$A$2:$AE$252,20,FALSE))","v":0},0,{"$f":"IF(ISNA(VLOOKUP($CM284,'Audit Values'!$A$2:$AE$252,2,FALSE)),'Preliminary SO66'!U278,VLOOKUP($CM284,'Audit Values'!$A$2:$AE$252,21,FALSE))","v":0},0,0,0,0,{"$f":"'2016legmax.xls'!AH281","v":0},0,0,{"$f":"'2016legmax.xls'!CJ281","v":0},0,{"$f":"'2016legmax.xls'!CI281","v":0},0,0,0,0,0,0,0,0,0,0,0,0,0,0,null,null,null,"D0502"]
[503,"Labette","Parsons ",7281320,0,0,0,0,1228.2,0,0,{"$f":"'2016legmax.xls'!BJ282","v":0},7281320,{"$f":"'2016legmax.xls'!BB282","v":1819315},1093122,{"$f":"'2016legmax.xls'!BC282","v":644876},846669,{"$f":"'2016legmax.xls'!BD282","v":70620},10909253,{"$f":"'2016legmax.xls'!DD282","v":0},52,0,0,0,0,11222,{"$f":"'2016legmax.xls'!AV282","v":2},{"$f":"'2016legmax.xls'!AW282","v":"A"},{"$f":"'2016legmax.xls'!AX282","v":""},11122320,10920527,{"$f":"IF(Weightings!G282>0,Weightings!G282,'Preliminary SO66'!AB279)","v":11291420},10920527,10920527,9799279,{"$f":"'2016legmax.xls'!BM282","v":0.3},2939784,2939784,2939784,null,7313644,0.8,3082,0,0,0,0,0,0,0,29242,0,0,7281320,{"$f":"'2016legmax.xls'!F282","v":1229.4000000000001},{"$f":"'2016legmax.xls'!I282","v":1212.2},{"$f":"'2016legmax.xls'!K282","v":1207},1216.2,{"$f":"'2016legmax.xls'!O282","v":12},1228.2,{"$f":"IF(ISNA(VLOOKUP($CM285,'Audit Values'!$A$2:$AE$252,2,FALSE)),'Preliminary SO66'!T279,VLOOKUP($CM285,'Audit Values'!$A$2:$AE$252,20,FALSE))","v":0},0,{"$f":"IF(ISNA(VLOOKUP($CM285,'Audit Values'!$A$2:$AE$252,2,FALSE)),'Preliminary SO66'!U279,VLOOKUP($CM285,'Audit Values'!$A$2:$AE$252,21,FALSE))","v":0},0,0,0,0,{"$f":"'2016legmax.xls'!AH282","v":0},0,0,{"$f":"'2016legmax.xls'!CJ282","v":0},0,{"$f":"'2016legmax.xls'!CI282","v":0},0,0,0,0,0,0,0,0,0,0,0,0,0,0,null,null,null,"D0503"]
[504,"Labette","Oswego ",3132691,0,0,0,0,466,0,0,{"$f":"'2016legmax.xls'!BJ283","v":0},3132691,{"$f":"'2016legmax.xls'!BB283","v":919000},403537,{"$f":"'2016legmax.xls'!BC283","v":234288},306488,{"$f":"'2016legmax.xls'!BD283","v":50118},4739634,{"$f":"'2016legmax.xls'!DD283","v":0},7,0,0,0,0,2160,{"$f":"'2016legmax.xls'!AV283","v":15},{"$f":"'2016legmax.xls'!AW283","v":"A"},{"$f":"'2016legmax.xls'!AX283","v":""},4814001,4741801,{"$f":"IF(Weightings!G283>0,Weightings!G283,'Preliminary SO66'!AB280)","v":4888510},4741801,4741801,4087972,{"$f":"'2016legmax.xls'!BM283","v":0.3},1226392,1226392,1226392,null,3145272,0,0,0,0,0,0,0,0,0,12581,0,0,3132691,{"$f":"'2016legmax.xls'!F283","v":458.7},{"$f":"'2016legmax.xls'!I283","v":462},{"$f":"'2016legmax.xls'!K283","v":441.5},462,{"$f":"'2016legmax.xls'!O283","v":4},466,{"$f":"IF(ISNA(VLOOKUP($CM286,'Audit Values'!$A$2:$AE$252,2,FALSE)),'Preliminary SO66'!T280,VLOOKUP($CM286,'Audit Values'!$A$2:$AE$252,20,FALSE))","v":0},0,{"$f":"IF(ISNA(VLOOKUP($CM286,'Audit Values'!$A$2:$AE$252,2,FALSE)),'Preliminary SO66'!U280,VLOOKUP($CM286,'Audit Values'!$A$2:$AE$252,21,FALSE))","v":0},0,0,0,0,{"$f":"'2016legmax.xls'!AH283","v":0},0,0,{"$f":"'2016legmax.xls'!CJ283","v":0},0,{"$f":"'2016legmax.xls'!CI283","v":0},0,0,0,0,0,0,0,0,0,0,0,0,0,0,null,null,null,"D0504"]
[505,"Labette","Chetopa-St. Paul ",3032237,12129,0,0,0,442,0,538,{"$f":"'2016legmax.xls'!BJ284","v":0},3043828,{"$f":"'2016legmax.xls'!BB284","v":860619},436126,{"$f":"'2016legmax.xls'!BC284","v":243929},314634,{"$f":"'2016legmax.xls'!BD284","v":53251},4637753,{"$f":"'2016legmax.xls'!DD284","v":0},11,0,0,0,0,0,{"$f":"'2016legmax.xls'!AV284","v":5},{"$f":"'2016legmax.xls'!AW284","v":"A"},{"$f":"'2016legmax.xls'!AX284","v":""},4709007,4638302,{"$f":"IF(Weightings!G284>0,Weightings!G284,'Preliminary SO66'!AB281)","v":4901955},4638302,4638302,4086573,{"$f":"'2016legmax.xls'!BM284","v":0.3},1225972,1225972,1225972,null,3089098,11.6,44683,0,0,0,0,0,0,0,12178,0,0,3032237,{"$f":"'2016legmax.xls'!F284","v":444.5},{"$f":"'2016legmax.xls'!I284","v":436},{"$f":"'2016legmax.xls'!K284","v":424},436,{"$f":"'2016legmax.xls'!O284","v":6},442,{"$f":"IF(ISNA(VLOOKUP($CM287,'Audit Values'!$A$2:$AE$252,2,FALSE)),'Preliminary SO66'!T281,VLOOKUP($CM287,'Audit Values'!$A$2:$AE$252,20,FALSE))","v":0},0,{"$f":"IF(ISNA(VLOOKUP($CM287,'Audit Values'!$A$2:$AE$252,2,FALSE)),'Preliminary SO66'!U281,VLOOKUP($CM287,'Audit Values'!$A$2:$AE$252,21,FALSE))","v":0},0,13,12129,12129,{"$f":"'2016legmax.xls'!AH284","v":0},0,0,{"$f":"'2016legmax.xls'!CJ284","v":0},0,{"$f":"'2016legmax.xls'!CI284","v":0},0,0,0,0,0,0,0,0,0,0,0,0,0,0,null,null,null,"D0505"]
[506,"Labette","Labette County ",8354754,0,0,0,0,1488.8,0,0,{"$f":"'2016legmax.xls'!BJ285","v":0},8354754,{"$f":"'2016legmax.xls'!BB285","v":2287865},1545824,{"$f":"'2016legmax.xls'!BC285","v":707468},925657,{"$f":"'2016legmax.xls'!BD285","v":175769},13071680,{"$f":"'2016legmax.xls'!DD285","v":0},4545,0,0,0,0,0,{"$f":"'2016legmax.xls'!AV285","v":5},{"$f":"'2016legmax.xls'!AW285","v":"A"},{"$f":"'2016legmax.xls'!AX285","v":""},13294414,13076225,{"$f":"IF(Weightings!G285>0,Weightings!G285,'Preliminary SO66'!AB282)","v":13574812},13076225,13076225,11251829,{"$f":"'2016legmax.xls'!BM285","v":0.3},3375549,3375549,3375549,null,8388307,0,0,0,0,0,0,0,0,0,33553,0,0,8354754,{"$f":"'2016legmax.xls'!F285","v":1460.3},{"$f":"'2016legmax.xls'!I285","v":1479.8},{"$f":"'2016legmax.xls'!K285","v":1475.7},1479.8,{"$f":"'2016legmax.xls'!O285","v":9},1488.8,{"$f":"IF(ISNA(VLOOKUP($CM288,'Audit Values'!$A$2:$AE$252,2,FALSE)),'Preliminary SO66'!T282,VLOOKUP($CM288,'Audit Values'!$A$2:$AE$252,20,FALSE))","v":0},0,{"$f":"IF(ISNA(VLOOKUP($CM288,'Audit Values'!$A$2:$AE$252,2,FALSE)),'Preliminary SO66'!U282,VLOOKUP($CM288,'Audit Values'!$A$2:$AE$252,21,FALSE))","v":0},0,0,0,0,{"$f":"'2016legmax.xls'!AH285","v":0},0,0,{"$f":"'2016legmax.xls'!CJ285","v":0},0,{"$f":"'2016legmax.xls'!CI285","v":0},0,0,0,0,0,0,0,0,0,0,0,0,0,0,null,null,null,"D0506"]
[507,"Haskell","Satanta ",2148425,0,0,0,0,299.5,0,0,{"$f":"'2016legmax.xls'!BJ286","v":0},2148425,{"$f":"'2016legmax.xls'!BB286","v":0},163821,{"$f":"'2016legmax.xls'!BC286","v":193236},251857,{"$f":"'2016legmax.xls'!BD286","v":0},2505482,{"$f":"'2016legmax.xls'!DD286","v":0},98667,0,0,0,0,6168,{"$f":"'2016legmax.xls'!AV286","v":11},{"$f":"'2016legmax.xls'!AW286","v":"A"},{"$f":"'2016legmax.xls'!AX286","v":""},2668938,2610317,{"$f":"IF(Weightings!G286>0,Weightings!G286,'Preliminary SO66'!AB283)","v":2651524},2610317,2610317,3040440,{"$f":"'2016legmax.xls'!BM286","v":0.3},912132,912132,912132,null,2157053,0,0,0,0,0,0,0,0,0,8628,0,0,2148425,{"$f":"'2016legmax.xls'!F286","v":275},{"$f":"'2016legmax.xls'!I286","v":287.5},{"$f":"'2016legmax.xls'!K286","v":294.5},294.5,{"$f":"'2016legmax.xls'!O286","v":5},299.5,{"$f":"IF(ISNA(VLOOKUP($CM289,'Audit Values'!$A$2:$AE$252,2,FALSE)),'Preliminary SO66'!T283,VLOOKUP($CM289,'Audit Values'!$A$2:$AE$252,20,FALSE))","v":0},0,{"$f":"IF(ISNA(VLOOKUP($CM289,'Audit Values'!$A$2:$AE$252,2,FALSE)),'Preliminary SO66'!U283,VLOOKUP($CM289,'Audit Values'!$A$2:$AE$252,21,FALSE))","v":0},0,0,0,0,{"$f":"'2016legmax.xls'!AH286","v":0},0,0,{"$f":"'2016legmax.xls'!CJ286","v":0},0,{"$f":"'2016legmax.xls'!CI286","v":0},0,0,0,0,0,0,0,0,0,0,0,0,0,0,null,null,null,"D0507"]
[508,"Cherokee","Baxter Springs ",5930636,66998,268870,0,0,981,0,0,{"$f":"'2016legmax.xls'!BJ287","v":0},6266504,{"$f":"'2016legmax.xls'!BB287","v":1738400},918434,{"$f":"'2016legmax.xls'!BC287","v":484202},633697,{"$f":"'2016legmax.xls'!BD287","v":25707},9433247,{"$f":"'2016legmax.xls'!DD287","v":0},0,0,0,0,0,2421,{"$f":"'2016legmax.xls'!AV287","v":7},{"$f":"'2016legmax.xls'!AW287","v":"A"},{"$f":"'2016legmax.xls'!AX287","v":""},9585163,9435668,{"$f":"IF(Weightings!G287>0,Weightings!G287,'Preliminary SO66'!AB284)","v":9698913},9435668,9435668,8168904,{"$f":"'2016legmax.xls'!BM287","v":0.3},2450671,2315000,2315000,null,6345380,29.9,115175,0,0,0,0,0,0,0,24921,71.3,274648,5930636,{"$f":"'2016legmax.xls'!F287","v":944.5},{"$f":"'2016legmax.xls'!I287","v":943},{"$f":"'2016legmax.xls'!K287","v":971.5},971.5,{"$f":"'2016legmax.xls'!O287","v":9.5},981,{"$f":"IF(ISNA(VLOOKUP($CM290,'Audit Values'!$A$2:$AE$252,2,FALSE)),'Preliminary SO66'!T284,VLOOKUP($CM290,'Audit Values'!$A$2:$AE$252,20,FALSE))","v":12},60000,{"$f":"IF(ISNA(VLOOKUP($CM290,'Audit Values'!$A$2:$AE$252,2,FALSE)),'Preliminary SO66'!U284,VLOOKUP($CM290,'Audit Values'!$A$2:$AE$252,21,FALSE))","v":0},0,7.5,6998,66998,{"$f":"'2016legmax.xls'!AH287","v":69.8},268870,0,{"$f":"'2016legmax.xls'!CJ287","v":0},0,{"$f":"'2016legmax.xls'!CI287","v":0},0,0,0,0,0,0,0,0,0,0,0,0,0,0,null,null,null,"D0508"]
[509,"Sumner","South Haven ",1490606,20259,0,0,0,187.2,0,265,{"$f":"'2016legmax.xls'!BJ288","v":0},1510600,{"$f":"'2016legmax.xls'!BB288","v":295947},279720,{"$f":"'2016legmax.xls'!BC288","v":107534},140654,{"$f":"'2016legmax.xls'!BD288","v":13329},2207130,{"$f":"'2016legmax.xls'!DD288","v":31675},1981,0,0,0,0,0,{"$f":"'2016legmax.xls'!AV288","v":9},{"$f":"'2016legmax.xls'!AW288","v":"A"},{"$f":"'2016legmax.xls'!AX288","v":""},2274171,2241051,{"$f":"IF(Weightings!G288>0,Weightings!G288,'Preliminary SO66'!AB285)","v":2390091},2241051,2241051,2074966,{"$f":"'2016legmax.xls'!BM288","v":0.33},684739,659995,659995,null,1496592,0,0,0,0,0,0,0,0,0,5986,0,0,1490606,{"$f":"'2016legmax.xls'!F288","v":171.5},{"$f":"'2016legmax.xls'!I288","v":177.5},{"$f":"'2016legmax.xls'!K288","v":185.7},185.7,{"$f":"'2016legmax.xls'!O288","v":1.5},187.2,{"$f":"IF(ISNA(VLOOKUP($CM291,'Audit Values'!$A$2:$AE$252,2,FALSE)),'Preliminary SO66'!T285,VLOOKUP($CM291,'Audit Values'!$A$2:$AE$252,20,FALSE))","v":3},15000,{"$f":"IF(ISNA(VLOOKUP($CM291,'Audit Values'!$A$2:$AE$252,2,FALSE)),'Preliminary SO66'!U285,VLOOKUP($CM291,'Audit Values'!$A$2:$AE$252,21,FALSE))","v":1.3},5259,0,0,20259,{"$f":"'2016legmax.xls'!AH288","v":0},0,0,{"$f":"'2016legmax.xls'!CJ288","v":0},0,{"$f":"'2016legmax.xls'!CI288","v":0},0,0,0,0,0,0,0,0,0,0,0,0,0,0,null,null,null,"D0509"]
[511,"Harper","Attica ",1178535,0,0,0,0,155.1,0,12655,{"$f":"'2016legmax.xls'!BJ289","v":0},1165880,{"$f":"'2016legmax.xls'!BB289","v":74068},187367,{"$f":"'2016legmax.xls'!BC289","v":86881},123494,{"$f":"'2016legmax.xls'!BD289","v":0},1514196,{"$f":"'2016legmax.xls'!DD289","v":0},26039,0,0,0,0,0,{"$f":"'2016legmax.xls'!AV289","v":15},{"$f":"'2016legmax.xls'!AW289","v":"A"},{"$f":"'2016legmax.xls'!AX289","v":""},1589503,1552890,{"$f":"IF(Weightings!G289>0,Weightings!G289,'Preliminary SO66'!AB286)","v":1625909},1552890,1552890,1604623,{"$f":"'2016legmax.xls'!BM289","v":0.3},481387,481387,481387,null,1183268,0,0,0,0,0,0,0,0,0,4733,0,0,1178535,{"$f":"'2016legmax.xls'!F289","v":157.5},{"$f":"'2016legmax.xls'!I289","v":155.1},{"$f":"'2016legmax.xls'!K289","v":151.5},155.1,{"$f":"'2016legmax.xls'!O289","v":0},155.1,{"$f":"IF(ISNA(VLOOKUP($CM292,'Audit Values'!$A$2:$AE$252,2,FALSE)),'Preliminary SO66'!T286,VLOOKUP($CM292,'Audit Values'!$A$2:$AE$252,20,FALSE))","v":0},0,{"$f":"IF(ISNA(VLOOKUP($CM292,'Audit Values'!$A$2:$AE$252,2,FALSE)),'Preliminary SO66'!U286,VLOOKUP($CM292,'Audit Values'!$A$2:$AE$252,21,FALSE))","v":0},0,0,0,0,{"$f":"'2016legmax.xls'!AH289","v":0},0,0,{"$f":"'2016legmax.xls'!CJ289","v":0},0,{"$f":"'2016legmax.xls'!CI289","v":0},0,0,0,0,0,0,0,0,0,0,0,0,0,0,null,null,null,"D0511"]
[512,"Johnson","Shawnee Mission Pub Sch",124053049,0,0,{"$f":"BV293+BZ293+CD293","v":9185456},0,26464.1,0,19418,{"$f":"'2016legmax.xls'!BJ290","v":0},133219087,{"$f":"'2016legmax.xls'!BB290","v":3013316},17834470,{"$f":"'2016legmax.xls'!BC290","v":14272374},18806498,{"$f":"'2016legmax.xls'!BD290","v":0},168339247,{"$f":"'2016legmax.xls'!DD290","v":0},0,0,137153,0,0,50099,{"$f":"'2016legmax.xls'!AV290","v":3},{"$f":"'2016legmax.xls'!AW290","v":"A"},{"$f":"'2016legmax.xls'!AX290","v":""},167081804,168545917,{"$f":"IF(Weightings!G290>0,Weightings!G290,'Preliminary SO66'!AB287)","v":176988467},168545917,168545917,181175783,{"$f":"'2016legmax.xls'!BM290","v":0.33},59788008,59788008,59788008,null,132870804,0,0,1332.4,5132405,827.4,3187145,0,0,8319550,498205,0,0,124053049,{"$f":"'2016legmax.xls'!F290","v":26100},{"$f":"'2016legmax.xls'!I290","v":26229.1},{"$f":"'2016legmax.xls'!K290","v":26413.1},26413.1,{"$f":"'2016legmax.xls'!O290","v":51},26464.1,{"$f":"IF(ISNA(VLOOKUP($CM293,'Audit Values'!$A$2:$AE$252,2,FALSE)),'Preliminary SO66'!T287,VLOOKUP($CM293,'Audit Values'!$A$2:$AE$252,20,FALSE))","v":0},0,{"$f":"IF(ISNA(VLOOKUP($CM293,'Audit Values'!$A$2:$AE$252,2,FALSE)),'Preliminary SO66'!U287,VLOOKUP($CM293,'Audit Values'!$A$2:$AE$252,21,FALSE))","v":0},0,0,0,0,{"$f":"'2016legmax.xls'!AH290","v":0},0,5267341,{"$f":"'2016legmax.xls'!CJ290","v":3.5900000000000001E-2},5998237,{"$f":"'2016legmax.xls'!CI290","v":6133687},5998237,3187219,3187219,3187219,3187219,0,0,0,0,0,0,0,0,0,null,null,null,"D0512"]

{"sheet":"2016legmax.xls","index":1,"n_rows":295,"n_cols":108,"rows_kept":295,"cut":false,"hidden":true,"merged":[[1,69,1,78],[1,84,1,89],[1,90,1,94],[1,95,1,105],[1,107,1,109]]}
[null,null,null,null,null,"Col 1",null,null,"Col 2",null,"Col 3","Col 4","Col 4(a)",null,"Col 4(b)",null,null,null,"Col 4(c) ","Col 5 ","Col 6",null,null,"Col 7","Col 7(a)","Col 8","Col 8(a)","Col 9","Col 9(a)","Col 9(b)",null,null,"Col 10","Col 10(a)","Col 11","Col 11(a)","Col 12","Col 13","Col 14","Col 15","Col 16","Col 17","Col 17(a)",null,null,"Col 18","Col 19",null,null,null,null,"Col 20","Col 20(a)",null,null,null,"Col 20(b)","NA",null,null,null,"Col 20(c) ","Col 20(d)","Col 21","Col 21(a)","Col 21(b)","Col 21(c) ","Col 21(d)",null,null,null,null,null,null,null,null,null,null,null,null,null,null,null,null,null,"","Review","NA","NA","NA",null,null,null,null,null,null,null,null,null,"NA","NA","NA","NA","NA","NA"]
["",{"$f":"'2016Block Grant-legalmax.xlsm'!B2","v":"2016-06-21"},null,null,null,null,null,null,null,null,null,null,"Not Applicable",null,null,null,null,null,null,null,null,null,null,"",null,"","","","",null,null,null,"",null,null,null,null,null,null,null,null,null,null,null,null,null,null,null,null,null,null,"Old Formula","New Formula SB7",null,null,null,"New Formula SB7",null,null,null,null,null,"revised",null,null,null,"",null,null,"Table I Low & High Enrollment",null,null,null,null,null,null,null,null,null,"Table II Transportation",null,null,null,null,"Table III Tax Appeal Amounts",null,null,null,null,null,"Table IV High Density At Risk",null,null,null,null,"Table V Virtual Weighting",null,null,null,null,null,null,null,null,null,null,null,"Extraordinary Payments"]
["USD #","County","District Name","FTE Enroll (exc 4 yr old at-risk & virtual) 9/20/2013","FTE Enroll (exc 4 yr old at-risk & virtual) 2/20/2014","FTE Enroll (exc 4 yr old at-risk exc virtual) 9/20/2013 2/20/2014","FTE Enroll (exc 4 yr old at-risk & virtual) 9/20/2014","FTE Enroll (exc 4 yr old at-risk & virtual) 2/20/2015","FTE Enroll (exc 4 yr old at-risk exc virtual) 9/20/2014 2/20/2015","FTE Enroll (exc 4 yr old at-risk inc virtual) 9/20/2015","FTE Enroll (exc 4 yr old at-risk exc virtual) 9/20/2015","Declining Enrollment Provision","FTE Enroll (exc 4 yr old at-risk) 2/20/2016","Adjusted Enrollment (inc 2/20 exc virtual)","4 yr old at-risk (9/20)","FTE Enroll (inc 4 yr old at-risk exc virtual) 9/20/2014","FTE Enroll (inc 4 yr old at-risk inc virtual) 9/20/2014","FTE Enroll (inc 4 yr old at-risk inc virtual inc 2/20) 9/20/2014","Total Adjusted Enrollment","Virtual FTE (Info Only) 9/20/15","Low and High Enroll Weighted FTE","Low Enroll","High Enroll","CTE Contact Hrs","CTE Weighted FTE","Bilingual Contact Hrs","Bilingual Weighted FTE","At-Risk Headcount","At-Risk Weighted FTE","High At-Risk Weighted FTE","2013-14 Non-Proficient Headcount","Non-Proficient Weighted FTE","New Facilities FTE","New Facilities Weighted FTE","Transp Over 2.5 Current Year","Transp Weighted FTE","Ancillary Weighted FTE","Declining Enroll Weighted FTE","Cost of Living FTE","Virtual Weighted FTE","KAMS FTE","FY 16 Spec Ed State Aid (updated actual 6-17-16)","Spec Ed Weighted FTE","2015-16 Subtotal Weighted FTE (exc Spec Ed)","2013-14 Subtotal Weighted FTE (exc COL)","2015-16 Total Weighted FTE","Authorized Transfers","Sequence Number","Audit","Republished","Computed General Fund (exc Spec Ed)","Computed General Fund (inc Spec Ed)","Adopted General Fund","LOB State Aid","KPERS State Aid - Block Grant (updated 5-19-16 Actual)","Capital Outlay State Aid","Adopted General Fund (excl LOB/KPERS/CO)","2015-16 General Fund (Before reductions)","Budget Law Violation","2014-15 Trans Audit Adjust","2014-15 Bilingual Vocational At-Risk   Audit Adj","2014-15 Total Reduction","2015-16 Adjusted Legal General Fund Budget","2015-16 LOB Base General Fund ","2015-16 LOB Authorized Percent","Max Computed LOB Authorized","Adopted LOB","Legal LOB","LOB Percent Used","0-99.9",null,null,null,"100-299.9",null,null,null,"300-1621.9","1622 and higher","Area in Square Miles","Index","Density Cost Per Pupil","Transp Weighting Factor","Trans Weighted FTE","Board of Tax Appeals (Ancillary)","Board of Tax Appeals (Declining Enrollment)","Form 151-Board of Tax Appeals (Cost of Living)","Cost of Living Authorized Percent","Max Computed Cost of Living","Cost of Living Authority","2014-15 Percent of Free Lunch (Current Year)","Students Per Square mile","Ftee Lunch >=50%","Free Lunch >35.1% and >212 per square mile","Free Lunch >=35% <50%","Full-Time Virtual FTE 9/20/2015","Part-Time Virtual FTE 9/20/2015","Virtual FTE 19 & Over","Virtual FTE","Virtual Non Proficient Headcount","Virtual Non Proficient Weighting","Virtual AP Course 1st Semester","1st Semester Weighting","Virtual AP Course 2nd Semester","2nd Semester Weighting","Estimated Virtual FTE","D0 #","2015-16 pmts"]
["Total",null,"STATE TOTALS",{"$f":"SUM(D5:D290)","v":450333.5},834.9,{"$f":"SUM(F5:F290)","v":451168.4},{"$f":"SUM(G5:G290)","v":452822.4},624.70000000000005,453447.1,{"$f":"SUM(J5:J290)","v":459178.2},{"$f":"SUM(K5:K290)","v":450671.4},{"$f":"SUM(L5:L290)","v":456483.3},{"$f":"SUM(M5:M290)","v":0},{"$f":"SUM(N5:N290)","v":456483.3},{"$f":"SUM(O5:O290)","v":3416.5},{"$f":"SUM(P5:P290)","v":454087.9},{"$f":"SUM(Q5:Q290)","v":462594.7},{"$f":"SUM(R5:R290)","v":462594.7},{"$f":"SUM(S5:S290)","v":459899.8},{"$f":"SUM(T5:T290)","v":8506.7999999999993},{"$f":"SUM(U5:U290)","v":54247.3},{"$f":"SUM(V5:V290)","v":42188.6},{"$f":"SUM(W5:W290)","v":12058.7},{"$f":"SUM(X5:X290)","v":100575},{"$f":"SUM(Y5:Y290)","v":8382.7999999999993},{"$f":"SUM(Z5:Z290)","v":163536.29999999999},{"$f":"SUM(AA5:AA290)","v":10765.9},{"$f":"SUM(AB5:AB290)","v":192763},{"$f":"SUM(AC5:AC290)","v":87900.3},{"$f":"SUM(AD5:AD290)","v":13188.5},{"$f":"SUM(AE5:AE290)","v":0},{"$f":"SUM(AF5:AF290)","v":0},{"$f":"SUM(AG5:AG290)","v":11878.7},{"$f":"SUM(AH5:AH290)","v":2970.1},{"$f":"SUM(AI5:AI290)","v":134920.5},{"$f":"SUM(AJ5:AJ290)","v":26895.200000000001},{"$f":"SUM(AK5:AK290)","v":6276.3},{"$f":"SUM(AL5:AL290)","v":954.5},{"$f":"SUM(AM5:AM290)","v":5407.8},{"$f":"SUM(AN5:AN290)","v":8932.7000000000007},{"$f":"SUM(AO5:AO290)","v":39},{"$f":"SUM(AP5:AP290)","v":425394929},{"$f":"SUM(AQ5:AQ290)","v":110433.9},{"$f":"SUM(AR5:AR290)","v":685860.2},{"$f":"SUM(AS5:AS290)","v":790886.3},{"$f":"SUM(AT5:AT290)","v":796294.1},{"$f":"SUM(AU5:AU290)","v":9857748},null,null,null,{"$f":"SUM(AY5:AY290)","v":2652365324},{"$f":"SUM(AZ5:AZ290)","v":3077756710},{"$f":"SUM(BA5:BA290)","v":3960521772},446495379,257620695,27087301,3229318397,{"$f":"SUM(BF5:BF290)","v":3077756710},{"$f":"SUM(BG5:BG290)","v":0},{"$f":"SUM(BH5:BH290)","v":0},{"$f":"SUM(BI5:BI290)","v":-9819},{"$f":"SUM(BJ5:BJ290)","v":-9819},{"$f":"SUM(BK5:BK290)","v":3077746891},{"$f":"SUM(BL5:BL290)","v":3488958816},{"$f":"SUM(BM5:BM290)","v":86.76},{"$f":"SUM(BN5:BN290)","v":1076162882},{"$f":"SUM(BO5:BO290)","v":1061277923},{"$f":"SUM(BP5:BP290)","v":1054828314},{"$f":"SUM(BQ5:BQ290)/296","v":0.28670000000000001},{"$f":"SUM(BR5:BR290)","v":418.7},null,null,null,{"$f":"SUM(BV5:BV290)","v":9585.6},null,null,null,{"$f":"SUM(BZ5:BZ290)","v":32184.3},{"$f":"SUM(CA5:CA290)","v":12058.7},{"$f":"SUM(CB5:CB290)","v":82019.7},{"$f":"SUM(CC5:CC290)","v":1373.14},{"$f":"SUM(CD5:CD290)","v":342146.52},{"$f":"SUM(CE5:CE290)","v":88.823300000000003},{"$f":"SUM(CF5:CF290)","v":26895.3},{"$f":"SUM(CG5:CG290)","v":24176759},{"$f":"SUM(CH5:CH290)","v":3676672},{"$f":"SUM(CI5:CI290)","v":25503370},null,null,20830553,null,null,{"$f":"SUM(CO5:CO290)","v":11272.4},6759.5,1916.1,{"$f":"SUM(CR5:CR290)","v":4578},{"$f":"SUM(CS5:CS290)","v":844.4},3084.4,8506.7999999999993,{"$f":"SUM(CV5:CV290)","v":0},{"$f":"SUM(CW5:CW290)","v":0},{"$f":"SUM(CX5:CX290)","v":0},{"$f":"SUM(CY5:CY290)","v":0},{"$f":"SUM(CZ5:CZ290)","v":0},{"$f":"SUM(DA5:DA290)","v":0},{"$f":"SUM(DB5:DB290)","v":0},null,{"$f":"SUM(DD5:DD290)","v":1831490}]
[101,"Neosho","Erie-Galesburg ",509,0,{"$f":"D5+E5","v":509},522.5,0,{"$f":"G5+H5","v":522.5},{"$f":"K5+T5","v":508},{"$f":"IF(ISNA(VLOOKUP($DC5,'Audit Values'!$A$2:$AE$252,2,FALSE)),'Preliminary SO66'!B2,VLOOKUP($DC5,'Audit Values'!$A$2:$AE$252,31,FALSE))","v":503},{"$f":"MAX(K5, I5,AVERAGE(F5, I5, K5))","v":522.5},{"$f":"IF(ISNA(VLOOKUP($DC5,'Audit Values'!$A$2:$AE$252,2,FALSE)),'Preliminary SO66'!Z2,VLOOKUP($DC5,'Audit Values'!$A$2:$AE$252,26,FALSE))","v":0},{"$f":"L5+M5","v":522.5},{"$f":"IF(ISNA(VLOOKUP($DC5,'Audit Values'!$A$2:$AE$252,2,FALSE)),'Preliminary SO66'!C2,IF(VLOOKUP($DC5,'Audit Values'!$A$2:$AE$252,28,FALSE)=\"\",VLOOKUP($DC5,'Audit Values'!$A$2:$AE$252,3,FALSE),VLOOKUP($DC5,'Audit Values'!$A$2:$AE$252,28,FALSE)))","v":5.5},{"$f":"K5+O5","v":508.5},{"$f":"J5+O5","v":513.5},{"$f":"J5+O5+M5","v":513.5},{"$f":"L5+M5+O5","v":528},{"$f":"CU5","v":5},{"$f":"IF(L5>0,MAX(BR5,BV5,BZ5,CA5),0)","v":214.8},{"$f":"MAX(BR5,BV5,BZ5)","v":214.8},{"$f":"CA5","v":0},{"$f":"IF(ISNA(VLOOKUP($DC5,'Audit Values'!$A$2:$AE$252,2,FALSE)),'Preliminary SO66'!D2,VLOOKUP($DC5,'Audit Values'!$A$2:$AE$252,4,FALSE))","v":147.9},{"$f":"ROUND((X5/6)*Weightings!$M$6,1)","v":12.3},{"$f":"IF(ISNA(VLOOKUP($DC5,'Audit Values'!$A$2:$AE$252,2,FALSE)),'Preliminary SO66'!F2,VLOOKUP($DC5,'Audit Values'!$A$2:$AE$252,6,FALSE))","v":5.5},{"$f":"ROUND((Z5/6)*Weightings!$M$7,1)","v":0.4},{"$f":"IF(ISNA(VLOOKUP($DC5,'Audit Values'!$A$2:$AE$252,2,FALSE)),'Preliminary SO66'!H2,VLOOKUP($DC5,'Audit Values'!$A$2:$AE$252,9,FALSE))","v":271},{"$f":"ROUND(AB5*Weightings!$M$8,1)","v":123.6},{"$f":"MAX(CO5,CP5,CQ5)","v":28.5},0,{"$f":"AE5*Weightings!$M$9","v":0},{"$f":"IF(ISNA(VLOOKUP($DC5,'Audit Values'!$A$2:$AE$252,2,FALSE)),'Preliminary SO66'!L2,VLOOKUP($DC5,'Audit Values'!$A$2:$AE$252,12,FALSE))","v":0},{"$f":"ROUND(AG5*Weightings!$M$10,1)","v":0},{"$f":"IF(ISNA(VLOOKUP($DC5,'Audit Values'!$A$2:$AE$252,2,FALSE)),'Preliminary SO66'!O2,VLOOKUP($DC5,'Audit Values'!$A$2:$AE$252,15,FALSE))","v":314},{"$f":"CF5","v":88.9},{"$f":"CG5/Weightings!$M$5","v":0},{"$f":"CH5/Weightings!$M$5","v":0},{"$f":"CL5/Weightings!$M$5","v":0},{"$f":"CU5*1.05","v":5.3},{"$f":"IF(ISNA(VLOOKUP($DC5,'Audit Values'!$A$2:$AE$252,2,FALSE)),'Preliminary SO66'!X2,VLOOKUP($DC5,'Audit Values'!$A$2:$AE$252,24,FALSE))","v":0},631920,{"$f":"AP5/Weightings!$M$5","v":164},{"$f":"SUM(S5+ U5+ Y5+ AA5+ AC5+ AH5+ AJ5+ AK5+ AL5+ AD5+AF5+AM5+AN5+AO5)","v":1001.8},{"$f":"SUM(S5+U5+Y5+AA5+AC5+AH5+AJ5+AK5+AL5+AD5+AF5+AQ5+AN5+AO5)","v":1165.8},{"$f":"SUM(S5+U5+Y5+AA5+AC5+AH5+AJ5+AK5+AL5+AQ5+AD5+AF5+AM5+AN5+AO5)","v":1165.8},0,{"$f":"IF(ISNA(VLOOKUP($DC5,'Audit Values'!$A$2:$AC$299,2,FALSE)),\"\",IF(AND(Weightings!H5>0,VLOOKUP($DC5,'Audit Values'!$A$2:$AC$299,29,FALSE)<Weightings!H5),Weightings!H5,VLOOKUP($DC5,'Audit Values'!$A$2:$AC$299,29,FALSE)))","v":2},{"$f":"IF(ISNA(VLOOKUP($DC5,'Audit Values'!$A$2:$AD$299,2,FALSE)),\"\",VLOOKUP($DC5,'Audit Values'!$A$2:$AD$299,30,FALSE))","v":"A"},{"$f":"IF(Weightings!G5=\"\",\"\",IF(Weightings!I5=\"Pending\",\"PX\",\"R\"))","v":""},{"$f":"AR5*Weightings!$M$5+AU5","v":3858934},{"$f":"AT5*Weightings!$M$5+AU5","v":4490662},{"$f":"IF(Weightings!G5>0,Weightings!G5,'Preliminary SO66'!AB2)","v":5586703},637074,252169,0,{"$f":"BA5-BB5-BC5-BD5","v":4697460},{"$f":"MIN(AZ5,BA5)","v":4490662},null,{"$f":"Weightings!E5","v":0},{"$f":"Weightings!F5","v":0},{"$f":"SUM(BG5:BI5)","v":0},{"$f":"BF5+BJ5","v":4490662},{"$f":"MAX(ROUND(((AR5-AN5-AO5)*Weightings!$M$12)+'2016legmax.xls'!AP5,0),ROUND((('2016legmax.xls'!AR5-'2016legmax.xls'!AN5-'2016legmax.xls'!AO5)*Weightings!$M$12)+Weightings!B5,0))","v":5205452},0.3,{"$f":"BL5*BM5","v":1561636},1539410,{"$f":"MIN(BN5,BO5)","v":1539410},{"$f":"BP5/BL5","v":0.29570000000000002},{"$f":"ROUND(IF(S5<=99.9,(S5*1.014331),0),1)","v":0},{"$f":"AND(S5>99.9,S5<=299.9)","v":false},{"$f":"IF(BS5=TRUE,ROUND((S5-100)*9.655,3),0)","v":0},{"$f":"IF(BS5=TRUE,ROUND(((7337-BT5)/3642.4)-1,6),0)","v":0},{"$f":"ROUND(S5*BU5,1)","v":0},{"$f":"AND(S5>299.9,S5<=1621.9)","v":true},{"$f":"IF(BW5=TRUE,ROUND((S5-300)*1.2375,4),0)","v":282.14999999999998},{"$f":"IF(BW5=TRUE,ROUND(((5406-BX5)/3642.4)-1,6),0)","v":0.40672399999999997},{"$f":"ROUND(BY5*S5,1)","v":214.8},{"$f":"ROUND(IF(S5>=1622,(S5*0.03504),0),1)","v":0},325,{"$f":"AI5/CB5","v":0.97},{"$f":"IF(ROUND((Weightings!$P$5*CC5^Weightings!$P$6*Weightings!$P$8 ),2)<Weightings!$P$7,Weightings!$P$7,ROUND((Weightings!$P$5*CC5^Weightings!$P$6*Weightings!$P$8 ),2))","v":1089.95},{"$f":"ROUND(CD5/Weightings!$M$5,4)","v":0.28299999999999997},{"$f":"ROUND(IF(AI5>0,CE5*AI5,0),1)","v":88.9},0,0,0,0,{"$f":"AS5*Weightings!$M$5*CJ5","v":0},{"$f":"IF(CI5>CK5,CK5,CI5)","v":0},{"$f":"ROUND(AB5/S5,3)","v":0.51300000000000001},{"$f":"ROUND(S5/CB5,1)","v":1.6},{"$f":"IF(CM5>=50%,AB5*10.5%,0)","v":28.5},{"$f":"IF(AND(CM5>=35.1%,CN5>212),AB5*0.105,0)","v":0},{"$f":"IF(AND((CM5-0.35)>0,CM5<0.5),AB5*(CM5-0.35)*0.7,0)","v":0},{"$f":"IF(ISNA(VLOOKUP($DC5,'Audit Values'!$A$2:$AE$252,2,FALSE)),'Preliminary SO66'!T2,VLOOKUP($DC5,'Audit Values'!$A$2:$AE$252,20,FALSE))","v":0},{"$f":"IF(ISNA(VLOOKUP($DC5,'Audit Values'!$A$2:$AE$252,21,FALSE)),'Preliminary SO66'!U2,VLOOKUP($DC5,'Audit Values'!$A$2:$AE$252,21,FALSE))","v":0},5,{"$f":"SUM(CR5:CT5)","v":5},null,null,null,null,null,null,null,"D0101"]
[102,"Gray","Cimmaron-Ensign",633.4,0,{"$f":"D6+E6","v":633.4},626.70000000000005,0,{"$f":"G6+H6","v":626.70000000000005},619,{"$f":"IF(ISNA(VLOOKUP($DC6,'Audit Values'!$A$2:$AE$252,2,FALSE)),'Preliminary SO66'!B3,VLOOKUP($DC6,'Audit Values'!$A$2:$AE$252,31,FALSE))","v":619},626.70000000000005,{"$f":"IF(ISNA(VLOOKUP($DC6,'Audit Values'!$A$2:$AE$252,2,FALSE)),'Preliminary SO66'!Z3,VLOOKUP($DC6,'Audit Values'!$A$2:$AE$252,26,FALSE))","v":0},626.70000000000005,{"$f":"IF(ISNA(VLOOKUP($DC6,'Audit Values'!$A$2:$AE$252,2,FALSE)),'Preliminary SO66'!C3,IF(VLOOKUP($DC6,'Audit Values'!$A$2:$AE$252,28,FALSE)=\"\",VLOOKUP($DC6,'Audit Values'!$A$2:$AE$252,3,FALSE),VLOOKUP($DC6,'Audit Values'!$A$2:$AE$252,28,FALSE)))","v":6},625,625,625,632.70000000000005,{"$f":"CU6","v":0},234.8,234.8,0,{"$f":"IF(ISNA(VLOOKUP($DC6,'Audit Values'!$A$2:$AE$252,2,FALSE)),'Preliminary SO66'!D3,VLOOKUP($DC6,'Audit Values'!$A$2:$AE$252,4,FALSE))","v":124.7},{"$f":"ROUND((X6/6)*Weightings!$M$6,1)","v":10.4},{"$f":"IF(ISNA(VLOOKUP($DC6,'Audit Values'!$A$2:$AE$252,2,FALSE)),'Preliminary SO66'!F3,VLOOKUP($DC6,'Audit Values'!$A$2:$AE$252,6,FALSE))","v":685.3},{"$f":"ROUND((Z6/6)*Weightings!$M$7,1)","v":45.1},{"$f":"IF(ISNA(VLOOKUP($DC6,'Audit Values'!$A$2:$AE$252,2,FALSE)),'Preliminary SO66'!H3,VLOOKUP($DC6,'Audit Values'!$A$2:$AE$252,9,FALSE))","v":234},{"$f":"ROUND(AB6*Weightings!$M$8,1)","v":106.7},{"$f":"MAX(CO6,CP6,CQ6)","v":3.3},0,{"$f":"AE6*Weightings!$M$9","v":0},{"$f":"IF(ISNA(VLOOKUP($DC6,'Audit Values'!$A$2:$AE$252,2,FALSE)),'Preliminary SO66'!L3,VLOOKUP($DC6,'Audit Values'!$A$2:$AE$252,12,FALSE))","v":118.2},{"$f":"ROUND(AG6*Weightings!$M$10,1)","v":29.6},{"$f":"IF(ISNA(VLOOKUP($DC6,'Audit Values'!$A$2:$AE$252,2,FALSE)),'Preliminary SO66'!O3,VLOOKUP($DC6,'Audit Values'!$A$2:$AE$252,15,FALSE))","v":98},40.6,{"$f":"CG6/Weightings!$M$5","v":0},{"$f":"CH6/Weightings!$M$5","v":0},{"$f":"CL6/Weightings!$M$5","v":0},{"$f":"CU6*1.05","v":0},{"$f":"IF(ISNA(VLOOKUP($DC6,'Audit Values'!$A$2:$AE$252,2,FALSE)),'Preliminary SO66'!X3,VLOOKUP($DC6,'Audit Values'!$A$2:$AE$252,24,FALSE))","v":0},463142,{"$f":"AP6/Weightings!$M$5","v":120.2},1103.2,1223.4000000000001,1223.4000000000001,0,{"$f":"IF(ISNA(VLOOKUP($DC6,'Audit Values'!$A$2:$AC$299,2,FALSE)),\"\",IF(AND(Weightings!H6>0,VLOOKUP($DC6,'Audit Values'!$A$2:$AC$299,29,FALSE)<Weightings!H6),Weightings!H6,VLOOKUP($DC6,'Audit Values'!$A$2:$AC$299,29,FALSE)))","v":14},{"$f":"IF(ISNA(VLOOKUP($DC6,'Audit Values'!$A$2:$AD$299,2,FALSE)),\"\",VLOOKUP($DC6,'Audit Values'!$A$2:$AD$299,30,FALSE))","v":"A"},{"$f":"IF(Weightings!G6=\"\",\"\",IF(Weightings!I6=\"Pending\",\"PX\",\"R\"))","v":""},{"$f":"AR6*Weightings!$M$5+AU6","v":4249526},{"$f":"AT6*Weightings!$M$5+AU6","v":4712537},{"$f":"IF(Weightings!G6>0,Weightings!G6,'Preliminary SO66'!AB3)","v":5966187},607345,335027,24833,4998982,4712537,null,{"$f":"Weightings!E6","v":0},{"$f":"Weightings!F6","v":0},0,{"$f":"BF6+BJ6","v":4712537},{"$f":"MAX(ROUND(((AR6-AN6-AO6)*Weightings!$M$12)+'2016legmax.xls'!AP6,0),ROUND((('2016legmax.xls'!AR6-'2016legmax.xls'!AN6-'2016legmax.xls'!AO6)*Weightings!$M$12)+Weightings!B6,0))","v":5491751},0.3,1647525,1425000,1425000,{"$f":"BP6/BL6","v":0.25950000000000001},0,false,0,0,0,true,411.71629999999999,0.37115199999999998,234.8,0,538,0.18,{"$f":"IF(ROUND((Weightings!$P$5*CC6^Weightings!$P$6*Weightings!$P$8 ),2)<Weightings!$P$7,Weightings!$P$7,ROUND((Weightings!$P$5*CC6^Weightings!$P$6*Weightings!$P$8 ),2))","v":1595.42},{"$f":"ROUND(CD6/Weightings!$M$5,4)","v":0.41420000000000001},40.6,0,0,0,0,{"$f":"AS6*Weightings!$M$5*CJ6","v":0},{"$f":"IF(CI6>CK6,CK6,CI6)","v":0},0.37,1.2,0,0,3.3,{"$f":"IF(ISNA(VLOOKUP($DC6,'Audit Values'!$A$2:$AE$252,2,FALSE)),'Preliminary SO66'!T3,VLOOKUP($DC6,'Audit Values'!$A$2:$AE$252,20,FALSE))","v":0},{"$f":"IF(ISNA(VLOOKUP($DC6,'Audit Values'!$A$2:$AE$252,21,FALSE)),'Preliminary SO66'!U3,VLOOKUP($DC6,'Audit Values'!$A$2:$AE$252,21,FALSE))","v":0},0,{"$f":"SUM(CR6:CT6)","v":0},null,null,null,null,null,null,null,"D0102"]
[103,"Cheyenne","Cheylin ",127,0,127,137,0,137,133.5,{"$f":"IF(ISNA(VLOOKUP($DC7,'Audit Values'!$A$2:$AE$252,2,FALSE)),'Preliminary SO66'!B4,VLOOKUP($DC7,'Audit Values'!$A$2:$AE$252,31,FALSE))","v":133.5},137,{"$f":"IF(ISNA(VLOOKUP($DC7,'Audit Values'!$A$2:$AE$252,2,FALSE)),'Preliminary SO66'!Z4,VLOOKUP($DC7,'Audit Values'!$A$2:$AE$252,26,FALSE))","v":0},137,{"$f":"IF(ISNA(VLOOKUP($DC7,'Audit Values'!$A$2:$AE$252,2,FALSE)),'Preliminary SO66'!C4,IF(VLOOKUP($DC7,'Audit Values'!$A$2:$AE$252,28,FALSE)=\"\",VLOOKUP($DC7,'Audit Values'!$A$2:$AE$252,3,FALSE),VLOOKUP($DC7,'Audit Values'!$A$2:$AE$252,28,FALSE)))","v":0},133.5,133.5,133.5,137,0,125.5,125.5,0,{"$f":"IF(ISNA(VLOOKUP($DC7,'Audit Values'!$A$2:$AE$252,2,FALSE)),'Preliminary SO66'!D4,VLOOKUP($DC7,'Audit Values'!$A$2:$AE$252,4,FALSE))","v":68.900000000000006},{"$f":"ROUND((X7/6)*Weightings!$M$6,1)","v":5.7},{"$f":"IF(ISNA(VLOOKUP($DC7,'Audit Values'!$A$2:$AE$252,2,FALSE)),'Preliminary SO66'!F4,VLOOKUP($DC7,'Audit Values'!$A$2:$AE$252,6,FALSE))","v":188},{"$f":"ROUND((Z7/6)*Weightings!$M$7,1)","v":12.4},{"$f":"IF(ISNA(VLOOKUP($DC7,'Audit Values'!$A$2:$AE$252,2,FALSE)),'Preliminary SO66'!H4,VLOOKUP($DC7,'Audit Values'!$A$2:$AE$252,9,FALSE))","v":61},{"$f":"ROUND(AB7*Weightings!$M$8,1)","v":27.8},4.0999999999999996,0,{"$f":"AE7*Weightings!$M$9","v":0},{"$f":"IF(ISNA(VLOOKUP($DC7,'Audit Values'!$A$2:$AE$252,2,FALSE)),'Preliminary SO66'!L4,VLOOKUP($DC7,'Audit Values'!$A$2:$AE$252,12,FALSE))","v":0},{"$f":"ROUND(AG7*Weightings!$M$10,1)","v":0},{"$f":"IF(ISNA(VLOOKUP($DC7,'Audit Values'!$A$2:$AE$252,2,FALSE)),'Preliminary SO66'!O4,VLOOKUP($DC7,'Audit Values'!$A$2:$AE$252,15,FALSE))","v":52},25.9,{"$f":"CG7/Weightings!$M$5","v":0},{"$f":"CH7/Weightings!$M$5","v":0},{"$f":"CL7/Weightings!$M$5","v":0},0,{"$f":"IF(ISNA(VLOOKUP($DC7,'Audit Values'!$A$2:$AE$252,2,FALSE)),'Preliminary SO66'!X4,VLOOKUP($DC7,'Audit Values'!$A$2:$AE$252,24,FALSE))","v":0},125987,{"$f":"AP7/Weightings!$M$5","v":32.700000000000003},338.4,371.1,371.1,0,{"$f":"IF(ISNA(VLOOKUP($DC7,'Audit Values'!$A$2:$AC$299,2,FALSE)),\"\",IF(AND(Weightings!H7>0,VLOOKUP($DC7,'Audit Values'!$A$2:$AC$299,29,FALSE)<Weightings!H7),Weightings!H7,VLOOKUP($DC7,'Audit Values'!$A$2:$AC$299,29,FALSE)))","v":15},{"$f":"IF(ISNA(VLOOKUP($DC7,'Audit Values'!$A$2:$AD$299,2,FALSE)),\"\",VLOOKUP($DC7,'Audit Values'!$A$2:$AD$299,30,FALSE))","v":"A"},{"$f":"IF(Weightings!G7=\"\",\"\",IF(Weightings!I7=\"Pending\",\"PX\",\"R\"))","v":""},{"$f":"AR7*Weightings!$M$5+AU7","v":1303517},{"$f":"AT7*Weightings!$M$5+AU7","v":1429477},{"$f":"IF(Weightings!G7>0,Weightings!G7,'Preliminary SO66'!AB4)","v":1530420},0,80184,0,1450236,1429477,null,{"$f":"Weightings!E7","v":0},{"$f":"Weightings!F7","v":0},0,1429477,{"$f":"MAX(ROUND(((AR7-AN7-AO7)*Weightings!$M$12)+'2016legmax.xls'!AP7,0),ROUND((('2016legmax.xls'!AR7-'2016legmax.xls'!AN7-'2016legmax.xls'!AO7)*Weightings!$M$12)+Weightings!B7,0))","v":1709671},0.3,512901,520040,512901,0.3,0,true,357.23500000000001,0.91625400000000001,125.5,false,0,0,0,0,688,0.08,{"$f":"IF(ROUND((Weightings!$P$5*CC7^Weightings!$P$6*Weightings!$P$8 ),2)<Weightings!$P$7,Weightings!$P$7,ROUND((Weightings!$P$5*CC7^Weightings!$P$6*Weightings!$P$8 ),2))","v":1916.65},{"$f":"ROUND(CD7/Weightings!$M$5,4)","v":0.49759999999999999},25.9,0,0,0,0,{"$f":"AS7*Weightings!$M$5*CJ7","v":0},0,0.44500000000000001,0.2,0,0,4.0999999999999996,{"$f":"IF(ISNA(VLOOKUP($DC7,'Audit Values'!$A$2:$AE$252,2,FALSE)),'Preliminary SO66'!T4,VLOOKUP($DC7,'Audit Values'!$A$2:$AE$252,20,FALSE))","v":0},{"$f":"IF(ISNA(VLOOKUP($DC7,'Audit Values'!$A$2:$AE$252,21,FALSE)),'Preliminary SO66'!U4,VLOOKUP($DC7,'Audit Values'!$A$2:$AE$252,21,FALSE))","v":0},0,0,null,null,null,null,null,null,null,"D0103"]
[105,"Rawlins","Rawlins County ",310.5,0,310.5,323.5,0,323.5,333.4,{"$f":"IF(ISNA(VLOOKUP($DC8,'Audit Values'!$A$2:$AE$252,2,FALSE)),'Preliminary SO66'!B5,VLOOKUP($DC8,'Audit Values'!$A$2:$AE$252,31,FALSE))","v":333.4},333.4,{"$f":"IF(ISNA(VLOOKUP($DC8,'Audit Values'!$A$2:$AE$252,2,FALSE)),'Preliminary SO66'!Z5,VLOOKUP($DC8,'Audit Values'!$A$2:$AE$252,26,FALSE))","v":0},333.4,{"$f":"IF(ISNA(VLOOKUP($DC8,'Audit Values'!$A$2:$AE$252,2,FALSE)),'Preliminary SO66'!C5,IF(VLOOKUP($DC8,'Audit Values'!$A$2:$AE$252,28,FALSE)=\"\",VLOOKUP($DC8,'Audit Values'!$A$2:$AE$252,3,FALSE),VLOOKUP($DC8,'Audit Values'!$A$2:$AE$252,28,FALSE)))","v":0},333.4,333.4,333.4,333.4,0,157.6,157.6,0,{"$f":"IF(ISNA(VLOOKUP($DC8,'Audit Values'!$A$2:$AE$252,2,FALSE)),'Preliminary SO66'!D5,VLOOKUP($DC8,'Audit Values'!$A$2:$AE$252,4,FALSE))","v":105.1},{"$f":"ROUND((X8/6)*Weightings!$M$6,1)","v":8.8000000000000007},{"$f":"IF(ISNA(VLOOKUP($DC8,'Audit Values'!$A$2:$AE$252,2,FALSE)),'Preliminary SO66'!F5,VLOOKUP($DC8,'Audit Values'!$A$2:$AE$252,6,FALSE))","v":104.6},{"$f":"ROUND((Z8/6)*Weightings!$M$7,1)","v":6.9},{"$f":"IF(ISNA(VLOOKUP($DC8,'Audit Values'!$A$2:$AE$252,2,FALSE)),'Preliminary SO66'!H5,VLOOKUP($DC8,'Audit Values'!$A$2:$AE$252,9,FALSE))","v":130},{"$f":"ROUND(AB8*Weightings!$M$8,1)","v":59.3},3.6,0,{"$f":"AE8*Weightings!$M$9","v":0},{"$f":"IF(ISNA(VLOOKUP($DC8,'Audit Values'!$A$2:$AE$252,2,FALSE)),'Preliminary SO66'!L5,VLOOKUP($DC8,'Audit Values'!$A$2:$AE$252,12,FALSE))","v":0},{"$f":"ROUND(AG8*Weightings!$M$10,1)","v":0},{"$f":"IF(ISNA(VLOOKUP($DC8,'Audit Values'!$A$2:$AE$252,2,FALSE)),'Preliminary SO66'!O5,VLOOKUP($DC8,'Audit Values'!$A$2:$AE$252,15,FALSE))","v":122.6},51.4,{"$f":"CG8/Weightings!$M$5","v":0},{"$f":"CH8/Weightings!$M$5","v":0},{"$f":"CL8/Weightings!$M$5","v":0},0,{"$f":"IF(ISNA(VLOOKUP($DC8,'Audit Values'!$A$2:$AE$252,2,FALSE)),'Preliminary SO66'!X5,VLOOKUP($DC8,'Audit Values'!$A$2:$AE$252,24,FALSE))","v":0},296419,{"$f":"AP8/Weightings!$M$5","v":77},621,698,698,0,{"$f":"IF(ISNA(VLOOKUP($DC8,'Audit Values'!$A$2:$AC$299,2,FALSE)),\"\",IF(AND(Weightings!H8>0,VLOOKUP($DC8,'Audit Values'!$A$2:$AC$299,29,FALSE)<Weightings!H8),Weightings!H8,VLOOKUP($DC8,'Audit Values'!$A$2:$AC$299,29,FALSE)))","v":15},{"$f":"IF(ISNA(VLOOKUP($DC8,'Audit Values'!$A$2:$AD$299,2,FALSE)),\"\",VLOOKUP($DC8,'Audit Values'!$A$2:$AD$299,30,FALSE))","v":"A"},{"$f":"IF(Weightings!G8=\"\",\"\",IF(Weightings!I8=\"Pending\",\"PX\",\"R\"))","v":""},{"$f":"AR8*Weightings!$M$5+AU8","v":2392092},{"$f":"AT8*Weightings!$M$5+AU8","v":2688696},{"$f":"IF(Weightings!G8>0,Weightings!G8,'Preliminary SO66'!AB5)","v":3185830},235295,193020,0,2757515,2688696,null,{"$f":"Weightings!E8","v":0},{"$f":"Weightings!F8","v":0},0,2688696,{"$f":"MAX(ROUND(((AR8-AN8-AO8)*Weightings!$M$12)+'2016legmax.xls'!AP8,0),ROUND((('2016legmax.xls'!AR8-'2016legmax.xls'!AN8-'2016legmax.xls'!AO8)*Weightings!$M$12)+Weightings!B8,0))","v":3121893},0.3,936568,923233,923233,0.29570000000000002,0,false,0,0,0,true,41.332500000000003,0.47283900000000001,157.6,0,740.1,0.17,{"$f":"IF(ROUND((Weightings!$P$5*CC8^Weightings!$P$6*Weightings!$P$8 ),2)<Weightings!$P$7,Weightings!$P$7,ROUND((Weightings!$P$5*CC8^Weightings!$P$6*Weightings!$P$8 ),2))","v":1616.19},{"$f":"ROUND(CD8/Weightings!$M$5,4)","v":0.41959999999999997},51.4,0,0,0,0,{"$f":"AS8*Weightings!$M$5*CJ8","v":0},0,0.39,0.5,0,0,3.6,{"$f":"IF(ISNA(VLOOKUP($DC8,'Audit Values'!$A$2:$AE$252,2,FALSE)),'Preliminary SO66'!T5,VLOOKUP($DC8,'Audit Values'!$A$2:$AE$252,20,FALSE))","v":0},{"$f":"IF(ISNA(VLOOKUP($DC8,'Audit Values'!$A$2:$AE$252,21,FALSE)),'Preliminary SO66'!U5,VLOOKUP($DC8,'Audit Values'!$A$2:$AE$252,21,FALSE))","v":0},0,0,null,null,null,null,null,null,null,"D0105"]
[106,"Ness","Western Plains ",129,0,129,118,0,118,104,{"$f":"IF(ISNA(VLOOKUP($DC9,'Audit Values'!$A$2:$AE$252,2,FALSE)),'Preliminary SO66'!B6,VLOOKUP($DC9,'Audit Values'!$A$2:$AE$252,31,FALSE))","v":104},118,{"$f":"IF(ISNA(VLOOKUP($DC9,'Audit Values'!$A$2:$AE$252,2,FALSE)),'Preliminary SO66'!Z6,VLOOKUP($DC9,'Audit Values'!$A$2:$AE$252,26,FALSE))","v":0},118,{"$f":"IF(ISNA(VLOOKUP($DC9,'Audit Values'!$A$2:$AE$252,2,FALSE)),'Preliminary SO66'!C6,IF(VLOOKUP($DC9,'Audit Values'!$A$2:$AE$252,28,FALSE)=\"\",VLOOKUP($DC9,'Audit Values'!$A$2:$AE$252,3,FALSE),VLOOKUP($DC9,'Audit Values'!$A$2:$AE$252,28,FALSE)))","v":0},104,104,104,118,0,114.1,114.1,0,{"$f":"IF(ISNA(VLOOKUP($DC9,'Audit Values'!$A$2:$AE$252,2,FALSE)),'Preliminary SO66'!D6,VLOOKUP($DC9,'Audit Values'!$A$2:$AE$252,4,FALSE))","v":0.5},{"$f":"ROUND((X9/6)*Weightings!$M$6,1)","v":0},{"$f":"IF(ISNA(VLOOKUP($DC9,'Audit Values'!$A$2:$AE$252,2,FALSE)),'Preliminary SO66'!F6,VLOOKUP($DC9,'Audit Values'!$A$2:$AE$252,6,FALSE))","v":69.2},{"$f":"ROUND((Z9/6)*Weightings!$M$7,1)","v":4.5999999999999996},{"$f":"IF(ISNA(VLOOKUP($DC9,'Audit Values'!$A$2:$AE$252,2,FALSE)),'Preliminary SO66'!H6,VLOOKUP($DC9,'Audit Values'!$A$2:$AE$252,9,FALSE))","v":62},{"$f":"ROUND(AB9*Weightings!$M$8,1)","v":28.3},6.5,0,{"$f":"AE9*Weightings!$M$9","v":0},{"$f":"IF(ISNA(VLOOKUP($DC9,'Audit Values'!$A$2:$AE$252,2,FALSE)),'Preliminary SO66'!L6,VLOOKUP($DC9,'Audit Values'!$A$2:$AE$252,12,FALSE))","v":0},{"$f":"ROUND(AG9*Weightings!$M$10,1)","v":0},{"$f":"IF(ISNA(VLOOKUP($DC9,'Audit Values'!$A$2:$AE$252,2,FALSE)),'Preliminary SO66'!O6,VLOOKUP($DC9,'Audit Values'!$A$2:$AE$252,15,FALSE))","v":50},24.9,{"$f":"CG9/Weightings!$M$5","v":0},{"$f":"CH9/Weightings!$M$5","v":0},{"$f":"CL9/Weightings!$M$5","v":0},0,{"$f":"IF(ISNA(VLOOKUP($DC9,'Audit Values'!$A$2:$AE$252,2,FALSE)),'Preliminary SO66'!X6,VLOOKUP($DC9,'Audit Values'!$A$2:$AE$252,24,FALSE))","v":0},84804,{"$f":"AP9/Weightings!$M$5","v":22},296.39999999999998,318.39999999999998,318.39999999999998,0,{"$f":"IF(ISNA(VLOOKUP($DC9,'Audit Values'!$A$2:$AC$299,2,FALSE)),\"\",IF(AND(Weightings!H9>0,VLOOKUP($DC9,'Audit Values'!$A$2:$AC$299,29,FALSE)<Weightings!H9),Weightings!H9,VLOOKUP($DC9,'Audit Values'!$A$2:$AC$299,29,FALSE)))","v":6},{"$f":"IF(ISNA(VLOOKUP($DC9,'Audit Values'!$A$2:$AD$299,2,FALSE)),\"\",VLOOKUP($DC9,'Audit Values'!$A$2:$AD$299,30,FALSE))","v":"A"},{"$f":"IF(Weightings!G9=\"\",\"\",IF(Weightings!I9=\"Pending\",\"PX\",\"R\"))","v":""},{"$f":"AR9*Weightings!$M$5+AU9","v":1141733},{"$f":"AT9*Weightings!$M$5+AU9","v":1226477},{"$f":"IF(Weightings!G9>0,Weightings!G9,'Preliminary SO66'!AB6)","v":1494664},0,83902,0,1410762,1226477,null,{"$f":"Weightings!E9","v":0},{"$f":"Weightings!F9","v":0},0,1226477,{"$f":"MAX(ROUND(((AR9-AN9-AO9)*Weightings!$M$12)+'2016legmax.xls'!AP9,0),ROUND((('2016legmax.xls'!AR9-'2016legmax.xls'!AN9-'2016legmax.xls'!AO9)*Weightings!$M$12)+Weightings!B9,0))","v":1482178},0.3,444653,484121,444653,0.3,0,true,173.79,0.96661799999999998,114.1,false,0,0,0,0,601.20000000000005,0.08,{"$f":"IF(ROUND((Weightings!$P$5*CC9^Weightings!$P$6*Weightings!$P$8 ),2)<Weightings!$P$7,Weightings!$P$7,ROUND((Weightings!$P$5*CC9^Weightings!$P$6*Weightings!$P$8 ),2))","v":1916.65},{"$f":"ROUND(CD9/Weightings!$M$5,4)","v":0.49759999999999999},24.9,0,0,0,0,{"$f":"AS9*Weightings!$M$5*CJ9","v":0},0,0.52500000000000002,0.2,6.5,0,0,{"$f":"IF(ISNA(VLOOKUP($DC9,'Audit Values'!$A$2:$AE$252,2,FALSE)),'Preliminary SO66'!T6,VLOOKUP($DC9,'Audit Values'!$A$2:$AE$252,20,FALSE))","v":0},{"$f":"IF(ISNA(VLOOKUP($DC9,'Audit Values'!$A$2:$AE$252,21,FALSE)),'Preliminary SO66'!U6,VLOOKUP($DC9,'Audit Values'!$A$2:$AE$252,21,FALSE))","v":0},0,0,null,null,null,null,null,null,null,"D0106"]
[107,"Jewell","Rock Hills ",277,0,277,274.5,0,274.5,269.5,{"$f":"IF(ISNA(VLOOKUP($DC10,'Audit Values'!$A$2:$AE$252,2,FALSE)),'Preliminary SO66'!B7,VLOOKUP($DC10,'Audit Values'!$A$2:$AE$252,31,FALSE))","v":269.5},274.5,{"$f":"IF(ISNA(VLOOKUP($DC10,'Audit Values'!$A$2:$AE$252,2,FALSE)),'Preliminary SO66'!Z7,VLOOKUP($DC10,'Audit Values'!$A$2:$AE$252,26,FALSE))","v":0},274.5,{"$f":"IF(ISNA(VLOOKUP($DC10,'Audit Values'!$A$2:$AE$252,2,FALSE)),'Preliminary SO66'!C7,IF(VLOOKUP($DC10,'Audit Values'!$A$2:$AE$252,28,FALSE)=\"\",VLOOKUP($DC10,'Audit Values'!$A$2:$AE$252,3,FALSE),VLOOKUP($DC10,'Audit Values'!$A$2:$AE$252,28,FALSE)))","v":4.5},274,274,274,279,0,150.6,150.6,0,{"$f":"IF(ISNA(VLOOKUP($DC10,'Audit Values'!$A$2:$AE$252,2,FALSE)),'Preliminary SO66'!D7,VLOOKUP($DC10,'Audit Values'!$A$2:$AE$252,4,FALSE))","v":123.5},{"$f":"ROUND((X10/6)*Weightings!$M$6,1)","v":10.3},{"$f":"IF(ISNA(VLOOKUP($DC10,'Audit Values'!$A$2:$AE$252,2,FALSE)),'Preliminary SO66'!F7,VLOOKUP($DC10,'Audit Values'!$A$2:$AE$252,6,FALSE))","v":0},{"$f":"ROUND((Z10/6)*Weightings!$M$7,1)","v":0},{"$f":"IF(ISNA(VLOOKUP($DC10,'Audit Values'!$A$2:$AE$252,2,FALSE)),'Preliminary SO66'!H7,VLOOKUP($DC10,'Audit Values'!$A$2:$AE$252,9,FALSE))","v":114},{"$f":"ROUND(AB10*Weightings!$M$8,1)","v":52},4.7,0,{"$f":"AE10*Weightings!$M$9","v":0},{"$f":"IF(ISNA(VLOOKUP($DC10,'Audit Values'!$A$2:$AE$252,2,FALSE)),'Preliminary SO66'!L7,VLOOKUP($DC10,'Audit Values'!$A$2:$AE$252,12,FALSE))","v":0},{"$f":"ROUND(AG10*Weightings!$M$10,1)","v":0},{"$f":"IF(ISNA(VLOOKUP($DC10,'Audit Values'!$A$2:$AE$252,2,FALSE)),'Preliminary SO66'!O7,VLOOKUP($DC10,'Audit Values'!$A$2:$AE$252,15,FALSE))","v":138},57.2,{"$f":"CG10/Weightings!$M$5","v":0},{"$f":"CH10/Weightings!$M$5","v":0},{"$f":"CL10/Weightings!$M$5","v":0},0,{"$f":"IF(ISNA(VLOOKUP($DC10,'Audit Values'!$A$2:$AE$252,2,FALSE)),'Preliminary SO66'!X7,VLOOKUP($DC10,'Audit Values'!$A$2:$AE$252,24,FALSE))","v":0},354343,{"$f":"AP10/Weightings!$M$5","v":92},553.79999999999995,645.79999999999995,645.79999999999995,0,{"$f":"IF(ISNA(VLOOKUP($DC10,'Audit Values'!$A$2:$AC$299,2,FALSE)),\"\",IF(AND(Weightings!H10>0,VLOOKUP($DC10,'Audit Values'!$A$2:$AC$299,29,FALSE)<Weightings!H10),Weightings!H10,VLOOKUP($DC10,'Audit Values'!$A$2:$AC$299,29,FALSE)))","v":16},{"$f":"IF(ISNA(VLOOKUP($DC10,'Audit Values'!$A$2:$AD$299,2,FALSE)),\"\",VLOOKUP($DC10,'Audit Values'!$A$2:$AD$299,30,FALSE))","v":"A"},{"$f":"IF(Weightings!G10=\"\",\"\",IF(Weightings!I10=\"Pending\",\"PX\",\"R\"))","v":""},{"$f":"AR10*Weightings!$M$5+AU10","v":2133238},{"$f":"AT10*Weightings!$M$5+AU10","v":2487622},{"$f":"IF(Weightings!G10>0,Weightings!G10,'Preliminary SO66'!AB7)","v":2922851},21269,182372,0,2719210,2487622,null,{"$f":"Weightings!E10","v":0},{"$f":"Weightings!F10","v":0},0,2487622,{"$f":"MAX(ROUND(((AR10-AN10-AO10)*Weightings!$M$12)+'2016legmax.xls'!AP10,0),ROUND((('2016legmax.xls'!AR10-'2016legmax.xls'!AN10-'2016legmax.xls'!AO10)*Weightings!$M$12)+Weightings!B10,0))","v":2840905},0.23799999999999999,676135,700000,676135,0.23799999999999999,0,true,1728.2449999999999,0.53985099999999997,150.6,false,0,0,0,0,762,0.18,{"$f":"IF(ROUND((Weightings!$P$5*CC10^Weightings!$P$6*Weightings!$P$8 ),2)<Weightings!$P$7,Weightings!$P$7,ROUND((Weightings!$P$5*CC10^Weightings!$P$6*Weightings!$P$8 ),2))","v":1595.42},{"$f":"ROUND(CD10/Weightings!$M$5,4)","v":0.41420000000000001},57.2,0,0,0,0,{"$f":"AS10*Weightings!$M$5*CJ10","v":0},0,0.40899999999999997,0.4,0,0,4.7,{"$f":"IF(ISNA(VLOOKUP($DC10,'Audit Values'!$A$2:$AE$252,2,FALSE)),'Preliminary SO66'!T7,VLOOKUP($DC10,'Audit Values'!$A$2:$AE$252,20,FALSE))","v":0},{"$f":"IF(ISNA(VLOOKUP($DC10,'Audit Values'!$A$2:$AE$252,21,FALSE)),'Preliminary SO66'!U7,VLOOKUP($DC10,'Audit Values'!$A$2:$AE$252,21,FALSE))","v":0},0,0,null,null,null,null,null,null,null,"D0107"]
[108,"Washington","Washington Co. Schools ",346,0,346,343,0,343,337,{"$f":"IF(ISNA(VLOOKUP($DC11,'Audit Values'!$A$2:$AE$252,2,FALSE)),'Preliminary SO66'!B8,VLOOKUP($DC11,'Audit Values'!$A$2:$AE$252,31,FALSE))","v":337},343,{"$f":"IF(ISNA(VLOOKUP($DC11,'Audit Values'!$A$2:$AE$252,2,FALSE)),'Preliminary SO66'!Z8,VLOOKUP($DC11,'Audit Values'!$A$2:$AE$252,26,FALSE))","v":0},343,{"$f":"IF(ISNA(VLOOKUP($DC11,'Audit Values'!$A$2:$AE$252,2,FALSE)),'Preliminary SO66'!C8,IF(VLOOKUP($DC11,'Audit Values'!$A$2:$AE$252,28,FALSE)=\"\",VLOOKUP($DC11,'Audit Values'!$A$2:$AE$252,3,FALSE),VLOOKUP($DC11,'Audit Values'!$A$2:$AE$252,28,FALSE)))","v":0},337,337,337,343,0,161.1,161.1,0,{"$f":"IF(ISNA(VLOOKUP($DC11,'Audit Values'!$A$2:$AE$252,2,FALSE)),'Preliminary SO66'!D8,VLOOKUP($DC11,'Audit Values'!$A$2:$AE$252,4,FALSE))","v":91.2},{"$f":"ROUND((X11/6)*Weightings!$M$6,1)","v":7.6},{"$f":"IF(ISNA(VLOOKUP($DC11,'Audit Values'!$A$2:$AE$252,2,FALSE)),'Preliminary SO66'!F8,VLOOKUP($DC11,'Audit Values'!$A$2:$AE$252,6,FALSE))","v":0},{"$f":"ROUND((Z11/6)*Weightings!$M$7,1)","v":0},{"$f":"IF(ISNA(VLOOKUP($DC11,'Audit Values'!$A$2:$AE$252,2,FALSE)),'Preliminary SO66'!H8,VLOOKUP($DC11,'Audit Values'!$A$2:$AE$252,9,FALSE))","v":124},{"$f":"ROUND(AB11*Weightings!$M$8,1)","v":56.5},1,0,{"$f":"AE11*Weightings!$M$9","v":0},{"$f":"IF(ISNA(VLOOKUP($DC11,'Audit Values'!$A$2:$AE$252,2,FALSE)),'Preliminary SO66'!L8,VLOOKUP($DC11,'Audit Values'!$A$2:$AE$252,12,FALSE))","v":0},{"$f":"ROUND(AG11*Weightings!$M$10,1)","v":0},{"$f":"IF(ISNA(VLOOKUP($DC11,'Audit Values'!$A$2:$AE$252,2,FALSE)),'Preliminary SO66'!O8,VLOOKUP($DC11,'Audit Values'!$A$2:$AE$252,15,FALSE))","v":152.5},53,{"$f":"CG11/Weightings!$M$5","v":0},{"$f":"CH11/Weightings!$M$5","v":0},{"$f":"CL11/Weightings!$M$5","v":0},0,{"$f":"IF(ISNA(VLOOKUP($DC11,'Audit Values'!$A$2:$AE$252,2,FALSE)),'Preliminary SO66'!X8,VLOOKUP($DC11,'Audit Values'!$A$2:$AE$252,24,FALSE))","v":0},322183,{"$f":"AP11/Weightings!$M$5","v":83.6},622.20000000000005,705.8,705.8,0,{"$f":"IF(ISNA(VLOOKUP($DC11,'Audit Values'!$A$2:$AC$299,2,FALSE)),\"\",IF(AND(Weightings!H11>0,VLOOKUP($DC11,'Audit Values'!$A$2:$AC$299,29,FALSE)<Weightings!H11),Weightings!H11,VLOOKUP($DC11,'Audit Values'!$A$2:$AC$299,29,FALSE)))","v":16},{"$f":"IF(ISNA(VLOOKUP($DC11,'Audit Values'!$A$2:$AD$299,2,FALSE)),\"\",VLOOKUP($DC11,'Audit Values'!$A$2:$AD$299,30,FALSE))","v":"A"},{"$f":"IF(Weightings!G11=\"\",\"\",IF(Weightings!I11=\"Pending\",\"PX\",\"R\"))","v":""},{"$f":"AR11*Weightings!$M$5+AU11","v":2396714},{"$f":"AT11*Weightings!$M$5+AU11","v":2718742},{"$f":"IF(Weightings!G11>0,Weightings!G11,'Preliminary SO66'!AB8)","v":3219173},184639,160355,0,2874179,2718742,null,{"$f":"Weightings!E11","v":0},{"$f":"Weightings!F11","v":0},0,2718742,{"$f":"MAX(ROUND(((AR11-AN11-AO11)*Weightings!$M$12)+'2016legmax.xls'!AP11,0),ROUND((('2016legmax.xls'!AR11-'2016legmax.xls'!AN11-'2016legmax.xls'!AO11)*Weightings!$M$12)+Weightings!B11,0))","v":3342009},0.3,1002603,1006913,1002603,0.3,0,false,0,0,0,true,53.212499999999999,0.46957700000000002,161.1,0,389,0.39,{"$f":"IF(ROUND((Weightings!$P$5*CC11^Weightings!$P$6*Weightings!$P$8 ),2)<Weightings!$P$7,Weightings!$P$7,ROUND((Weightings!$P$5*CC11^Weightings!$P$6*Weightings!$P$8 ),2))","v":1339.42},{"$f":"ROUND(CD11/Weightings!$M$5,4)","v":0.34770000000000001},53,0,0,0,0,{"$f":"AS11*Weightings!$M$5*CJ11","v":0},0,0.36199999999999999,0.9,0,0,1,{"$f":"IF(ISNA(VLOOKUP($DC11,'Audit Values'!$A$2:$AE$252,2,FALSE)),'Preliminary SO66'!T8,VLOOKUP($DC11,'Audit Values'!$A$2:$AE$252,20,FALSE))","v":0},{"$f":"IF(ISNA(VLOOKUP($DC11,'Audit Values'!$A$2:$AE$252,21,FALSE)),'Preliminary SO66'!U8,VLOOKUP($DC11,'Audit Values'!$A$2:$AE$252,21,FALSE))","v":0},0,0,null,null,null,null,null,null,null,"D0108"]
[109,"Republic","Republic County ",460,0,460,466.5,0,466.5,466,{"$f":"IF(ISNA(VLOOKUP($DC12,'Audit Values'!$A$2:$AE$252,2,FALSE)),'Preliminary SO66'!B9,VLOOKUP($DC12,'Audit Values'!$A$2:$AE$252,31,FALSE))","v":466},466.5,{"$f":"IF(ISNA(VLOOKUP($DC12,'Audit Values'!$A$2:$AE$252,2,FALSE)),'Preliminary SO66'!Z9,VLOOKUP($DC12,'Audit Values'!$A$2:$AE$252,26,FALSE))","v":0},466.5,{"$f":"IF(ISNA(VLOOKUP($DC12,'Audit Values'!$A$2:$AE$252,2,FALSE)),'Preliminary SO66'!C9,IF(VLOOKUP($DC12,'Audit Values'!$A$2:$AE$252,28,FALSE)=\"\",VLOOKUP($DC12,'Audit Values'!$A$2:$AE$252,3,FALSE),VLOOKUP($DC12,'Audit Values'!$A$2:$AE$252,28,FALSE)))","v":0},466,466,466,466.5,0,199.5,199.5,0,{"$f":"IF(ISNA(VLOOKUP($DC12,'Audit Values'!$A$2:$AE$252,2,FALSE)),'Preliminary SO66'!D9,VLOOKUP($DC12,'Audit Values'!$A$2:$AE$252,4,FALSE))","v":87},{"$f":"ROUND((X12/6)*Weightings!$M$6,1)","v":7.3},{"$f":"IF(ISNA(VLOOKUP($DC12,'Audit Values'!$A$2:$AE$252,2,FALSE)),'Preliminary SO66'!F9,VLOOKUP($DC12,'Audit Values'!$A$2:$AE$252,6,FALSE))","v":0},{"$f":"ROUND((Z12/6)*Weightings!$M$7,1)","v":0},{"$f":"IF(ISNA(VLOOKUP($DC12,'Audit Values'!$A$2:$AE$252,2,FALSE)),'Preliminary SO66'!H9,VLOOKUP($DC12,'Audit Values'!$A$2:$AE$252,9,FALSE))","v":174},{"$f":"ROUND(AB12*Weightings!$M$8,1)","v":79.3},2.8,0,{"$f":"AE12*Weightings!$M$9","v":0},{"$f":"IF(ISNA(VLOOKUP($DC12,'Audit Values'!$A$2:$AE$252,2,FALSE)),'Preliminary SO66'!L9,VLOOKUP($DC12,'Audit Values'!$A$2:$AE$252,12,FALSE))","v":0},{"$f":"ROUND(AG12*Weightings!$M$10,1)","v":0},{"$f":"IF(ISNA(VLOOKUP($DC12,'Audit Values'!$A$2:$AE$252,2,FALSE)),'Preliminary SO66'!O9,VLOOKUP($DC12,'Audit Values'!$A$2:$AE$252,15,FALSE))","v":170.5},62.9,{"$f":"CG12/Weightings!$M$5","v":0},{"$f":"CH12/Weightings!$M$5","v":0},{"$f":"CL12/Weightings!$M$5","v":0},0,{"$f":"IF(ISNA(VLOOKUP($DC12,'Audit Values'!$A$2:$AE$252,2,FALSE)),'Preliminary SO66'!X9,VLOOKUP($DC12,'Audit Values'!$A$2:$AE$252,24,FALSE))","v":1},414501,{"$f":"AP12/Weightings!$M$5","v":107.6},819.3,926.9,926.9,27,{"$f":"IF(ISNA(VLOOKUP($DC12,'Audit Values'!$A$2:$AC$299,2,FALSE)),\"\",IF(AND(Weightings!H12>0,VLOOKUP($DC12,'Audit Values'!$A$2:$AC$299,29,FALSE)<Weightings!H12),Weightings!H12,VLOOKUP($DC12,'Audit Values'!$A$2:$AC$299,29,FALSE)))","v":16},{"$f":"IF(ISNA(VLOOKUP($DC12,'Audit Values'!$A$2:$AD$299,2,FALSE)),\"\",VLOOKUP($DC12,'Audit Values'!$A$2:$AD$299,30,FALSE))","v":"A"},{"$f":"IF(Weightings!G12=\"\",\"\",IF(Weightings!I12=\"Pending\",\"PX\",\"R\"))","v":""},{"$f":"AR12*Weightings!$M$5+AU12","v":3155971},{"$f":"AT12*Weightings!$M$5+AU12","v":3570446},{"$f":"IF(Weightings!G12>0,Weightings!G12,'Preliminary SO66'!AB9)","v":4200601},239701,227641,0,3733259,3570446,null,{"$f":"Weightings!E12","v":0},{"$f":"Weightings!F12","v":0},0,3570446,{"$f":"MAX(ROUND(((AR12-AN12-AO12)*Weightings!$M$12)+'2016legmax.xls'!AP12,0),ROUND((('2016legmax.xls'!AR12-'2016legmax.xls'!AN12-'2016legmax.xls'!AO12)*Weightings!$M$12)+Weightings!B12,0))","v":4289427},0.3,1286828,1280000,1280000,0.2984,0,false,0,0,0,true,206.0438,0.427618,199.5,0,560,0.3,{"$f":"IF(ROUND((Weightings!$P$5*CC12^Weightings!$P$6*Weightings!$P$8 ),2)<Weightings!$P$7,Weightings!$P$7,ROUND((Weightings!$P$5*CC12^Weightings!$P$6*Weightings!$P$8 ),2))","v":1421.32},{"$f":"ROUND(CD12/Weightings!$M$5,4)","v":0.36899999999999999},62.9,0,0,0,0,{"$f":"AS12*Weightings!$M$5*CJ12","v":0},0,0.373,0.8,0,0,2.8,{"$f":"IF(ISNA(VLOOKUP($DC12,'Audit Values'!$A$2:$AE$252,2,FALSE)),'Preliminary SO66'!T9,VLOOKUP($DC12,'Audit Values'!$A$2:$AE$252,20,FALSE))","v":0},{"$f":"IF(ISNA(VLOOKUP($DC12,'Audit Values'!$A$2:$AE$252,21,FALSE)),'Preliminary SO66'!U9,VLOOKUP($DC12,'Audit Values'!$A$2:$AE$252,21,FALSE))","v":0},0,0,null,null,null,null,null,null,null,"D0109"]
[110,"Phillips","Thunder Ridge Schools ",226,0,226,217,0,217,214,{"$f":"IF(ISNA(VLOOKUP($DC13,'Audit Values'!$A$2:$AE$252,2,FALSE)),'Preliminary SO66'!B10,VLOOKUP($DC13,'Audit Values'!$A$2:$AE$252,31,FALSE))","v":214},219,{"$f":"IF(ISNA(VLOOKUP($DC13,'Audit Values'!$A$2:$AE$252,2,FALSE)),'Preliminary SO66'!Z10,VLOOKUP($DC13,'Audit Values'!$A$2:$AE$252,26,FALSE))","v":0},219,{"$f":"IF(ISNA(VLOOKUP($DC13,'Audit Values'!$A$2:$AE$252,2,FALSE)),'Preliminary SO66'!C10,IF(VLOOKUP($DC13,'Audit Values'!$A$2:$AE$252,28,FALSE)=\"\",VLOOKUP($DC13,'Audit Values'!$A$2:$AE$252,3,FALSE),VLOOKUP($DC13,'Audit Values'!$A$2:$AE$252,28,FALSE)))","v":1.5},215.5,215.5,215.5,220.5,0,153.19999999999999,153.19999999999999,0,{"$f":"IF(ISNA(VLOOKUP($DC13,'Audit Values'!$A$2:$AE$252,2,FALSE)),'Preliminary SO66'!D10,VLOOKUP($DC13,'Audit Values'!$A$2:$AE$252,4,FALSE))","v":43.3},{"$f":"ROUND((X13/6)*Weightings!$M$6,1)","v":3.6},{"$f":"IF(ISNA(VLOOKUP($DC13,'Audit Values'!$A$2:$AE$252,2,FALSE)),'Preliminary SO66'!F10,VLOOKUP($DC13,'Audit Values'!$A$2:$AE$252,6,FALSE))","v":0},{"$f":"ROUND((Z13/6)*Weightings!$M$7,1)","v":0},{"$f":"IF(ISNA(VLOOKUP($DC13,'Audit Values'!$A$2:$AE$252,2,FALSE)),'Preliminary SO66'!H10,VLOOKUP($DC13,'Audit Values'!$A$2:$AE$252,9,FALSE))","v":101},{"$f":"ROUND(AB13*Weightings!$M$8,1)","v":46.1},7.6,0,{"$f":"AE13*Weightings!$M$9","v":0},{"$f":"IF(ISNA(VLOOKUP($DC13,'Audit Values'!$A$2:$AE$252,2,FALSE)),'Preliminary SO66'!L10,VLOOKUP($DC13,'Audit Values'!$A$2:$AE$252,12,FALSE))","v":0},{"$f":"ROUND(AG13*Weightings!$M$10,1)","v":0},{"$f":"IF(ISNA(VLOOKUP($DC13,'Audit Values'!$A$2:$AE$252,2,FALSE)),'Preliminary SO66'!O10,VLOOKUP($DC13,'Audit Values'!$A$2:$AE$252,15,FALSE))","v":140},52.1,{"$f":"CG13/Weightings!$M$5","v":0},{"$f":"CH13/Weightings!$M$5","v":0},{"$f":"CL13/Weightings!$M$5","v":0},0,{"$f":"IF(ISNA(VLOOKUP($DC13,'Audit Values'!$A$2:$AE$252,2,FALSE)),'Preliminary SO66'!X10,VLOOKUP($DC13,'Audit Values'!$A$2:$AE$252,24,FALSE))","v":0},273140,{"$f":"AP13/Weightings!$M$5","v":70.900000000000006},483.1,554,554,0,{"$f":"IF(ISNA(VLOOKUP($DC13,'Audit Values'!$A$2:$AC$299,2,FALSE)),\"\",IF(AND(Weightings!H13>0,VLOOKUP($DC13,'Audit Values'!$A$2:$AC$299,29,FALSE)<Weightings!H13),Weightings!H13,VLOOKUP($DC13,'Audit Values'!$A$2:$AC$299,29,FALSE)))","v":8},{"$f":"IF(ISNA(VLOOKUP($DC13,'Audit Values'!$A$2:$AD$299,2,FALSE)),\"\",VLOOKUP($DC13,'Audit Values'!$A$2:$AD$299,30,FALSE))","v":"A"},{"$f":"IF(Weightings!G13=\"\",\"\",IF(Weightings!I13=\"Pending\",\"PX\",\"R\"))","v":""},{"$f":"AR13*Weightings!$M$5+AU13","v":1860901},{"$f":"AT13*Weightings!$M$5+AU13","v":2134008},{"$f":"IF(Weightings!G13>0,Weightings!G13,'Preliminary SO66'!AB10)","v":2620524},256507,116222,9677,2238118,2134008,null,{"$f":"Weightings!E13","v":0},{"$f":"Weightings!F13","v":0},0,2134008,{"$f":"MAX(ROUND(((AR13-AN13-AO13)*Weightings!$M$12)+'2016legmax.xls'!AP13,0),ROUND((('2016legmax.xls'!AR13-'2016legmax.xls'!AN13-'2016legmax.xls'!AO13)*Weightings!$M$12)+Weightings!B13,0))","v":2503050},0.3,750915,767887,{"$f":"MIN(BN13,BO13)","v":750915},0.3,0,true,1163.4280000000001,0.69491899999999995,153.19999999999999,false,0,0,0,0,491,0.28999999999999998,{"$f":"IF(ROUND((Weightings!$P$5*CC13^Weightings!$P$6*Weightings!$P$8 ),2)<Weightings!$P$7,Weightings!$P$7,ROUND((Weightings!$P$5*CC13^Weightings!$P$6*Weightings!$P$8 ),2))","v":1432.26},{"$f":"ROUND(CD13/Weightings!$M$5,4)","v":0.37180000000000002},52.1,0,0,0,0,{"$f":"AS13*Weightings!$M$5*CJ13","v":0},{"$f":"IF(CI13>CK13,CK13,CI13)","v":0},0.45800000000000002,0.4,0,0,7.6,{"$f":"IF(ISNA(VLOOKUP($DC13,'Audit Values'!$A$2:$AE$252,2,FALSE)),'Preliminary SO66'!T10,VLOOKUP($DC13,'Audit Values'!$A$2:$AE$252,20,FALSE))","v":0},{"$f":"IF(ISNA(VLOOKUP($DC13,'Audit Values'!$A$2:$AE$252,21,FALSE)),'Preliminary SO66'!U10,VLOOKUP($DC13,'Audit Values'!$A$2:$AE$252,21,FALSE))","v":0},0,0,null,null,null,null,null,null,null,"D0110"]
[111,"Doniphan","Doniphan West Schools ",318,0,318,313,0,313,309,{"$f":"IF(ISNA(VLOOKUP($DC14,'Audit Values'!$A$2:$AE$252,2,FALSE)),'Preliminary SO66'!B11,VLOOKUP($DC14,'Audit Values'!$A$2:$AE$252,31,FALSE))","v":309},313.3,{"$f":"IF(ISNA(VLOOKUP($DC14,'Audit Values'!$A$2:$AE$252,2,FALSE)),'Preliminary SO66'!Z11,VLOOKUP($DC14,'Audit Values'!$A$2:$AE$252,26,FALSE))","v":0},313.3,{"$f":"IF(ISNA(VLOOKUP($DC14,'Audit Values'!$A$2:$AE$252,2,FALSE)),'Preliminary SO66'!C11,IF(VLOOKUP($DC14,'Audit Values'!$A$2:$AE$252,28,FALSE)=\"\",VLOOKUP($DC14,'Audit Values'!$A$2:$AE$252,3,FALSE),VLOOKUP($DC14,'Audit Values'!$A$2:$AE$252,28,FALSE)))","v":6},315,315,315,319.3,0,152.5,{"$f":"MAX(BR14,BV14,BZ14)","v":152.5},{"$f":"CA14","v":0},{"$f":"IF(ISNA(VLOOKUP($DC14,'Audit Values'!$A$2:$AE$252,2,FALSE)),'Preliminary SO66'!D11,VLOOKUP($DC14,'Audit Values'!$A$2:$AE$252,4,FALSE))","v":86.9},{"$f":"ROUND((X14/6)*Weightings!$M$6,1)","v":7.2},{"$f":"IF(ISNA(VLOOKUP($DC14,'Audit Values'!$A$2:$AE$252,2,FALSE)),'Preliminary SO66'!F11,VLOOKUP($DC14,'Audit Values'!$A$2:$AE$252,6,FALSE))","v":0},{"$f":"ROUND((Z14/6)*Weightings!$M$7,1)","v":0},{"$f":"IF(ISNA(VLOOKUP($DC14,'Audit Values'!$A$2:$AE$252,2,FALSE)),'Preliminary SO66'!H11,VLOOKUP($DC14,'Audit Values'!$A$2:$AE$252,9,FALSE))","v":131},{"$f":"ROUND(AB14*Weightings!$M$8,1)","v":59.7},5.5,0,{"$f":"AE14*Weightings!$M$9","v":0},{"$f":"IF(ISNA(VLOOKUP($DC14,'Audit Values'!$A$2:$AE$252,2,FALSE)),'Preliminary SO66'!L11,VLOOKUP($DC14,'Audit Values'!$A$2:$AE$252,12,FALSE))","v":0},{"$f":"ROUND(AG14*Weightings!$M$10,1)","v":0},{"$f":"IF(ISNA(VLOOKUP($DC14,'Audit Values'!$A$2:$AE$252,2,FALSE)),'Preliminary SO66'!O11,VLOOKUP($DC14,'Audit Values'!$A$2:$AE$252,15,FALSE))","v":263.5},71.8,{"$f":"CG14/Weightings!$M$5","v":0},{"$f":"CH14/Weightings!$M$5","v":0},{"$f":"CL14/Weightings!$M$5","v":0},0,{"$f":"IF(ISNA(VLOOKUP($DC14,'Audit Values'!$A$2:$AE$252,2,FALSE)),'Preliminary SO66'!X11,VLOOKUP($DC14,'Audit Values'!$A$2:$AE$252,24,FALSE))","v":0},293114,{"$f":"AP14/Weightings!$M$5","v":76.099999999999994},616,692.1,692.1,0,{"$f":"IF(ISNA(VLOOKUP($DC14,'Audit Values'!$A$2:$AC$299,2,FALSE)),\"\",IF(AND(Weightings!H14>0,VLOOKUP($DC14,'Audit Values'!$A$2:$AC$299,29,FALSE)<Weightings!H14),Weightings!H14,VLOOKUP($DC14,'Audit Values'!$A$2:$AC$299,29,FALSE)))","v":12},{"$f":"IF(ISNA(VLOOKUP($DC14,'Audit Values'!$A$2:$AD$299,2,FALSE)),\"\",VLOOKUP($DC14,'Audit Values'!$A$2:$AD$299,30,FALSE))","v":"A"},{"$f":"IF(Weightings!G14=\"\",\"\",IF(Weightings!I14=\"Pending\",\"PX\",\"R\"))","v":""},{"$f":"AR14*Weightings!$M$5+AU14","v":2372832},{"$f":"AT14*Weightings!$M$5+AU14","v":2665969},{"$f":"IF(Weightings!G14>0,Weightings!G14,'Preliminary SO66'!AB11)","v":3085147},0,207237,0,2877910,2665969,null,{"$f":"Weightings!E14","v":0},{"$f":"Weightings!F14","v":0},0,2665969,{"$f":"MAX(ROUND(((AR14-AN14-AO14)*Weightings!$M$12)+'2016legmax.xls'!AP14,0),ROUND((('2016legmax.xls'!AR14-'2016legmax.xls'!AN14-'2016legmax.xls'!AO14)*Weightings!$M$12)+Weightings!B14,0))","v":3321061},0.3,996318,1005747,996318,0.3,0,false,0,{"$f":"IF(BS14=TRUE,ROUND(((7337-BT14)/3642.4)-1,6),0)","v":0},0,true,23.883800000000001,{"$f":"IF(BW14=TRUE,ROUND(((5406-BX14)/3642.4)-1,6),0)","v":0.47762900000000003},152.5,0,229,1.1499999999999999,{"$f":"IF(ROUND((Weightings!$P$5*CC14^Weightings!$P$6*Weightings!$P$8 ),2)<Weightings!$P$7,Weightings!$P$7,ROUND((Weightings!$P$5*CC14^Weightings!$P$6*Weightings!$P$8 ),2))","v":1048.78},{"$f":"ROUND(CD14/Weightings!$M$5,4)","v":0.27229999999999999},71.8,0,0,0,0,{"$f":"AS14*Weightings!$M$5*CJ14","v":0},0,0.41,1.4,0,0,5.5,{"$f":"IF(ISNA(VLOOKUP($DC14,'Audit Values'!$A$2:$AE$252,2,FALSE)),'Preliminary SO66'!T11,VLOOKUP($DC14,'Audit Values'!$A$2:$AE$252,20,FALSE))","v":0},{"$f":"IF(ISNA(VLOOKUP($DC14,'Audit Values'!$A$2:$AE$252,21,FALSE)),'Preliminary SO66'!U11,VLOOKUP($DC14,'Audit Values'!$A$2:$AE$252,21,FALSE))","v":0},0,0,null,null,null,null,null,null,null,"D0111"]
[112,"Ellsworth","Central Plains ",450.9,0,450.9,430,0,430,498,{"$f":"IF(ISNA(VLOOKUP($DC15,'Audit Values'!$A$2:$AE$252,2,FALSE)),'Preliminary SO66'!B12,VLOOKUP($DC15,'Audit Values'!$A$2:$AE$252,31,FALSE))","v":443.5},443.5,{"$f":"IF(ISNA(VLOOKUP($DC15,'Audit Values'!$A$2:$AE$252,2,FALSE)),'Preliminary SO66'!Z12,VLOOKUP($DC15,'Audit Values'!$A$2:$AE$252,26,FALSE))","v":0},443.5,{"$f":"IF(ISNA(VLOOKUP($DC15,'Audit Values'!$A$2:$AE$252,2,FALSE)),'Preliminary SO66'!C12,IF(VLOOKUP($DC15,'Audit Values'!$A$2:$AE$252,28,FALSE)=\"\",VLOOKUP($DC15,'Audit Values'!$A$2:$AE$252,3,FALSE),VLOOKUP($DC15,'Audit Values'!$A$2:$AE$252,28,FALSE)))","v":3},446.5,501,501,446.5,54.5,194,{"$f":"MAX(BR15,BV15,BZ15)","v":194},{"$f":"CA15","v":0},{"$f":"IF(ISNA(VLOOKUP($DC15,'Audit Values'!$A$2:$AE$252,2,FALSE)),'Preliminary SO66'!D12,VLOOKUP($DC15,'Audit Values'!$A$2:$AE$252,4,FALSE))","v":125.1},{"$f":"ROUND((X15/6)*Weightings!$M$6,1)","v":10.4},{"$f":"IF(ISNA(VLOOKUP($DC15,'Audit Values'!$A$2:$AE$252,2,FALSE)),'Preliminary SO66'!F12,VLOOKUP($DC15,'Audit Values'!$A$2:$AE$252,6,FALSE))","v":0},{"$f":"ROUND((Z15/6)*Weightings!$M$7,1)","v":0},{"$f":"IF(ISNA(VLOOKUP($DC15,'Audit Values'!$A$2:$AE$252,2,FALSE)),'Preliminary SO66'!H12,VLOOKUP($DC15,'Audit Values'!$A$2:$AE$252,9,FALSE))","v":160},{"$f":"ROUND(AB15*Weightings!$M$8,1)","v":73},{"$f":"MAX(CO15,CP15,CQ15)","v":0.9},0,{"$f":"AE15*Weightings!$M$9","v":0},{"$f":"IF(ISNA(VLOOKUP($DC15,'Audit Values'!$A$2:$AE$252,2,FALSE)),'Preliminary SO66'!L12,VLOOKUP($DC15,'Audit Values'!$A$2:$AE$252,12,FALSE))","v":0},{"$f":"ROUND(AG15*Weightings!$M$10,1)","v":0},{"$f":"IF(ISNA(VLOOKUP($DC15,'Audit Values'!$A$2:$AE$252,2,FALSE)),'Preliminary SO66'!O12,VLOOKUP($DC15,'Audit Values'!$A$2:$AE$252,15,FALSE))","v":244},83.4,{"$f":"CG15/Weightings!$M$5","v":0},{"$f":"CH15/Weightings!$M$5","v":0},{"$f":"CL15/Weightings!$M$5","v":0},57.2,{"$f":"IF(ISNA(VLOOKUP($DC15,'Audit Values'!$A$2:$AE$252,2,FALSE)),'Preliminary SO66'!X12,VLOOKUP($DC15,'Audit Values'!$A$2:$AE$252,24,FALSE))","v":0},440677,{"$f":"AP15/Weightings!$M$5","v":114.4},865.4,979.8,979.8,0,{"$f":"IF(ISNA(VLOOKUP($DC15,'Audit Values'!$A$2:$AC$299,2,FALSE)),\"\",IF(AND(Weightings!H15>0,VLOOKUP($DC15,'Audit Values'!$A$2:$AC$299,29,FALSE)<Weightings!H15),Weightings!H15,VLOOKUP($DC15,'Audit Values'!$A$2:$AC$299,29,FALSE)))","v":15},{"$f":"IF(ISNA(VLOOKUP($DC15,'Audit Values'!$A$2:$AD$299,2,FALSE)),\"\",VLOOKUP($DC15,'Audit Values'!$A$2:$AD$299,30,FALSE))","v":"A"},{"$f":"IF(Weightings!G15=\"\",\"\",IF(Weightings!I15=\"Pending\",\"PX\",\"R\"))","v":""},{"$f":"AR15*Weightings!$M$5+AU15","v":3333521},{"$f":"AT15*Weightings!$M$5+AU15","v":3774190},{"$f":"IF(Weightings!G15>0,Weightings!G15,'Preliminary SO66'!AB12)","v":4346634},0,312981,0,4033653,3774190,null,{"$f":"Weightings!E15","v":0},{"$f":"Weightings!F15","v":0},0,3774190,{"$f":"MAX(ROUND(((AR15-AN15-AO15)*Weightings!$M$12)+'2016legmax.xls'!AP15,0),ROUND((('2016legmax.xls'!AR15-'2016legmax.xls'!AN15-'2016legmax.xls'!AO15)*Weightings!$M$12)+Weightings!B15,0))","v":4314794},0.3,1294438,1304810,1294438,0.3,0,false,0,{"$f":"IF(BS15=TRUE,ROUND(((7337-BT15)/3642.4)-1,6),0)","v":0},0,true,181.2938,{"$f":"IF(BW15=TRUE,ROUND(((5406-BX15)/3642.4)-1,6),0)","v":0.43441299999999999},194,0,582.79999999999995,0.42,{"$f":"IF(ROUND((Weightings!$P$5*CC15^Weightings!$P$6*Weightings!$P$8 ),2)<Weightings!$P$7,Weightings!$P$7,ROUND((Weightings!$P$5*CC15^Weightings!$P$6*Weightings!$P$8 ),2))","v":1317.16},{"$f":"ROUND(CD15/Weightings!$M$5,4)","v":0.34189999999999998},83.4,0,0,0,0,{"$f":"AS15*Weightings!$M$5*CJ15","v":0},0,0.35799999999999998,0.8,0,0,0.9,{"$f":"IF(ISNA(VLOOKUP($DC15,'Audit Values'!$A$2:$AE$252,2,FALSE)),'Preliminary SO66'!T12,VLOOKUP($DC15,'Audit Values'!$A$2:$AE$252,20,FALSE))","v":31},{"$f":"IF(ISNA(VLOOKUP($DC15,'Audit Values'!$A$2:$AE$252,21,FALSE)),'Preliminary SO66'!U12,VLOOKUP($DC15,'Audit Values'!$A$2:$AE$252,21,FALSE))","v":3.5},20,54.5,null,null,null,null,null,null,null,"D0112"]
[113,"Nemaha","Prairie Hills ",1071.7,0,1071.7,1078.9000000000001,0,1078.9000000000001,1099.2,{"$f":"IF(ISNA(VLOOKUP($DC16,'Audit Values'!$A$2:$AE$252,2,FALSE)),'Preliminary SO66'!B13,VLOOKUP($DC16,'Audit Values'!$A$2:$AE$252,31,FALSE))","v":1099.2},1099.2,{"$f":"IF(ISNA(VLOOKUP($DC16,'Audit Values'!$A$2:$AE$252,2,FALSE)),'Preliminary SO66'!Z13,VLOOKUP($DC16,'Audit Values'!$A$2:$AE$252,26,FALSE))","v":0},1099.2,{"$f":"IF(ISNA(VLOOKUP($DC16,'Audit Values'!$A$2:$AE$252,2,FALSE)),'Preliminary SO66'!C13,IF(VLOOKUP($DC16,'Audit Values'!$A$2:$AE$252,28,FALSE)=\"\",VLOOKUP($DC16,'Audit Values'!$A$2:$AE$252,3,FALSE),VLOOKUP($DC16,'Audit Values'!$A$2:$AE$252,28,FALSE)))","v":5.5},1104.7,1104.7,1104.7,1104.7,0,232.9,{"$f":"MAX(BR16,BV16,BZ16)","v":232.9},{"$f":"CA16","v":0},{"$f":"IF(ISNA(VLOOKUP($DC16,'Audit Values'!$A$2:$AE$252,2,FALSE)),'Preliminary SO66'!D13,VLOOKUP($DC16,'Audit Values'!$A$2:$AE$252,4,FALSE))","v":370.5},{"$f":"ROUND((X16/6)*Weightings!$M$6,1)","v":30.9},{"$f":"IF(ISNA(VLOOKUP($DC16,'Audit Values'!$A$2:$AE$252,2,FALSE)),'Preliminary SO66'!F13,VLOOKUP($DC16,'Audit Values'!$A$2:$AE$252,6,FALSE))","v":3},{"$f":"ROUND((Z16/6)*Weightings!$M$7,1)","v":0.2},{"$f":"IF(ISNA(VLOOKUP($DC16,'Audit Values'!$A$2:$AE$252,2,FALSE)),'Preliminary SO66'!H13,VLOOKUP($DC16,'Audit Values'!$A$2:$AE$252,9,FALSE))","v":311},{"$f":"ROUND(AB16*Weightings!$M$8,1)","v":141.80000000000001},{"$f":"MAX(CO16,CP16,CQ16)","v":0},0,{"$f":"AE16*Weightings!$M$9","v":0},{"$f":"IF(ISNA(VLOOKUP($DC16,'Audit Values'!$A$2:$AE$252,2,FALSE)),'Preliminary SO66'!L13,VLOOKUP($DC16,'Audit Values'!$A$2:$AE$252,12,FALSE))","v":0},{"$f":"ROUND(AG16*Weightings!$M$10,1)","v":0},{"$f":"IF(ISNA(VLOOKUP($DC16,'Audit Values'!$A$2:$AE$252,2,FALSE)),'Preliminary SO66'!O13,VLOOKUP($DC16,'Audit Values'!$A$2:$AE$252,15,FALSE))","v":392.5},118.8,{"$f":"CG16/Weightings!$M$5","v":0},{"$f":"CH16/Weightings!$M$5","v":0},{"$f":"CL16/Weightings!$M$5","v":0},0,{"$f":"IF(ISNA(VLOOKUP($DC16,'Audit Values'!$A$2:$AE$252,2,FALSE)),'Preliminary SO66'!X13,VLOOKUP($DC16,'Audit Values'!$A$2:$AE$252,24,FALSE))","v":0},870709,{"$f":"AP16/Weightings!$M$5","v":226},1629.3,1855.3,1855.3,0,{"$f":"IF(ISNA(VLOOKUP($DC16,'Audit Values'!$A$2:$AC$299,2,FALSE)),\"\",IF(AND(Weightings!H16>0,VLOOKUP($DC16,'Audit Values'!$A$2:$AC$299,29,FALSE)<Weightings!H16),Weightings!H16,VLOOKUP($DC16,'Audit Values'!$A$2:$AC$299,29,FALSE)))","v":2},{"$f":"IF(ISNA(VLOOKUP($DC16,'Audit Values'!$A$2:$AD$299,2,FALSE)),\"\",VLOOKUP($DC16,'Audit Values'!$A$2:$AD$299,30,FALSE))","v":"A"},{"$f":"IF(Weightings!G16=\"\",\"\",IF(Weightings!I16=\"Pending\",\"PX\",\"R\"))","v":""},{"$f":"AR16*Weightings!$M$5+AU16","v":6276064},{"$f":"AT16*Weightings!$M$5+AU16","v":7146616},{"$f":"IF(Weightings!G16>0,Weightings!G16,'Preliminary SO66'!AB13)","v":8807800},700410,561085,0,7546305,7146616,null,{"$f":"Weightings!E16","v":0},{"$f":"Weightings!F16","v":0},0,7146616,{"$f":"MAX(ROUND(((AR16-AN16-AO16)*Weightings!$M$12)+'2016legmax.xls'!AP16,0),ROUND((('2016legmax.xls'!AR16-'2016legmax.xls'!AN16-'2016legmax.xls'!AO16)*Weightings!$M$12)+Weightings!B16,0))","v":8416350},0.3,2524905,2488805,2488805,0.29570000000000002,0,false,0,{"$f":"IF(BS16=TRUE,ROUND(((7337-BT16)/3642.4)-1,6),0)","v":0},0,true,995.81629999999996,{"$f":"IF(BW16=TRUE,ROUND(((5406-BX16)/3642.4)-1,6),0)","v":0.21079100000000001},232.9,0,543,0.72,{"$f":"IF(ROUND((Weightings!$P$5*CC16^Weightings!$P$6*Weightings!$P$8 ),2)<Weightings!$P$7,Weightings!$P$7,ROUND((Weightings!$P$5*CC16^Weightings!$P$6*Weightings!$P$8 ),2))","v":1165.97},{"$f":"ROUND(CD16/Weightings!$M$5,4)","v":0.30270000000000002},118.8,0,0,0,0,{"$f":"AS16*Weightings!$M$5*CJ16","v":0},0,0.28199999999999997,2,0,0,0,{"$f":"IF(ISNA(VLOOKUP($DC16,'Audit Values'!$A$2:$AE$252,2,FALSE)),'Preliminary SO66'!T13,VLOOKUP($DC16,'Audit Values'!$A$2:$AE$252,20,FALSE))","v":0},{"$f":"IF(ISNA(VLOOKUP($DC16,'Audit Values'!$A$2:$AE$252,21,FALSE)),'Preliminary SO66'!U13,VLOOKUP($DC16,'Audit Values'!$A$2:$AE$252,21,FALSE))","v":0},0,0,null,null,null,null,null,null,null,"D0113"]
[114,"Doniphan","Riverside ",640.5,0,640.5,635.6,0,635.6,632.6,{"$f":"IF(ISNA(VLOOKUP($DC17,'Audit Values'!$A$2:$AE$252,2,FALSE)),'Preliminary SO66'!B14,VLOOKUP($DC17,'Audit Values'!$A$2:$AE$252,31,FALSE))","v":594.79999999999995},635.6,{"$f":"IF(ISNA(VLOOKUP($DC17,'Audit Values'!$A$2:$AE$252,2,FALSE)),'Preliminary SO66'!Z14,VLOOKUP($DC17,'Audit Values'!$A$2:$AE$252,26,FALSE))","v":0},635.6,{"$f":"IF(ISNA(VLOOKUP($DC17,'Audit Values'!$A$2:$AE$252,2,FALSE)),'Preliminary SO66'!C14,IF(VLOOKUP($DC17,'Audit Values'!$A$2:$AE$252,28,FALSE)=\"\",VLOOKUP($DC17,'Audit Values'!$A$2:$AE$252,3,FALSE),VLOOKUP($DC17,'Audit Values'!$A$2:$AE$252,28,FALSE)))","v":10.5},605.29999999999995,643.1,643.1,646.1,37.799999999999997,236.9,{"$f":"MAX(BR17,BV17,BZ17)","v":236.9},{"$f":"CA17","v":0},{"$f":"IF(ISNA(VLOOKUP($DC17,'Audit Values'!$A$2:$AE$252,2,FALSE)),'Preliminary SO66'!D14,VLOOKUP($DC17,'Audit Values'!$A$2:$AE$252,4,FALSE))","v":207.5},{"$f":"ROUND((X17/6)*Weightings!$M$6,1)","v":17.3},{"$f":"IF(ISNA(VLOOKUP($DC17,'Audit Values'!$A$2:$AE$252,2,FALSE)),'Preliminary SO66'!F14,VLOOKUP($DC17,'Audit Values'!$A$2:$AE$252,6,FALSE))","v":0},{"$f":"ROUND((Z17/6)*Weightings!$M$7,1)","v":0},{"$f":"IF(ISNA(VLOOKUP($DC17,'Audit Values'!$A$2:$AE$252,2,FALSE)),'Preliminary SO66'!H14,VLOOKUP($DC17,'Audit Values'!$A$2:$AE$252,9,FALSE))","v":328},{"$f":"ROUND(AB17*Weightings!$M$8,1)","v":149.6},{"$f":"MAX(CO17,CP17,CQ17)","v":34.4},0,{"$f":"AE17*Weightings!$M$9","v":0},{"$f":"IF(ISNA(VLOOKUP($DC17,'Audit Values'!$A$2:$AE$252,2,FALSE)),'Preliminary SO66'!L14,VLOOKUP($DC17,'Audit Values'!$A$2:$AE$252,12,FALSE))","v":0},{"$f":"ROUND(AG17*Weightings!$M$10,1)","v":0},{"$f":"IF(ISNA(VLOOKUP($DC17,'Audit Values'!$A$2:$AE$252,2,FALSE)),'Preliminary SO66'!O14,VLOOKUP($DC17,'Audit Values'!$A$2:$AE$252,15,FALSE))","v":278.5},60.3,{"$f":"CG17/Weightings!$M$5","v":0},{"$f":"CH17/Weightings!$M$5","v":0},{"$f":"CL17/Weightings!$M$5","v":0},39.700000000000003,{"$f":"IF(ISNA(VLOOKUP($DC17,'Audit Values'!$A$2:$AE$252,2,FALSE)),'Preliminary SO66'!X14,VLOOKUP($DC17,'Audit Values'!$A$2:$AE$252,24,FALSE))","v":0},587704,{"$f":"AP17/Weightings!$M$5","v":152.6},1184.3,1336.9,1336.9,0,{"$f":"IF(ISNA(VLOOKUP($DC17,'Audit Values'!$A$2:$AC$299,2,FALSE)),\"\",IF(AND(Weightings!H17>0,VLOOKUP($DC17,'Audit Values'!$A$2:$AC$299,29,FALSE)<Weightings!H17),Weightings!H17,VLOOKUP($DC17,'Audit Values'!$A$2:$AC$299,29,FALSE)))","v":13},{"$f":"IF(ISNA(VLOOKUP($DC17,'Audit Values'!$A$2:$AD$299,2,FALSE)),\"\",VLOOKUP($DC17,'Audit Values'!$A$2:$AD$299,30,FALSE))","v":"A"},{"$f":"IF(Weightings!G17=\"\",\"\",IF(Weightings!I17=\"Pending\",\"PX\",\"R\"))","v":""},{"$f":"AR17*Weightings!$M$5+AU17","v":4561924},{"$f":"AT17*Weightings!$M$5+AU17","v":5149739},{"$f":"IF(Weightings!G17>0,Weightings!G17,'Preliminary SO66'!AB14)","v":6683697},784251,329095,0,5570351,5149739,null,{"$f":"Weightings!E17","v":0},{"$f":"Weightings!F17","v":0},0,5149739,{"$f":"MAX(ROUND(((AR17-AN17-AO17)*Weightings!$M$12)+'2016legmax.xls'!AP17,0),ROUND((('2016legmax.xls'!AR17-'2016legmax.xls'!AN17-'2016legmax.xls'!AO17)*Weightings!$M$12)+Weightings!B17,0))","v":5770809},0.3,1731243,1747132,1731243,0.3,0,false,0,{"$f":"IF(BS17=TRUE,ROUND(((7337-BT17)/3642.4)-1,6),0)","v":0},0,true,428.29880000000003,{"$f":"IF(BW17=TRUE,ROUND(((5406-BX17)/3642.4)-1,6),0)","v":0.36659900000000001},236.9,0,88,3.16,{"$f":"IF(ROUND((Weightings!$P$5*CC17^Weightings!$P$6*Weightings!$P$8 ),2)<Weightings!$P$7,Weightings!$P$7,ROUND((Weightings!$P$5*CC17^Weightings!$P$6*Weightings!$P$8 ),2))","v":834.41},{"$f":"ROUND(CD17/Weightings!$M$5,4)","v":0.21659999999999999},60.3,0,0,0,0,{"$f":"AS17*Weightings!$M$5*CJ17","v":0},0,0.50800000000000001,7.3,34.4,0,0,{"$f":"IF(ISNA(VLOOKUP($DC17,'Audit Values'!$A$2:$AE$252,2,FALSE)),'Preliminary SO66'!T14,VLOOKUP($DC17,'Audit Values'!$A$2:$AE$252,20,FALSE))","v":18},{"$f":"IF(ISNA(VLOOKUP($DC17,'Audit Values'!$A$2:$AE$252,21,FALSE)),'Preliminary SO66'!U14,VLOOKUP($DC17,'Audit Values'!$A$2:$AE$252,21,FALSE))","v":2.8},17,37.799999999999997,null,null,null,null,null,null,null,"D0114"]
[115,"Nemaha","Nemaha Central ",548,0,548,537.9,0,537.9,565.29999999999995,{"$f":"IF(ISNA(VLOOKUP($DC18,'Audit Values'!$A$2:$AE$252,2,FALSE)),'Preliminary SO66'!B15,VLOOKUP($DC18,'Audit Values'!$A$2:$AE$252,31,FALSE))","v":565.29999999999995},565.29999999999995,{"$f":"IF(ISNA(VLOOKUP($DC18,'Audit Values'!$A$2:$AE$252,2,FALSE)),'Preliminary SO66'!Z15,VLOOKUP($DC18,'Audit Values'!$A$2:$AE$252,26,FALSE))","v":0},565.29999999999995,{"$f":"IF(ISNA(VLOOKUP($DC18,'Audit Values'!$A$2:$AE$252,2,FALSE)),'Preliminary SO66'!C15,IF(VLOOKUP($DC18,'Audit Values'!$A$2:$AE$252,28,FALSE)=\"\",VLOOKUP($DC18,'Audit Values'!$A$2:$AE$252,3,FALSE),VLOOKUP($DC18,'Audit Values'!$A$2:$AE$252,28,FALSE)))","v":9},574.29999999999995,574.29999999999995,574.29999999999995,574.29999999999995,0,224.5,{"$f":"MAX(BR18,BV18,BZ18)","v":224.5},{"$f":"CA18","v":0},{"$f":"IF(ISNA(VLOOKUP($DC18,'Audit Values'!$A$2:$AE$252,2,FALSE)),'Preliminary SO66'!D15,VLOOKUP($DC18,'Audit Values'!$A$2:$AE$252,4,FALSE))","v":332.3},{"$f":"ROUND((X18/6)*Weightings!$M$6,1)","v":27.7},{"$f":"IF(ISNA(VLOOKUP($DC18,'Audit Values'!$A$2:$AE$252,2,FALSE)),'Preliminary SO66'!F15,VLOOKUP($DC18,'Audit Values'!$A$2:$AE$252,6,FALSE))","v":0},{"$f":"ROUND((Z18/6)*Weightings!$M$7,1)","v":0},{"$f":"IF(ISNA(VLOOKUP($DC18,'Audit Values'!$A$2:$AE$252,2,FALSE)),'Preliminary SO66'!H15,VLOOKUP($DC18,'Audit Values'!$A$2:$AE$252,9,FALSE))","v":104},{"$f":"ROUND(AB18*Weightings!$M$8,1)","v":47.4},{"$f":"MAX(CO18,CP18,CQ18)","v":0},0,{"$f":"AE18*Weightings!$M$9","v":0},{"$f":"IF(ISNA(VLOOKUP($DC18,'Audit Values'!$A$2:$AE$252,2,FALSE)),'Preliminary SO66'!L15,VLOOKUP($DC18,'Audit Values'!$A$2:$AE$252,12,FALSE))","v":0},{"$f":"ROUND(AG18*Weightings!$M$10,1)","v":0},{"$f":"IF(ISNA(VLOOKUP($DC18,'Audit Values'!$A$2:$AE$252,2,FALSE)),'Preliminary SO66'!O15,VLOOKUP($DC18,'Audit Values'!$A$2:$AE$252,15,FALSE))","v":262.5},71.099999999999994,{"$f":"CG18/Weightings!$M$5","v":0},{"$f":"CH18/Weightings!$M$5","v":0},{"$f":"CL18/Weightings!$M$5","v":0},0,{"$f":"IF(ISNA(VLOOKUP($DC18,'Audit Values'!$A$2:$AE$252,2,FALSE)),'Preliminary SO66'!X15,VLOOKUP($DC18,'Audit Values'!$A$2:$AE$252,24,FALSE))","v":0},420346,{"$f":"AP18/Weightings!$M$5","v":109.1},945,1054.0999999999999,1054.0999999999999,35000,{"$f":"IF(ISNA(VLOOKUP($DC18,'Audit Values'!$A$2:$AC$299,2,FALSE)),\"\",IF(AND(Weightings!H18>0,VLOOKUP($DC18,'Audit Values'!$A$2:$AC$299,29,FALSE)<Weightings!H18),Weightings!H18,VLOOKUP($DC18,'Audit Values'!$A$2:$AC$299,29,FALSE)))","v":14},{"$f":"IF(ISNA(VLOOKUP($DC18,'Audit Values'!$A$2:$AD$299,2,FALSE)),\"\",VLOOKUP($DC18,'Audit Values'!$A$2:$AD$299,30,FALSE))","v":"A"},{"$f":"IF(Weightings!G18=\"\",\"\",IF(Weightings!I18=\"Pending\",\"PX\",\"R\"))","v":""},{"$f":"AR18*Weightings!$M$5+AU18","v":3675140},{"$f":"AT18*Weightings!$M$5+AU18","v":4095393},{"$f":"IF(Weightings!G18>0,Weightings!G18,'Preliminary SO66'!AB15)","v":4724260},15480,376911,0,4331869,4095393,null,{"$f":"Weightings!E18","v":0},{"$f":"Weightings!F18","v":0},0,4095393,{"$f":"MAX(ROUND(((AR18-AN18-AO18)*Weightings!$M$12)+'2016legmax.xls'!AP18,0),ROUND((('2016legmax.xls'!AR18-'2016legmax.xls'!AN18-'2016legmax.xls'!AO18)*Weightings!$M$12)+Weightings!B18,0))","v":4820283},0.3,1446085,1115000,1115000,{"$f":"BP18/BL18","v":0.23130000000000001},0,false,0,{"$f":"IF(BS18=TRUE,ROUND(((7337-BT18)/3642.4)-1,6),0)","v":0},0,true,339.44630000000001,{"$f":"IF(BW18=TRUE,ROUND(((5406-BX18)/3642.4)-1,6),0)","v":0.39099299999999998},224.5,0,222,1.18,{"$f":"IF(ROUND((Weightings!$P$5*CC18^Weightings!$P$6*Weightings!$P$8 ),2)<Weightings!$P$7,Weightings!$P$7,ROUND((Weightings!$P$5*CC18^Weightings!$P$6*Weightings!$P$8 ),2))","v":1042.69},{"$f":"ROUND(CD18/Weightings!$M$5,4)","v":0.2707},71.099999999999994,0,0,0,0,{"$f":"AS18*Weightings!$M$5*CJ18","v":0},0,0.18099999999999999,2.6,0,0,0,{"$f":"IF(ISNA(VLOOKUP($DC18,'Audit Values'!$A$2:$AE$252,2,FALSE)),'Preliminary SO66'!T15,VLOOKUP($DC18,'Audit Values'!$A$2:$AE$252,20,FALSE))","v":0},{"$f":"IF(ISNA(VLOOKUP($DC18,'Audit Values'!$A$2:$AE$252,21,FALSE)),'Preliminary SO66'!U15,VLOOKUP($DC18,'Audit Values'!$A$2:$AE$252,21,FALSE))","v":0},0,0,null,null,null,null,null,null,null,"D0115"]
[200,"Greeley","Greeley County Schools ",205.3,0,{"$f":"D19+E19","v":205.3},241.4,0,241.4,241.5,{"$f":"IF(ISNA(VLOOKUP($DC19,'Audit Values'!$A$2:$AE$252,2,FALSE)),'Preliminary SO66'!B16,VLOOKUP($DC19,'Audit Values'!$A$2:$AE$252,31,FALSE))","v":241.5},241.5,{"$f":"IF(ISNA(VLOOKUP($DC19,'Audit Values'!$A$2:$AE$252,2,FALSE)),'Preliminary SO66'!Z16,VLOOKUP($DC19,'Audit Values'!$A$2:$AE$252,26,FALSE))","v":0},241.5,{"$f":"IF(ISNA(VLOOKUP($DC19,'Audit Values'!$A$2:$AE$252,2,FALSE)),'Preliminary SO66'!C16,IF(VLOOKUP($DC19,'Audit Values'!$A$2:$AE$252,28,FALSE)=\"\",VLOOKUP($DC19,'Audit Values'!$A$2:$AE$252,3,FALSE),VLOOKUP($DC19,'Audit Values'!$A$2:$AE$252,28,FALSE)))","v":3.5},245,245,245,245,0,154.30000000000001,154.30000000000001,0,{"$f":"IF(ISNA(VLOOKUP($DC19,'Audit Values'!$A$2:$AE$252,2,FALSE)),'Preliminary SO66'!D16,VLOOKUP($DC19,'Audit Values'!$A$2:$AE$252,4,FALSE))","v":50.5},{"$f":"ROUND((X19/6)*Weightings!$M$6,1)","v":4.2},{"$f":"IF(ISNA(VLOOKUP($DC19,'Audit Values'!$A$2:$AE$252,2,FALSE)),'Preliminary SO66'!F16,VLOOKUP($DC19,'Audit Values'!$A$2:$AE$252,6,FALSE))","v":210.9},{"$f":"ROUND((Z19/6)*Weightings!$M$7,1)","v":13.9},{"$f":"IF(ISNA(VLOOKUP($DC19,'Audit Values'!$A$2:$AE$252,2,FALSE)),'Preliminary SO66'!H16,VLOOKUP($DC19,'Audit Values'!$A$2:$AE$252,9,FALSE))","v":110},{"$f":"ROUND(AB19*Weightings!$M$8,1)","v":50.2},7.6,0,{"$f":"AE19*Weightings!$M$9","v":0},{"$f":"IF(ISNA(VLOOKUP($DC19,'Audit Values'!$A$2:$AE$252,2,FALSE)),'Preliminary SO66'!L16,VLOOKUP($DC19,'Audit Values'!$A$2:$AE$252,12,FALSE))","v":0},{"$f":"ROUND(AG19*Weightings!$M$10,1)","v":0},{"$f":"IF(ISNA(VLOOKUP($DC19,'Audit Values'!$A$2:$AE$252,2,FALSE)),'Preliminary SO66'!O16,VLOOKUP($DC19,'Audit Values'!$A$2:$AE$252,15,FALSE))","v":66},32.799999999999997,{"$f":"CG19/Weightings!$M$5","v":0},{"$f":"CH19/Weightings!$M$5","v":0},{"$f":"CL19/Weightings!$M$5","v":0},0,{"$f":"IF(ISNA(VLOOKUP($DC19,'Audit Values'!$A$2:$AE$252,2,FALSE)),'Preliminary SO66'!X16,VLOOKUP($DC19,'Audit Values'!$A$2:$AE$252,24,FALSE))","v":0},140142,{"$f":"AP19/Weightings!$M$5","v":36.4},508,544.4,544.4,0,{"$f":"IF(ISNA(VLOOKUP($DC19,'Audit Values'!$A$2:$AC$299,2,FALSE)),\"\",IF(AND(Weightings!H19>0,VLOOKUP($DC19,'Audit Values'!$A$2:$AC$299,29,FALSE)<Weightings!H19),Weightings!H19,VLOOKUP($DC19,'Audit Values'!$A$2:$AC$299,29,FALSE)))","v":9},{"$f":"IF(ISNA(VLOOKUP($DC19,'Audit Values'!$A$2:$AD$299,2,FALSE)),\"\",VLOOKUP($DC19,'Audit Values'!$A$2:$AD$299,30,FALSE))","v":"A"},{"$f":"IF(Weightings!G19=\"\",\"\",IF(Weightings!I19=\"Pending\",\"PX\",\"R\"))","v":""},{"$f":"AR19*Weightings!$M$5+AU19","v":1956816},{"$f":"AT19*Weightings!$M$5+AU19","v":2097029},{"$f":"IF(Weightings!G19>0,Weightings!G19,'Preliminary SO66'!AB16)","v":2273470},0,150492,0,2122978,2097029,null,{"$f":"Weightings!E19","v":0},{"$f":"Weightings!F19","v":0},0,2097029,{"$f":"MAX(ROUND(((AR19-AN19-AO19)*Weightings!$M$12)+'2016legmax.xls'!AP19,0),ROUND((('2016legmax.xls'!AR19-'2016legmax.xls'!AN19-'2016legmax.xls'!AO19)*Weightings!$M$12)+Weightings!B19,0))","v":2446771},0.3,{"$f":"BL19*BM19","v":734031},737264,734031,0.3,0,true,1399.9749999999999,0.62997599999999998,154.30000000000001,false,0,0,0,0,780,0.08,{"$f":"IF(ROUND((Weightings!$P$5*CC19^Weightings!$P$6*Weightings!$P$8 ),2)<Weightings!$P$7,Weightings!$P$7,ROUND((Weightings!$P$5*CC19^Weightings!$P$6*Weightings!$P$8 ),2))","v":1916.65},{"$f":"ROUND(CD19/Weightings!$M$5,4)","v":0.49759999999999999},32.799999999999997,0,0,0,0,{"$f":"AS19*Weightings!$M$5*CJ19","v":0},0,0.44900000000000001,0.3,0,0,7.6,{"$f":"IF(ISNA(VLOOKUP($DC19,'Audit Values'!$A$2:$AE$252,2,FALSE)),'Preliminary SO66'!T16,VLOOKUP($DC19,'Audit Values'!$A$2:$AE$252,20,FALSE))","v":0},{"$f":"IF(ISNA(VLOOKUP($DC19,'Audit Values'!$A$2:$AE$252,21,FALSE)),'Preliminary SO66'!U16,VLOOKUP($DC19,'Audit Values'!$A$2:$AE$252,21,FALSE))","v":0},0,0,null,null,null,null,null,null,null,"D0200"]
[202,"Wyandotte","Turner-Kansas City ",3854,0,{"$f":"D20+E20","v":3854},3888.6,0,3888.6,3871.2,{"$f":"IF(ISNA(VLOOKUP($DC20,'Audit Values'!$A$2:$AE$252,2,FALSE)),'Preliminary SO66'!B17,VLOOKUP($DC20,'Audit Values'!$A$2:$AE$252,31,FALSE))","v":3871.2},3888.6,{"$f":"IF(ISNA(VLOOKUP($DC20,'Audit Values'!$A$2:$AE$252,2,FALSE)),'Preliminary SO66'!Z17,VLOOKUP($DC20,'Audit Values'!$A$2:$AE$252,26,FALSE))","v":0},3888.6,{"$f":"IF(ISNA(VLOOKUP($DC20,'Audit Values'!$A$2:$AE$252,2,FALSE)),'Preliminary SO66'!C17,IF(VLOOKUP($DC20,'Audit Values'!$A$2:$AE$252,28,FALSE)=\"\",VLOOKUP($DC20,'Audit Values'!$A$2:$AE$252,3,FALSE),VLOOKUP($DC20,'Audit Values'!$A$2:$AE$252,28,FALSE)))","v":81.5},3952.7,3952.7,3952.7,3970.1,0,139.1,0,139.1,{"$f":"IF(ISNA(VLOOKUP($DC20,'Audit Values'!$A$2:$AE$252,2,FALSE)),'Preliminary SO66'!D17,VLOOKUP($DC20,'Audit Values'!$A$2:$AE$252,4,FALSE))","v":852.3},{"$f":"ROUND((X20/6)*Weightings!$M$6,1)","v":71},{"$f":"IF(ISNA(VLOOKUP($DC20,'Audit Values'!$A$2:$AE$252,2,FALSE)),'Preliminary SO66'!F17,VLOOKUP($DC20,'Audit Values'!$A$2:$AE$252,6,FALSE))","v":1941.3},{"$f":"ROUND((Z20/6)*Weightings!$M$7,1)","v":127.8},{"$f":"IF(ISNA(VLOOKUP($DC20,'Audit Values'!$A$2:$AE$252,2,FALSE)),'Preliminary SO66'!H17,VLOOKUP($DC20,'Audit Values'!$A$2:$AE$252,9,FALSE))","v":2762},{"$f":"ROUND(AB20*Weightings!$M$8,1)","v":1259.5},290,0,{"$f":"AE20*Weightings!$M$9","v":0},{"$f":"IF(ISNA(VLOOKUP($DC20,'Audit Values'!$A$2:$AE$252,2,FALSE)),'Preliminary SO66'!L17,VLOOKUP($DC20,'Audit Values'!$A$2:$AE$252,12,FALSE))","v":492.5},{"$f":"ROUND(AG20*Weightings!$M$10,1)","v":123.1},{"$f":"IF(ISNA(VLOOKUP($DC20,'Audit Values'!$A$2:$AE$252,2,FALSE)),'Preliminary SO66'!O17,VLOOKUP($DC20,'Audit Values'!$A$2:$AE$252,15,FALSE))","v":1067},156.19999999999999,{"$f":"CG20/Weightings!$M$5","v":0},{"$f":"CH20/Weightings!$M$5","v":0},{"$f":"CL20/Weightings!$M$5","v":0},0,{"$f":"IF(ISNA(VLOOKUP($DC20,'Audit Values'!$A$2:$AE$252,2,FALSE)),'Preliminary SO66'!X17,VLOOKUP($DC20,'Audit Values'!$A$2:$AE$252,24,FALSE))","v":0},2921099,{"$f":"AP20/Weightings!$M$5","v":758.3},6136.8,6895.1,6895.1,0,{"$f":"IF(ISNA(VLOOKUP($DC20,'Audit Values'!$A$2:$AC$299,2,FALSE)),\"\",IF(AND(Weightings!H20>0,VLOOKUP($DC20,'Audit Values'!$A$2:$AC$299,29,FALSE)<Weightings!H20),Weightings!H20,VLOOKUP($DC20,'Audit Values'!$A$2:$AC$299,29,FALSE)))","v":9},{"$f":"IF(ISNA(VLOOKUP($DC20,'Audit Values'!$A$2:$AD$299,2,FALSE)),\"\",VLOOKUP($DC20,'Audit Values'!$A$2:$AD$299,30,FALSE))","v":"A"},{"$f":"IF(Weightings!G20=\"\",\"\",IF(Weightings!I20=\"Pending\",\"PX\",\"R\"))","v":""},{"$f":"AR20*Weightings!$M$5+AU20","v":23638954},{"$f":"AT20*Weightings!$M$5+AU20","v":26559925},{"$f":"IF(Weightings!G20>0,Weightings!G20,'Preliminary SO66'!AB17)","v":37111565},6492393,2110624,431917,28076631,26559925,null,{"$f":"Weightings!E20","v":0},{"$f":"Weightings!F20","v":0},0,26559925,{"$f":"MAX(ROUND(((AR20-AN20-AO20)*Weightings!$M$12)+'2016legmax.xls'!AP20,0),ROUND((('2016legmax.xls'!AR20-'2016legmax.xls'!AN20-'2016legmax.xls'!AO20)*Weightings!$M$12)+Weightings!B20,0))","v":30788234},0.3,9236470,9053413,9053413,0.29409999999999997,0,false,0,0,0,false,0,0,0,139.1,17,62.76,{"$f":"IF(ROUND((Weightings!$P$5*CC20^Weightings!$P$6*Weightings!$P$8 ),2)<Weightings!$P$7,Weightings!$P$7,ROUND((Weightings!$P$5*CC20^Weightings!$P$6*Weightings!$P$8 ),2))","v":564},{"$f":"ROUND(CD20/Weightings!$M$5,4)","v":0.1464},156.19999999999999,0,0,0,0,{"$f":"AS20*Weightings!$M$5*CJ20","v":0},0,0.69599999999999995,233.5,290,290,0,{"$f":"IF(ISNA(VLOOKUP($DC20,'Audit Values'!$A$2:$AE$252,2,FALSE)),'Preliminary SO66'!T17,VLOOKUP($DC20,'Audit Values'!$A$2:$AE$252,20,FALSE))","v":0},{"$f":"IF(ISNA(VLOOKUP($DC20,'Audit Values'!$A$2:$AE$252,21,FALSE)),'Preliminary SO66'!U17,VLOOKUP($DC20,'Audit Values'!$A$2:$AE$252,21,FALSE))","v":0},0,0,null,null,null,null,null,null,null,"D0202"]
[203,"Wyandotte","Piper-Kansas City ",1799.6,0,1799.6,1889.5,0,1889.5,1957,{"$f":"IF(ISNA(VLOOKUP($DC21,'Audit Values'!$A$2:$AE$252,2,FALSE)),'Preliminary SO66'!B18,VLOOKUP($DC21,'Audit Values'!$A$2:$AE$252,31,FALSE))","v":1955},1955,{"$f":"IF(ISNA(VLOOKUP($DC21,'Audit Values'!$A$2:$AE$252,2,FALSE)),'Preliminary SO66'!Z18,VLOOKUP($DC21,'Audit Values'!$A$2:$AE$252,26,FALSE))","v":0},1955,{"$f":"IF(ISNA(VLOOKUP($DC21,'Audit Values'!$A$2:$AE$252,2,FALSE)),'Preliminary SO66'!C18,IF(VLOOKUP($DC21,'Audit Values'!$A$2:$AE$252,28,FALSE)=\"\",VLOOKUP($DC21,'Audit Values'!$A$2:$AE$252,3,FALSE),VLOOKUP($DC21,'Audit Values'!$A$2:$AE$252,28,FALSE)))","v":4},1959,1961,1961,1959,2,68.599999999999994,0,68.599999999999994,{"$f":"IF(ISNA(VLOOKUP($DC21,'Audit Values'!$A$2:$AE$252,2,FALSE)),'Preliminary SO66'!D18,VLOOKUP($DC21,'Audit Values'!$A$2:$AE$252,4,FALSE))","v":412.5},{"$f":"ROUND((X21/6)*Weightings!$M$6,1)","v":34.4},{"$f":"IF(ISNA(VLOOKUP($DC21,'Audit Values'!$A$2:$AE$252,2,FALSE)),'Preliminary SO66'!F18,VLOOKUP($DC21,'Audit Values'!$A$2:$AE$252,6,FALSE))","v":130.80000000000001},{"$f":"ROUND((Z21/6)*Weightings!$M$7,1)","v":8.6},{"$f":"IF(ISNA(VLOOKUP($DC21,'Audit Values'!$A$2:$AE$252,2,FALSE)),'Preliminary SO66'!H18,VLOOKUP($DC21,'Audit Values'!$A$2:$AE$252,9,FALSE))","v":287},{"$f":"ROUND(AB21*Weightings!$M$8,1)","v":130.9},0,0,{"$f":"AE21*Weightings!$M$9","v":0},{"$f":"IF(ISNA(VLOOKUP($DC21,'Audit Values'!$A$2:$AE$252,2,FALSE)),'Preliminary SO66'!L18,VLOOKUP($DC21,'Audit Values'!$A$2:$AE$252,12,FALSE))","v":0},{"$f":"ROUND(AG21*Weightings!$M$10,1)","v":0},{"$f":"IF(ISNA(VLOOKUP($DC21,'Audit Values'!$A$2:$AE$252,2,FALSE)),'Preliminary SO66'!O18,VLOOKUP($DC21,'Audit Values'!$A$2:$AE$252,15,FALSE))","v":1150},168.4,{"$f":"CG21/Weightings!$M$5","v":0},{"$f":"CH21/Weightings!$M$5","v":0},{"$f":"CL21/Weightings!$M$5","v":0},2.1,{"$f":"IF(ISNA(VLOOKUP($DC21,'Audit Values'!$A$2:$AE$252,2,FALSE)),'Preliminary SO66'!X18,VLOOKUP($DC21,'Audit Values'!$A$2:$AE$252,24,FALSE))","v":0},2026925,{"$f":"AP21/Weightings!$M$5","v":526.20000000000005},2372,2898.2,2898.2,0,{"$f":"IF(ISNA(VLOOKUP($DC21,'Audit Values'!$A$2:$AC$299,2,FALSE)),\"\",IF(AND(Weightings!H21>0,VLOOKUP($DC21,'Audit Values'!$A$2:$AC$299,29,FALSE)<Weightings!H21),Weightings!H21,VLOOKUP($DC21,'Audit Values'!$A$2:$AC$299,29,FALSE)))","v":13},{"$f":"IF(ISNA(VLOOKUP($DC21,'Audit Values'!$A$2:$AD$299,2,FALSE)),\"\",VLOOKUP($DC21,'Audit Values'!$A$2:$AD$299,30,FALSE))","v":"A"},{"$f":"IF(Weightings!G21=\"\",\"\",IF(Weightings!I21=\"Pending\",\"PX\",\"R\"))","v":""},{"$f":"AR21*Weightings!$M$5+AU21","v":9136944},{"$f":"AT21*Weightings!$M$5+AU21","v":11163866},{"$f":"IF(Weightings!G21>0,Weightings!G21,'Preliminary SO66'!AB18)","v":12804073},709919,758267,0,11335887,11163866,null,{"$f":"Weightings!E21","v":0},{"$f":"Weightings!F21","v":0},0,11163866,{"$f":"MAX(ROUND(((AR21-AN21-AO21)*Weightings!$M$12)+'2016legmax.xls'!AP21,0),ROUND((('2016legmax.xls'!AR21-'2016legmax.xls'!AN21-'2016legmax.xls'!AO21)*Weightings!$M$12)+Weightings!B21,0))","v":12667776},0.31,3927011,3726052,3726052,0.29409999999999997,0,false,0,0,0,false,0,0,0,68.599999999999994,31.4,36.619999999999997,{"$f":"IF(ROUND((Weightings!$P$5*CC21^Weightings!$P$6*Weightings!$P$8 ),2)<Weightings!$P$7,Weightings!$P$7,ROUND((Weightings!$P$5*CC21^Weightings!$P$6*Weightings!$P$8 ),2))","v":564},{"$f":"ROUND(CD21/Weightings!$M$5,4)","v":0.1464},168.4,0,0,0,2.8799999999999999E-2,{"$f":"AS21*Weightings!$M$5*CJ21","v":321519},0,0.14699999999999999,62.4,0,0,0,{"$f":"IF(ISNA(VLOOKUP($DC21,'Audit Values'!$A$2:$AE$252,2,FALSE)),'Preliminary SO66'!T18,VLOOKUP($DC21,'Audit Values'!$A$2:$AE$252,20,FALSE))","v":0},{"$f":"IF(ISNA(VLOOKUP($DC21,'Audit Values'!$A$2:$AE$252,21,FALSE)),'Preliminary SO66'!U18,VLOOKUP($DC21,'Audit Values'!$A$2:$AE$252,21,FALSE))","v":0},2,2,null,null,null,null,null,null,null,"D0203",120167]
[204,"Wyandotte","Bonner Springs ",2421.8000000000002,0,2421.8000000000002,2507.1,0,2507.1,2606.6,{"$f":"IF(ISNA(VLOOKUP($DC22,'Audit Values'!$A$2:$AE$252,2,FALSE)),'Preliminary SO66'!B19,VLOOKUP($DC22,'Audit Values'!$A$2:$AE$252,31,FALSE))","v":2570.5},2570.5,{"$f":"IF(ISNA(VLOOKUP($DC22,'Audit Values'!$A$2:$AE$252,2,FALSE)),'Preliminary SO66'!Z19,VLOOKUP($DC22,'Audit Values'!$A$2:$AE$252,26,FALSE))","v":0},2570.5,{"$f":"IF(ISNA(VLOOKUP($DC22,'Audit Values'!$A$2:$AE$252,2,FALSE)),'Preliminary SO66'!C19,IF(VLOOKUP($DC22,'Audit Values'!$A$2:$AE$252,28,FALSE)=\"\",VLOOKUP($DC22,'Audit Values'!$A$2:$AE$252,3,FALSE),VLOOKUP($DC22,'Audit Values'!$A$2:$AE$252,28,FALSE)))","v":23},2593.5,2629.6,2629.6,2593.5,36.1,90.9,0,90.9,{"$f":"IF(ISNA(VLOOKUP($DC22,'Audit Values'!$A$2:$AE$252,2,FALSE)),'Preliminary SO66'!D19,VLOOKUP($DC22,'Audit Values'!$A$2:$AE$252,4,FALSE))","v":566.5},{"$f":"ROUND((X22/6)*Weightings!$M$6,1)","v":47.2},{"$f":"IF(ISNA(VLOOKUP($DC22,'Audit Values'!$A$2:$AE$252,2,FALSE)),'Preliminary SO66'!F19,VLOOKUP($DC22,'Audit Values'!$A$2:$AE$252,6,FALSE))","v":511.3},{"$f":"ROUND((Z22/6)*Weightings!$M$7,1)","v":33.700000000000003},{"$f":"IF(ISNA(VLOOKUP($DC22,'Audit Values'!$A$2:$AE$252,2,FALSE)),'Preliminary SO66'!H19,VLOOKUP($DC22,'Audit Values'!$A$2:$AE$252,9,FALSE))","v":1191},{"$f":"ROUND(AB22*Weightings!$M$8,1)","v":543.1},90.9,0,{"$f":"AE22*Weightings!$M$9","v":0},{"$f":"IF(ISNA(VLOOKUP($DC22,'Audit Values'!$A$2:$AE$252,2,FALSE)),'Preliminary SO66'!L19,VLOOKUP($DC22,'Audit Values'!$A$2:$AE$252,12,FALSE))","v":0},{"$f":"ROUND(AG22*Weightings!$M$10,1)","v":0},{"$f":"IF(ISNA(VLOOKUP($DC22,'Audit Values'!$A$2:$AE$252,2,FALSE)),'Preliminary SO66'!O19,VLOOKUP($DC22,'Audit Values'!$A$2:$AE$252,15,FALSE))","v":809},118.4,{"$f":"CG22/Weightings!$M$5","v":0},{"$f":"CH22/Weightings!$M$5","v":0},{"$f":"CL22/Weightings!$M$5","v":0},37.9,{"$f":"IF(ISNA(VLOOKUP($DC22,'Audit Values'!$A$2:$AE$252,2,FALSE)),'Preliminary SO66'!X19,VLOOKUP($DC22,'Audit Values'!$A$2:$AE$252,24,FALSE))","v":0},3079088,{"$f":"AP22/Weightings!$M$5","v":799.3},3555.6,4354.8999999999996,4354.8999999999996,0,{"$f":"IF(ISNA(VLOOKUP($DC22,'Audit Values'!$A$2:$AC$299,2,FALSE)),\"\",IF(AND(Weightings!H22>0,VLOOKUP($DC22,'Audit Values'!$A$2:$AC$299,29,FALSE)<Weightings!H22),Weightings!H22,VLOOKUP($DC22,'Audit Values'!$A$2:$AC$299,29,FALSE)))","v":12},{"$f":"IF(ISNA(VLOOKUP($DC22,'Audit Values'!$A$2:$AD$299,2,FALSE)),\"\",VLOOKUP($DC22,'Audit Values'!$A$2:$AD$299,30,FALSE))","v":"A"},{"$f":"IF(Weightings!G22=\"\",\"\",IF(Weightings!I22=\"Pending\",\"PX\",\"R\"))","v":""},{"$f":"AR22*Weightings!$M$5+AU22","v":13696171},{"$f":"AT22*Weightings!$M$5+AU22","v":16775075},{"$f":"IF(Weightings!G22>0,Weightings!G22,'Preliminary SO66'!AB19)","v":21605473},2252695,1414362,175701,17762715,16775075,null,{"$f":"Weightings!E22","v":0},{"$f":"Weightings!F22","v":0},0,16775075,{"$f":"MAX(ROUND(((AR22-AN22-AO22)*Weightings!$M$12)+'2016legmax.xls'!AP22,0),ROUND((('2016legmax.xls'!AR22-'2016legmax.xls'!AN22-'2016legmax.xls'!AO22)*Weightings!$M$12)+Weightings!B22,0))","v":18873561},0.3,5662068,5426138,5426138,0.28749999999999998,0,false,0,0,0,false,0,0,0,90.9,38,21.29,{"$f":"IF(ROUND((Weightings!$P$5*CC22^Weightings!$P$6*Weightings!$P$8 ),2)<Weightings!$P$7,Weightings!$P$7,ROUND((Weightings!$P$5*CC22^Weightings!$P$6*Weightings!$P$8 ),2))","v":564},{"$f":"ROUND(CD22/Weightings!$M$5,4)","v":0.1464},118.4,0,0,0,0,{"$f":"AS22*Weightings!$M$5*CJ22","v":0},0,0.45900000000000002,68.3,0,0,90.9,{"$f":"IF(ISNA(VLOOKUP($DC22,'Audit Values'!$A$2:$AE$252,2,FALSE)),'Preliminary SO66'!T19,VLOOKUP($DC22,'Audit Values'!$A$2:$AE$252,20,FALSE))","v":13},{"$f":"IF(ISNA(VLOOKUP($DC22,'Audit Values'!$A$2:$AE$252,21,FALSE)),'Preliminary SO66'!U19,VLOOKUP($DC22,'Audit Values'!$A$2:$AE$252,21,FALSE))","v":2.1},21,36.1,null,null,null,null,null,null,null,"D0204",164495]
[205,"Butler","Bluestem ",502.2,0,502.2,507.8,0,507.8,486.3,{"$f":"IF(ISNA(VLOOKUP($DC23,'Audit Values'!$A$2:$AE$252,2,FALSE)),'Preliminary SO66'!B20,VLOOKUP($DC23,'Audit Values'!$A$2:$AE$252,31,FALSE))","v":486.3},507.8,{"$f":"IF(ISNA(VLOOKUP($DC23,'Audit Values'!$A$2:$AE$252,2,FALSE)),'Preliminary SO66'!Z20,VLOOKUP($DC23,'Audit Values'!$A$2:$AE$252,26,FALSE))","v":0},507.8,{"$f":"IF(ISNA(VLOOKUP($DC23,'Audit Values'!$A$2:$AE$252,2,FALSE)),'Preliminary SO66'!C20,IF(VLOOKUP($DC23,'Audit Values'!$A$2:$AE$252,28,FALSE)=\"\",VLOOKUP($DC23,'Audit Values'!$A$2:$AE$252,3,FALSE),VLOOKUP($DC23,'Audit Values'!$A$2:$AE$252,28,FALSE)))","v":0},486.3,486.3,486.3,507.8,0,210,210,0,{"$f":"IF(ISNA(VLOOKUP($DC23,'Audit Values'!$A$2:$AE$252,2,FALSE)),'Preliminary SO66'!D20,VLOOKUP($DC23,'Audit Values'!$A$2:$AE$252,4,FALSE))","v":97.3},{"$f":"ROUND((X23/6)*Weightings!$M$6,1)","v":8.1},{"$f":"IF(ISNA(VLOOKUP($DC23,'Audit Values'!$A$2:$AE$252,2,FALSE)),'Preliminary SO66'!F20,VLOOKUP($DC23,'Audit Values'!$A$2:$AE$252,6,FALSE))","v":0},{"$f":"ROUND((Z23/6)*Weightings!$M$7,1)","v":0},{"$f":"IF(ISNA(VLOOKUP($DC23,'Audit Values'!$A$2:$AE$252,2,FALSE)),'Preliminary SO66'!H20,VLOOKUP($DC23,'Audit Values'!$A$2:$AE$252,9,FALSE))","v":240},{"$f":"ROUND(AB23*Weightings!$M$8,1)","v":109.4},20.7,0,{"$f":"AE23*Weightings!$M$9","v":0},{"$f":"IF(ISNA(VLOOKUP($DC23,'Audit Values'!$A$2:$AE$252,2,FALSE)),'Preliminary SO66'!L20,VLOOKUP($DC23,'Audit Values'!$A$2:$AE$252,12,FALSE))","v":0},{"$f":"ROUND(AG23*Weightings!$M$10,1)","v":0},{"$f":"IF(ISNA(VLOOKUP($DC23,'Audit Values'!$A$2:$AE$252,2,FALSE)),'Preliminary SO66'!O20,VLOOKUP($DC23,'Audit Values'!$A$2:$AE$252,15,FALSE))","v":248},75.3,{"$f":"CG23/Weightings!$M$5","v":0},{"$f":"CH23/Weightings!$M$5","v":0},{"$f":"CL23/Weightings!$M$5","v":0},0,{"$f":"IF(ISNA(VLOOKUP($DC23,'Audit Values'!$A$2:$AE$252,2,FALSE)),'Preliminary SO66'!X20,VLOOKUP($DC23,'Audit Values'!$A$2:$AE$252,24,FALSE))","v":0},525258,{"$f":"AP23/Weightings!$M$5","v":136.4},931.3,1067.7,1067.7,0,{"$f":"IF(ISNA(VLOOKUP($DC23,'Audit Values'!$A$2:$AC$299,2,FALSE)),\"\",IF(AND(Weightings!H23>0,VLOOKUP($DC23,'Audit Values'!$A$2:$AC$299,29,FALSE)<Weightings!H23),Weightings!H23,VLOOKUP($DC23,'Audit Values'!$A$2:$AC$299,29,FALSE)))","v":15},{"$f":"IF(ISNA(VLOOKUP($DC23,'Audit Values'!$A$2:$AD$299,2,FALSE)),\"\",VLOOKUP($DC23,'Audit Values'!$A$2:$AD$299,30,FALSE))","v":"A"},{"$f":"IF(Weightings!G23=\"\",\"\",IF(Weightings!I23=\"Pending\",\"PX\",\"R\"))","v":""},{"$f":"AR23*Weightings!$M$5+AU23","v":3587368},{"$f":"AT23*Weightings!$M$5+AU23","v":4112780},{"$f":"IF(Weightings!G23>0,Weightings!G23,'Preliminary SO66'!AB20)","v":5247052},485918,268614,22089,4470431,4112780,null,{"$f":"Weightings!E23","v":0},{"$f":"Weightings!F23","v":0},0,4112780,{"$f":"MAX(ROUND(((AR23-AN23-AO23)*Weightings!$M$12)+'2016legmax.xls'!AP23,0),ROUND((('2016legmax.xls'!AR23-'2016legmax.xls'!AN23-'2016legmax.xls'!AO23)*Weightings!$M$12)+Weightings!B23,0))","v":4788011},0.3,1436403,1444620,1436403,0.3,0,false,0,0,0,true,257.15249999999997,0.41358699999999998,210,0,348.6,0.71,{"$f":"IF(ROUND((Weightings!$P$5*CC23^Weightings!$P$6*Weightings!$P$8 ),2)<Weightings!$P$7,Weightings!$P$7,ROUND((Weightings!$P$5*CC23^Weightings!$P$6*Weightings!$P$8 ),2))","v":1169.6600000000001},{"$f":"ROUND(CD23/Weightings!$M$5,4)","v":0.30370000000000003},75.3,0,0,0,0,{"$f":"AS23*Weightings!$M$5*CJ23","v":0},0,0.47299999999999998,1.5,0,0,20.7,{"$f":"IF(ISNA(VLOOKUP($DC23,'Audit Values'!$A$2:$AE$252,2,FALSE)),'Preliminary SO66'!T20,VLOOKUP($DC23,'Audit Values'!$A$2:$AE$252,20,FALSE))","v":0},{"$f":"IF(ISNA(VLOOKUP($DC23,'Audit Values'!$A$2:$AE$252,21,FALSE)),'Preliminary SO66'!U20,VLOOKUP($DC23,'Audit Values'!$A$2:$AE$252,21,FALSE))","v":0},0,0,null,null,null,null,null,null,null,"D0205"]
[206,"Butler","Remington-Whitewater ",490.1,0,490.1,473.4,0,473.4,508.7,{"$f":"IF(ISNA(VLOOKUP($DC24,'Audit Values'!$A$2:$AE$252,2,FALSE)),'Preliminary SO66'!B21,VLOOKUP($DC24,'Audit Values'!$A$2:$AE$252,31,FALSE))","v":491.7},491.7,{"$f":"IF(ISNA(VLOOKUP($DC24,'Audit Values'!$A$2:$AE$252,2,FALSE)),'Preliminary SO66'!Z21,VLOOKUP($DC24,'Audit Values'!$A$2:$AE$252,26,FALSE))","v":0},491.7,{"$f":"IF(ISNA(VLOOKUP($DC24,'Audit Values'!$A$2:$AE$252,2,FALSE)),'Preliminary SO66'!C21,IF(VLOOKUP($DC24,'Audit Values'!$A$2:$AE$252,28,FALSE)=\"\",VLOOKUP($DC24,'Audit Values'!$A$2:$AE$252,3,FALSE),VLOOKUP($DC24,'Audit Values'!$A$2:$AE$252,28,FALSE)))","v":5.5},497.2,514.20000000000005,514.20000000000005,497.2,17,207.4,207.4,0,{"$f":"IF(ISNA(VLOOKUP($DC24,'Audit Values'!$A$2:$AE$252,2,FALSE)),'Preliminary SO66'!D21,VLOOKUP($DC24,'Audit Values'!$A$2:$AE$252,4,FALSE))","v":110.8},{"$f":"ROUND((X24/6)*Weightings!$M$6,1)","v":9.1999999999999993},{"$f":"IF(ISNA(VLOOKUP($DC24,'Audit Values'!$A$2:$AE$252,2,FALSE)),'Preliminary SO66'!F21,VLOOKUP($DC24,'Audit Values'!$A$2:$AE$252,6,FALSE))","v":78.099999999999994},{"$f":"ROUND((Z24/6)*Weightings!$M$7,1)","v":5.0999999999999996},{"$f":"IF(ISNA(VLOOKUP($DC24,'Audit Values'!$A$2:$AE$252,2,FALSE)),'Preliminary SO66'!H21,VLOOKUP($DC24,'Audit Values'!$A$2:$AE$252,9,FALSE))","v":152},{"$f":"ROUND(AB24*Weightings!$M$8,1)","v":69.3},0,0,{"$f":"AE24*Weightings!$M$9","v":0},{"$f":"IF(ISNA(VLOOKUP($DC24,'Audit Values'!$A$2:$AE$252,2,FALSE)),'Preliminary SO66'!L21,VLOOKUP($DC24,'Audit Values'!$A$2:$AE$252,12,FALSE))","v":0},{"$f":"ROUND(AG24*Weightings!$M$10,1)","v":0},{"$f":"IF(ISNA(VLOOKUP($DC24,'Audit Values'!$A$2:$AE$252,2,FALSE)),'Preliminary SO66'!O21,VLOOKUP($DC24,'Audit Values'!$A$2:$AE$252,15,FALSE))","v":364.5},94.3,{"$f":"CG24/Weightings!$M$5","v":0},{"$f":"CH24/Weightings!$M$5","v":0},{"$f":"CL24/Weightings!$M$5","v":0},17.899999999999999,{"$f":"IF(ISNA(VLOOKUP($DC24,'Audit Values'!$A$2:$AE$252,2,FALSE)),'Preliminary SO66'!X21,VLOOKUP($DC24,'Audit Values'!$A$2:$AE$252,24,FALSE))","v":1},545634,{"$f":"AP24/Weightings!$M$5","v":141.6},901.4,1043,1043,300000,{"$f":"IF(ISNA(VLOOKUP($DC24,'Audit Values'!$A$2:$AC$299,2,FALSE)),\"\",IF(AND(Weightings!H24>0,VLOOKUP($DC24,'Audit Values'!$A$2:$AC$299,29,FALSE)<Weightings!H24),Weightings!H24,VLOOKUP($DC24,'Audit Values'!$A$2:$AC$299,29,FALSE)))","v":2},{"$f":"IF(ISNA(VLOOKUP($DC24,'Audit Values'!$A$2:$AD$299,2,FALSE)),\"\",VLOOKUP($DC24,'Audit Values'!$A$2:$AD$299,30,FALSE))","v":"A"},{"$f":"IF(Weightings!G24=\"\",\"\",IF(Weightings!I24=\"Pending\",\"PX\",\"R\"))","v":""},{"$f":"AR24*Weightings!$M$5+AU24","v":3772193},{"$f":"AT24*Weightings!$M$5+AU24","v":4317636},{"$f":"IF(Weightings!G24>0,Weightings!G24,'Preliminary SO66'!AB21)","v":4838622},319509,271628,0,4247485,4317636,null,{"$f":"Weightings!E24","v":0},{"$f":"Weightings!F24","v":0},0,4317636,{"$f":"MAX(ROUND(((AR24-AN24-AO24)*Weightings!$M$12)+'2016legmax.xls'!AP24,0),ROUND((('2016legmax.xls'!AR24-'2016legmax.xls'!AN24-'2016legmax.xls'!AO24)*Weightings!$M$12)+Weightings!B24,0))","v":4508059},0.3,1352418,1338988,1338988,0.29699999999999999,0,false,0,0,0,true,244.035,0.417188,207.4,0,253,1.44,{"$f":"IF(ROUND((Weightings!$P$5*CC24^Weightings!$P$6*Weightings!$P$8 ),2)<Weightings!$P$7,Weightings!$P$7,ROUND((Weightings!$P$5*CC24^Weightings!$P$6*Weightings!$P$8 ),2))","v":996.76},{"$f":"ROUND(CD24/Weightings!$M$5,4)","v":0.25879999999999997},94.3,0,0,0,0,{"$f":"AS24*Weightings!$M$5*CJ24","v":0},0,0.30599999999999999,2,0,0,0,{"$f":"IF(ISNA(VLOOKUP($DC24,'Audit Values'!$A$2:$AE$252,2,FALSE)),'Preliminary SO66'!T21,VLOOKUP($DC24,'Audit Values'!$A$2:$AE$252,20,FALSE))","v":1},{"$f":"IF(ISNA(VLOOKUP($DC24,'Audit Values'!$A$2:$AE$252,21,FALSE)),'Preliminary SO66'!U21,VLOOKUP($DC24,'Audit Values'!$A$2:$AE$252,21,FALSE))","v":0},16,17,null,null,null,null,null,null,null,"D0206",7076]
[207,"Leavenworth","Ft Leavenworth ",1741.6,146,1887.6,1661.4,77.5,1738.9,1597.1,{"$f":"IF(ISNA(VLOOKUP($DC25,'Audit Values'!$A$2:$AE$252,2,FALSE)),'Preliminary SO66'!B22,VLOOKUP($DC25,'Audit Values'!$A$2:$AE$252,31,FALSE))","v":1597.1},1741.2,{"$f":"IF(ISNA(VLOOKUP($DC25,'Audit Values'!$A$2:$AE$252,2,FALSE)),'Preliminary SO66'!Z22,VLOOKUP($DC25,'Audit Values'!$A$2:$AE$252,26,FALSE))","v":0},1741.2,{"$f":"IF(ISNA(VLOOKUP($DC25,'Audit Values'!$A$2:$AE$252,2,FALSE)),'Preliminary SO66'!C22,IF(VLOOKUP($DC25,'Audit Values'!$A$2:$AE$252,28,FALSE)=\"\",VLOOKUP($DC25,'Audit Values'!$A$2:$AE$252,3,FALSE),VLOOKUP($DC25,'Audit Values'!$A$2:$AE$252,28,FALSE)))","v":0},1597.1,1597.1,1597.1,1741.2,0,61,0,61,{"$f":"IF(ISNA(VLOOKUP($DC25,'Audit Values'!$A$2:$AE$252,2,FALSE)),'Preliminary SO66'!D22,VLOOKUP($DC25,'Audit Values'!$A$2:$AE$252,4,FALSE))","v":0.7},{"$f":"ROUND((X25/6)*Weightings!$M$6,1)","v":0.1},{"$f":"IF(ISNA(VLOOKUP($DC25,'Audit Values'!$A$2:$AE$252,2,FALSE)),'Preliminary SO66'!F22,VLOOKUP($DC25,'Audit Values'!$A$2:$AE$252,6,FALSE))","v":54.3},{"$f":"ROUND((Z25/6)*Weightings!$M$7,1)","v":3.6},{"$f":"IF(ISNA(VLOOKUP($DC25,'Audit Values'!$A$2:$AE$252,2,FALSE)),'Preliminary SO66'!H22,VLOOKUP($DC25,'Audit Values'!$A$2:$AE$252,9,FALSE))","v":69},{"$f":"ROUND(AB25*Weightings!$M$8,1)","v":31.5},0,0,{"$f":"AE25*Weightings!$M$9","v":0},{"$f":"IF(ISNA(VLOOKUP($DC25,'Audit Values'!$A$2:$AE$252,2,FALSE)),'Preliminary SO66'!L22,VLOOKUP($DC25,'Audit Values'!$A$2:$AE$252,12,FALSE))","v":0},{"$f":"ROUND(AG25*Weightings!$M$10,1)","v":0},{"$f":"IF(ISNA(VLOOKUP($DC25,'Audit Values'!$A$2:$AE$252,2,FALSE)),'Preliminary SO66'!O22,VLOOKUP($DC25,'Audit Values'!$A$2:$AE$252,15,FALSE))","v":148},21.8,{"$f":"CG25/Weightings!$M$5","v":0},{"$f":"CH25/Weightings!$M$5","v":0},{"$f":"CL25/Weightings!$M$5","v":0},0,{"$f":"IF(ISNA(VLOOKUP($DC25,'Audit Values'!$A$2:$AE$252,2,FALSE)),'Preliminary SO66'!X22,VLOOKUP($DC25,'Audit Values'!$A$2:$AE$252,24,FALSE))","v":0},1407932,{"$f":"AP25/Weightings!$M$5","v":365.5},1859.2,2224.6999999999998,2224.6999999999998,0,{"$f":"IF(ISNA(VLOOKUP($DC25,'Audit Values'!$A$2:$AC$299,2,FALSE)),\"\",IF(AND(Weightings!H25>0,VLOOKUP($DC25,'Audit Values'!$A$2:$AC$299,29,FALSE)<Weightings!H25),Weightings!H25,VLOOKUP($DC25,'Audit Values'!$A$2:$AC$299,29,FALSE)))","v":16},{"$f":"IF(ISNA(VLOOKUP($DC25,'Audit Values'!$A$2:$AD$299,2,FALSE)),\"\",VLOOKUP($DC25,'Audit Values'!$A$2:$AD$299,30,FALSE))","v":"A"},{"$f":"IF(Weightings!G25=\"\",\"\",IF(Weightings!I25=\"Pending\",\"PX\",\"R\"))","v":""},{"$f":"AR25*Weightings!$M$5+AU25","v":7161638},{"$f":"AT25*Weightings!$M$5+AU25","v":8569544},{"$f":"IF(Weightings!G25>0,Weightings!G25,'Preliminary SO66'!AB22)","v":14109960},3393751,996210,6504,9713495,8569544,null,{"$f":"Weightings!E25","v":0},{"$f":"Weightings!F25","v":0},0,8569544,{"$f":"MAX(ROUND(((AR25-AN25-AO25)*Weightings!$M$12)+'2016legmax.xls'!AP25,0),ROUND((('2016legmax.xls'!AR25-'2016legmax.xls'!AN25-'2016legmax.xls'!AO25)*Weightings!$M$12)+Weightings!B25,0))","v":9755740},0.33,3219394,3539416,3219394,0.33,0,false,0,0,0,false,0,0,0,61,8.5,17.41,{"$f":"IF(ROUND((Weightings!$P$5*CC25^Weightings!$P$6*Weightings!$P$8 ),2)<Weightings!$P$7,Weightings!$P$7,ROUND((Weightings!$P$5*CC25^Weightings!$P$6*Weightings!$P$8 ),2))","v":567.20000000000005},{"$f":"ROUND(CD25/Weightings!$M$5,4)","v":0.1472},21.8,0,0,0,0,{"$f":"AS25*Weightings!$M$5*CJ25","v":0},0,0.04,204.8,0,0,0,{"$f":"IF(ISNA(VLOOKUP($DC25,'Audit Values'!$A$2:$AE$252,2,FALSE)),'Preliminary SO66'!T22,VLOOKUP($DC25,'Audit Values'!$A$2:$AE$252,20,FALSE))","v":0},{"$f":"IF(ISNA(VLOOKUP($DC25,'Audit Values'!$A$2:$AE$252,21,FALSE)),'Preliminary SO66'!U22,VLOOKUP($DC25,'Audit Values'!$A$2:$AE$252,21,FALSE))","v":0},0,0,null,null,null,null,null,null,null,"D0207"]
[208,"Trego","Wakeeney ",375,0,375,370.3,0,370.3,367,{"$f":"IF(ISNA(VLOOKUP($DC26,'Audit Values'!$A$2:$AE$252,2,FALSE)),'Preliminary SO66'!B23,VLOOKUP($DC26,'Audit Values'!$A$2:$AE$252,31,FALSE))","v":367},370.8,{"$f":"IF(ISNA(VLOOKUP($DC26,'Audit Values'!$A$2:$AE$252,2,FALSE)),'Preliminary SO66'!Z23,VLOOKUP($DC26,'Audit Values'!$A$2:$AE$252,26,FALSE))","v":0},370.8,{"$f":"IF(ISNA(VLOOKUP($DC26,'Audit Values'!$A$2:$AE$252,2,FALSE)),'Preliminary SO66'!C23,IF(VLOOKUP($DC26,'Audit Values'!$A$2:$AE$252,28,FALSE)=\"\",VLOOKUP($DC26,'Audit Values'!$A$2:$AE$252,3,FALSE),VLOOKUP($DC26,'Audit Values'!$A$2:$AE$252,28,FALSE)))","v":0},367,367,367,370.8,0,170.6,170.6,0,{"$f":"IF(ISNA(VLOOKUP($DC26,'Audit Values'!$A$2:$AE$252,2,FALSE)),'Preliminary SO66'!D23,VLOOKUP($DC26,'Audit Values'!$A$2:$AE$252,4,FALSE))","v":50.4},{"$f":"ROUND((X26/6)*Weightings!$M$6,1)","v":4.2},{"$f":"IF(ISNA(VLOOKUP($DC26,'Audit Values'!$A$2:$AE$252,2,FALSE)),'Preliminary SO66'!F23,VLOOKUP($DC26,'Audit Values'!$A$2:$AE$252,6,FALSE))","v":0},{"$f":"ROUND((Z26/6)*Weightings!$M$7,1)","v":0},{"$f":"IF(ISNA(VLOOKUP($DC26,'Audit Values'!$A$2:$AE$252,2,FALSE)),'Preliminary SO66'!H23,VLOOKUP($DC26,'Audit Values'!$A$2:$AE$252,9,FALSE))","v":102},{"$f":"ROUND(AB26*Weightings!$M$8,1)","v":46.5},0,0,{"$f":"AE26*Weightings!$M$9","v":0},{"$f":"IF(ISNA(VLOOKUP($DC26,'Audit Values'!$A$2:$AE$252,2,FALSE)),'Preliminary SO66'!L23,VLOOKUP($DC26,'Audit Values'!$A$2:$AE$252,12,FALSE))","v":0},{"$f":"ROUND(AG26*Weightings!$M$10,1)","v":0},{"$f":"IF(ISNA(VLOOKUP($DC26,'Audit Values'!$A$2:$AE$252,2,FALSE)),'Preliminary SO66'!O23,VLOOKUP($DC26,'Audit Values'!$A$2:$AE$252,15,FALSE))","v":76},35.200000000000003,{"$f":"CG26/Weightings!$M$5","v":0},{"$f":"CH26/Weightings!$M$5","v":0},{"$f":"CL26/Weightings!$M$5","v":0},0,{"$f":"IF(ISNA(VLOOKUP($DC26,'Audit Values'!$A$2:$AE$252,2,FALSE)),'Preliminary SO66'!X23,VLOOKUP($DC26,'Audit Values'!$A$2:$AE$252,24,FALSE))","v":0},457673,{"$f":"AP26/Weightings!$M$5","v":118.8},627.29999999999995,746.1,746.1,0,{"$f":"IF(ISNA(VLOOKUP($DC26,'Audit Values'!$A$2:$AC$299,2,FALSE)),\"\",IF(AND(Weightings!H26>0,VLOOKUP($DC26,'Audit Values'!$A$2:$AC$299,29,FALSE)<Weightings!H26),Weightings!H26,VLOOKUP($DC26,'Audit Values'!$A$2:$AC$299,29,FALSE)))","v":15},{"$f":"IF(ISNA(VLOOKUP($DC26,'Audit Values'!$A$2:$AD$299,2,FALSE)),\"\",VLOOKUP($DC26,'Audit Values'!$A$2:$AD$299,30,FALSE))","v":"A"},{"$f":"IF(Weightings!G26=\"\",\"\",IF(Weightings!I26=\"Pending\",\"PX\",\"R\"))","v":""},{"$f":"AR26*Weightings!$M$5+AU26","v":2416360},{"$f":"AT26*Weightings!$M$5+AU26","v":2873977},{"$f":"IF(Weightings!G26>0,Weightings!G26,'Preliminary SO66'!AB23)","v":3113304},0,212213,0,2901091,2873977,null,{"$f":"Weightings!E26","v":0},{"$f":"Weightings!F26","v":0},0,2873977,{"$f":"MAX(ROUND(((AR26-AN26-AO26)*Weightings!$M$12)+'2016legmax.xls'!AP26,0),ROUND((('2016legmax.xls'!AR26-'2016legmax.xls'!AN26-'2016legmax.xls'!AO26)*Weightings!$M$12)+Weightings!B26,0))","v":3326575},0.3,997973,1002148,997973,0.3,0,false,0,0,0,true,87.614999999999995,0.46013199999999999,170.6,0,706.7,0.11,{"$f":"IF(ROUND((Weightings!$P$5*CC26^Weightings!$P$6*Weightings!$P$8 ),2)<Weightings!$P$7,Weightings!$P$7,ROUND((Weightings!$P$5*CC26^Weightings!$P$6*Weightings!$P$8 ),2))","v":1783.43},{"$f":"ROUND(CD26/Weightings!$M$5,4)","v":0.46300000000000002},35.200000000000003,0,0,0,0,{"$f":"AS26*Weightings!$M$5*CJ26","v":0},0,0.27500000000000002,0.5,0,0,0,{"$f":"IF(ISNA(VLOOKUP($DC26,'Audit Values'!$A$2:$AE$252,2,FALSE)),'Preliminary SO66'!T23,VLOOKUP($DC26,'Audit Values'!$A$2:$AE$252,20,FALSE))","v":0},{"$f":"IF(ISNA(VLOOKUP($DC26,'Audit Values'!$A$2:$AE$252,21,FALSE)),'Preliminary SO66'!U23,VLOOKUP($DC26,'Audit Values'!$A$2:$AE$252,21,FALSE))","v":0},0,0,null,null,null,null,null,null,null,"D0208"]
[209,"Stevens","Moscow Public Schools ",184.9,0,184.9,185.7,0,185.7,163.19999999999999,{"$f":"IF(ISNA(VLOOKUP($DC27,'Audit Values'!$A$2:$AE$252,2,FALSE)),'Preliminary SO66'!B24,VLOOKUP($DC27,'Audit Values'!$A$2:$AE$252,31,FALSE))","v":163.19999999999999},185.7,{"$f":"IF(ISNA(VLOOKUP($DC27,'Audit Values'!$A$2:$AE$252,2,FALSE)),'Preliminary SO66'!Z24,VLOOKUP($DC27,'Audit Values'!$A$2:$AE$252,26,FALSE))","v":0},185.7,{"$f":"IF(ISNA(VLOOKUP($DC27,'Audit Values'!$A$2:$AE$252,2,FALSE)),'Preliminary SO66'!C24,IF(VLOOKUP($DC27,'Audit Values'!$A$2:$AE$252,28,FALSE)=\"\",VLOOKUP($DC27,'Audit Values'!$A$2:$AE$252,3,FALSE),VLOOKUP($DC27,'Audit Values'!$A$2:$AE$252,28,FALSE)))","v":4},167.2,167.2,167.2,189.7,0,147.30000000000001,147.30000000000001,0,{"$f":"IF(ISNA(VLOOKUP($DC27,'Audit Values'!$A$2:$AE$252,2,FALSE)),'Preliminary SO66'!D24,VLOOKUP($DC27,'Audit Values'!$A$2:$AE$252,4,FALSE))","v":0},{"$f":"ROUND((X27/6)*Weightings!$M$6,1)","v":0},{"$f":"IF(ISNA(VLOOKUP($DC27,'Audit Values'!$A$2:$AE$252,2,FALSE)),'Preliminary SO66'!F24,VLOOKUP($DC27,'Audit Values'!$A$2:$AE$252,6,FALSE))","v":216.2},{"$f":"ROUND((Z27/6)*Weightings!$M$7,1)","v":14.2},{"$f":"IF(ISNA(VLOOKUP($DC27,'Audit Values'!$A$2:$AE$252,2,FALSE)),'Preliminary SO66'!H24,VLOOKUP($DC27,'Audit Values'!$A$2:$AE$252,9,FALSE))","v":83},{"$f":"ROUND(AB27*Weightings!$M$8,1)","v":37.799999999999997},5.0999999999999996,0,{"$f":"AE27*Weightings!$M$9","v":0},{"$f":"IF(ISNA(VLOOKUP($DC27,'Audit Values'!$A$2:$AE$252,2,FALSE)),'Preliminary SO66'!L24,VLOOKUP($DC27,'Audit Values'!$A$2:$AE$252,12,FALSE))","v":0},{"$f":"ROUND(AG27*Weightings!$M$10,1)","v":0},{"$f":"IF(ISNA(VLOOKUP($DC27,'Audit Values'!$A$2:$AE$252,2,FALSE)),'Preliminary SO66'!O24,VLOOKUP($DC27,'Audit Values'!$A$2:$AE$252,15,FALSE))","v":41},17,{"$f":"CG27/Weightings!$M$5","v":0},{"$f":"CH27/Weightings!$M$5","v":0},{"$f":"CL27/Weightings!$M$5","v":0},0,{"$f":"IF(ISNA(VLOOKUP($DC27,'Audit Values'!$A$2:$AE$252,2,FALSE)),'Preliminary SO66'!X24,VLOOKUP($DC27,'Audit Values'!$A$2:$AE$252,24,FALSE))","v":0},114047,{"$f":"AP27/Weightings!$M$5","v":29.6},411.1,440.7,440.7,0,{"$f":"IF(ISNA(VLOOKUP($DC27,'Audit Values'!$A$2:$AC$299,2,FALSE)),\"\",IF(AND(Weightings!H27>0,VLOOKUP($DC27,'Audit Values'!$A$2:$AC$299,29,FALSE)<Weightings!H27),Weightings!H27,VLOOKUP($DC27,'Audit Values'!$A$2:$AC$299,29,FALSE)))","v":9},{"$f":"IF(ISNA(VLOOKUP($DC27,'Audit Values'!$A$2:$AD$299,2,FALSE)),\"\",VLOOKUP($DC27,'Audit Values'!$A$2:$AD$299,30,FALSE))","v":"A"},{"$f":"IF(Weightings!G27=\"\",\"\",IF(Weightings!I27=\"Pending\",\"PX\",\"R\"))","v":""},{"$f":"AR27*Weightings!$M$5+AU27","v":1583557},{"$f":"AT27*Weightings!$M$5+AU27","v":1697576},{"$f":"IF(Weightings!G27>0,Weightings!G27,'Preliminary SO66'!AB24)","v":1923644},0,141908,0,1781736,1697576,null,{"$f":"Weightings!E27","v":0},{"$f":"Weightings!F27","v":0},0,1697576,{"$f":"MAX(ROUND(((AR27-AN27-AO27)*Weightings!$M$12)+'2016legmax.xls'!AP27,0),ROUND((('2016legmax.xls'!AR27-'2016legmax.xls'!AN27-'2016legmax.xls'!AO27)*Weightings!$M$12)+Weightings!B27,0))","v":1984000},0.33,654720,674130,654720,0.33,0,true,866.05399999999997,0.77656099999999995,147.30000000000001,false,0,0,0,0,223,0.18,{"$f":"IF(ROUND((Weightings!$P$5*CC27^Weightings!$P$6*Weightings!$P$8 ),2)<Weightings!$P$7,Weightings!$P$7,ROUND((Weightings!$P$5*CC27^Weightings!$P$6*Weightings!$P$8 ),2))","v":1595.42},{"$f":"ROUND(CD27/Weightings!$M$5,4)","v":0.41420000000000001},17,0,0,0,0,{"$f":"AS27*Weightings!$M$5*CJ27","v":0},0,0.438,0.9,0,0,5.0999999999999996,{"$f":"IF(ISNA(VLOOKUP($DC27,'Audit Values'!$A$2:$AE$252,2,FALSE)),'Preliminary SO66'!T24,VLOOKUP($DC27,'Audit Values'!$A$2:$AE$252,20,FALSE))","v":0},{"$f":"IF(ISNA(VLOOKUP($DC27,'Audit Values'!$A$2:$AE$252,21,FALSE)),'Preliminary SO66'!U24,VLOOKUP($DC27,'Audit Values'!$A$2:$AE$252,21,FALSE))","v":0},0,0,null,null,null,null,null,null,null,"D0209"]
[210,"Stevens","Hugoton Public Schools ",1020.8,0,1020.8,1036.8,0,1036.8,1012.4,{"$f":"IF(ISNA(VLOOKUP($DC28,'Audit Values'!$A$2:$AE$252,2,FALSE)),'Preliminary SO66'!B25,VLOOKUP($DC28,'Audit Values'!$A$2:$AE$252,31,FALSE))","v":1010.4},1036.8,{"$f":"IF(ISNA(VLOOKUP($DC28,'Audit Values'!$A$2:$AE$252,2,FALSE)),'Preliminary SO66'!Z25,VLOOKUP($DC28,'Audit Values'!$A$2:$AE$252,26,FALSE))","v":0},1036.8,{"$f":"IF(ISNA(VLOOKUP($DC28,'Audit Values'!$A$2:$AE$252,2,FALSE)),'Preliminary SO66'!C25,IF(VLOOKUP($DC28,'Audit Values'!$A$2:$AE$252,28,FALSE)=\"\",VLOOKUP($DC28,'Audit Values'!$A$2:$AE$252,3,FALSE),VLOOKUP($DC28,'Audit Values'!$A$2:$AE$252,28,FALSE)))","v":30},1040.4000000000001,1042.4000000000001,1042.4000000000001,1066.8,2,238.6,238.6,0,{"$f":"IF(ISNA(VLOOKUP($DC28,'Audit Values'!$A$2:$AE$252,2,FALSE)),'Preliminary SO66'!D25,VLOOKUP($DC28,'Audit Values'!$A$2:$AE$252,4,FALSE))","v":298.10000000000002},{"$f":"ROUND((X28/6)*Weightings!$M$6,1)","v":24.8},{"$f":"IF(ISNA(VLOOKUP($DC28,'Audit Values'!$A$2:$AE$252,2,FALSE)),'Preliminary SO66'!F25,VLOOKUP($DC28,'Audit Values'!$A$2:$AE$252,6,FALSE))","v":1527.7},{"$f":"ROUND((Z28/6)*Weightings!$M$7,1)","v":100.6},{"$f":"IF(ISNA(VLOOKUP($DC28,'Audit Values'!$A$2:$AE$252,2,FALSE)),'Preliminary SO66'!H25,VLOOKUP($DC28,'Audit Values'!$A$2:$AE$252,9,FALSE))","v":538},{"$f":"ROUND(AB28*Weightings!$M$8,1)","v":245.3},56.5,0,{"$f":"AE28*Weightings!$M$9","v":0},{"$f":"IF(ISNA(VLOOKUP($DC28,'Audit Values'!$A$2:$AE$252,2,FALSE)),'Preliminary SO66'!L25,VLOOKUP($DC28,'Audit Values'!$A$2:$AE$252,12,FALSE))","v":0},{"$f":"ROUND(AG28*Weightings!$M$10,1)","v":0},{"$f":"IF(ISNA(VLOOKUP($DC28,'Audit Values'!$A$2:$AE$252,2,FALSE)),'Preliminary SO66'!O25,VLOOKUP($DC28,'Audit Values'!$A$2:$AE$252,15,FALSE))","v":174},64.2,{"$f":"CG28/Weightings!$M$5","v":0},{"$f":"CH28/Weightings!$M$5","v":0},{"$f":"CL28/Weightings!$M$5","v":0},2.1,{"$f":"IF(ISNA(VLOOKUP($DC28,'Audit Values'!$A$2:$AE$252,2,FALSE)),'Preliminary SO66'!X25,VLOOKUP($DC28,'Audit Values'!$A$2:$AE$252,24,FALSE))","v":0},567982,{"$f":"AP28/Weightings!$M$5","v":147.5},1798.9,1946.4,1946.4,0,{"$f":"IF(ISNA(VLOOKUP($DC28,'Audit Values'!$A$2:$AC$299,2,FALSE)),\"\",IF(AND(Weightings!H28>0,VLOOKUP($DC28,'Audit Values'!$A$2:$AC$299,29,FALSE)<Weightings!H28),Weightings!H28,VLOOKUP($DC28,'Audit Values'!$A$2:$AC$299,29,FALSE)))","v":9},{"$f":"IF(ISNA(VLOOKUP($DC28,'Audit Values'!$A$2:$AD$299,2,FALSE)),\"\",VLOOKUP($DC28,'Audit Values'!$A$2:$AD$299,30,FALSE))","v":"A"},{"$f":"IF(Weightings!G28=\"\",\"\",IF(Weightings!I28=\"Pending\",\"PX\",\"R\"))","v":""},{"$f":"AR28*Weightings!$M$5+AU28","v":6929363},{"$f":"AT28*Weightings!$M$5+AU28","v":7497533},{"$f":"IF(Weightings!G28>0,Weightings!G28,'Preliminary SO66'!AB25)","v":8266363},0,567591,0,7698772,7497533,null,{"$f":"Weightings!E28","v":0},{"$f":"Weightings!F28","v":0},0,7497533,{"$f":"MAX(ROUND(((AR28-AN28-AO28)*Weightings!$M$12)+'2016legmax.xls'!AP28,0),ROUND((('2016legmax.xls'!AR28-'2016legmax.xls'!AN28-'2016legmax.xls'!AO28)*Weightings!$M$12)+Weightings!B28,0))","v":8690411},0.3,2607123,2554725,2554725,0.29399999999999998,0,false,0,0,0,true,948.91499999999996,0.223667,238.6,0,575,0.3,{"$f":"IF(ROUND((Weightings!$P$5*CC28^Weightings!$P$6*Weightings!$P$8 ),2)<Weightings!$P$7,Weightings!$P$7,ROUND((Weightings!$P$5*CC28^Weightings!$P$6*Weightings!$P$8 ),2))","v":1421.32},{"$f":"ROUND(CD28/Weightings!$M$5,4)","v":0.36899999999999999},64.2,0,0,0,0,{"$f":"AS28*Weightings!$M$5*CJ28","v":0},0,0.504,1.9,56.5,0,0,{"$f":"IF(ISNA(VLOOKUP($DC28,'Audit Values'!$A$2:$AE$252,2,FALSE)),'Preliminary SO66'!T25,VLOOKUP($DC28,'Audit Values'!$A$2:$AE$252,20,FALSE))","v":2},{"$f":"IF(ISNA(VLOOKUP($DC28,'Audit Values'!$A$2:$AE$252,21,FALSE)),'Preliminary SO66'!U25,VLOOKUP($DC28,'Audit Values'!$A$2:$AE$252,21,FALSE))","v":0},0,2,null,null,null,null,null,null,null,"D0210"]
[211,"Norton","Norton Community Schools ",695,0,695,689.1,0,689.1,677.7,{"$f":"IF(ISNA(VLOOKUP($DC29,'Audit Values'!$A$2:$AE$252,2,FALSE)),'Preliminary SO66'!B26,VLOOKUP($DC29,'Audit Values'!$A$2:$AE$252,31,FALSE))","v":677.7},689.1,{"$f":"IF(ISNA(VLOOKUP($DC29,'Audit Values'!$A$2:$AE$252,2,FALSE)),'Preliminary SO66'!Z26,VLOOKUP($DC29,'Audit Values'!$A$2:$AE$252,26,FALSE))","v":0},689.1,{"$f":"IF(ISNA(VLOOKUP($DC29,'Audit Values'!$A$2:$AE$252,2,FALSE)),'Preliminary SO66'!C26,IF(VLOOKUP($DC29,'Audit Values'!$A$2:$AE$252,28,FALSE)=\"\",VLOOKUP($DC29,'Audit Values'!$A$2:$AE$252,3,FALSE),VLOOKUP($DC29,'Audit Values'!$A$2:$AE$252,28,FALSE)))","v":0},677.7,677.7,677.7,689.1,0,242.6,242.6,0,{"$f":"IF(ISNA(VLOOKUP($DC29,'Audit Values'!$A$2:$AE$252,2,FALSE)),'Preliminary SO66'!D26,VLOOKUP($DC29,'Audit Values'!$A$2:$AE$252,4,FALSE))","v":139.69999999999999},{"$f":"ROUND((X29/6)*Weightings!$M$6,1)","v":11.6},{"$f":"IF(ISNA(VLOOKUP($DC29,'Audit Values'!$A$2:$AE$252,2,FALSE)),'Preliminary SO66'!F26,VLOOKUP($DC29,'Audit Values'!$A$2:$AE$252,6,FALSE))","v":0},{"$f":"ROUND((Z29/6)*Weightings!$M$7,1)","v":0},{"$f":"IF(ISNA(VLOOKUP($DC29,'Audit Values'!$A$2:$AE$252,2,FALSE)),'Preliminary SO66'!H26,VLOOKUP($DC29,'Audit Values'!$A$2:$AE$252,9,FALSE))","v":199},{"$f":"ROUND(AB29*Weightings!$M$8,1)","v":90.7},0,0,{"$f":"AE29*Weightings!$M$9","v":0},{"$f":"IF(ISNA(VLOOKUP($DC29,'Audit Values'!$A$2:$AE$252,2,FALSE)),'Preliminary SO66'!L26,VLOOKUP($DC29,'Audit Values'!$A$2:$AE$252,12,FALSE))","v":0},{"$f":"ROUND(AG29*Weightings!$M$10,1)","v":0},{"$f":"IF(ISNA(VLOOKUP($DC29,'Audit Values'!$A$2:$AE$252,2,FALSE)),'Preliminary SO66'!O26,VLOOKUP($DC29,'Audit Values'!$A$2:$AE$252,15,FALSE))","v":143.5},57.4,{"$f":"CG29/Weightings!$M$5","v":0},{"$f":"CH29/Weightings!$M$5","v":0},{"$f":"CL29/Weightings!$M$5","v":0},0,{"$f":"IF(ISNA(VLOOKUP($DC29,'Audit Values'!$A$2:$AE$252,2,FALSE)),'Preliminary SO66'!X26,VLOOKUP($DC29,'Audit Values'!$A$2:$AE$252,24,FALSE))","v":0},821694,{"$f":"AP29/Weightings!$M$5","v":213.3},1091.4000000000001,1304.7,1304.7,133634,{"$f":"IF(ISNA(VLOOKUP($DC29,'Audit Values'!$A$2:$AC$299,2,FALSE)),\"\",IF(AND(Weightings!H29>0,VLOOKUP($DC29,'Audit Values'!$A$2:$AC$299,29,FALSE)<Weightings!H29),Weightings!H29,VLOOKUP($DC29,'Audit Values'!$A$2:$AC$299,29,FALSE)))","v":16},{"$f":"IF(ISNA(VLOOKUP($DC29,'Audit Values'!$A$2:$AD$299,2,FALSE)),\"\",VLOOKUP($DC29,'Audit Values'!$A$2:$AD$299,30,FALSE))","v":"A"},{"$f":"IF(Weightings!G29=\"\",\"\",IF(Weightings!I29=\"Pending\",\"PX\",\"R\"))","v":""},{"$f":"AR29*Weightings!$M$5+AU29","v":4337707},{"$f":"AT29*Weightings!$M$5+AU29","v":5159338},{"$f":"IF(Weightings!G29>0,Weightings!G29,'Preliminary SO66'!AB26)","v":6657807},792076,344895,41196,5479640,5159338,null,{"$f":"Weightings!E29","v":0},{"$f":"Weightings!F29","v":0},0,5159338,{"$f":"MAX(ROUND(((AR29-AN29-AO29)*Weightings!$M$12)+'2016legmax.xls'!AP29,0),ROUND((('2016legmax.xls'!AR29-'2016legmax.xls'!AN29-'2016legmax.xls'!AO29)*Weightings!$M$12)+Weightings!B29,0))","v":5766920},0.3,1730076,1759037,1730076,0.3,0,false,0,0,0,true,481.51130000000001,0.35199000000000003,242.6,0,678,0.21,{"$f":"IF(ROUND((Weightings!$P$5*CC29^Weightings!$P$6*Weightings!$P$8 ),2)<Weightings!$P$7,Weightings!$P$7,ROUND((Weightings!$P$5*CC29^Weightings!$P$6*Weightings!$P$8 ),2))","v":1540.75},{"$f":"ROUND(CD29/Weightings!$M$5,4)","v":0.4},57.4,0,0,0,0,{"$f":"AS29*Weightings!$M$5*CJ29","v":0},0,0.28899999999999998,1,0,0,0,{"$f":"IF(ISNA(VLOOKUP($DC29,'Audit Values'!$A$2:$AE$252,2,FALSE)),'Preliminary SO66'!T26,VLOOKUP($DC29,'Audit Values'!$A$2:$AE$252,20,FALSE))","v":0},{"$f":"IF(ISNA(VLOOKUP($DC29,'Audit Values'!$A$2:$AE$252,21,FALSE)),'Preliminary SO66'!U26,VLOOKUP($DC29,'Audit Values'!$A$2:$AE$252,21,FALSE))","v":0},0,0,null,null,null,null,null,null,null,"D0211"]
[212,"Norton","Northern Valley ",170,0,170,169.5,0,169.5,163,{"$f":"IF(ISNA(VLOOKUP($DC30,'Audit Values'!$A$2:$AE$252,2,FALSE)),'Preliminary SO66'!B27,VLOOKUP($DC30,'Audit Values'!$A$2:$AE$252,31,FALSE))","v":163},169.5,{"$f":"IF(ISNA(VLOOKUP($DC30,'Audit Values'!$A$2:$AE$252,2,FALSE)),'Preliminary SO66'!Z27,VLOOKUP($DC30,'Audit Values'!$A$2:$AE$252,26,FALSE))","v":0},169.5,{"$f":"IF(ISNA(VLOOKUP($DC30,'Audit Values'!$A$2:$AE$252,2,FALSE)),'Preliminary SO66'!C27,IF(VLOOKUP($DC30,'Audit Values'!$A$2:$AE$252,28,FALSE)=\"\",VLOOKUP($DC30,'Audit Values'!$A$2:$AE$252,3,FALSE),VLOOKUP($DC30,'Audit Values'!$A$2:$AE$252,28,FALSE)))","v":1.5},164.5,164.5,164.5,171,0,141.30000000000001,141.30000000000001,0,{"$f":"IF(ISNA(VLOOKUP($DC30,'Audit Values'!$A$2:$AE$252,2,FALSE)),'Preliminary SO66'!D27,VLOOKUP($DC30,'Audit Values'!$A$2:$AE$252,4,FALSE))","v":20.8},{"$f":"ROUND((X30/6)*Weightings!$M$6,1)","v":1.7},{"$f":"IF(ISNA(VLOOKUP($DC30,'Audit Values'!$A$2:$AE$252,2,FALSE)),'Preliminary SO66'!F27,VLOOKUP($DC30,'Audit Values'!$A$2:$AE$252,6,FALSE))","v":0},{"$f":"ROUND((Z30/6)*Weightings!$M$7,1)","v":0},{"$f":"IF(ISNA(VLOOKUP($DC30,'Audit Values'!$A$2:$AE$252,2,FALSE)),'Preliminary SO66'!H27,VLOOKUP($DC30,'Audit Values'!$A$2:$AE$252,9,FALSE))","v":71},{"$f":"ROUND(AB30*Weightings!$M$8,1)","v":32.4},3.2,0,{"$f":"AE30*Weightings!$M$9","v":0},{"$f":"IF(ISNA(VLOOKUP($DC30,'Audit Values'!$A$2:$AE$252,2,FALSE)),'Preliminary SO66'!L27,VLOOKUP($DC30,'Audit Values'!$A$2:$AE$252,12,FALSE))","v":0},{"$f":"ROUND(AG30*Weightings!$M$10,1)","v":0},{"$f":"IF(ISNA(VLOOKUP($DC30,'Audit Values'!$A$2:$AE$252,2,FALSE)),'Preliminary SO66'!O27,VLOOKUP($DC30,'Audit Values'!$A$2:$AE$252,15,FALSE))","v":92},32.799999999999997,{"$f":"CG30/Weightings!$M$5","v":0},{"$f":"CH30/Weightings!$M$5","v":0},{"$f":"CL30/Weightings!$M$5","v":0},0,{"$f":"IF(ISNA(VLOOKUP($DC30,'Audit Values'!$A$2:$AE$252,2,FALSE)),'Preliminary SO66'!X27,VLOOKUP($DC30,'Audit Values'!$A$2:$AE$252,24,FALSE))","v":0},215616,{"$f":"AP30/Weightings!$M$5","v":56},382.4,438.4,438.4,0,{"$f":"IF(ISNA(VLOOKUP($DC30,'Audit Values'!$A$2:$AC$299,2,FALSE)),\"\",IF(AND(Weightings!H30>0,VLOOKUP($DC30,'Audit Values'!$A$2:$AC$299,29,FALSE)<Weightings!H30),Weightings!H30,VLOOKUP($DC30,'Audit Values'!$A$2:$AC$299,29,FALSE)))","v":12},{"$f":"IF(ISNA(VLOOKUP($DC30,'Audit Values'!$A$2:$AD$299,2,FALSE)),\"\",VLOOKUP($DC30,'Audit Values'!$A$2:$AD$299,30,FALSE))","v":"A"},{"$f":"IF(Weightings!G30=\"\",\"\",IF(Weightings!I30=\"Pending\",\"PX\",\"R\"))","v":""},{"$f":"AR30*Weightings!$M$5+AU30","v":1473005},{"$f":"AT30*Weightings!$M$5+AU30","v":1688717},{"$f":"IF(Weightings!G30>0,Weightings!G30,'Preliminary SO66'!AB27)","v":1991322},164239,113780,0,1713303,1688717,null,{"$f":"Weightings!E30","v":0},{"$f":"Weightings!F30","v":0},0,1688717,{"$f":"MAX(ROUND(((AR30-AN30-AO30)*Weightings!$M$12)+'2016legmax.xls'!AP30,0),ROUND((('2016legmax.xls'!AR30-'2016legmax.xls'!AN30-'2016legmax.xls'!AO30)*Weightings!$M$12)+Weightings!B30,0))","v":1964076},0.3,589223,585990,585990,0.2984,0,true,685.505,0.82613000000000003,141.30000000000001,false,0,0,0,0,263,0.35,{"$f":"IF(ROUND((Weightings!$P$5*CC30^Weightings!$P$6*Weightings!$P$8 ),2)<Weightings!$P$7,Weightings!$P$7,ROUND((Weightings!$P$5*CC30^Weightings!$P$6*Weightings!$P$8 ),2))","v":1372.61},{"$f":"ROUND(CD30/Weightings!$M$5,4)","v":0.35630000000000001},32.799999999999997,0,0,0,0,{"$f":"AS30*Weightings!$M$5*CJ30","v":0},0,0.41499999999999998,0.7,0,0,3.2,{"$f":"IF(ISNA(VLOOKUP($DC30,'Audit Values'!$A$2:$AE$252,2,FALSE)),'Preliminary SO66'!T27,VLOOKUP($DC30,'Audit Values'!$A$2:$AE$252,20,FALSE))","v":0},{"$f":"IF(ISNA(VLOOKUP($DC30,'Audit Values'!$A$2:$AE$252,21,FALSE)),'Preliminary SO66'!U27,VLOOKUP($DC30,'Audit Values'!$A$2:$AE$252,21,FALSE))","v":0},0,0,null,null,null,null,null,null,null,"D0212"]
[214,"Grant","Ulysses ",1640.5,0,1640.5,1670.3,0,1670.3,1674.9,{"$f":"IF(ISNA(VLOOKUP($DC31,'Audit Values'!$A$2:$AE$252,2,FALSE)),'Preliminary SO66'!B28,VLOOKUP($DC31,'Audit Values'!$A$2:$AE$252,31,FALSE))","v":1626},1670.3,{"$f":"IF(ISNA(VLOOKUP($DC31,'Audit Values'!$A$2:$AE$252,2,FALSE)),'Preliminary SO66'!Z28,VLOOKUP($DC31,'Audit Values'!$A$2:$AE$252,26,FALSE))","v":0},1670.3,{"$f":"IF(ISNA(VLOOKUP($DC31,'Audit Values'!$A$2:$AE$252,2,FALSE)),'Preliminary SO66'!C28,IF(VLOOKUP($DC31,'Audit Values'!$A$2:$AE$252,28,FALSE)=\"\",VLOOKUP($DC31,'Audit Values'!$A$2:$AE$252,3,FALSE),VLOOKUP($DC31,'Audit Values'!$A$2:$AE$252,28,FALSE)))","v":23.5},1649.5,1698.4,1698.4,1693.8,48.9,59.4,0,59.4,{"$f":"IF(ISNA(VLOOKUP($DC31,'Audit Values'!$A$2:$AE$252,2,FALSE)),'Preliminary SO66'!D28,VLOOKUP($DC31,'Audit Values'!$A$2:$AE$252,4,FALSE))","v":654.70000000000005},{"$f":"ROUND((X31/6)*Weightings!$M$6,1)","v":54.6},{"$f":"IF(ISNA(VLOOKUP($DC31,'Audit Values'!$A$2:$AE$252,2,FALSE)),'Preliminary SO66'!F28,VLOOKUP($DC31,'Audit Values'!$A$2:$AE$252,6,FALSE))","v":2072.6},{"$f":"ROUND((Z31/6)*Weightings!$M$7,1)","v":136.4},{"$f":"IF(ISNA(VLOOKUP($DC31,'Audit Values'!$A$2:$AE$252,2,FALSE)),'Preliminary SO66'!H28,VLOOKUP($DC31,'Audit Values'!$A$2:$AE$252,9,FALSE))","v":894},{"$f":"ROUND(AB31*Weightings!$M$8,1)","v":407.7},93.9,0,{"$f":"AE31*Weightings!$M$9","v":0},{"$f":"IF(ISNA(VLOOKUP($DC31,'Audit Values'!$A$2:$AE$252,2,FALSE)),'Preliminary SO66'!L28,VLOOKUP($DC31,'Audit Values'!$A$2:$AE$252,12,FALSE))","v":0},{"$f":"ROUND(AG31*Weightings!$M$10,1)","v":0},{"$f":"IF(ISNA(VLOOKUP($DC31,'Audit Values'!$A$2:$AE$252,2,FALSE)),'Preliminary SO66'!O28,VLOOKUP($DC31,'Audit Values'!$A$2:$AE$252,15,FALSE))","v":198},69.3,{"$f":"CG31/Weightings!$M$5","v":0},{"$f":"CH31/Weightings!$M$5","v":0},{"$f":"CL31/Weightings!$M$5","v":0},51.3,{"$f":"IF(ISNA(VLOOKUP($DC31,'Audit Values'!$A$2:$AE$252,2,FALSE)),'Preliminary SO66'!X28,VLOOKUP($DC31,'Audit Values'!$A$2:$AE$252,24,FALSE))","v":0},875211,{"$f":"AP31/Weightings!$M$5","v":227.2},2566.4,2793.6,2793.6,0,{"$f":"IF(ISNA(VLOOKUP($DC31,'Audit Values'!$A$2:$AC$299,2,FALSE)),\"\",IF(AND(Weightings!H31>0,VLOOKUP($DC31,'Audit Values'!$A$2:$AC$299,29,FALSE)<Weightings!H31),Weightings!H31,VLOOKUP($DC31,'Audit Values'!$A$2:$AC$299,29,FALSE)))","v":9},{"$f":"IF(ISNA(VLOOKUP($DC31,'Audit Values'!$A$2:$AD$299,2,FALSE)),\"\",VLOOKUP($DC31,'Audit Values'!$A$2:$AD$299,30,FALSE))","v":"A"},{"$f":"IF(Weightings!G31=\"\",\"\",IF(Weightings!I31=\"Pending\",\"PX\",\"R\"))","v":""},{"$f":"AR31*Weightings!$M$5+AU31","v":9885773},{"$f":"AT31*Weightings!$M$5+AU31","v":10760947},{"$f":"IF(Weightings!G31>0,Weightings!G31,'Preliminary SO66'!AB28)","v":11968945},0,775752,0,11193193,10760947,null,{"$f":"Weightings!E31","v":0},{"$f":"Weightings!F31","v":0},0,10760947,{"$f":"MAX(ROUND(((AR31-AN31-AO31)*Weightings!$M$12)+'2016legmax.xls'!AP31,0),ROUND((('2016legmax.xls'!AR31-'2016legmax.xls'!AN31-'2016legmax.xls'!AO31)*Weightings!$M$12)+Weightings!B31,0))","v":12287029},0.3,3686109,3649066,3649066,0.29699999999999999,0,false,0,0,0,false,0,0,0,59.4,517,0.38,{"$f":"IF(ROUND((Weightings!$P$5*CC31^Weightings!$P$6*Weightings!$P$8 ),2)<Weightings!$P$7,Weightings!$P$7,ROUND((Weightings!$P$5*CC31^Weightings!$P$6*Weightings!$P$8 ),2))","v":1347.32},{"$f":"ROUND(CD31/Weightings!$M$5,4)","v":0.3498},69.3,0,0,0,0,{"$f":"AS31*Weightings!$M$5*CJ31","v":0},0,0.52800000000000002,3.3,93.9,0,0,{"$f":"IF(ISNA(VLOOKUP($DC31,'Audit Values'!$A$2:$AE$252,2,FALSE)),'Preliminary SO66'!T28,VLOOKUP($DC31,'Audit Values'!$A$2:$AE$252,20,FALSE))","v":0},{"$f":"IF(ISNA(VLOOKUP($DC31,'Audit Values'!$A$2:$AE$252,21,FALSE)),'Preliminary SO66'!U28,VLOOKUP($DC31,'Audit Values'!$A$2:$AE$252,21,FALSE))","v":1.9},47,48.9,null,null,null,null,null,null,null,"D0214"]
[215,"Kearny","Lakin ",631.4,0,631.4,635.6,0,635.6,586,{"$f":"IF(ISNA(VLOOKUP($DC32,'Audit Values'!$A$2:$AE$252,2,FALSE)),'Preliminary SO66'!B29,VLOOKUP($DC32,'Audit Values'!$A$2:$AE$252,31,FALSE))","v":586},635.6,{"$f":"IF(ISNA(VLOOKUP($DC32,'Audit Values'!$A$2:$AE$252,2,FALSE)),'Preliminary SO66'!Z29,VLOOKUP($DC32,'Audit Values'!$A$2:$AE$252,26,FALSE))","v":0},635.6,{"$f":"IF(ISNA(VLOOKUP($DC32,'Audit Values'!$A$2:$AE$252,2,FALSE)),'Preliminary SO66'!C29,IF(VLOOKUP($DC32,'Audit Values'!$A$2:$AE$252,28,FALSE)=\"\",VLOOKUP($DC32,'Audit Values'!$A$2:$AE$252,3,FALSE),VLOOKUP($DC32,'Audit Values'!$A$2:$AE$252,28,FALSE)))","v":6},592,592,592,641.6,0,236.2,236.2,0,{"$f":"IF(ISNA(VLOOKUP($DC32,'Audit Values'!$A$2:$AE$252,2,FALSE)),'Preliminary SO66'!D29,VLOOKUP($DC32,'Audit Values'!$A$2:$AE$252,4,FALSE))","v":80.400000000000006},{"$f":"ROUND((X32/6)*Weightings!$M$6,1)","v":6.7},{"$f":"IF(ISNA(VLOOKUP($DC32,'Audit Values'!$A$2:$AE$252,2,FALSE)),'Preliminary SO66'!F29,VLOOKUP($DC32,'Audit Values'!$A$2:$AE$252,6,FALSE))","v":686.6},{"$f":"ROUND((Z32/6)*Weightings!$M$7,1)","v":45.2},{"$f":"IF(ISNA(VLOOKUP($DC32,'Audit Values'!$A$2:$AE$252,2,FALSE)),'Preliminary SO66'!H29,VLOOKUP($DC32,'Audit Values'!$A$2:$AE$252,9,FALSE))","v":285},{"$f":"ROUND(AB32*Weightings!$M$8,1)","v":130},18.8,0,{"$f":"AE32*Weightings!$M$9","v":0},{"$f":"IF(ISNA(VLOOKUP($DC32,'Audit Values'!$A$2:$AE$252,2,FALSE)),'Preliminary SO66'!L29,VLOOKUP($DC32,'Audit Values'!$A$2:$AE$252,12,FALSE))","v":0},{"$f":"ROUND(AG32*Weightings!$M$10,1)","v":0},{"$f":"IF(ISNA(VLOOKUP($DC32,'Audit Values'!$A$2:$AE$252,2,FALSE)),'Preliminary SO66'!O29,VLOOKUP($DC32,'Audit Values'!$A$2:$AE$252,15,FALSE))","v":83},37,{"$f":"CG32/Weightings!$M$5","v":0},{"$f":"CH32/Weightings!$M$5","v":0},{"$f":"CL32/Weightings!$M$5","v":0},0,{"$f":"IF(ISNA(VLOOKUP($DC32,'Audit Values'!$A$2:$AE$252,2,FALSE)),'Preliminary SO66'!X29,VLOOKUP($DC32,'Audit Values'!$A$2:$AE$252,24,FALSE))","v":0},343590,{"$f":"AP32/Weightings!$M$5","v":89.2},1115.5,1204.7,1204.7,0,{"$f":"IF(ISNA(VLOOKUP($DC32,'Audit Values'!$A$2:$AC$299,2,FALSE)),\"\",IF(AND(Weightings!H32>0,VLOOKUP($DC32,'Audit Values'!$A$2:$AC$299,29,FALSE)<Weightings!H32),Weightings!H32,VLOOKUP($DC32,'Audit Values'!$A$2:$AC$299,29,FALSE)))","v":12},{"$f":"IF(ISNA(VLOOKUP($DC32,'Audit Values'!$A$2:$AD$299,2,FALSE)),\"\",VLOOKUP($DC32,'Audit Values'!$A$2:$AD$299,30,FALSE))","v":"A"},{"$f":"IF(Weightings!G32=\"\",\"\",IF(Weightings!I32=\"Pending\",\"PX\",\"R\"))","v":""},{"$f":"AR32*Weightings!$M$5+AU32","v":4296906},{"$f":"AT32*Weightings!$M$5+AU32","v":4640504},{"$f":"IF(Weightings!G32>0,Weightings!G32,'Preliminary SO66'!AB29)","v":5223169},0,340816,0,4882353,4640504,null,{"$f":"Weightings!E32","v":0},{"$f":"Weightings!F32","v":0},0,4640504,{"$f":"MAX(ROUND(((AR32-AN32-AO32)*Weightings!$M$12)+'2016legmax.xls'!AP32,0),ROUND((('2016legmax.xls'!AR32-'2016legmax.xls'!AN32-'2016legmax.xls'!AO32)*Weightings!$M$12)+Weightings!B32,0))","v":5405146},0.3,1621544,1622083,1621544,0.3,0,false,0,0,0,true,422.73,0.36812800000000001,236.2,0,646,0.13,{"$f":"IF(ROUND((Weightings!$P$5*CC32^Weightings!$P$6*Weightings!$P$8 ),2)<Weightings!$P$7,Weightings!$P$7,ROUND((Weightings!$P$5*CC32^Weightings!$P$6*Weightings!$P$8 ),2))","v":1717.3},{"$f":"ROUND(CD32/Weightings!$M$5,4)","v":0.44579999999999997},37,0,0,0,0,{"$f":"AS32*Weightings!$M$5*CJ32","v":0},0,0.44400000000000001,1,0,0,18.8,{"$f":"IF(ISNA(VLOOKUP($DC32,'Audit Values'!$A$2:$AE$252,2,FALSE)),'Preliminary SO66'!T29,VLOOKUP($DC32,'Audit Values'!$A$2:$AE$252,20,FALSE))","v":0},{"$f":"IF(ISNA(VLOOKUP($DC32,'Audit Values'!$A$2:$AE$252,21,FALSE)),'Preliminary SO66'!U29,VLOOKUP($DC32,'Audit Values'!$A$2:$AE$252,21,FALSE))","v":0},0,0,null,null,null,null,null,null,null,"D0215"]
[216,"Kearny","Deerfield ",231.5,0,231.5,192,0,192,184.5,{"$f":"IF(ISNA(VLOOKUP($DC33,'Audit Values'!$A$2:$AE$252,2,FALSE)),'Preliminary SO66'!B30,VLOOKUP($DC33,'Audit Values'!$A$2:$AE$252,31,FALSE))","v":184.5},202.7,{"$f":"IF(ISNA(VLOOKUP($DC33,'Audit Values'!$A$2:$AE$252,2,FALSE)),'Preliminary SO66'!Z30,VLOOKUP($DC33,'Audit Values'!$A$2:$AE$252,26,FALSE))","v":0},202.7,{"$f":"IF(ISNA(VLOOKUP($DC33,'Audit Values'!$A$2:$AE$252,2,FALSE)),'Preliminary SO66'!C30,IF(VLOOKUP($DC33,'Audit Values'!$A$2:$AE$252,28,FALSE)=\"\",VLOOKUP($DC33,'Audit Values'!$A$2:$AE$252,3,FALSE),VLOOKUP($DC33,'Audit Values'!$A$2:$AE$252,28,FALSE)))","v":4},188.5,188.5,188.5,206.7,0,151.19999999999999,151.19999999999999,0,{"$f":"IF(ISNA(VLOOKUP($DC33,'Audit Values'!$A$2:$AE$252,2,FALSE)),'Preliminary SO66'!D30,VLOOKUP($DC33,'Audit Values'!$A$2:$AE$252,4,FALSE))","v":72},{"$f":"ROUND((X33/6)*Weightings!$M$6,1)","v":6},{"$f":"IF(ISNA(VLOOKUP($DC33,'Audit Values'!$A$2:$AE$252,2,FALSE)),'Preliminary SO66'!F30,VLOOKUP($DC33,'Audit Values'!$A$2:$AE$252,6,FALSE))","v":398.2},{"$f":"ROUND((Z33/6)*Weightings!$M$7,1)","v":26.2},{"$f":"IF(ISNA(VLOOKUP($DC33,'Audit Values'!$A$2:$AE$252,2,FALSE)),'Preliminary SO66'!H30,VLOOKUP($DC33,'Audit Values'!$A$2:$AE$252,9,FALSE))","v":123},{"$f":"ROUND(AB33*Weightings!$M$8,1)","v":56.1},12.9,0,{"$f":"AE33*Weightings!$M$9","v":0},{"$f":"IF(ISNA(VLOOKUP($DC33,'Audit Values'!$A$2:$AE$252,2,FALSE)),'Preliminary SO66'!L30,VLOOKUP($DC33,'Audit Values'!$A$2:$AE$252,12,FALSE))","v":0},{"$f":"ROUND(AG33*Weightings!$M$10,1)","v":0},{"$f":"IF(ISNA(VLOOKUP($DC33,'Audit Values'!$A$2:$AE$252,2,FALSE)),'Preliminary SO66'!O30,VLOOKUP($DC33,'Audit Values'!$A$2:$AE$252,15,FALSE))","v":7},4.3,{"$f":"CG33/Weightings!$M$5","v":0},{"$f":"CH33/Weightings!$M$5","v":0},{"$f":"CL33/Weightings!$M$5","v":0},0,{"$f":"IF(ISNA(VLOOKUP($DC33,'Audit Values'!$A$2:$AE$252,2,FALSE)),'Preliminary SO66'!X30,VLOOKUP($DC33,'Audit Values'!$A$2:$AE$252,24,FALSE))","v":0},124298,{"$f":"AP33/Weightings!$M$5","v":32.299999999999997},463.4,495.7,495.7,0,{"$f":"IF(ISNA(VLOOKUP($DC33,'Audit Values'!$A$2:$AC$299,2,FALSE)),\"\",IF(AND(Weightings!H33>0,VLOOKUP($DC33,'Audit Values'!$A$2:$AC$299,29,FALSE)<Weightings!H33),Weightings!H33,VLOOKUP($DC33,'Audit Values'!$A$2:$AC$299,29,FALSE)))","v":13},{"$f":"IF(ISNA(VLOOKUP($DC33,'Audit Values'!$A$2:$AD$299,2,FALSE)),\"\",VLOOKUP($DC33,'Audit Values'!$A$2:$AD$299,30,FALSE))","v":"A"},{"$f":"IF(Weightings!G33=\"\",\"\",IF(Weightings!I33=\"Pending\",\"PX\",\"R\"))","v":""},{"$f":"AR33*Weightings!$M$5+AU33","v":1785017},{"$f":"AT33*Weightings!$M$5+AU33","v":1909436},{"$f":"IF(Weightings!G33>0,Weightings!G33,'Preliminary SO66'!AB30)","v":2318902},0,173298,0,2145604,1909436,null,{"$f":"Weightings!E33","v":0},{"$f":"Weightings!F33","v":0},0,1909436,{"$f":"MAX(ROUND(((AR33-AN33-AO33)*Weightings!$M$12)+'2016legmax.xls'!AP33,0),ROUND((('2016legmax.xls'!AR33-'2016legmax.xls'!AN33-'2016legmax.xls'!AO33)*Weightings!$M$12)+Weightings!B33,0))","v":2286555},0.3,685967,741598,685967,0.3,0,true,1030.1890000000001,0.73149900000000001,151.19999999999999,false,0,0,0,0,216,0.03,{"$f":"IF(ROUND((Weightings!$P$5*CC33^Weightings!$P$6*Weightings!$P$8 ),2)<Weightings!$P$7,Weightings!$P$7,ROUND((Weightings!$P$5*CC33^Weightings!$P$6*Weightings!$P$8 ),2))","v":2392.7600000000002},{"$f":"ROUND(CD33/Weightings!$M$5,4)","v":0.62119999999999997},4.3,0,0,0,0,{"$f":"AS33*Weightings!$M$5*CJ33","v":0},0,0.59499999999999997,1,12.9,0,0,{"$f":"IF(ISNA(VLOOKUP($DC33,'Audit Values'!$A$2:$AE$252,2,FALSE)),'Preliminary SO66'!T30,VLOOKUP($DC33,'Audit Values'!$A$2:$AE$252,20,FALSE))","v":0},{"$f":"IF(ISNA(VLOOKUP($DC33,'Audit Values'!$A$2:$AE$252,21,FALSE)),'Preliminary SO66'!U30,VLOOKUP($DC33,'Audit Values'!$A$2:$AE$252,21,FALSE))","v":0},0,0,null,null,null,null,null,null,null,"D0216"]
[217,"Morton","Rolla ",176.4,0,176.4,183.6,0,183.6,164,{"$f":"IF(ISNA(VLOOKUP($DC34,'Audit Values'!$A$2:$AE$252,2,FALSE)),'Preliminary SO66'!B31,VLOOKUP($DC34,'Audit Values'!$A$2:$AE$252,31,FALSE))","v":164},183.6,{"$f":"IF(ISNA(VLOOKUP($DC34,'Audit Values'!$A$2:$AE$252,2,FALSE)),'Preliminary SO66'!Z31,VLOOKUP($DC34,'Audit Values'!$A$2:$AE$252,26,FALSE))","v":0},183.6,{"$f":"IF(ISNA(VLOOKUP($DC34,'Audit Values'!$A$2:$AE$252,2,FALSE)),'Preliminary SO66'!C31,IF(VLOOKUP($DC34,'Audit Values'!$A$2:$AE$252,28,FALSE)=\"\",VLOOKUP($DC34,'Audit Values'!$A$2:$AE$252,3,FALSE),VLOOKUP($DC34,'Audit Values'!$A$2:$AE$252,28,FALSE)))","v":0},164,164,164,183.6,0,145.5,145.5,0,{"$f":"IF(ISNA(VLOOKUP($DC34,'Audit Values'!$A$2:$AE$252,2,FALSE)),'Preliminary SO66'!D31,VLOOKUP($DC34,'Audit Values'!$A$2:$AE$252,4,FALSE))","v":74.7},{"$f":"ROUND((X34/6)*Weightings!$M$6,1)","v":6.2},{"$f":"IF(ISNA(VLOOKUP($DC34,'Audit Values'!$A$2:$AE$252,2,FALSE)),'Preliminary SO66'!F31,VLOOKUP($DC34,'Audit Values'!$A$2:$AE$252,6,FALSE))","v":178.2},{"$f":"ROUND((Z34/6)*Weightings!$M$7,1)","v":11.7},{"$f":"IF(ISNA(VLOOKUP($DC34,'Audit Values'!$A$2:$AE$252,2,FALSE)),'Preliminary SO66'!H31,VLOOKUP($DC34,'Audit Values'!$A$2:$AE$252,9,FALSE))","v":67},{"$f":"ROUND(AB34*Weightings!$M$8,1)","v":30.6},0.7,0,{"$f":"AE34*Weightings!$M$9","v":0},{"$f":"IF(ISNA(VLOOKUP($DC34,'Audit Values'!$A$2:$AE$252,2,FALSE)),'Preliminary SO66'!L31,VLOOKUP($DC34,'Audit Values'!$A$2:$AE$252,12,FALSE))","v":0},{"$f":"ROUND(AG34*Weightings!$M$10,1)","v":0},{"$f":"IF(ISNA(VLOOKUP($DC34,'Audit Values'!$A$2:$AE$252,2,FALSE)),'Preliminary SO66'!O31,VLOOKUP($DC34,'Audit Values'!$A$2:$AE$252,15,FALSE))","v":27},12.5,{"$f":"CG34/Weightings!$M$5","v":0},{"$f":"CH34/Weightings!$M$5","v":0},{"$f":"CL34/Weightings!$M$5","v":0},0,{"$f":"IF(ISNA(VLOOKUP($DC34,'Audit Values'!$A$2:$AE$252,2,FALSE)),'Preliminary SO66'!X31,VLOOKUP($DC34,'Audit Values'!$A$2:$AE$252,24,FALSE))","v":0},114047,{"$f":"AP34/Weightings!$M$5","v":29.6},390.8,420.4,420.4,0,{"$f":"IF(ISNA(VLOOKUP($DC34,'Audit Values'!$A$2:$AC$299,2,FALSE)),\"\",IF(AND(Weightings!H34>0,VLOOKUP($DC34,'Audit Values'!$A$2:$AC$299,29,FALSE)<Weightings!H34),Weightings!H34,VLOOKUP($DC34,'Audit Values'!$A$2:$AC$299,29,FALSE)))","v":12},{"$f":"IF(ISNA(VLOOKUP($DC34,'Audit Values'!$A$2:$AD$299,2,FALSE)),\"\",VLOOKUP($DC34,'Audit Values'!$A$2:$AD$299,30,FALSE))","v":"A"},{"$f":"IF(Weightings!G34=\"\",\"\",IF(Weightings!I34=\"Pending\",\"PX\",\"R\"))","v":""},{"$f":"AR34*Weightings!$M$5+AU34","v":1505362},{"$f":"AT34*Weightings!$M$5+AU34","v":1619381},{"$f":"IF(Weightings!G34>0,Weightings!G34,'Preliminary SO66'!AB31)","v":1791222},0,132239,0,1658983,1619381,null,{"$f":"Weightings!E34","v":0},{"$f":"Weightings!F34","v":0},0,1619381,{"$f":"MAX(ROUND(((AR34-AN34-AO34)*Weightings!$M$12)+'2016legmax.xls'!AP34,0),ROUND((('2016legmax.xls'!AR34-'2016legmax.xls'!AN34-'2016legmax.xls'!AO34)*Weightings!$M$12)+Weightings!B34,0))","v":1901032},0.3,570310,588359,570310,0.3,0,true,807.15800000000002,0.79273099999999996,145.5,false,0,0,0,0,252,0.11,{"$f":"IF(ROUND((Weightings!$P$5*CC34^Weightings!$P$6*Weightings!$P$8 ),2)<Weightings!$P$7,Weightings!$P$7,ROUND((Weightings!$P$5*CC34^Weightings!$P$6*Weightings!$P$8 ),2))","v":1783.43},{"$f":"ROUND(CD34/Weightings!$M$5,4)","v":0.46300000000000002},12.5,0,0,0,0,{"$f":"AS34*Weightings!$M$5*CJ34","v":0},0,0.36499999999999999,0.7,0,0,0.7,{"$f":"IF(ISNA(VLOOKUP($DC34,'Audit Values'!$A$2:$AE$252,2,FALSE)),'Preliminary SO66'!T31,VLOOKUP($DC34,'Audit Values'!$A$2:$AE$252,20,FALSE))","v":0},{"$f":"IF(ISNA(VLOOKUP($DC34,'Audit Values'!$A$2:$AE$252,21,FALSE)),'Preliminary SO66'!U31,VLOOKUP($DC34,'Audit Values'!$A$2:$AE$252,21,FALSE))","v":0},0,0,null,null,null,null,null,null,null,"D0217"]
[218,"Morton","Elkhart ",494.1,0,494.1,469.8,0,469.8,1044.4000000000001,{"$f":"IF(ISNA(VLOOKUP($DC35,'Audit Values'!$A$2:$AE$252,2,FALSE)),'Preliminary SO66'!B32,VLOOKUP($DC35,'Audit Values'!$A$2:$AE$252,31,FALSE))","v":450.4},471.4,{"$f":"IF(ISNA(VLOOKUP($DC35,'Audit Values'!$A$2:$AE$252,2,FALSE)),'Preliminary SO66'!Z32,VLOOKUP($DC35,'Audit Values'!$A$2:$AE$252,26,FALSE))","v":0},471.4,{"$f":"IF(ISNA(VLOOKUP($DC35,'Audit Values'!$A$2:$AE$252,2,FALSE)),'Preliminary SO66'!C32,IF(VLOOKUP($DC35,'Audit Values'!$A$2:$AE$252,28,FALSE)=\"\",VLOOKUP($DC35,'Audit Values'!$A$2:$AE$252,3,FALSE),VLOOKUP($DC35,'Audit Values'!$A$2:$AE$252,28,FALSE)))","v":7},457.4,1051.4000000000001,1051.4000000000001,478.4,594,202.6,202.6,0,{"$f":"IF(ISNA(VLOOKUP($DC35,'Audit Values'!$A$2:$AE$252,2,FALSE)),'Preliminary SO66'!D32,VLOOKUP($DC35,'Audit Values'!$A$2:$AE$252,4,FALSE))","v":107.6},{"$f":"ROUND((X35/6)*Weightings!$M$6,1)","v":9},{"$f":"IF(ISNA(VLOOKUP($DC35,'Audit Values'!$A$2:$AE$252,2,FALSE)),'Preliminary SO66'!F32,VLOOKUP($DC35,'Audit Values'!$A$2:$AE$252,6,FALSE))","v":343.7},{"$f":"ROUND((Z35/6)*Weightings!$M$7,1)","v":22.6},{"$f":"IF(ISNA(VLOOKUP($DC35,'Audit Values'!$A$2:$AE$252,2,FALSE)),'Preliminary SO66'!H32,VLOOKUP($DC35,'Audit Values'!$A$2:$AE$252,9,FALSE))","v":188},{"$f":"ROUND(AB35*Weightings!$M$8,1)","v":85.7},5.7,0,{"$f":"AE35*Weightings!$M$9","v":0},{"$f":"IF(ISNA(VLOOKUP($DC35,'Audit Values'!$A$2:$AE$252,2,FALSE)),'Preliminary SO66'!L32,VLOOKUP($DC35,'Audit Values'!$A$2:$AE$252,12,FALSE))","v":0},{"$f":"ROUND(AG35*Weightings!$M$10,1)","v":0},{"$f":"IF(ISNA(VLOOKUP($DC35,'Audit Values'!$A$2:$AE$252,2,FALSE)),'Preliminary SO66'!O32,VLOOKUP($DC35,'Audit Values'!$A$2:$AE$252,15,FALSE))","v":38},18,{"$f":"CG35/Weightings!$M$5","v":0},{"$f":"CH35/Weightings!$M$5","v":0},{"$f":"CL35/Weightings!$M$5","v":0},623.70000000000005,{"$f":"IF(ISNA(VLOOKUP($DC35,'Audit Values'!$A$2:$AE$252,2,FALSE)),'Preliminary SO66'!X32,VLOOKUP($DC35,'Audit Values'!$A$2:$AE$252,24,FALSE))","v":0},261333,{"$f":"AP35/Weightings!$M$5","v":67.8},1445.7,1513.5,1513.5,0,{"$f":"IF(ISNA(VLOOKUP($DC35,'Audit Values'!$A$2:$AC$299,2,FALSE)),\"\",IF(AND(Weightings!H35>0,VLOOKUP($DC35,'Audit Values'!$A$2:$AC$299,29,FALSE)<Weightings!H35),Weightings!H35,VLOOKUP($DC35,'Audit Values'!$A$2:$AC$299,29,FALSE)))","v":19},{"$f":"IF(ISNA(VLOOKUP($DC35,'Audit Values'!$A$2:$AD$299,2,FALSE)),\"\",VLOOKUP($DC35,'Audit Values'!$A$2:$AD$299,30,FALSE))","v":"A"},{"$f":"IF(Weightings!G35=\"\",\"\",IF(Weightings!I35=\"Pending\",\"PX\",\"R\"))","v":""},{"$f":"AR35*Weightings!$M$5+AU35","v":5568836},{"$f":"AT35*Weightings!$M$5+AU35","v":5830002},{"$f":"IF(Weightings!G35>0,Weightings!G35,'Preliminary SO66'!AB32)","v":7878356},604005,298529,48080,6927742,5830002,null,{"$f":"Weightings!E35","v":0},{"$f":"Weightings!F35","v":0},0,5830002,{"$f":"MAX(ROUND(((AR35-AN35-AO35)*Weightings!$M$12)+'2016legmax.xls'!AP35,0),ROUND((('2016legmax.xls'!AR35-'2016legmax.xls'!AN35-'2016legmax.xls'!AO35)*Weightings!$M$12)+Weightings!B35,0))","v":4081569},0.3,1224471,1288319,1224471,0.3,0,false,0,0,0,true,220.77,0.42357499999999998,202.6,0,376,0.1,{"$f":"IF(ROUND((Weightings!$P$5*CC35^Weightings!$P$6*Weightings!$P$8 ),2)<Weightings!$P$7,Weightings!$P$7,ROUND((Weightings!$P$5*CC35^Weightings!$P$6*Weightings!$P$8 ),2))","v":1822.3},{"$f":"ROUND(CD35/Weightings!$M$5,4)","v":0.47310000000000002},18,0,0,0,0,{"$f":"AS35*Weightings!$M$5*CJ35","v":0},0,0.39300000000000002,1.3,0,0,5.7,{"$f":"IF(ISNA(VLOOKUP($DC35,'Audit Values'!$A$2:$AE$299,2,FALSE)),'Preliminary SO66'!T32,VLOOKUP($DC35,'Audit Values'!$A$2:$AE$299,20,FALSE))","v":571},{"$f":"IF(ISNA(VLOOKUP($DC35,'Audit Values'!$A$2:$AE$299,21,FALSE)),'Preliminary SO66'!U32,VLOOKUP($DC35,'Audit Values'!$A$2:$AE$299,21,FALSE))","v":21},2,594,null,null,null,null,null,null,null,"D0218"]
[219,"Clark","Minneola ",249,0,249,248.5,0,248.5,233.7,{"$f":"IF(ISNA(VLOOKUP($DC36,'Audit Values'!$A$2:$AE$252,2,FALSE)),'Preliminary SO66'!B33,VLOOKUP($DC36,'Audit Values'!$A$2:$AE$252,31,FALSE))","v":233.7},248.5,{"$f":"IF(ISNA(VLOOKUP($DC36,'Audit Values'!$A$2:$AE$252,2,FALSE)),'Preliminary SO66'!Z33,VLOOKUP($DC36,'Audit Values'!$A$2:$AE$252,26,FALSE))","v":0},248.5,{"$f":"IF(ISNA(VLOOKUP($DC36,'Audit Values'!$A$2:$AE$252,2,FALSE)),'Preliminary SO66'!C33,IF(VLOOKUP($DC36,'Audit Values'!$A$2:$AE$252,28,FALSE)=\"\",VLOOKUP($DC36,'Audit Values'!$A$2:$AE$252,3,FALSE),VLOOKUP($DC36,'Audit Values'!$A$2:$AE$252,28,FALSE)))","v":0},233.7,233.7,233.7,248.5,0,154.19999999999999,154.19999999999999,0,{"$f":"IF(ISNA(VLOOKUP($DC36,'Audit Values'!$A$2:$AE$252,2,FALSE)),'Preliminary SO66'!D33,VLOOKUP($DC36,'Audit Values'!$A$2:$AE$252,4,FALSE))","v":0},{"$f":"ROUND((X36/6)*Weightings!$M$6,1)","v":0},{"$f":"IF(ISNA(VLOOKUP($DC36,'Audit Values'!$A$2:$AE$252,2,FALSE)),'Preliminary SO66'!F33,VLOOKUP($DC36,'Audit Values'!$A$2:$AE$252,6,FALSE))","v":0},{"$f":"ROUND((Z36/6)*Weightings!$M$7,1)","v":0},{"$f":"IF(ISNA(VLOOKUP($DC36,'Audit Values'!$A$2:$AE$252,2,FALSE)),'Preliminary SO66'!H33,VLOOKUP($DC36,'Audit Values'!$A$2:$AE$252,9,FALSE))","v":104},{"$f":"ROUND(AB36*Weightings!$M$8,1)","v":47.4},5,0,{"$f":"AE36*Weightings!$M$9","v":0},{"$f":"IF(ISNA(VLOOKUP($DC36,'Audit Values'!$A$2:$AE$252,2,FALSE)),'Preliminary SO66'!L33,VLOOKUP($DC36,'Audit Values'!$A$2:$AE$252,12,FALSE))","v":0},{"$f":"ROUND(AG36*Weightings!$M$10,1)","v":0},{"$f":"IF(ISNA(VLOOKUP($DC36,'Audit Values'!$A$2:$AE$252,2,FALSE)),'Preliminary SO66'!O33,VLOOKUP($DC36,'Audit Values'!$A$2:$AE$252,15,FALSE))","v":45},19.399999999999999,{"$f":"CG36/Weightings!$M$5","v":0},{"$f":"CH36/Weightings!$M$5","v":0},{"$f":"CL36/Weightings!$M$5","v":0},0,{"$f":"IF(ISNA(VLOOKUP($DC36,'Audit Values'!$A$2:$AE$252,2,FALSE)),'Preliminary SO66'!X33,VLOOKUP($DC36,'Audit Values'!$A$2:$AE$252,24,FALSE))","v":0},178007,{"$f":"AP36/Weightings!$M$5","v":46.2},474.5,520.70000000000005,520.70000000000005,0,{"$f":"IF(ISNA(VLOOKUP($DC36,'Audit Values'!$A$2:$AC$299,2,FALSE)),\"\",IF(AND(Weightings!H36>0,VLOOKUP($DC36,'Audit Values'!$A$2:$AC$299,29,FALSE)<Weightings!H36),Weightings!H36,VLOOKUP($DC36,'Audit Values'!$A$2:$AC$299,29,FALSE)))","v":13},{"$f":"IF(ISNA(VLOOKUP($DC36,'Audit Values'!$A$2:$AD$299,2,FALSE)),\"\",VLOOKUP($DC36,'Audit Values'!$A$2:$AD$299,30,FALSE))","v":"A"},{"$f":"IF(Weightings!G36=\"\",\"\",IF(Weightings!I36=\"Pending\",\"PX\",\"R\"))","v":""},{"$f":"AR36*Weightings!$M$5+AU36","v":1827774},{"$f":"AT36*Weightings!$M$5+AU36","v":2005736},{"$f":"IF(Weightings!G36>0,Weightings!G36,'Preliminary SO66'!AB33)","v":2356069},83938,151154,0,2120977,2005736,null,{"$f":"Weightings!E36","v":0},{"$f":"Weightings!F36","v":0},0,2005736,{"$f":"MAX(ROUND(((AR36-AN36-AO36)*Weightings!$M$12)+'2016legmax.xls'!AP36,0),ROUND((('2016legmax.xls'!AR36-'2016legmax.xls'!AN36-'2016legmax.xls'!AO36)*Weightings!$M$12)+Weightings!B36,0))","v":2378328},0.3,713498,722119,713498,0.3,0,true,1433.768,0.62069799999999997,154.19999999999999,false,0,0,0,0,292,0.15,{"$f":"IF(ROUND((Weightings!$P$5*CC36^Weightings!$P$6*Weightings!$P$8 ),2)<Weightings!$P$7,Weightings!$P$7,ROUND((Weightings!$P$5*CC36^Weightings!$P$6*Weightings!$P$8 ),2))","v":1662.6},{"$f":"ROUND(CD36/Weightings!$M$5,4)","v":0.43159999999999998},19.399999999999999,0,0,0,0,{"$f":"AS36*Weightings!$M$5*CJ36","v":0},0,0.41899999999999998,0.9,0,0,5,{"$f":"IF(ISNA(VLOOKUP($DC36,'Audit Values'!$A$2:$AE$252,2,FALSE)),'Preliminary SO66'!T33,VLOOKUP($DC36,'Audit Values'!$A$2:$AE$252,20,FALSE))","v":0},{"$f":"IF(ISNA(VLOOKUP($DC36,'Audit Values'!$A$2:$AE$252,21,FALSE)),'Preliminary SO66'!U33,VLOOKUP($DC36,'Audit Values'!$A$2:$AE$252,21,FALSE))","v":0},0,0,null,null,null,null,null,null,null,"D0219"]
[220,"Clark","Ashland ",194.4,0,194.4,192.6,0,192.6,189.9,{"$f":"IF(ISNA(VLOOKUP($DC37,'Audit Values'!$A$2:$AE$252,2,FALSE)),'Preliminary SO66'!B34,VLOOKUP($DC37,'Audit Values'!$A$2:$AE$252,31,FALSE))","v":189.9},192.6,{"$f":"IF(ISNA(VLOOKUP($DC37,'Audit Values'!$A$2:$AE$252,2,FALSE)),'Preliminary SO66'!Z34,VLOOKUP($DC37,'Audit Values'!$A$2:$AE$252,26,FALSE))","v":0},192.6,{"$f":"IF(ISNA(VLOOKUP($DC37,'Audit Values'!$A$2:$AE$252,2,FALSE)),'Preliminary SO66'!C34,IF(VLOOKUP($DC37,'Audit Values'!$A$2:$AE$252,28,FALSE)=\"\",VLOOKUP($DC37,'Audit Values'!$A$2:$AE$252,3,FALSE),VLOOKUP($DC37,'Audit Values'!$A$2:$AE$252,28,FALSE)))","v":0},189.9,189.9,189.9,192.6,0,148.1,148.1,0,{"$f":"IF(ISNA(VLOOKUP($DC37,'Audit Values'!$A$2:$AE$252,2,FALSE)),'Preliminary SO66'!D34,VLOOKUP($DC37,'Audit Values'!$A$2:$AE$252,4,FALSE))","v":39.4},{"$f":"ROUND((X37/6)*Weightings!$M$6,1)","v":3.3},{"$f":"IF(ISNA(VLOOKUP($DC37,'Audit Values'!$A$2:$AE$252,2,FALSE)),'Preliminary SO66'!F34,VLOOKUP($DC37,'Audit Values'!$A$2:$AE$252,6,FALSE))","v":27.5},{"$f":"ROUND((Z37/6)*Weightings!$M$7,1)","v":1.8},{"$f":"IF(ISNA(VLOOKUP($DC37,'Audit Values'!$A$2:$AE$252,2,FALSE)),'Preliminary SO66'!H34,VLOOKUP($DC37,'Audit Values'!$A$2:$AE$252,9,FALSE))","v":73},{"$f":"ROUND(AB37*Weightings!$M$8,1)","v":33.299999999999997},1.5,0,{"$f":"AE37*Weightings!$M$9","v":0},{"$f":"IF(ISNA(VLOOKUP($DC37,'Audit Values'!$A$2:$AE$252,2,FALSE)),'Preliminary SO66'!L34,VLOOKUP($DC37,'Audit Values'!$A$2:$AE$252,12,FALSE))","v":0},{"$f":"ROUND(AG37*Weightings!$M$10,1)","v":0},{"$f":"IF(ISNA(VLOOKUP($DC37,'Audit Values'!$A$2:$AE$252,2,FALSE)),'Preliminary SO66'!O34,VLOOKUP($DC37,'Audit Values'!$A$2:$AE$252,15,FALSE))","v":49},25.1,{"$f":"CG37/Weightings!$M$5","v":0},{"$f":"CH37/Weightings!$M$5","v":0},{"$f":"CL37/Weightings!$M$5","v":0},0,{"$f":"IF(ISNA(VLOOKUP($DC37,'Audit Values'!$A$2:$AE$252,2,FALSE)),'Preliminary SO66'!X34,VLOOKUP($DC37,'Audit Values'!$A$2:$AE$252,24,FALSE))","v":0},156161,{"$f":"AP37/Weightings!$M$5","v":40.5},405.7,446.2,446.2,0,{"$f":"IF(ISNA(VLOOKUP($DC37,'Audit Values'!$A$2:$AC$299,2,FALSE)),\"\",IF(AND(Weightings!H37>0,VLOOKUP($DC37,'Audit Values'!$A$2:$AC$299,29,FALSE)<Weightings!H37),Weightings!H37,VLOOKUP($DC37,'Audit Values'!$A$2:$AC$299,29,FALSE)))","v":16},{"$f":"IF(ISNA(VLOOKUP($DC37,'Audit Values'!$A$2:$AD$299,2,FALSE)),\"\",VLOOKUP($DC37,'Audit Values'!$A$2:$AD$299,30,FALSE))","v":"A"},{"$f":"IF(Weightings!G37=\"\",\"\",IF(Weightings!I37=\"Pending\",\"PX\",\"R\"))","v":""},{"$f":"AR37*Weightings!$M$5+AU37","v":1562756},{"$f":"AT37*Weightings!$M$5+AU37","v":1718762},{"$f":"IF(Weightings!G37>0,Weightings!G37,'Preliminary SO66'!AB34)","v":1916908},0,138234,0,1778674,1718762,null,{"$f":"Weightings!E37","v":0},{"$f":"Weightings!F37","v":0},0,1718762,{"$f":"MAX(ROUND(((AR37-AN37-AO37)*Weightings!$M$12)+'2016legmax.xls'!AP37,0),ROUND((('2016legmax.xls'!AR37-'2016legmax.xls'!AN37-'2016legmax.xls'!AO37)*Weightings!$M$12)+Weightings!B37,0))","v":2020274},0.3,606082,606082,606082,0.3,0,true,894.053,0.76887399999999995,148.1,false,0,0,0,0,660,7.0000000000000007E-2,{"$f":"IF(ROUND((Weightings!$P$5*CC37^Weightings!$P$6*Weightings!$P$8 ),2)<Weightings!$P$7,Weightings!$P$7,ROUND((Weightings!$P$5*CC37^Weightings!$P$6*Weightings!$P$8 ),2))","v":1975.42},{"$f":"ROUND(CD37/Weightings!$M$5,4)","v":0.51280000000000003},25.1,0,0,0,0,{"$f":"AS37*Weightings!$M$5*CJ37","v":0},0,0.379,0.3,0,0,1.5,{"$f":"IF(ISNA(VLOOKUP($DC37,'Audit Values'!$A$2:$AE$252,2,FALSE)),'Preliminary SO66'!T34,VLOOKUP($DC37,'Audit Values'!$A$2:$AE$252,20,FALSE))","v":0},{"$f":"IF(ISNA(VLOOKUP($DC37,'Audit Values'!$A$2:$AE$252,21,FALSE)),'Preliminary SO66'!U34,VLOOKUP($DC37,'Audit Values'!$A$2:$AE$252,21,FALSE))","v":0},0,0,null,null,null,null,null,null,null,"D0220"]
[223,"Washington","Barnes ",374.8,0,374.8,340,0,340,347.4,{"$f":"IF(ISNA(VLOOKUP($DC38,'Audit Values'!$A$2:$AE$252,2,FALSE)),'Preliminary SO66'!B35,VLOOKUP($DC38,'Audit Values'!$A$2:$AE$252,31,FALSE))","v":347.4},354.1,{"$f":"IF(ISNA(VLOOKUP($DC38,'Audit Values'!$A$2:$AE$252,2,FALSE)),'Preliminary SO66'!Z35,VLOOKUP($DC38,'Audit Values'!$A$2:$AE$252,26,FALSE))","v":0},354.1,{"$f":"IF(ISNA(VLOOKUP($DC38,'Audit Values'!$A$2:$AE$252,2,FALSE)),'Preliminary SO66'!C35,IF(VLOOKUP($DC38,'Audit Values'!$A$2:$AE$252,28,FALSE)=\"\",VLOOKUP($DC38,'Audit Values'!$A$2:$AE$252,3,FALSE),VLOOKUP($DC38,'Audit Values'!$A$2:$AE$252,28,FALSE)))","v":0},347.4,347.4,347.4,354.1,0,164.9,164.9,0,{"$f":"IF(ISNA(VLOOKUP($DC38,'Audit Values'!$A$2:$AE$252,2,FALSE)),'Preliminary SO66'!D35,VLOOKUP($DC38,'Audit Values'!$A$2:$AE$252,4,FALSE))","v":116.3},{"$f":"ROUND((X38/6)*Weightings!$M$6,1)","v":9.6999999999999993},{"$f":"IF(ISNA(VLOOKUP($DC38,'Audit Values'!$A$2:$AE$252,2,FALSE)),'Preliminary SO66'!F35,VLOOKUP($DC38,'Audit Values'!$A$2:$AE$252,6,FALSE))","v":126.8},{"$f":"ROUND((Z38/6)*Weightings!$M$7,1)","v":8.3000000000000007},{"$f":"IF(ISNA(VLOOKUP($DC38,'Audit Values'!$A$2:$AE$252,2,FALSE)),'Preliminary SO66'!H35,VLOOKUP($DC38,'Audit Values'!$A$2:$AE$252,9,FALSE))","v":104},{"$f":"ROUND(AB38*Weightings!$M$8,1)","v":47.4},0,0,{"$f":"AE38*Weightings!$M$9","v":0},{"$f":"IF(ISNA(VLOOKUP($DC38,'Audit Values'!$A$2:$AE$252,2,FALSE)),'Preliminary SO66'!L35,VLOOKUP($DC38,'Audit Values'!$A$2:$AE$252,12,FALSE))","v":0},{"$f":"ROUND(AG38*Weightings!$M$10,1)","v":0},{"$f":"IF(ISNA(VLOOKUP($DC38,'Audit Values'!$A$2:$AE$252,2,FALSE)),'Preliminary SO66'!O35,VLOOKUP($DC38,'Audit Values'!$A$2:$AE$252,15,FALSE))","v":142},49.7,{"$f":"CG38/Weightings!$M$5","v":0},{"$f":"CH38/Weightings!$M$5","v":0},{"$f":"CL38/Weightings!$M$5","v":0},0,{"$f":"IF(ISNA(VLOOKUP($DC38,'Audit Values'!$A$2:$AE$252,2,FALSE)),'Preliminary SO66'!X35,VLOOKUP($DC38,'Audit Values'!$A$2:$AE$252,24,FALSE))","v":1},428619,{"$f":"AP38/Weightings!$M$5","v":111.3},635.1,746.4,746.4,0,{"$f":"IF(ISNA(VLOOKUP($DC38,'Audit Values'!$A$2:$AC$299,2,FALSE)),\"\",IF(AND(Weightings!H38>0,VLOOKUP($DC38,'Audit Values'!$A$2:$AC$299,29,FALSE)<Weightings!H38),Weightings!H38,VLOOKUP($DC38,'Audit Values'!$A$2:$AC$299,29,FALSE)))","v":1},{"$f":"IF(ISNA(VLOOKUP($DC38,'Audit Values'!$A$2:$AD$299,2,FALSE)),\"\",VLOOKUP($DC38,'Audit Values'!$A$2:$AD$299,30,FALSE))","v":"A"},{"$f":"IF(Weightings!G38=\"\",\"\",IF(Weightings!I38=\"Pending\",\"PX\",\"R\"))","v":""},{"$f":"AR38*Weightings!$M$5+AU38","v":2446405},{"$f":"AT38*Weightings!$M$5+AU38","v":2875133},{"$f":"IF(Weightings!G38>0,Weightings!G38,'Preliminary SO66'!AB35)","v":3643356},174277,203311,0,3265768,2875133,null,{"$f":"Weightings!E38","v":0},{"$f":"Weightings!F38","v":0},0,2875133,{"$f":"MAX(ROUND(((AR38-AN38-AO38)*Weightings!$M$12)+'2016legmax.xls'!AP38,0),ROUND((('2016legmax.xls'!AR38-'2016legmax.xls'!AN38-'2016legmax.xls'!AO38)*Weightings!$M$12)+Weightings!B38,0))","v":3275728},0.3,982718,1011921,982718,0.3,0,false,0,0,0,true,66.948800000000006,0.465806,164.9,0,378,0.38,{"$f":"IF(ROUND((Weightings!$P$5*CC38^Weightings!$P$6*Weightings!$P$8 ),2)<Weightings!$P$7,Weightings!$P$7,ROUND((Weightings!$P$5*CC38^Weightings!$P$6*Weightings!$P$8 ),2))","v":1347.32},{"$f":"ROUND(CD38/Weightings!$M$5,4)","v":0.3498},49.7,0,0,0,0,{"$f":"AS38*Weightings!$M$5*CJ38","v":0},0,0.29399999999999998,0.9,0,0,0,{"$f":"IF(ISNA(VLOOKUP($DC38,'Audit Values'!$A$2:$AE$252,2,FALSE)),'Preliminary SO66'!T35,VLOOKUP($DC38,'Audit Values'!$A$2:$AE$252,20,FALSE))","v":0},{"$f":"IF(ISNA(VLOOKUP($DC38,'Audit Values'!$A$2:$AE$252,21,FALSE)),'Preliminary SO66'!U35,VLOOKUP($DC38,'Audit Values'!$A$2:$AE$252,21,FALSE))","v":0},0,0,null,null,null,null,null,null,null,"D0223"]
[224,"Washington","Clifton-Clyde ",305.5,0,305.5,311.5,0,311.5,309,{"$f":"IF(ISNA(VLOOKUP($DC39,'Audit Values'!$A$2:$AE$252,2,FALSE)),'Preliminary SO66'!B36,VLOOKUP($DC39,'Audit Values'!$A$2:$AE$252,31,FALSE))","v":309},311.5,{"$f":"IF(ISNA(VLOOKUP($DC39,'Audit Values'!$A$2:$AE$252,2,FALSE)),'Preliminary SO66'!Z36,VLOOKUP($DC39,'Audit Values'!$A$2:$AE$252,26,FALSE))","v":0},311.5,{"$f":"IF(ISNA(VLOOKUP($DC39,'Audit Values'!$A$2:$AE$252,2,FALSE)),'Preliminary SO66'!C36,IF(VLOOKUP($DC39,'Audit Values'!$A$2:$AE$252,28,FALSE)=\"\",VLOOKUP($DC39,'Audit Values'!$A$2:$AE$252,3,FALSE),VLOOKUP($DC39,'Audit Values'!$A$2:$AE$252,28,FALSE)))","v":2},311,311,311,313.5,0,150.4,150.4,0,{"$f":"IF(ISNA(VLOOKUP($DC39,'Audit Values'!$A$2:$AE$252,2,FALSE)),'Preliminary SO66'!D36,VLOOKUP($DC39,'Audit Values'!$A$2:$AE$252,4,FALSE))","v":118.3},{"$f":"ROUND((X39/6)*Weightings!$M$6,1)","v":9.9},{"$f":"IF(ISNA(VLOOKUP($DC39,'Audit Values'!$A$2:$AE$252,2,FALSE)),'Preliminary SO66'!F36,VLOOKUP($DC39,'Audit Values'!$A$2:$AE$252,6,FALSE))","v":0},{"$f":"ROUND((Z39/6)*Weightings!$M$7,1)","v":0},{"$f":"IF(ISNA(VLOOKUP($DC39,'Audit Values'!$A$2:$AE$252,2,FALSE)),'Preliminary SO66'!H36,VLOOKUP($DC39,'Audit Values'!$A$2:$AE$252,9,FALSE))","v":88},{"$f":"ROUND(AB39*Weightings!$M$8,1)","v":40.1},0,0,{"$f":"AE39*Weightings!$M$9","v":0},{"$f":"IF(ISNA(VLOOKUP($DC39,'Audit Values'!$A$2:$AE$252,2,FALSE)),'Preliminary SO66'!L36,VLOOKUP($DC39,'Audit Values'!$A$2:$AE$252,12,FALSE))","v":0},{"$f":"ROUND(AG39*Weightings!$M$10,1)","v":0},{"$f":"IF(ISNA(VLOOKUP($DC39,'Audit Values'!$A$2:$AE$252,2,FALSE)),'Preliminary SO66'!O36,VLOOKUP($DC39,'Audit Values'!$A$2:$AE$252,15,FALSE))","v":182},55.3,{"$f":"CG39/Weightings!$M$5","v":0},{"$f":"CH39/Weightings!$M$5","v":0},{"$f":"CL39/Weightings!$M$5","v":0},0,{"$f":"IF(ISNA(VLOOKUP($DC39,'Audit Values'!$A$2:$AE$252,2,FALSE)),'Preliminary SO66'!X36,VLOOKUP($DC39,'Audit Values'!$A$2:$AE$252,24,FALSE))","v":0},274807,{"$f":"AP39/Weightings!$M$5","v":71.3},569.20000000000005,640.5,640.5,0,{"$f":"IF(ISNA(VLOOKUP($DC39,'Audit Values'!$A$2:$AC$299,2,FALSE)),\"\",IF(AND(Weightings!H39>0,VLOOKUP($DC39,'Audit Values'!$A$2:$AC$299,29,FALSE)<Weightings!H39),Weightings!H39,VLOOKUP($DC39,'Audit Values'!$A$2:$AC$299,29,FALSE)))","v":1},{"$f":"IF(ISNA(VLOOKUP($DC39,'Audit Values'!$A$2:$AD$299,2,FALSE)),\"\",VLOOKUP($DC39,'Audit Values'!$A$2:$AD$299,30,FALSE))","v":"A"},{"$f":"IF(Weightings!G39=\"\",\"\",IF(Weightings!I39=\"Pending\",\"PX\",\"R\"))","v":""},{"$f":"AR39*Weightings!$M$5+AU39","v":2192558},{"$f":"AT39*Weightings!$M$5+AU39","v":2467206},{"$f":"IF(Weightings!G39>0,Weightings!G39,'Preliminary SO66'!AB36)","v":2866513},165002,169343,0,2532168,2467206,null,{"$f":"Weightings!E39","v":0},{"$f":"Weightings!F39","v":0},0,2467206,{"$f":"MAX(ROUND(((AR39-AN39-AO39)*Weightings!$M$12)+'2016legmax.xls'!AP39,0),ROUND((('2016legmax.xls'!AR39-'2016legmax.xls'!AN39-'2016legmax.xls'!AO39)*Weightings!$M$12)+Weightings!B39,0))","v":2903566},0.3,871070,786388,786388,0.27079999999999999,0,false,0,0,0,true,16.706299999999999,0.47960000000000003,150.4,0,255,0.71,{"$f":"IF(ROUND((Weightings!$P$5*CC39^Weightings!$P$6*Weightings!$P$8 ),2)<Weightings!$P$7,Weightings!$P$7,ROUND((Weightings!$P$5*CC39^Weightings!$P$6*Weightings!$P$8 ),2))","v":1169.6600000000001},{"$f":"ROUND(CD39/Weightings!$M$5,4)","v":0.30370000000000003},55.3,0,0,0,0,{"$f":"AS39*Weightings!$M$5*CJ39","v":0},0,0.28100000000000003,1.2,0,0,0,{"$f":"IF(ISNA(VLOOKUP($DC39,'Audit Values'!$A$2:$AE$252,2,FALSE)),'Preliminary SO66'!T36,VLOOKUP($DC39,'Audit Values'!$A$2:$AE$252,20,FALSE))","v":0},{"$f":"IF(ISNA(VLOOKUP($DC39,'Audit Values'!$A$2:$AE$252,21,FALSE)),'Preliminary SO66'!U36,VLOOKUP($DC39,'Audit Values'!$A$2:$AE$252,21,FALSE))","v":0},0,0,null,null,null,null,null,null,null,"D0224"]
[225,"Meade","Fowler ",154,0,154,151,0,151,133,{"$f":"IF(ISNA(VLOOKUP($DC40,'Audit Values'!$A$2:$AE$252,2,FALSE)),'Preliminary SO66'!B37,VLOOKUP($DC40,'Audit Values'!$A$2:$AE$252,31,FALSE))","v":133},151,{"$f":"IF(ISNA(VLOOKUP($DC40,'Audit Values'!$A$2:$AE$252,2,FALSE)),'Preliminary SO66'!Z37,VLOOKUP($DC40,'Audit Values'!$A$2:$AE$252,26,FALSE))","v":0},151,{"$f":"IF(ISNA(VLOOKUP($DC40,'Audit Values'!$A$2:$AE$252,2,FALSE)),'Preliminary SO66'!C37,IF(VLOOKUP($DC40,'Audit Values'!$A$2:$AE$252,28,FALSE)=\"\",VLOOKUP($DC40,'Audit Values'!$A$2:$AE$252,3,FALSE),VLOOKUP($DC40,'Audit Values'!$A$2:$AE$252,28,FALSE)))","v":0.5},133.5,133.5,133.5,151.5,0,133,133,0,{"$f":"IF(ISNA(VLOOKUP($DC40,'Audit Values'!$A$2:$AE$252,2,FALSE)),'Preliminary SO66'!D37,VLOOKUP($DC40,'Audit Values'!$A$2:$AE$252,4,FALSE))","v":0},{"$f":"ROUND((X40/6)*Weightings!$M$6,1)","v":0},{"$f":"IF(ISNA(VLOOKUP($DC40,'Audit Values'!$A$2:$AE$252,2,FALSE)),'Preliminary SO66'!F37,VLOOKUP($DC40,'Audit Values'!$A$2:$AE$252,6,FALSE))","v":9},{"$f":"ROUND((Z40/6)*Weightings!$M$7,1)","v":0.6},{"$f":"IF(ISNA(VLOOKUP($DC40,'Audit Values'!$A$2:$AE$252,2,FALSE)),'Preliminary SO66'!H37,VLOOKUP($DC40,'Audit Values'!$A$2:$AE$252,9,FALSE))","v":62},{"$f":"ROUND(AB40*Weightings!$M$8,1)","v":28.3},2.6,0,{"$f":"AE40*Weightings!$M$9","v":0},{"$f":"IF(ISNA(VLOOKUP($DC40,'Audit Values'!$A$2:$AE$252,2,FALSE)),'Preliminary SO66'!L37,VLOOKUP($DC40,'Audit Values'!$A$2:$AE$252,12,FALSE))","v":0},{"$f":"ROUND(AG40*Weightings!$M$10,1)","v":0},{"$f":"IF(ISNA(VLOOKUP($DC40,'Audit Values'!$A$2:$AE$252,2,FALSE)),'Preliminary SO66'!O37,VLOOKUP($DC40,'Audit Values'!$A$2:$AE$252,15,FALSE))","v":24},11.6,{"$f":"CG40/Weightings!$M$5","v":0},{"$f":"CH40/Weightings!$M$5","v":0},{"$f":"CL40/Weightings!$M$5","v":0},0,{"$f":"IF(ISNA(VLOOKUP($DC40,'Audit Values'!$A$2:$AE$252,2,FALSE)),'Preliminary SO66'!X37,VLOOKUP($DC40,'Audit Values'!$A$2:$AE$252,24,FALSE))","v":0},109125,{"$f":"AP40/Weightings!$M$5","v":28.3},327.60000000000002,355.9,355.9,0,{"$f":"IF(ISNA(VLOOKUP($DC40,'Audit Values'!$A$2:$AC$299,2,FALSE)),\"\",IF(AND(Weightings!H40>0,VLOOKUP($DC40,'Audit Values'!$A$2:$AC$299,29,FALSE)<Weightings!H40),Weightings!H40,VLOOKUP($DC40,'Audit Values'!$A$2:$AC$299,29,FALSE)))","v":13},{"$f":"IF(ISNA(VLOOKUP($DC40,'Audit Values'!$A$2:$AD$299,2,FALSE)),\"\",VLOOKUP($DC40,'Audit Values'!$A$2:$AD$299,30,FALSE))","v":"A"},{"$f":"IF(Weightings!G40=\"\",\"\",IF(Weightings!I40=\"Pending\",\"PX\",\"R\"))","v":""},{"$f":"AR40*Weightings!$M$5+AU40","v":1261915},{"$f":"AT40*Weightings!$M$5+AU40","v":1370927},{"$f":"IF(Weightings!G40>0,Weightings!G40,'Preliminary SO66'!AB37)","v":1741260},88211,99283,0,1553766,1370927,null,{"$f":"Weightings!E40","v":0},{"$f":"Weightings!F40","v":0},0,1370927,{"$f":"MAX(ROUND(((AR40-AN40-AO40)*Weightings!$M$12)+'2016legmax.xls'!AP40,0),ROUND((('2016legmax.xls'!AR40-'2016legmax.xls'!AN40-'2016legmax.xls'!AO40)*Weightings!$M$12)+Weightings!B40,0))","v":1623711},0.33,535825,577905,535825,0.33,0,true,497.233,0.87781900000000002,133,false,0,0,0,0,281,0.09,{"$f":"IF(ROUND((Weightings!$P$5*CC40^Weightings!$P$6*Weightings!$P$8 ),2)<Weightings!$P$7,Weightings!$P$7,ROUND((Weightings!$P$5*CC40^Weightings!$P$6*Weightings!$P$8 ),2))","v":1866.26},{"$f":"ROUND(CD40/Weightings!$M$5,4)","v":0.48449999999999999},11.6,0,0,0,0,{"$f":"AS40*Weightings!$M$5*CJ40","v":0},0,0.40899999999999997,0.5,0,0,2.6,{"$f":"IF(ISNA(VLOOKUP($DC40,'Audit Values'!$A$2:$AE$252,2,FALSE)),'Preliminary SO66'!T37,VLOOKUP($DC40,'Audit Values'!$A$2:$AE$252,20,FALSE))","v":0},{"$f":"IF(ISNA(VLOOKUP($DC40,'Audit Values'!$A$2:$AE$252,21,FALSE)),'Preliminary SO66'!U37,VLOOKUP($DC40,'Audit Values'!$A$2:$AE$252,21,FALSE))","v":0},0,0,null,null,null,null,null,null,null,"D0225"]
[226,"Meade","Meade ",406.1,0,406.1,392.7,0,392.7,372.5,{"$f":"IF(ISNA(VLOOKUP($DC41,'Audit Values'!$A$2:$AE$252,2,FALSE)),'Preliminary SO66'!B38,VLOOKUP($DC41,'Audit Values'!$A$2:$AE$252,31,FALSE))","v":372.5},392.7,{"$f":"IF(ISNA(VLOOKUP($DC41,'Audit Values'!$A$2:$AE$252,2,FALSE)),'Preliminary SO66'!Z38,VLOOKUP($DC41,'Audit Values'!$A$2:$AE$252,26,FALSE))","v":0},392.7,{"$f":"IF(ISNA(VLOOKUP($DC41,'Audit Values'!$A$2:$AE$252,2,FALSE)),'Preliminary SO66'!C38,IF(VLOOKUP($DC41,'Audit Values'!$A$2:$AE$252,28,FALSE)=\"\",VLOOKUP($DC41,'Audit Values'!$A$2:$AE$252,3,FALSE),VLOOKUP($DC41,'Audit Values'!$A$2:$AE$252,28,FALSE)))","v":3.5},376,376,376,396.2,0,178.9,178.9,0,{"$f":"IF(ISNA(VLOOKUP($DC41,'Audit Values'!$A$2:$AE$252,2,FALSE)),'Preliminary SO66'!D38,VLOOKUP($DC41,'Audit Values'!$A$2:$AE$252,4,FALSE))","v":96.6},{"$f":"ROUND((X41/6)*Weightings!$M$6,1)","v":8.1},{"$f":"IF(ISNA(VLOOKUP($DC41,'Audit Values'!$A$2:$AE$252,2,FALSE)),'Preliminary SO66'!F38,VLOOKUP($DC41,'Audit Values'!$A$2:$AE$252,6,FALSE))","v":26.4},{"$f":"ROUND((Z41/6)*Weightings!$M$7,1)","v":1.7},{"$f":"IF(ISNA(VLOOKUP($DC41,'Audit Values'!$A$2:$AE$252,2,FALSE)),'Preliminary SO66'!H38,VLOOKUP($DC41,'Audit Values'!$A$2:$AE$252,9,FALSE))","v":126},{"$f":"ROUND(AB41*Weightings!$M$8,1)","v":57.5},0,0,{"$f":"AE41*Weightings!$M$9","v":0},{"$f":"IF(ISNA(VLOOKUP($DC41,'Audit Values'!$A$2:$AE$252,2,FALSE)),'Preliminary SO66'!L38,VLOOKUP($DC41,'Audit Values'!$A$2:$AE$252,12,FALSE))","v":0},{"$f":"ROUND(AG41*Weightings!$M$10,1)","v":0},{"$f":"IF(ISNA(VLOOKUP($DC41,'Audit Values'!$A$2:$AE$252,2,FALSE)),'Preliminary SO66'!O38,VLOOKUP($DC41,'Audit Values'!$A$2:$AE$252,15,FALSE))","v":56.5},25.2,{"$f":"CG41/Weightings!$M$5","v":0},{"$f":"CH41/Weightings!$M$5","v":0},{"$f":"CL41/Weightings!$M$5","v":0},0,{"$f":"IF(ISNA(VLOOKUP($DC41,'Audit Values'!$A$2:$AE$252,2,FALSE)),'Preliminary SO66'!X38,VLOOKUP($DC41,'Audit Values'!$A$2:$AE$252,24,FALSE))","v":0},284651,{"$f":"AP41/Weightings!$M$5","v":73.900000000000006},667.6,741.5,741.5,5000,{"$f":"IF(ISNA(VLOOKUP($DC41,'Audit Values'!$A$2:$AC$299,2,FALSE)),\"\",IF(AND(Weightings!H41>0,VLOOKUP($DC41,'Audit Values'!$A$2:$AC$299,29,FALSE)<Weightings!H41),Weightings!H41,VLOOKUP($DC41,'Audit Values'!$A$2:$AC$299,29,FALSE)))","v":12},{"$f":"IF(ISNA(VLOOKUP($DC41,'Audit Values'!$A$2:$AD$299,2,FALSE)),\"\",VLOOKUP($DC41,'Audit Values'!$A$2:$AD$299,30,FALSE))","v":"A"},{"$f":"IF(Weightings!G41=\"\",\"\",IF(Weightings!I41=\"Pending\",\"PX\",\"R\"))","v":""},{"$f":"AR41*Weightings!$M$5+AU41","v":2576595},{"$f":"AT41*Weightings!$M$5+AU41","v":2861258},{"$f":"IF(Weightings!G41>0,Weightings!G41,'Preliminary SO66'!AB38)","v":3295496},0,217676,0,3077820,2861258,null,{"$f":"Weightings!E41","v":0},{"$f":"Weightings!F41","v":0},0,2861258,{"$f":"MAX(ROUND(((AR41-AN41-AO41)*Weightings!$M$12)+'2016legmax.xls'!AP41,0),ROUND((('2016legmax.xls'!AR41-'2016legmax.xls'!AN41-'2016legmax.xls'!AO41)*Weightings!$M$12)+Weightings!B41,0))","v":3391118},0.33,1119069,1138479,1119069,0.33,0,false,0,0,0,true,119.0475,0.45150200000000001,178.9,0,440,0.13,{"$f":"IF(ROUND((Weightings!$P$5*CC41^Weightings!$P$6*Weightings!$P$8 ),2)<Weightings!$P$7,Weightings!$P$7,ROUND((Weightings!$P$5*CC41^Weightings!$P$6*Weightings!$P$8 ),2))","v":1717.3},{"$f":"ROUND(CD41/Weightings!$M$5,4)","v":0.44579999999999997},25.2,0,0,0,0,{"$f":"AS41*Weightings!$M$5*CJ41","v":0},0,0.318,0.9,0,0,0,{"$f":"IF(ISNA(VLOOKUP($DC41,'Audit Values'!$A$2:$AE$252,2,FALSE)),'Preliminary SO66'!T38,VLOOKUP($DC41,'Audit Values'!$A$2:$AE$252,20,FALSE))","v":0},{"$f":"IF(ISNA(VLOOKUP($DC41,'Audit Values'!$A$2:$AE$252,21,FALSE)),'Preliminary SO66'!U38,VLOOKUP($DC41,'Audit Values'!$A$2:$AE$252,21,FALSE))","v":0},0,0,null,null,null,null,null,null,null,"D0226"]
[227,"Hodgeman","Hodgeman County Schools ",291.5,0,291.5,287,0,287,286.5,{"$f":"IF(ISNA(VLOOKUP($DC42,'Audit Values'!$A$2:$AE$252,2,FALSE)),'Preliminary SO66'!B39,VLOOKUP($DC42,'Audit Values'!$A$2:$AE$252,31,FALSE))","v":286.5},288.3,{"$f":"IF(ISNA(VLOOKUP($DC42,'Audit Values'!$A$2:$AE$252,2,FALSE)),'Preliminary SO66'!Z39,VLOOKUP($DC42,'Audit Values'!$A$2:$AE$252,26,FALSE))","v":0},288.3,{"$f":"IF(ISNA(VLOOKUP($DC42,'Audit Values'!$A$2:$AE$252,2,FALSE)),'Preliminary SO66'!C39,IF(VLOOKUP($DC42,'Audit Values'!$A$2:$AE$252,28,FALSE)=\"\",VLOOKUP($DC42,'Audit Values'!$A$2:$AE$252,3,FALSE),VLOOKUP($DC42,'Audit Values'!$A$2:$AE$252,28,FALSE)))","v":0},286.5,286.5,286.5,288.3,0,148.5,148.5,0,{"$f":"IF(ISNA(VLOOKUP($DC42,'Audit Values'!$A$2:$AE$252,2,FALSE)),'Preliminary SO66'!D39,VLOOKUP($DC42,'Audit Values'!$A$2:$AE$252,4,FALSE))","v":55.2},{"$f":"ROUND((X42/6)*Weightings!$M$6,1)","v":4.5999999999999996},{"$f":"IF(ISNA(VLOOKUP($DC42,'Audit Values'!$A$2:$AE$252,2,FALSE)),'Preliminary SO66'!F39,VLOOKUP($DC42,'Audit Values'!$A$2:$AE$252,6,FALSE))","v":23.3},{"$f":"ROUND((Z42/6)*Weightings!$M$7,1)","v":1.5},{"$f":"IF(ISNA(VLOOKUP($DC42,'Audit Values'!$A$2:$AE$252,2,FALSE)),'Preliminary SO66'!H39,VLOOKUP($DC42,'Audit Values'!$A$2:$AE$252,9,FALSE))","v":73},{"$f":"ROUND(AB42*Weightings!$M$8,1)","v":33.299999999999997},0,0,{"$f":"AE42*Weightings!$M$9","v":0},{"$f":"IF(ISNA(VLOOKUP($DC42,'Audit Values'!$A$2:$AE$252,2,FALSE)),'Preliminary SO66'!L39,VLOOKUP($DC42,'Audit Values'!$A$2:$AE$252,12,FALSE))","v":0},{"$f":"ROUND(AG42*Weightings!$M$10,1)","v":0},{"$f":"IF(ISNA(VLOOKUP($DC42,'Audit Values'!$A$2:$AE$252,2,FALSE)),'Preliminary SO66'!O39,VLOOKUP($DC42,'Audit Values'!$A$2:$AE$252,15,FALSE))","v":136.5},57.3,{"$f":"CG42/Weightings!$M$5","v":0},{"$f":"CH42/Weightings!$M$5","v":0},{"$f":"CL42/Weightings!$M$5","v":0},0,{"$f":"IF(ISNA(VLOOKUP($DC42,'Audit Values'!$A$2:$AE$252,2,FALSE)),'Preliminary SO66'!X39,VLOOKUP($DC42,'Audit Values'!$A$2:$AE$252,24,FALSE))","v":0},204176,{"$f":"AP42/Weightings!$M$5","v":53},533.5,586.5,586.5,0,{"$f":"IF(ISNA(VLOOKUP($DC42,'Audit Values'!$A$2:$AC$299,2,FALSE)),\"\",IF(AND(Weightings!H42>0,VLOOKUP($DC42,'Audit Values'!$A$2:$AC$299,29,FALSE)<Weightings!H42),Weightings!H42,VLOOKUP($DC42,'Audit Values'!$A$2:$AC$299,29,FALSE)))","v":9},{"$f":"IF(ISNA(VLOOKUP($DC42,'Audit Values'!$A$2:$AD$299,2,FALSE)),\"\",VLOOKUP($DC42,'Audit Values'!$A$2:$AD$299,30,FALSE))","v":"A"},{"$f":"IF(Weightings!G42=\"\",\"\",IF(Weightings!I42=\"Pending\",\"PX\",\"R\"))","v":""},{"$f":"AR42*Weightings!$M$5+AU42","v":2055042},{"$f":"AT42*Weightings!$M$5+AU42","v":2259198},{"$f":"IF(Weightings!G42>0,Weightings!G42,'Preliminary SO66'!AB39)","v":2552552},0,154729,0,2397823,2259198,null,{"$f":"Weightings!E42","v":0},{"$f":"Weightings!F42","v":0},0,2259198,{"$f":"MAX(ROUND(((AR42-AN42-AO42)*Weightings!$M$12)+'2016legmax.xls'!AP42,0),ROUND((('2016legmax.xls'!AR42-'2016legmax.xls'!AN42-'2016legmax.xls'!AO42)*Weightings!$M$12)+Weightings!B42,0))","v":2716067},0.3,814820,820208,814820,0.3,0,true,1818.037,0.51519999999999999,148.5,false,0,0,0,0,807.5,0.17,{"$f":"IF(ROUND((Weightings!$P$5*CC42^Weightings!$P$6*Weightings!$P$8 ),2)<Weightings!$P$7,Weightings!$P$7,ROUND((Weightings!$P$5*CC42^Weightings!$P$6*Weightings!$P$8 ),2))","v":1616.19},{"$f":"ROUND(CD42/Weightings!$M$5,4)","v":0.41959999999999997},57.3,0,0,0,0,{"$f":"AS42*Weightings!$M$5*CJ42","v":0},0,0.253,0.4,0,0,0,{"$f":"IF(ISNA(VLOOKUP($DC42,'Audit Values'!$A$2:$AE$252,2,FALSE)),'Preliminary SO66'!T39,VLOOKUP($DC42,'Audit Values'!$A$2:$AE$252,20,FALSE))","v":0},{"$f":"IF(ISNA(VLOOKUP($DC42,'Audit Values'!$A$2:$AE$252,21,FALSE)),'Preliminary SO66'!U39,VLOOKUP($DC42,'Audit Values'!$A$2:$AE$252,21,FALSE))","v":0},0,0,null,null,null,null,null,null,null,"D0227"]
[229,"Johnson","Blue Valley ",21371,0,21371,21375.1,0,21375.1,21580.7,{"$f":"IF(ISNA(VLOOKUP($DC43,'Audit Values'!$A$2:$AE$299,2,FALSE)),'Preliminary SO66'!B40,VLOOKUP($DC43,'Audit Values'!$A$2:$AE$2299,31,FALSE))","v":21563.7},21563.7,{"$f":"IF(ISNA(VLOOKUP($DC43,'Audit Values'!$A$2:$AE$252,2,FALSE)),'Preliminary SO66'!Z40,VLOOKUP($DC43,'Audit Values'!$A$2:$AE$252,26,FALSE))","v":0},21563.7,{"$f":"IF(ISNA(VLOOKUP($DC43,'Audit Values'!$A$2:$AE$252,2,FALSE)),'Preliminary SO66'!C40,IF(VLOOKUP($DC43,'Audit Values'!$A$2:$AE$252,28,FALSE)=\"\",VLOOKUP($DC43,'Audit Values'!$A$2:$AE$252,3,FALSE),VLOOKUP($DC43,'Audit Values'!$A$2:$AE$252,28,FALSE)))","v":0},21563.7,21580.7,21580.7,21563.7,17,755.6,0,755.6,{"$f":"IF(ISNA(VLOOKUP($DC43,'Audit Values'!$A$2:$AE$299,2,FALSE)),'Preliminary SO66'!D40,VLOOKUP($DC43,'Audit Values'!$A$2:$AE$299,4,FALSE))","v":4742.7},{"$f":"ROUND((X43/6)*Weightings!$M$6,1)","v":395.2},{"$f":"IF(ISNA(VLOOKUP($DC43,'Audit Values'!$A$2:$AE$299,2,FALSE)),'Preliminary SO66'!F40,VLOOKUP($DC43,'Audit Values'!$A$2:$AE$299,6,FALSE))","v":1239.4000000000001},{"$f":"ROUND((Z43/6)*Weightings!$M$7,1)","v":81.599999999999994},{"$f":"IF(ISNA(VLOOKUP($DC43,'Audit Values'!$A$2:$AE$299,2,FALSE)),'Preliminary SO66'!H40,VLOOKUP($DC43,'Audit Values'!$A$2:$AE$299,9,FALSE))","v":1262},{"$f":"ROUND(AB43*Weightings!$M$8,1)","v":575.5},0,0,{"$f":"AE43*Weightings!$M$9","v":0},{"$f":"IF(ISNA(VLOOKUP($DC43,'Audit Values'!$A$2:$AE$299,2,FALSE)),'Preliminary SO66'!L40,VLOOKUP($DC43,'Audit Values'!$A$2:$AE$299,12,FALSE))","v":72.5},{"$f":"ROUND(AG43*Weightings!$M$10,1)","v":18.100000000000001},{"$f":"IF(ISNA(VLOOKUP($DC43,'Audit Values'!$A$2:$AE$252,2,FALSE)),'Preliminary SO66'!O40,VLOOKUP($DC43,'Audit Values'!$A$2:$AE$252,15,FALSE))","v":4677},684.7,{"$f":"CG43/Weightings!$M$5","v":2743.4},{"$f":"CH43/Weightings!$M$5","v":0},{"$f":"CL43/Weightings!$M$5","v":1615.3},17.899999999999999,{"$f":"IF(ISNA(VLOOKUP($DC43,'Audit Values'!$A$2:$AE$252,2,FALSE)),'Preliminary SO66'!X40,VLOOKUP($DC43,'Audit Values'!$A$2:$AE$252,24,FALSE))","v":0},21069541,{"$f":"AP43/Weightings!$M$5","v":5469.8},28451,32305.5,33920.800000000003,0,{"$f":"IF(ISNA(VLOOKUP($DC43,'Audit Values'!$A$2:$AC$299,2,FALSE)),\"\",IF(AND(Weightings!H43>0,VLOOKUP($DC43,'Audit Values'!$A$2:$AC$299,29,FALSE)<Weightings!H43),Weightings!H43,VLOOKUP($DC43,'Audit Values'!$A$2:$AC$299,29,FALSE)))","v":18},{"$f":"IF(ISNA(VLOOKUP($DC43,'Audit Values'!$A$2:$AD$299,2,FALSE)),\"\",VLOOKUP($DC43,'Audit Values'!$A$2:$AD$299,30,FALSE))","v":"A"},{"$f":"IF(Weightings!G43=\"\",\"\",IF(Weightings!I43=\"Pending\",\"PX\",\"R\"))","v":""},{"$f":"AR43*Weightings!$M$5+AU43","v":109593252},{"$f":"AT43*Weightings!$M$5+AU43","v":130662922},{"$f":"IF(Weightings!G43>0,Weightings!G43,'Preliminary SO66'!AB40)","v":150793376},2386017,11998794,0,136408565,130662922,null,{"$f":"Weightings!E43","v":0},{"$f":"Weightings!F43","v":0},0,130662922,{"$f":"MAX(ROUND(((AR43-AN43-AO43)*Weightings!$M$12)+'2016legmax.xls'!AP43,0),ROUND((('2016legmax.xls'!AR43-'2016legmax.xls'!AN43-'2016legmax.xls'!AO43)*Weightings!$M$12)+Weightings!B43,0))","v":148734160},0.33,49082273,48519957,48519957,0.32619999999999999,0,false,0,0,0,false,0,0,0,755.6,91,51.4,{"$f":"IF(ROUND((Weightings!$P$5*CC43^Weightings!$P$6*Weightings!$P$8 ),2)<Weightings!$P$7,Weightings!$P$7,ROUND((Weightings!$P$5*CC43^Weightings!$P$6*Weightings!$P$8 ),2))","v":564},{"$f":"ROUND(CD43/Weightings!$M$5,4)","v":0.1464},684.7,10567670,0,7180637,0.05,{"$f":"AS43*Weightings!$M$5*CJ43","v":6222039},6222039,5.8999999999999997E-2,237,0,0,0,{"$f":"IF(ISNA(VLOOKUP($DC43,'Audit Values'!$A$2:$AE$299,2,FALSE)),'Preliminary SO66'!T40,VLOOKUP($DC43,'Audit Values'!$A$2:$AE$299,20,FALSE))","v":0},{"$f":"IF(ISNA(VLOOKUP($DC43,'Audit Values'!$A$2:$AE$299,21,FALSE)),'Preliminary SO66'!U40,VLOOKUP($DC43,'Audit Values'!$A$2:$AE$299,21,FALSE))","v":16.899999999999999},0.1,17,null,null,null,null,null,null,null,"D0229"]
[230,"Johnson","Spring Hill ",2248.6999999999998,0,2248.6999999999998,2365,0,2365,3468.3,{"$f":"IF(ISNA(VLOOKUP($DC44,'Audit Values'!$A$2:$AE$252,2,FALSE)),'Preliminary SO66'!B41,VLOOKUP($DC44,'Audit Values'!$A$2:$AE$252,31,FALSE))","v":2490.4},2490.4,{"$f":"IF(ISNA(VLOOKUP($DC44,'Audit Values'!$A$2:$AE$252,2,FALSE)),'Preliminary SO66'!Z41,VLOOKUP($DC44,'Audit Values'!$A$2:$AE$252,26,FALSE))","v":0},2490.4,{"$f":"IF(ISNA(VLOOKUP($DC44,'Audit Values'!$A$2:$AE$252,2,FALSE)),'Preliminary SO66'!C41,IF(VLOOKUP($DC44,'Audit Values'!$A$2:$AE$252,28,FALSE)=\"\",VLOOKUP($DC44,'Audit Values'!$A$2:$AE$252,3,FALSE),VLOOKUP($DC44,'Audit Values'!$A$2:$AE$252,28,FALSE)))","v":7},2497.4,3475.3,3475.3,2497.4,977.9,87.5,0,87.5,{"$f":"IF(ISNA(VLOOKUP($DC44,'Audit Values'!$A$2:$AE$252,2,FALSE)),'Preliminary SO66'!D41,VLOOKUP($DC44,'Audit Values'!$A$2:$AE$252,4,FALSE))","v":485.5},{"$f":"ROUND((X44/6)*Weightings!$M$6,1)","v":40.5},{"$f":"IF(ISNA(VLOOKUP($DC44,'Audit Values'!$A$2:$AE$252,2,FALSE)),'Preliminary SO66'!F41,VLOOKUP($DC44,'Audit Values'!$A$2:$AE$252,6,FALSE))","v":7.9},{"$f":"ROUND((Z44/6)*Weightings!$M$7,1)","v":0.5},{"$f":"IF(ISNA(VLOOKUP($DC44,'Audit Values'!$A$2:$AE$252,2,FALSE)),'Preliminary SO66'!H41,VLOOKUP($DC44,'Audit Values'!$A$2:$AE$252,9,FALSE))","v":460},{"$f":"ROUND(AB44*Weightings!$M$8,1)","v":209.8},0,0,{"$f":"AE44*Weightings!$M$9","v":0},{"$f":"IF(ISNA(VLOOKUP($DC44,'Audit Values'!$A$2:$AE$252,2,FALSE)),'Preliminary SO66'!L41,VLOOKUP($DC44,'Audit Values'!$A$2:$AE$252,12,FALSE))","v":0},{"$f":"ROUND(AG44*Weightings!$M$10,1)","v":0},{"$f":"IF(ISNA(VLOOKUP($DC44,'Audit Values'!$A$2:$AE$252,2,FALSE)),'Preliminary SO66'!O41,VLOOKUP($DC44,'Audit Values'!$A$2:$AE$252,15,FALSE))","v":1225},180.8,{"$f":"CG44/Weightings!$M$5","v":656.4},{"$f":"CH44/Weightings!$M$5","v":0},{"$f":"CL44/Weightings!$M$5","v":0},1026.8,{"$f":"IF(ISNA(VLOOKUP($DC44,'Audit Values'!$A$2:$AE$252,2,FALSE)),'Preliminary SO66'!X41,VLOOKUP($DC44,'Audit Values'!$A$2:$AE$252,24,FALSE))","v":0},2570485,{"$f":"AP44/Weightings!$M$5","v":667.3},4699.7,5367,5367,0,{"$f":"IF(ISNA(VLOOKUP($DC44,'Audit Values'!$A$2:$AC$299,2,FALSE)),\"\",IF(AND(Weightings!H44>0,VLOOKUP($DC44,'Audit Values'!$A$2:$AC$299,29,FALSE)<Weightings!H44),Weightings!H44,VLOOKUP($DC44,'Audit Values'!$A$2:$AC$299,29,FALSE)))","v":9},{"$f":"IF(ISNA(VLOOKUP($DC44,'Audit Values'!$A$2:$AD$299,2,FALSE)),\"\",VLOOKUP($DC44,'Audit Values'!$A$2:$AD$299,30,FALSE))","v":"A"},{"$f":"IF(Weightings!G44=\"\",\"\",IF(Weightings!I44=\"Pending\",\"PX\",\"R\"))","v":"R"},{"$f":"AR44*Weightings!$M$5+AU44","v":18103244},{"$f":"AT44*Weightings!$M$5+AU44","v":20673684},{"$f":"IF(Weightings!G44>0,Weightings!G44,'Preliminary SO66'!AB41)","v":26516103},3003029,1456855,0,22056219,20673684,null,{"$f":"Weightings!E44","v":0},{"$f":"Weightings!F44","v":0},0,20673684,{"$f":"MAX(ROUND(((AR44-AN44-AO44)*Weightings!$M$12)+'2016legmax.xls'!AP44,0),ROUND((('2016legmax.xls'!AR44-'2016legmax.xls'!AN44-'2016legmax.xls'!AO44)*Weightings!$M$12)+Weightings!B44,0))","v":19061806},0.3,5718542,5261457,5261457,0.27600000000000002,0,false,0,0,0,false,0,0,0,87.5,71,17.25,{"$f":"IF(ROUND((Weightings!$P$5*CC44^Weightings!$P$6*Weightings!$P$8 ),2)<Weightings!$P$7,Weightings!$P$7,ROUND((Weightings!$P$5*CC44^Weightings!$P$6*Weightings!$P$8 ),2))","v":568.39},{"$f":"ROUND(CD44/Weightings!$M$5,4)","v":0.14760000000000001},180.8,2528640,0,0,3.2099999999999997E-2,{"$f":"AS44*Weightings!$M$5*CJ44","v":663625},0,0.184,35.200000000000003,0,0,0,{"$f":"IF(ISNA(VLOOKUP($DC44,'Audit Values'!$A$2:$AE$252,2,FALSE)),'Preliminary SO66'!T41,VLOOKUP($DC44,'Audit Values'!$A$2:$AE$252,20,FALSE))","v":835},{"$f":"IF(ISNA(VLOOKUP($DC44,'Audit Values'!$A$2:$AE$252,21,FALSE)),'Preliminary SO66'!U41,VLOOKUP($DC44,'Audit Values'!$A$2:$AE$252,21,FALSE))","v":32.9},110,977.9,null,null,null,null,null,null,null,"D0230",317164]
[231,"Johnson","Gardner Edgerton ",5141.8999999999996,0,5141.8999999999996,5350.5,0,5350.5,5443.7,{"$f":"IF(ISNA(VLOOKUP($DC45,'Audit Values'!$A$2:$AE$252,2,FALSE)),'Preliminary SO66'!B42,VLOOKUP($DC45,'Audit Values'!$A$2:$AE$252,31,FALSE))","v":5443.7},5443.7,{"$f":"IF(ISNA(VLOOKUP($DC45,'Audit Values'!$A$2:$AE$252,2,FALSE)),'Preliminary SO66'!Z42,VLOOKUP($DC45,'Audit Values'!$A$2:$AE$252,26,FALSE))","v":0},5443.7,{"$f":"IF(ISNA(VLOOKUP($DC45,'Audit Values'!$A$2:$AE$252,2,FALSE)),'Preliminary SO66'!C42,IF(VLOOKUP($DC45,'Audit Values'!$A$2:$AE$252,28,FALSE)=\"\",VLOOKUP($DC45,'Audit Values'!$A$2:$AE$252,3,FALSE),VLOOKUP($DC45,'Audit Values'!$A$2:$AE$252,28,FALSE)))","v":9},5452.7,5452.7,5452.7,5452.7,0,191.1,0,191.1,{"$f":"IF(ISNA(VLOOKUP($DC45,'Audit Values'!$A$2:$AE$252,2,FALSE)),'Preliminary SO66'!D42,VLOOKUP($DC45,'Audit Values'!$A$2:$AE$252,4,FALSE))","v":994.9},{"$f":"ROUND((X45/6)*Weightings!$M$6,1)","v":82.9},{"$f":"IF(ISNA(VLOOKUP($DC45,'Audit Values'!$A$2:$AE$252,2,FALSE)),'Preliminary SO66'!F42,VLOOKUP($DC45,'Audit Values'!$A$2:$AE$252,6,FALSE))","v":285.5},{"$f":"ROUND((Z45/6)*Weightings!$M$7,1)","v":18.8},{"$f":"IF(ISNA(VLOOKUP($DC45,'Audit Values'!$A$2:$AE$252,2,FALSE)),'Preliminary SO66'!H42,VLOOKUP($DC45,'Audit Values'!$A$2:$AE$252,9,FALSE))","v":1356},{"$f":"ROUND(AB45*Weightings!$M$8,1)","v":618.29999999999995},0,0,{"$f":"AE45*Weightings!$M$9","v":0},{"$f":"IF(ISNA(VLOOKUP($DC45,'Audit Values'!$A$2:$AE$252,2,FALSE)),'Preliminary SO66'!L42,VLOOKUP($DC45,'Audit Values'!$A$2:$AE$252,12,FALSE))","v":678.1},{"$f":"ROUND(AG45*Weightings!$M$10,1)","v":169.5},{"$f":"IF(ISNA(VLOOKUP($DC45,'Audit Values'!$A$2:$AE$252,2,FALSE)),'Preliminary SO66'!O42,VLOOKUP($DC45,'Audit Values'!$A$2:$AE$252,15,FALSE))","v":1133},185.1,{"$f":"CG45/Weightings!$M$5","v":399.8},{"$f":"CH45/Weightings!$M$5","v":0},{"$f":"CL45/Weightings!$M$5","v":0},0,{"$f":"IF(ISNA(VLOOKUP($DC45,'Audit Values'!$A$2:$AE$252,2,FALSE)),'Preliminary SO66'!X42,VLOOKUP($DC45,'Audit Values'!$A$2:$AE$252,24,FALSE))","v":1},5498248,{"$f":"AP45/Weightings!$M$5","v":1427.4},7119.2,8546.6,8546.6,15000,{"$f":"IF(ISNA(VLOOKUP($DC45,'Audit Values'!$A$2:$AC$299,2,FALSE)),\"\",IF(AND(Weightings!H45>0,VLOOKUP($DC45,'Audit Values'!$A$2:$AC$299,29,FALSE)<Weightings!H45),Weightings!H45,VLOOKUP($DC45,'Audit Values'!$A$2:$AC$299,29,FALSE)))","v":6},{"$f":"IF(ISNA(VLOOKUP($DC45,'Audit Values'!$A$2:$AD$299,2,FALSE)),\"\",VLOOKUP($DC45,'Audit Values'!$A$2:$AD$299,30,FALSE))","v":"A"},{"$f":"IF(Weightings!G45=\"\",\"\",IF(Weightings!I45=\"Pending\",\"PX\",\"R\"))","v":""},{"$f":"AR45*Weightings!$M$5+AU45","v":27438158},{"$f":"AT45*Weightings!$M$5+AU45","v":32936503},{"$f":"IF(Weightings!G45>0,Weightings!G45,'Preliminary SO66'!AB42)","v":43922033},6188368,3006801,510729,34216135,32936503,null,{"$f":"Weightings!E45","v":0},{"$f":"Weightings!F45","v":0},0,32936503,{"$f":"MAX(ROUND(((AR45-AN45-AO45)*Weightings!$M$12)+'2016legmax.xls'!AP45,0),ROUND((('2016legmax.xls'!AR45-'2016legmax.xls'!AN45-'2016legmax.xls'!AO45)*Weightings!$M$12)+Weightings!B45,0))","v":37458966},0.33,12361459,11075000,11075000,0.29570000000000002,0,false,0,0,0,false,0,0,0,191.1,103,11,{"$f":"IF(ROUND((Weightings!$P$5*CC45^Weightings!$P$6*Weightings!$P$8 ),2)<Weightings!$P$7,Weightings!$P$7,ROUND((Weightings!$P$5*CC45^Weightings!$P$6*Weightings!$P$8 ),2))","v":629.28},{"$f":"ROUND(CD45/Weightings!$M$5,4)","v":0.16339999999999999},185.1,1540199,0,0,1E-3,{"$f":"AS45*Weightings!$M$5*CJ45","v":32922},0,0.249,52.9,0,0,0,{"$f":"IF(ISNA(VLOOKUP($DC45,'Audit Values'!$A$2:$AE$252,2,FALSE)),'Preliminary SO66'!T42,VLOOKUP($DC45,'Audit Values'!$A$2:$AE$252,20,FALSE))","v":0},{"$f":"IF(ISNA(VLOOKUP($DC45,'Audit Values'!$A$2:$AE$252,21,FALSE)),'Preliminary SO66'!U42,VLOOKUP($DC45,'Audit Values'!$A$2:$AE$252,21,FALSE))","v":0},0,0,null,null,null,null,null,null,null,"D0231"]
[232,"Johnson","De Soto ",6695.3,0,6695.3,6740.1,0,6740.1,6713.1,{"$f":"IF(ISNA(VLOOKUP($DC46,'Audit Values'!$A$2:$AE$252,2,FALSE)),'Preliminary SO66'!B43,VLOOKUP($DC46,'Audit Values'!$A$2:$AE$252,31,FALSE))","v":6713.1},6740.1,{"$f":"IF(ISNA(VLOOKUP($DC46,'Audit Values'!$A$2:$AE$252,2,FALSE)),'Preliminary SO66'!Z43,VLOOKUP($DC46,'Audit Values'!$A$2:$AE$252,26,FALSE))","v":0},6740.1,{"$f":"IF(ISNA(VLOOKUP($DC46,'Audit Values'!$A$2:$AE$252,2,FALSE)),'Preliminary SO66'!C43,IF(VLOOKUP($DC46,'Audit Values'!$A$2:$AE$252,28,FALSE)=\"\",VLOOKUP($DC46,'Audit Values'!$A$2:$AE$252,3,FALSE),VLOOKUP($DC46,'Audit Values'!$A$2:$AE$252,28,FALSE)))","v":12},6725.1,6725.1,6725.1,6752.1,0,236.6,0,236.6,{"$f":"IF(ISNA(VLOOKUP($DC46,'Audit Values'!$A$2:$AE$252,2,FALSE)),'Preliminary SO66'!D43,VLOOKUP($DC46,'Audit Values'!$A$2:$AE$252,4,FALSE))","v":1759.8},{"$f":"ROUND((X46/6)*Weightings!$M$6,1)","v":146.69999999999999},{"$f":"IF(ISNA(VLOOKUP($DC46,'Audit Values'!$A$2:$AE$252,2,FALSE)),'Preliminary SO66'!F43,VLOOKUP($DC46,'Audit Values'!$A$2:$AE$252,6,FALSE))","v":873.8},{"$f":"ROUND((Z46/6)*Weightings!$M$7,1)","v":57.5},{"$f":"IF(ISNA(VLOOKUP($DC46,'Audit Values'!$A$2:$AE$252,2,FALSE)),'Preliminary SO66'!H43,VLOOKUP($DC46,'Audit Values'!$A$2:$AE$252,9,FALSE))","v":610},{"$f":"ROUND(AB46*Weightings!$M$8,1)","v":278.2},0,0,{"$f":"AE46*Weightings!$M$9","v":0},{"$f":"IF(ISNA(VLOOKUP($DC46,'Audit Values'!$A$2:$AE$252,2,FALSE)),'Preliminary SO66'!L43,VLOOKUP($DC46,'Audit Values'!$A$2:$AE$252,12,FALSE))","v":0},{"$f":"ROUND(AG46*Weightings!$M$10,1)","v":0},{"$f":"IF(ISNA(VLOOKUP($DC46,'Audit Values'!$A$2:$AE$252,2,FALSE)),'Preliminary SO66'!O43,VLOOKUP($DC46,'Audit Values'!$A$2:$AE$252,15,FALSE))","v":1907},279.2,{"$f":"CG46/Weightings!$M$5","v":8.4},{"$f":"CH46/Weightings!$M$5","v":0},{"$f":"CL46/Weightings!$M$5","v":445.2},0,{"$f":"IF(ISNA(VLOOKUP($DC46,'Audit Values'!$A$2:$AE$252,2,FALSE)),'Preliminary SO66'!X43,VLOOKUP($DC46,'Audit Values'!$A$2:$AE$252,24,FALSE))","v":0},4408489,{"$f":"AP46/Weightings!$M$5","v":1144.5},8203.9,8903.2000000000007,9348.4,0,{"$f":"IF(ISNA(VLOOKUP($DC46,'Audit Values'!$A$2:$AC$299,2,FALSE)),\"\",IF(AND(Weightings!H46>0,VLOOKUP($DC46,'Audit Values'!$A$2:$AC$299,29,FALSE)<Weightings!H46),Weightings!H46,VLOOKUP($DC46,'Audit Values'!$A$2:$AC$299,29,FALSE)))","v":8},{"$f":"IF(ISNA(VLOOKUP($DC46,'Audit Values'!$A$2:$AD$299,2,FALSE)),\"\",VLOOKUP($DC46,'Audit Values'!$A$2:$AD$299,30,FALSE))","v":"A"},{"$f":"IF(Weightings!G46=\"\",\"\",IF(Weightings!I46=\"Pending\",\"PX\",\"R\"))","v":""},{"$f":"AR46*Weightings!$M$5+AU46","v":31601423},{"$f":"AT46*Weightings!$M$5+AU46","v":36010037},{"$f":"IF(Weightings!G46>0,Weightings!G46,'Preliminary SO66'!AB43)","v":48987943},6522605,3226660,659150,38579528,36010037,null,{"$f":"Weightings!E46","v":0},{"$f":"Weightings!F46","v":0},0,36010037,{"$f":"MAX(ROUND(((AR46-AN46-AO46)*Weightings!$M$12)+'2016legmax.xls'!AP46,0),ROUND((('2016legmax.xls'!AR46-'2016legmax.xls'!AN46-'2016legmax.xls'!AO46)*Weightings!$M$12)+Weightings!B46,0))","v":41273165},0.33,13620144,13812173,13620144,0.33,0,false,0,0,0,false,0,0,0,236.6,100,19.07,{"$f":"IF(ROUND((Weightings!$P$5*CC46^Weightings!$P$6*Weightings!$P$8 ),2)<Weightings!$P$7,Weightings!$P$7,ROUND((Weightings!$P$5*CC46^Weightings!$P$6*Weightings!$P$8 ),2))","v":564},{"$f":"ROUND(CD46/Weightings!$M$5,4)","v":0.1464},279.2,32244,0,2332759,0.05,{"$f":"AS46*Weightings!$M$5*CJ46","v":1714756},1714756,0.09,67.5,0,0,0,{"$f":"IF(ISNA(VLOOKUP($DC46,'Audit Values'!$A$2:$AE$252,2,FALSE)),'Preliminary SO66'!T43,VLOOKUP($DC46,'Audit Values'!$A$2:$AE$252,20,FALSE))","v":0},{"$f":"IF(ISNA(VLOOKUP($DC46,'Audit Values'!$A$2:$AE$252,21,FALSE)),'Preliminary SO66'!U43,VLOOKUP($DC46,'Audit Values'!$A$2:$AE$252,21,FALSE))","v":0},0,0,null,null,null,null,null,null,null,"D0232"]
[233,"Johnson","Olathe ",27383.1,0,27383.1,27571.4,0,27571.4,27799.1,{"$f":"IF(ISNA(VLOOKUP($DC47,'Audit Values'!$A$2:$AE$252,2,FALSE)),'Preliminary SO66'!B44,VLOOKUP($DC47,'Audit Values'!$A$2:$AE$252,31,FALSE))","v":27799.1},27799.1,{"$f":"IF(ISNA(VLOOKUP($DC47,'Audit Values'!$A$2:$AE$252,2,FALSE)),'Preliminary SO66'!Z44,VLOOKUP($DC47,'Audit Values'!$A$2:$AE$252,26,FALSE))","v":0},27799.1,{"$f":"IF(ISNA(VLOOKUP($DC47,'Audit Values'!$A$2:$AE$252,2,FALSE)),'Preliminary SO66'!C44,IF(VLOOKUP($DC47,'Audit Values'!$A$2:$AE$252,28,FALSE)=\"\",VLOOKUP($DC47,'Audit Values'!$A$2:$AE$252,3,FALSE),VLOOKUP($DC47,'Audit Values'!$A$2:$AE$252,28,FALSE)))","v":30},27829.1,27829.1,27829.1,27829.1,0,975.1,0,975.1,{"$f":"IF(ISNA(VLOOKUP($DC47,'Audit Values'!$A$2:$AE$252,2,FALSE)),'Preliminary SO66'!D44,VLOOKUP($DC47,'Audit Values'!$A$2:$AE$252,4,FALSE))","v":5588.2},{"$f":"ROUND((X47/6)*Weightings!$M$6,1)","v":465.7},{"$f":"IF(ISNA(VLOOKUP($DC47,'Audit Values'!$A$2:$AE$252,2,FALSE)),'Preliminary SO66'!F44,VLOOKUP($DC47,'Audit Values'!$A$2:$AE$252,6,FALSE))","v":6619},{"$f":"ROUND((Z47/6)*Weightings!$M$7,1)","v":435.8},{"$f":"IF(ISNA(VLOOKUP($DC47,'Audit Values'!$A$2:$AE$252,2,FALSE)),'Preliminary SO66'!H44,VLOOKUP($DC47,'Audit Values'!$A$2:$AE$252,9,FALSE))","v":6107},{"$f":"ROUND(AB47*Weightings!$M$8,1)","v":2784.8},0,0,{"$f":"AE47*Weightings!$M$9","v":0},{"$f":"IF(ISNA(VLOOKUP($DC47,'Audit Values'!$A$2:$AE$252,2,FALSE)),'Preliminary SO66'!L44,VLOOKUP($DC47,'Audit Values'!$A$2:$AE$252,12,FALSE))","v":607.29999999999995},{"$f":"ROUND(AG47*Weightings!$M$10,1)","v":151.80000000000001},{"$f":"IF(ISNA(VLOOKUP($DC47,'Audit Values'!$A$2:$AE$252,2,FALSE)),'Preliminary SO66'!O44,VLOOKUP($DC47,'Audit Values'!$A$2:$AE$252,15,FALSE))","v":5039},737.7,{"$f":"CG47/Weightings!$M$5","v":2468.3000000000002},{"$f":"CH47/Weightings!$M$5","v":0},{"$f":"CL47/Weightings!$M$5","v":1618.1},0,{"$f":"IF(ISNA(VLOOKUP($DC47,'Audit Values'!$A$2:$AE$252,2,FALSE)),'Preliminary SO66'!X44,VLOOKUP($DC47,'Audit Values'!$A$2:$AE$252,24,FALSE))","v":0},26369816,{"$f":"AP47/Weightings!$M$5","v":6845.7},37466.400000000001,42694,44312.1,0,{"$f":"IF(ISNA(VLOOKUP($DC47,'Audit Values'!$A$2:$AC$299,2,FALSE)),\"\",IF(AND(Weightings!H47>0,VLOOKUP($DC47,'Audit Values'!$A$2:$AC$299,29,FALSE)<Weightings!H47),Weightings!H47,VLOOKUP($DC47,'Audit Values'!$A$2:$AC$299,29,FALSE)))","v":15},{"$f":"IF(ISNA(VLOOKUP($DC47,'Audit Values'!$A$2:$AD$299,2,FALSE)),\"\",VLOOKUP($DC47,'Audit Values'!$A$2:$AD$299,30,FALSE))","v":"A"},{"$f":"IF(Weightings!G47=\"\",\"\",IF(Weightings!I47=\"Pending\",\"PX\",\"R\"))","v":""},{"$f":"AR47*Weightings!$M$5+AU47","v":144320573},{"$f":"AT47*Weightings!$M$5+AU47","v":170690209},{"$f":"IF(Weightings!G47>0,Weightings!G47,'Preliminary SO66'!AB44)","v":225851799},27920506,15910354,2144759,179876180,170690209,null,{"$f":"Weightings!E47","v":0},{"$f":"Weightings!F47","v":0},0,170690209,{"$f":"MAX(ROUND(((AR47-AN47-AO47)*Weightings!$M$12)+'2016legmax.xls'!AP47,0),ROUND((('2016legmax.xls'!AR47-'2016legmax.xls'!AN47-'2016legmax.xls'!AO47)*Weightings!$M$12)+Weightings!B47,0))","v":195746308},0.33,64596282,64120804,64120804,0.3276,0,false,0,0,0,false,0,0,0,975.1,75.3,66.92,{"$f":"IF(ROUND((Weightings!$P$5*CC47^Weightings!$P$6*Weightings!$P$8 ),2)<Weightings!$P$7,Weightings!$P$7,ROUND((Weightings!$P$5*CC47^Weightings!$P$6*Weightings!$P$8 ),2))","v":564},{"$f":"ROUND(CD47/Weightings!$M$5,4)","v":0.1464},737.7,9508006,0,8247214,3.7900000000000003E-2,{"$f":"AS47*Weightings!$M$5*CJ47","v":6232931},6232931,0.219,369.6,0,0,0,{"$f":"IF(ISNA(VLOOKUP($DC47,'Audit Values'!$A$2:$AE$252,2,FALSE)),'Preliminary SO66'!T44,VLOOKUP($DC47,'Audit Values'!$A$2:$AE$252,20,FALSE))","v":0},{"$f":"IF(ISNA(VLOOKUP($DC47,'Audit Values'!$A$2:$AE$252,21,FALSE)),'Preliminary SO66'!U44,VLOOKUP($DC47,'Audit Values'!$A$2:$AE$252,21,FALSE))","v":0},0,0,null,null,null,null,null,null,null,"D0233"]
[234,"Bourbon","Fort Scott ",1816.2,0,1816.2,1801.1,0,1801.1,1797.1,{"$f":"IF(ISNA(VLOOKUP($DC48,'Audit Values'!$A$2:$AE$252,2,FALSE)),'Preliminary SO66'!B45,VLOOKUP($DC48,'Audit Values'!$A$2:$AE$252,31,FALSE))","v":1797.1},1804.8,{"$f":"IF(ISNA(VLOOKUP($DC48,'Audit Values'!$A$2:$AE$252,2,FALSE)),'Preliminary SO66'!Z45,VLOOKUP($DC48,'Audit Values'!$A$2:$AE$252,26,FALSE))","v":0},1804.8,{"$f":"IF(ISNA(VLOOKUP($DC48,'Audit Values'!$A$2:$AE$252,2,FALSE)),'Preliminary SO66'!C45,IF(VLOOKUP($DC48,'Audit Values'!$A$2:$AE$252,28,FALSE)=\"\",VLOOKUP($DC48,'Audit Values'!$A$2:$AE$252,3,FALSE),VLOOKUP($DC48,'Audit Values'!$A$2:$AE$252,28,FALSE)))","v":18},1815.1,1815.1,1815.1,1822.8,0,63.9,0,63.9,{"$f":"IF(ISNA(VLOOKUP($DC48,'Audit Values'!$A$2:$AE$252,2,FALSE)),'Preliminary SO66'!D45,VLOOKUP($DC48,'Audit Values'!$A$2:$AE$252,4,FALSE))","v":309.8},{"$f":"ROUND((X48/6)*Weightings!$M$6,1)","v":25.8},{"$f":"IF(ISNA(VLOOKUP($DC48,'Audit Values'!$A$2:$AE$252,2,FALSE)),'Preliminary SO66'!F45,VLOOKUP($DC48,'Audit Values'!$A$2:$AE$252,6,FALSE))","v":23.6},{"$f":"ROUND((Z48/6)*Weightings!$M$7,1)","v":1.6},{"$f":"IF(ISNA(VLOOKUP($DC48,'Audit Values'!$A$2:$AE$252,2,FALSE)),'Preliminary SO66'!H45,VLOOKUP($DC48,'Audit Values'!$A$2:$AE$252,9,FALSE))","v":991},{"$f":"ROUND(AB48*Weightings!$M$8,1)","v":451.9},104.1,0,{"$f":"AE48*Weightings!$M$9","v":0},{"$f":"IF(ISNA(VLOOKUP($DC48,'Audit Values'!$A$2:$AE$252,2,FALSE)),'Preliminary SO66'!L45,VLOOKUP($DC48,'Audit Values'!$A$2:$AE$252,12,FALSE))","v":0},{"$f":"ROUND(AG48*Weightings!$M$10,1)","v":0},{"$f":"IF(ISNA(VLOOKUP($DC48,'Audit Values'!$A$2:$AE$252,2,FALSE)),'Preliminary SO66'!O45,VLOOKUP($DC48,'Audit Values'!$A$2:$AE$252,15,FALSE))","v":560},136.6,{"$f":"CG48/Weightings!$M$5","v":0},{"$f":"CH48/Weightings!$M$5","v":0},{"$f":"CL48/Weightings!$M$5","v":0},0,{"$f":"IF(ISNA(VLOOKUP($DC48,'Audit Values'!$A$2:$AE$252,2,FALSE)),'Preliminary SO66'!X45,VLOOKUP($DC48,'Audit Values'!$A$2:$AE$252,24,FALSE))","v":0},1151863,{"$f":"AP48/Weightings!$M$5","v":299},2606.6999999999998,2905.7,2905.7,0,{"$f":"IF(ISNA(VLOOKUP($DC48,'Audit Values'!$A$2:$AC$299,2,FALSE)),\"\",IF(AND(Weightings!H48>0,VLOOKUP($DC48,'Audit Values'!$A$2:$AC$299,29,FALSE)<Weightings!H48),Weightings!H48,VLOOKUP($DC48,'Audit Values'!$A$2:$AC$299,29,FALSE)))","v":4},{"$f":"IF(ISNA(VLOOKUP($DC48,'Audit Values'!$A$2:$AD$299,2,FALSE)),\"\",VLOOKUP($DC48,'Audit Values'!$A$2:$AD$299,30,FALSE))","v":"A"},{"$f":"IF(Weightings!G48=\"\",\"\",IF(Weightings!I48=\"Pending\",\"PX\",\"R\"))","v":""},{"$f":"AR48*Weightings!$M$5+AU48","v":10041008},{"$f":"AT48*Weightings!$M$5+AU48","v":11192756},{"$f":"IF(Weightings!G48>0,Weightings!G48,'Preliminary SO66'!AB45)","v":15359299},2428259,1043291,178957,11708792,11192756,null,{"$f":"Weightings!E48","v":0},{"$f":"Weightings!F48","v":0},0,11192756,{"$f":"MAX(ROUND(((AR48-AN48-AO48)*Weightings!$M$12)+'2016legmax.xls'!AP48,0),ROUND((('2016legmax.xls'!AR48-'2016legmax.xls'!AN48-'2016legmax.xls'!AO48)*Weightings!$M$12)+Weightings!B48,0))","v":12855946},0.3,3856784,3607179,3607179,0.28060000000000002,0,false,0,0,0,false,0,0,0,63.9,300,1.87,{"$f":"IF(ROUND((Weightings!$P$5*CC48^Weightings!$P$6*Weightings!$P$8 ),2)<Weightings!$P$7,Weightings!$P$7,ROUND((Weightings!$P$5*CC48^Weightings!$P$6*Weightings!$P$8 ),2))","v":939.55},{"$f":"ROUND(CD48/Weightings!$M$5,4)","v":0.24390000000000001},136.6,0,0,0,0,{"$f":"AS48*Weightings!$M$5*CJ48","v":0},0,0.54400000000000004,6.1,104.1,0,0,{"$f":"IF(ISNA(VLOOKUP($DC48,'Audit Values'!$A$2:$AE$252,2,FALSE)),'Preliminary SO66'!T45,VLOOKUP($DC48,'Audit Values'!$A$2:$AE$252,20,FALSE))","v":0},{"$f":"IF(ISNA(VLOOKUP($DC48,'Audit Values'!$A$2:$AE$252,21,FALSE)),'Preliminary SO66'!U45,VLOOKUP($DC48,'Audit Values'!$A$2:$AE$252,21,FALSE))","v":0},0,0,null,null,null,null,null,null,null,"D0234"]
[235,"Bourbon","Uniontown ",429,0,429,430,0,430,420,{"$f":"IF(ISNA(VLOOKUP($DC49,'Audit Values'!$A$2:$AE$252,2,FALSE)),'Preliminary SO66'!B46,VLOOKUP($DC49,'Audit Values'!$A$2:$AE$252,31,FALSE))","v":420},430,{"$f":"IF(ISNA(VLOOKUP($DC49,'Audit Values'!$A$2:$AE$252,2,FALSE)),'Preliminary SO66'!Z46,VLOOKUP($DC49,'Audit Values'!$A$2:$AE$252,26,FALSE))","v":0},430,{"$f":"IF(ISNA(VLOOKUP($DC49,'Audit Values'!$A$2:$AE$252,2,FALSE)),'Preliminary SO66'!C46,IF(VLOOKUP($DC49,'Audit Values'!$A$2:$AE$252,28,FALSE)=\"\",VLOOKUP($DC49,'Audit Values'!$A$2:$AE$252,3,FALSE),VLOOKUP($DC49,'Audit Values'!$A$2:$AE$252,28,FALSE)))","v":6.5},426.5,426.5,426.5,436.5,0,191.1,191.1,0,{"$f":"IF(ISNA(VLOOKUP($DC49,'Audit Values'!$A$2:$AE$252,2,FALSE)),'Preliminary SO66'!D46,VLOOKUP($DC49,'Audit Values'!$A$2:$AE$252,4,FALSE))","v":134},{"$f":"ROUND((X49/6)*Weightings!$M$6,1)","v":11.2},{"$f":"IF(ISNA(VLOOKUP($DC49,'Audit Values'!$A$2:$AE$252,2,FALSE)),'Preliminary SO66'!F46,VLOOKUP($DC49,'Audit Values'!$A$2:$AE$252,6,FALSE))","v":0},{"$f":"ROUND((Z49/6)*Weightings!$M$7,1)","v":0},{"$f":"IF(ISNA(VLOOKUP($DC49,'Audit Values'!$A$2:$AE$252,2,FALSE)),'Preliminary SO66'!H46,VLOOKUP($DC49,'Audit Values'!$A$2:$AE$252,9,FALSE))","v":212},{"$f":"ROUND(AB49*Weightings!$M$8,1)","v":96.7},20.2,0,{"$f":"AE49*Weightings!$M$9","v":0},{"$f":"IF(ISNA(VLOOKUP($DC49,'Audit Values'!$A$2:$AE$252,2,FALSE)),'Preliminary SO66'!L46,VLOOKUP($DC49,'Audit Values'!$A$2:$AE$252,12,FALSE))","v":0},{"$f":"ROUND(AG49*Weightings!$M$10,1)","v":0},{"$f":"IF(ISNA(VLOOKUP($DC49,'Audit Values'!$A$2:$AE$252,2,FALSE)),'Preliminary SO66'!O46,VLOOKUP($DC49,'Audit Values'!$A$2:$AE$252,15,FALSE))","v":300},84.9,{"$f":"CG49/Weightings!$M$5","v":0},{"$f":"CH49/Weightings!$M$5","v":0},{"$f":"CL49/Weightings!$M$5","v":0},0,{"$f":"IF(ISNA(VLOOKUP($DC49,'Audit Values'!$A$2:$AE$252,2,FALSE)),'Preliminary SO66'!X46,VLOOKUP($DC49,'Audit Values'!$A$2:$AE$252,24,FALSE))","v":0},385265,{"$f":"AP49/Weightings!$M$5","v":100},840.6,940.6,940.6,0,{"$f":"IF(ISNA(VLOOKUP($DC49,'Audit Values'!$A$2:$AC$299,2,FALSE)),\"\",IF(AND(Weightings!H49>0,VLOOKUP($DC49,'Audit Values'!$A$2:$AC$299,29,FALSE)<Weightings!H49),Weightings!H49,VLOOKUP($DC49,'Audit Values'!$A$2:$AC$299,29,FALSE)))","v":16},{"$f":"IF(ISNA(VLOOKUP($DC49,'Audit Values'!$A$2:$AD$299,2,FALSE)),\"\",VLOOKUP($DC49,'Audit Values'!$A$2:$AD$299,30,FALSE))","v":"A"},{"$f":"IF(Weightings!G49=\"\",\"\",IF(Weightings!I49=\"Pending\",\"PX\",\"R\"))","v":""},{"$f":"AR49*Weightings!$M$5+AU49","v":3237991},{"$f":"AT49*Weightings!$M$5+AU49","v":3623191},{"$f":"IF(Weightings!G49>0,Weightings!G49,'Preliminary SO66'!AB46)","v":4923025},871172,255271,0,3796582,3623191,null,{"$f":"Weightings!E49","v":0},{"$f":"Weightings!F49","v":0},0,3623191,{"$f":"MAX(ROUND(((AR49-AN49-AO49)*Weightings!$M$12)+'2016legmax.xls'!AP49,0),ROUND((('2016legmax.xls'!AR49-'2016legmax.xls'!AN49-'2016legmax.xls'!AO49)*Weightings!$M$12)+Weightings!B49,0))","v":4159559},0.3,1247868,1246690,1246690,0.29970000000000002,0,false,0,0,0,true,168.9188,0.43781100000000001,191.1,0,309,0.97,{"$f":"IF(ROUND((Weightings!$P$5*CC49^Weightings!$P$6*Weightings!$P$8 ),2)<Weightings!$P$7,Weightings!$P$7,ROUND((Weightings!$P$5*CC49^Weightings!$P$6*Weightings!$P$8 ),2))","v":1089.95},{"$f":"ROUND(CD49/Weightings!$M$5,4)","v":0.28299999999999997},84.9,0,0,0,0,{"$f":"AS49*Weightings!$M$5*CJ49","v":0},0,0.48599999999999999,1.4,0,0,20.2,{"$f":"IF(ISNA(VLOOKUP($DC49,'Audit Values'!$A$2:$AE$252,2,FALSE)),'Preliminary SO66'!T46,VLOOKUP($DC49,'Audit Values'!$A$2:$AE$252,20,FALSE))","v":0},{"$f":"IF(ISNA(VLOOKUP($DC49,'Audit Values'!$A$2:$AE$252,21,FALSE)),'Preliminary SO66'!U46,VLOOKUP($DC49,'Audit Values'!$A$2:$AE$252,21,FALSE))","v":0},0,0,null,null,null,null,null,null,null,"D0235"]
[237,"Smith","Smith Center ",376.8,0,376.8,380.8,0,380.8,369.5,{"$f":"IF(ISNA(VLOOKUP($DC50,'Audit Values'!$A$2:$AE$252,2,FALSE)),'Preliminary SO66'!B47,VLOOKUP($DC50,'Audit Values'!$A$2:$AE$252,31,FALSE))","v":369.5},380.8,{"$f":"IF(ISNA(VLOOKUP($DC50,'Audit Values'!$A$2:$AE$252,2,FALSE)),'Preliminary SO66'!Z47,VLOOKUP($DC50,'Audit Values'!$A$2:$AE$252,26,FALSE))","v":0},380.8,{"$f":"IF(ISNA(VLOOKUP($DC50,'Audit Values'!$A$2:$AE$252,2,FALSE)),'Preliminary SO66'!C47,IF(VLOOKUP($DC50,'Audit Values'!$A$2:$AE$252,28,FALSE)=\"\",VLOOKUP($DC50,'Audit Values'!$A$2:$AE$252,3,FALSE),VLOOKUP($DC50,'Audit Values'!$A$2:$AE$252,28,FALSE)))","v":0},369.5,369.5,369.5,380.8,0,173.9,173.9,0,{"$f":"IF(ISNA(VLOOKUP($DC50,'Audit Values'!$A$2:$AE$252,2,FALSE)),'Preliminary SO66'!D47,VLOOKUP($DC50,'Audit Values'!$A$2:$AE$252,4,FALSE))","v":177.1},{"$f":"ROUND((X50/6)*Weightings!$M$6,1)","v":14.8},{"$f":"IF(ISNA(VLOOKUP($DC50,'Audit Values'!$A$2:$AE$252,2,FALSE)),'Preliminary SO66'!F47,VLOOKUP($DC50,'Audit Values'!$A$2:$AE$252,6,FALSE))","v":0},{"$f":"ROUND((Z50/6)*Weightings!$M$7,1)","v":0},{"$f":"IF(ISNA(VLOOKUP($DC50,'Audit Values'!$A$2:$AE$252,2,FALSE)),'Preliminary SO66'!H47,VLOOKUP($DC50,'Audit Values'!$A$2:$AE$252,9,FALSE))","v":143},{"$f":"ROUND(AB50*Weightings!$M$8,1)","v":65.2},2.6,0,{"$f":"AE50*Weightings!$M$9","v":0},{"$f":"IF(ISNA(VLOOKUP($DC50,'Audit Values'!$A$2:$AE$252,2,FALSE)),'Preliminary SO66'!L47,VLOOKUP($DC50,'Audit Values'!$A$2:$AE$252,12,FALSE))","v":0},{"$f":"ROUND(AG50*Weightings!$M$10,1)","v":0},{"$f":"IF(ISNA(VLOOKUP($DC50,'Audit Values'!$A$2:$AE$252,2,FALSE)),'Preliminary SO66'!O47,VLOOKUP($DC50,'Audit Values'!$A$2:$AE$252,15,FALSE))","v":131},51.8,{"$f":"CG50/Weightings!$M$5","v":0},{"$f":"CH50/Weightings!$M$5","v":0},{"$f":"CL50/Weightings!$M$5","v":0},0,{"$f":"IF(ISNA(VLOOKUP($DC50,'Audit Values'!$A$2:$AE$252,2,FALSE)),'Preliminary SO66'!X47,VLOOKUP($DC50,'Audit Values'!$A$2:$AE$252,24,FALSE))","v":0},488311,{"$f":"AP50/Weightings!$M$5","v":126.8},689.1,815.9,815.9,0,{"$f":"IF(ISNA(VLOOKUP($DC50,'Audit Values'!$A$2:$AC$299,2,FALSE)),\"\",IF(AND(Weightings!H50>0,VLOOKUP($DC50,'Audit Values'!$A$2:$AC$299,29,FALSE)<Weightings!H50),Weightings!H50,VLOOKUP($DC50,'Audit Values'!$A$2:$AC$299,29,FALSE)))","v":2},{"$f":"IF(ISNA(VLOOKUP($DC50,'Audit Values'!$A$2:$AD$299,2,FALSE)),\"\",VLOOKUP($DC50,'Audit Values'!$A$2:$AD$299,30,FALSE))","v":"A"},{"$f":"IF(Weightings!G50=\"\",\"\",IF(Weightings!I50=\"Pending\",\"PX\",\"R\"))","v":""},{"$f":"AR50*Weightings!$M$5+AU50","v":2654413},{"$f":"AT50*Weightings!$M$5+AU50","v":3142847},{"$f":"IF(Weightings!G50>0,Weightings!G50,'Preliminary SO66'!AB47)","v":3886344},392233,205157,13723,3275231,3142847,null,{"$f":"Weightings!E50","v":0},{"$f":"Weightings!F50","v":0},0,3142847,{"$f":"MAX(ROUND(((AR50-AN50-AO50)*Weightings!$M$12)+'2016legmax.xls'!AP50,0),ROUND((('2016legmax.xls'!AR50-'2016legmax.xls'!AN50-'2016legmax.xls'!AO50)*Weightings!$M$12)+Weightings!B50,0))","v":3680094},0.33,1214431,1211171,1211171,0.3291,0,false,0,0,0,true,99.99,0.456735,173.9,0,599,0.22,{"$f":"IF(ROUND((Weightings!$P$5*CC50^Weightings!$P$6*Weightings!$P$8 ),2)<Weightings!$P$7,Weightings!$P$7,ROUND((Weightings!$P$5*CC50^Weightings!$P$6*Weightings!$P$8 ),2))","v":1524.62},{"$f":"ROUND(CD50/Weightings!$M$5,4)","v":0.39579999999999999},51.8,0,0,0,0,{"$f":"AS50*Weightings!$M$5*CJ50","v":0},0,0.376,0.6,0,0,2.6,{"$f":"IF(ISNA(VLOOKUP($DC50,'Audit Values'!$A$2:$AE$252,2,FALSE)),'Preliminary SO66'!T47,VLOOKUP($DC50,'Audit Values'!$A$2:$AE$252,20,FALSE))","v":0},{"$f":"IF(ISNA(VLOOKUP($DC50,'Audit Values'!$A$2:$AE$252,21,FALSE)),'Preliminary SO66'!U47,VLOOKUP($DC50,'Audit Values'!$A$2:$AE$252,21,FALSE))","v":0},0,0,null,null,null,null,null,null,null,"D0237"]
[239,"Ottawa","North Ottawa County ",618.29999999999995,0,618.29999999999995,603.79999999999995,0,603.79999999999995,599.9,{"$f":"IF(ISNA(VLOOKUP($DC51,'Audit Values'!$A$2:$AE$252,2,FALSE)),'Preliminary SO66'!B48,VLOOKUP($DC51,'Audit Values'!$A$2:$AE$252,31,FALSE))","v":599.9},607.29999999999995,{"$f":"IF(ISNA(VLOOKUP($DC51,'Audit Values'!$A$2:$AE$252,2,FALSE)),'Preliminary SO66'!Z48,VLOOKUP($DC51,'Audit Values'!$A$2:$AE$252,26,FALSE))","v":0},607.29999999999995,{"$f":"IF(ISNA(VLOOKUP($DC51,'Audit Values'!$A$2:$AE$252,2,FALSE)),'Preliminary SO66'!C48,IF(VLOOKUP($DC51,'Audit Values'!$A$2:$AE$252,28,FALSE)=\"\",VLOOKUP($DC51,'Audit Values'!$A$2:$AE$252,3,FALSE),VLOOKUP($DC51,'Audit Values'!$A$2:$AE$252,28,FALSE)))","v":0},599.9,599.9,599.9,607.29999999999995,0,230.6,{"$f":"MAX(BR51,BV51,BZ51)","v":230.6},{"$f":"CA51","v":0},{"$f":"IF(ISNA(VLOOKUP($DC51,'Audit Values'!$A$2:$AE$252,2,FALSE)),'Preliminary SO66'!D48,VLOOKUP($DC51,'Audit Values'!$A$2:$AE$252,4,FALSE))","v":100.7},{"$f":"ROUND((X51/6)*Weightings!$M$6,1)","v":8.4},{"$f":"IF(ISNA(VLOOKUP($DC51,'Audit Values'!$A$2:$AE$252,2,FALSE)),'Preliminary SO66'!F48,VLOOKUP($DC51,'Audit Values'!$A$2:$AE$252,6,FALSE))","v":0},{"$f":"ROUND((Z51/6)*Weightings!$M$7,1)","v":0},{"$f":"IF(ISNA(VLOOKUP($DC51,'Audit Values'!$A$2:$AE$252,2,FALSE)),'Preliminary SO66'!H48,VLOOKUP($DC51,'Audit Values'!$A$2:$AE$252,9,FALSE))","v":193},{"$f":"ROUND(AB51*Weightings!$M$8,1)","v":88},0,0,{"$f":"AE51*Weightings!$M$9","v":0},{"$f":"IF(ISNA(VLOOKUP($DC51,'Audit Values'!$A$2:$AE$252,2,FALSE)),'Preliminary SO66'!L48,VLOOKUP($DC51,'Audit Values'!$A$2:$AE$252,12,FALSE))","v":0},{"$f":"ROUND(AG51*Weightings!$M$10,1)","v":0},{"$f":"IF(ISNA(VLOOKUP($DC51,'Audit Values'!$A$2:$AE$252,2,FALSE)),'Preliminary SO66'!O48,VLOOKUP($DC51,'Audit Values'!$A$2:$AE$252,15,FALSE))","v":184},62.3,{"$f":"CG51/Weightings!$M$5","v":0},{"$f":"CH51/Weightings!$M$5","v":0},{"$f":"CL51/Weightings!$M$5","v":0},0,{"$f":"IF(ISNA(VLOOKUP($DC51,'Audit Values'!$A$2:$AE$252,2,FALSE)),'Preliminary SO66'!X48,VLOOKUP($DC51,'Audit Values'!$A$2:$AE$252,24,FALSE))","v":0},601029,{"$f":"AP51/Weightings!$M$5","v":156},996.6,1152.5999999999999,1152.5999999999999,0,{"$f":"IF(ISNA(VLOOKUP($DC51,'Audit Values'!$A$2:$AC$299,2,FALSE)),\"\",IF(AND(Weightings!H51>0,VLOOKUP($DC51,'Audit Values'!$A$2:$AC$299,29,FALSE)<Weightings!H51),Weightings!H51,VLOOKUP($DC51,'Audit Values'!$A$2:$AC$299,29,FALSE)))","v":10},{"$f":"IF(ISNA(VLOOKUP($DC51,'Audit Values'!$A$2:$AD$299,2,FALSE)),\"\",VLOOKUP($DC51,'Audit Values'!$A$2:$AD$299,30,FALSE))","v":"A"},{"$f":"IF(Weightings!G51=\"\",\"\",IF(Weightings!I51=\"Pending\",\"PX\",\"R\"))","v":""},{"$f":"AR51*Weightings!$M$5+AU51","v":3838903},{"$f":"AT51*Weightings!$M$5+AU51","v":4439815},{"$f":"IF(Weightings!G51>0,Weightings!G51,'Preliminary SO66'!AB48)","v":5908662},826784,315255,29532,4737091,4439815,null,{"$f":"Weightings!E51","v":0},{"$f":"Weightings!F51","v":0},0,4439815,{"$f":"MAX(ROUND(((AR51-AN51-AO51)*Weightings!$M$12)+'2016legmax.xls'!AP51,0),ROUND((('2016legmax.xls'!AR51-'2016legmax.xls'!AN51-'2016legmax.xls'!AO51)*Weightings!$M$12)+Weightings!B51,0))","v":5089176},0.33,1679428,1698503,1679428,0.33,0,false,0,{"$f":"IF(BS51=TRUE,ROUND(((7337-BT51)/3642.4)-1,6),0)","v":0},0,true,380.28379999999999,{"$f":"IF(BW51=TRUE,ROUND(((5406-BX51)/3642.4)-1,6),0)","v":0.37978200000000001},230.6,0,418.5,0.44,{"$f":"IF(ROUND((Weightings!$P$5*CC51^Weightings!$P$6*Weightings!$P$8 ),2)<Weightings!$P$7,Weightings!$P$7,ROUND((Weightings!$P$5*CC51^Weightings!$P$6*Weightings!$P$8 ),2))","v":1303.3699999999999},{"$f":"ROUND(CD51/Weightings!$M$5,4)","v":0.33839999999999998},62.3,0,0,0,0,{"$f":"AS51*Weightings!$M$5*CJ51","v":0},{"$f":"IF(CI51>CK51,CK51,CI51)","v":0},0.318,1.5,0,0,0,{"$f":"IF(ISNA(VLOOKUP($DC51,'Audit Values'!$A$2:$AE$252,2,FALSE)),'Preliminary SO66'!T48,VLOOKUP($DC51,'Audit Values'!$A$2:$AE$252,20,FALSE))","v":0},{"$f":"IF(ISNA(VLOOKUP($DC51,'Audit Values'!$A$2:$AE$252,21,FALSE)),'Preliminary SO66'!U48,VLOOKUP($DC51,'Audit Values'!$A$2:$AE$252,21,FALSE))","v":0},0,0,null,null,null,null,null,null,null,"D0239"]
[240,"Ottawa","Twin Valley ",578.5,0,578.5,577,0,577,562.70000000000005,{"$f":"IF(ISNA(VLOOKUP($DC52,'Audit Values'!$A$2:$AE$252,2,FALSE)),'Preliminary SO66'!B49,VLOOKUP($DC52,'Audit Values'!$A$2:$AE$252,31,FALSE))","v":562.70000000000005},577,{"$f":"IF(ISNA(VLOOKUP($DC52,'Audit Values'!$A$2:$AE$252,2,FALSE)),'Preliminary SO66'!Z49,VLOOKUP($DC52,'Audit Values'!$A$2:$AE$252,26,FALSE))","v":0},577,{"$f":"IF(ISNA(VLOOKUP($DC52,'Audit Values'!$A$2:$AE$252,2,FALSE)),'Preliminary SO66'!C49,IF(VLOOKUP($DC52,'Audit Values'!$A$2:$AE$252,28,FALSE)=\"\",VLOOKUP($DC52,'Audit Values'!$A$2:$AE$252,3,FALSE),VLOOKUP($DC52,'Audit Values'!$A$2:$AE$252,28,FALSE)))","v":11},573.70000000000005,573.70000000000005,573.70000000000005,588,0,227.2,227.2,0,{"$f":"IF(ISNA(VLOOKUP($DC52,'Audit Values'!$A$2:$AE$252,2,FALSE)),'Preliminary SO66'!D49,VLOOKUP($DC52,'Audit Values'!$A$2:$AE$252,4,FALSE))","v":133.80000000000001},{"$f":"ROUND((X52/6)*Weightings!$M$6,1)","v":11.2},{"$f":"IF(ISNA(VLOOKUP($DC52,'Audit Values'!$A$2:$AE$252,2,FALSE)),'Preliminary SO66'!F49,VLOOKUP($DC52,'Audit Values'!$A$2:$AE$252,6,FALSE))","v":0},{"$f":"ROUND((Z52/6)*Weightings!$M$7,1)","v":0},{"$f":"IF(ISNA(VLOOKUP($DC52,'Audit Values'!$A$2:$AE$252,2,FALSE)),'Preliminary SO66'!H49,VLOOKUP($DC52,'Audit Values'!$A$2:$AE$252,9,FALSE))","v":203},{"$f":"ROUND(AB52*Weightings!$M$8,1)","v":92.6},0,0,{"$f":"AE52*Weightings!$M$9","v":0},{"$f":"IF(ISNA(VLOOKUP($DC52,'Audit Values'!$A$2:$AE$252,2,FALSE)),'Preliminary SO66'!L49,VLOOKUP($DC52,'Audit Values'!$A$2:$AE$252,12,FALSE))","v":0},{"$f":"ROUND(AG52*Weightings!$M$10,1)","v":0},{"$f":"IF(ISNA(VLOOKUP($DC52,'Audit Values'!$A$2:$AE$252,2,FALSE)),'Preliminary SO66'!O49,VLOOKUP($DC52,'Audit Values'!$A$2:$AE$252,15,FALSE))","v":184},56.4,{"$f":"CG52/Weightings!$M$5","v":0},{"$f":"CH52/Weightings!$M$5","v":0},{"$f":"CL52/Weightings!$M$5","v":0},0,{"$f":"IF(ISNA(VLOOKUP($DC52,'Audit Values'!$A$2:$AE$252,2,FALSE)),'Preliminary SO66'!X49,VLOOKUP($DC52,'Audit Values'!$A$2:$AE$252,24,FALSE))","v":0},521230,{"$f":"AP52/Weightings!$M$5","v":135.30000000000001},975.4,1110.7,1110.7,0,{"$f":"IF(ISNA(VLOOKUP($DC52,'Audit Values'!$A$2:$AC$299,2,FALSE)),\"\",IF(AND(Weightings!H52>0,VLOOKUP($DC52,'Audit Values'!$A$2:$AC$299,29,FALSE)<Weightings!H52),Weightings!H52,VLOOKUP($DC52,'Audit Values'!$A$2:$AC$299,29,FALSE)))","v":10},{"$f":"IF(ISNA(VLOOKUP($DC52,'Audit Values'!$A$2:$AD$299,2,FALSE)),\"\",VLOOKUP($DC52,'Audit Values'!$A$2:$AD$299,30,FALSE))","v":"A"},{"$f":"IF(Weightings!G52=\"\",\"\",IF(Weightings!I52=\"Pending\",\"PX\",\"R\"))","v":""},{"$f":"AR52*Weightings!$M$5+AU52","v":3757241},{"$f":"AT52*Weightings!$M$5+AU52","v":4278416},{"$f":"IF(Weightings!G52>0,Weightings!G52,'Preliminary SO66'!AB49)","v":5666490},903097,275742,50329,4437322,4278416,null,{"$f":"Weightings!E52","v":0},{"$f":"Weightings!F52","v":0},0,4278416,{"$f":"MAX(ROUND(((AR52-AN52-AO52)*Weightings!$M$12)+'2016legmax.xls'!AP52,0),ROUND((('2016legmax.xls'!AR52-'2016legmax.xls'!AN52-'2016legmax.xls'!AO52)*Weightings!$M$12)+Weightings!B52,0))","v":4973630},0.33,1641298,1632260,1632260,0.32819999999999999,0,false,0,0,0,true,356.4,0.38633899999999999,227.2,0,269.3,0.68,{"$f":"IF(ROUND((Weightings!$P$5*CC52^Weightings!$P$6*Weightings!$P$8 ),2)<Weightings!$P$7,Weightings!$P$7,ROUND((Weightings!$P$5*CC52^Weightings!$P$6*Weightings!$P$8 ),2))","v":1181.1400000000001},{"$f":"ROUND(CD52/Weightings!$M$5,4)","v":0.30659999999999998},56.4,0,0,0,0,{"$f":"AS52*Weightings!$M$5*CJ52","v":0},0,0.34499999999999997,2.2000000000000002,0,0,0,{"$f":"IF(ISNA(VLOOKUP($DC52,'Audit Values'!$A$2:$AE$252,2,FALSE)),'Preliminary SO66'!T49,VLOOKUP($DC52,'Audit Values'!$A$2:$AE$252,20,FALSE))","v":0},{"$f":"IF(ISNA(VLOOKUP($DC52,'Audit Values'!$A$2:$AE$252,21,FALSE)),'Preliminary SO66'!U49,VLOOKUP($DC52,'Audit Values'!$A$2:$AE$252,21,FALSE))","v":0},0,0,null,null,null,null,null,null,null,"D0240"]
[241,"Wallace","Wallace County Schools ",190,0,190,185.5,0,185.5,172.5,{"$f":"IF(ISNA(VLOOKUP($DC53,'Audit Values'!$A$2:$AE$252,2,FALSE)),'Preliminary SO66'!B50,VLOOKUP($DC53,'Audit Values'!$A$2:$AE$252,31,FALSE))","v":172.5},185.5,{"$f":"IF(ISNA(VLOOKUP($DC53,'Audit Values'!$A$2:$AE$252,2,FALSE)),'Preliminary SO66'!Z50,VLOOKUP($DC53,'Audit Values'!$A$2:$AE$252,26,FALSE))","v":0},185.5,{"$f":"IF(ISNA(VLOOKUP($DC53,'Audit Values'!$A$2:$AE$252,2,FALSE)),'Preliminary SO66'!C50,IF(VLOOKUP($DC53,'Audit Values'!$A$2:$AE$252,28,FALSE)=\"\",VLOOKUP($DC53,'Audit Values'!$A$2:$AE$252,3,FALSE),VLOOKUP($DC53,'Audit Values'!$A$2:$AE$252,28,FALSE)))","v":0},172.5,172.5,172.5,185.5,0,146.1,146.1,0,{"$f":"IF(ISNA(VLOOKUP($DC53,'Audit Values'!$A$2:$AE$252,2,FALSE)),'Preliminary SO66'!D50,VLOOKUP($DC53,'Audit Values'!$A$2:$AE$252,4,FALSE))","v":0.3},{"$f":"ROUND((X53/6)*Weightings!$M$6,1)","v":0},{"$f":"IF(ISNA(VLOOKUP($DC53,'Audit Values'!$A$2:$AE$252,2,FALSE)),'Preliminary SO66'!F50,VLOOKUP($DC53,'Audit Values'!$A$2:$AE$252,6,FALSE))","v":0},{"$f":"ROUND((Z53/6)*Weightings!$M$7,1)","v":0},{"$f":"IF(ISNA(VLOOKUP($DC53,'Audit Values'!$A$2:$AE$252,2,FALSE)),'Preliminary SO66'!H50,VLOOKUP($DC53,'Audit Values'!$A$2:$AE$252,9,FALSE))","v":41},{"$f":"ROUND(AB53*Weightings!$M$8,1)","v":18.7},0,0,{"$f":"AE53*Weightings!$M$9","v":0},{"$f":"IF(ISNA(VLOOKUP($DC53,'Audit Values'!$A$2:$AE$252,2,FALSE)),'Preliminary SO66'!L50,VLOOKUP($DC53,'Audit Values'!$A$2:$AE$252,12,FALSE))","v":0},{"$f":"ROUND(AG53*Weightings!$M$10,1)","v":0},{"$f":"IF(ISNA(VLOOKUP($DC53,'Audit Values'!$A$2:$AE$252,2,FALSE)),'Preliminary SO66'!O50,VLOOKUP($DC53,'Audit Values'!$A$2:$AE$252,15,FALSE))","v":48},24.6,{"$f":"CG53/Weightings!$M$5","v":0},{"$f":"CH53/Weightings!$M$5","v":0},{"$f":"CL53/Weightings!$M$5","v":0},0,{"$f":"IF(ISNA(VLOOKUP($DC53,'Audit Values'!$A$2:$AE$252,2,FALSE)),'Preliminary SO66'!X50,VLOOKUP($DC53,'Audit Values'!$A$2:$AE$252,24,FALSE))","v":0},154058,{"$f":"AP53/Weightings!$M$5","v":40},374.9,414.9,414.9,0,{"$f":"IF(ISNA(VLOOKUP($DC53,'Audit Values'!$A$2:$AC$299,2,FALSE)),\"\",IF(AND(Weightings!H53>0,VLOOKUP($DC53,'Audit Values'!$A$2:$AC$299,29,FALSE)<Weightings!H53),Weightings!H53,VLOOKUP($DC53,'Audit Values'!$A$2:$AC$299,29,FALSE)))","v":10},{"$f":"IF(ISNA(VLOOKUP($DC53,'Audit Values'!$A$2:$AD$299,2,FALSE)),\"\",VLOOKUP($DC53,'Audit Values'!$A$2:$AD$299,30,FALSE))","v":"A"},{"$f":"IF(Weightings!G53=\"\",\"\",IF(Weightings!I53=\"Pending\",\"PX\",\"R\"))","v":""},{"$f":"AR53*Weightings!$M$5+AU53","v":1444115},{"$f":"AT53*Weightings!$M$5+AU53","v":1598195},{"$f":"IF(Weightings!G53>0,Weightings!G53,'Preliminary SO66'!AB50)","v":1837012},0,133263,0,1703749,1598195,null,{"$f":"Weightings!E53","v":0},{"$f":"Weightings!F53","v":0},0,1598195,{"$f":"MAX(ROUND(((AR53-AN53-AO53)*Weightings!$M$12)+'2016legmax.xls'!AP53,0),ROUND((('2016legmax.xls'!AR53-'2016legmax.xls'!AN53-'2016legmax.xls'!AO53)*Weightings!$M$12)+Weightings!B53,0))","v":1840075},0.3,552023,566166,552023,0.3,0,true,825.50300000000004,0.78769400000000001,146.1,false,0,0,0,0,681.5,7.0000000000000007E-2,{"$f":"IF(ROUND((Weightings!$P$5*CC53^Weightings!$P$6*Weightings!$P$8 ),2)<Weightings!$P$7,Weightings!$P$7,ROUND((Weightings!$P$5*CC53^Weightings!$P$6*Weightings!$P$8 ),2))","v":1975.42},{"$f":"ROUND(CD53/Weightings!$M$5,4)","v":0.51280000000000003},24.6,0,0,0,0,{"$f":"AS53*Weightings!$M$5*CJ53","v":0},0,0.221,0.3,0,0,0,{"$f":"IF(ISNA(VLOOKUP($DC53,'Audit Values'!$A$2:$AE$252,2,FALSE)),'Preliminary SO66'!T50,VLOOKUP($DC53,'Audit Values'!$A$2:$AE$252,20,FALSE))","v":0},{"$f":"IF(ISNA(VLOOKUP($DC53,'Audit Values'!$A$2:$AE$252,21,FALSE)),'Preliminary SO66'!U50,VLOOKUP($DC53,'Audit Values'!$A$2:$AE$252,21,FALSE))","v":0},0,0,null,null,null,null,null,null,null,"D0241"]
[242,"Wallace","Weskan ",90.8,0,90.8,95.7,0,95.7,92.5,{"$f":"IF(ISNA(VLOOKUP($DC54,'Audit Values'!$A$2:$AE$252,2,FALSE)),'Preliminary SO66'!B51,VLOOKUP($DC54,'Audit Values'!$A$2:$AE$252,31,FALSE))","v":92.5},95.7,{"$f":"IF(ISNA(VLOOKUP($DC54,'Audit Values'!$A$2:$AE$252,2,FALSE)),'Preliminary SO66'!Z51,VLOOKUP($DC54,'Audit Values'!$A$2:$AE$252,26,FALSE))","v":0},95.7,{"$f":"IF(ISNA(VLOOKUP($DC54,'Audit Values'!$A$2:$AE$252,2,FALSE)),'Preliminary SO66'!C51,IF(VLOOKUP($DC54,'Audit Values'!$A$2:$AE$252,28,FALSE)=\"\",VLOOKUP($DC54,'Audit Values'!$A$2:$AE$252,3,FALSE),VLOOKUP($DC54,'Audit Values'!$A$2:$AE$252,28,FALSE)))","v":0},92.5,92.5,92.5,95.7,0,97.1,97.1,0,{"$f":"IF(ISNA(VLOOKUP($DC54,'Audit Values'!$A$2:$AE$252,2,FALSE)),'Preliminary SO66'!D51,VLOOKUP($DC54,'Audit Values'!$A$2:$AE$252,4,FALSE))","v":0},{"$f":"ROUND((X54/6)*Weightings!$M$6,1)","v":0},{"$f":"IF(ISNA(VLOOKUP($DC54,'Audit Values'!$A$2:$AE$252,2,FALSE)),'Preliminary SO66'!F51,VLOOKUP($DC54,'Audit Values'!$A$2:$AE$252,6,FALSE))","v":13.6},{"$f":"ROUND((Z54/6)*Weightings!$M$7,1)","v":0.9},{"$f":"IF(ISNA(VLOOKUP($DC54,'Audit Values'!$A$2:$AE$252,2,FALSE)),'Preliminary SO66'!H51,VLOOKUP($DC54,'Audit Values'!$A$2:$AE$252,9,FALSE))","v":34},{"$f":"ROUND(AB54*Weightings!$M$8,1)","v":15.5},0.1,0,{"$f":"AE54*Weightings!$M$9","v":0},{"$f":"IF(ISNA(VLOOKUP($DC54,'Audit Values'!$A$2:$AE$252,2,FALSE)),'Preliminary SO66'!L51,VLOOKUP($DC54,'Audit Values'!$A$2:$AE$252,12,FALSE))","v":0},{"$f":"ROUND(AG54*Weightings!$M$10,1)","v":0},{"$f":"IF(ISNA(VLOOKUP($DC54,'Audit Values'!$A$2:$AE$252,2,FALSE)),'Preliminary SO66'!O51,VLOOKUP($DC54,'Audit Values'!$A$2:$AE$252,15,FALSE))","v":30},13.6,{"$f":"CG54/Weightings!$M$5","v":0},{"$f":"CH54/Weightings!$M$5","v":0},{"$f":"CL54/Weightings!$M$5","v":0},0,{"$f":"IF(ISNA(VLOOKUP($DC54,'Audit Values'!$A$2:$AE$252,2,FALSE)),'Preliminary SO66'!X51,VLOOKUP($DC54,'Audit Values'!$A$2:$AE$252,24,FALSE))","v":0},125616,{"$f":"AP54/Weightings!$M$5","v":32.6},222.9,255.5,255.5,0,{"$f":"IF(ISNA(VLOOKUP($DC54,'Audit Values'!$A$2:$AC$299,2,FALSE)),\"\",IF(AND(Weightings!H54>0,VLOOKUP($DC54,'Audit Values'!$A$2:$AC$299,29,FALSE)<Weightings!H54),Weightings!H54,VLOOKUP($DC54,'Audit Values'!$A$2:$AC$299,29,FALSE)))","v":10},{"$f":"IF(ISNA(VLOOKUP($DC54,'Audit Values'!$A$2:$AD$299,2,FALSE)),\"\",VLOOKUP($DC54,'Audit Values'!$A$2:$AD$299,30,FALSE))","v":"A"},{"$f":"IF(Weightings!G54=\"\",\"\",IF(Weightings!I54=\"Pending\",\"PX\",\"R\"))","v":""},{"$f":"AR54*Weightings!$M$5+AU54","v":858611},{"$f":"AT54*Weightings!$M$5+AU54","v":984186},{"$f":"IF(Weightings!G54>0,Weightings!G54,'Preliminary SO66'!AB51)","v":1043663},16955,60143,0,966565,984186,null,{"$f":"Weightings!E54","v":0},{"$f":"Weightings!F54","v":0},0,984186,{"$f":"MAX(ROUND(((AR54-AN54-AO54)*Weightings!$M$12)+'2016legmax.xls'!AP54,0),ROUND((('2016legmax.xls'!AR54-'2016legmax.xls'!AN54-'2016legmax.xls'!AO54)*Weightings!$M$12)+Weightings!B54,0))","v":1126437},0.33,371724,357775,357775,0.31759999999999999,97.1,false,0,0,0,false,0,0,0,0,243,0.12,{"$f":"IF(ROUND((Weightings!$P$5*CC54^Weightings!$P$6*Weightings!$P$8 ),2)<Weightings!$P$7,Weightings!$P$7,ROUND((Weightings!$P$5*CC54^Weightings!$P$6*Weightings!$P$8 ),2))","v":1748.68},{"$f":"ROUND(CD54/Weightings!$M$5,4)","v":0.45400000000000001},13.6,0,0,0,0,{"$f":"AS54*Weightings!$M$5*CJ54","v":0},0,0.35499999999999998,0.4,0,0,0.1,{"$f":"IF(ISNA(VLOOKUP($DC54,'Audit Values'!$A$2:$AE$252,2,FALSE)),'Preliminary SO66'!T51,VLOOKUP($DC54,'Audit Values'!$A$2:$AE$252,20,FALSE))","v":0},{"$f":"IF(ISNA(VLOOKUP($DC54,'Audit Values'!$A$2:$AE$252,21,FALSE)),'Preliminary SO66'!U51,VLOOKUP($DC54,'Audit Values'!$A$2:$AE$252,21,FALSE))","v":0},0,0,null,null,null,null,null,null,null,"D0242"]
[243,"Coffey","Lebo-Waverly ",491,0,491,452.5,0,452.5,414.7,{"$f":"IF(ISNA(VLOOKUP($DC55,'Audit Values'!$A$2:$AE$252,2,FALSE)),'Preliminary SO66'!B52,VLOOKUP($DC55,'Audit Values'!$A$2:$AE$252,31,FALSE))","v":414.7},452.7,{"$f":"IF(ISNA(VLOOKUP($DC55,'Audit Values'!$A$2:$AE$252,2,FALSE)),'Preliminary SO66'!Z52,VLOOKUP($DC55,'Audit Values'!$A$2:$AE$252,26,FALSE))","v":0},452.7,{"$f":"IF(ISNA(VLOOKUP($DC55,'Audit Values'!$A$2:$AE$252,2,FALSE)),'Preliminary SO66'!C52,IF(VLOOKUP($DC55,'Audit Values'!$A$2:$AE$252,28,FALSE)=\"\",VLOOKUP($DC55,'Audit Values'!$A$2:$AE$252,3,FALSE),VLOOKUP($DC55,'Audit Values'!$A$2:$AE$252,28,FALSE)))","v":0},414.7,414.7,414.7,452.7,0,195.7,195.7,0,{"$f":"IF(ISNA(VLOOKUP($DC55,'Audit Values'!$A$2:$AE$252,2,FALSE)),'Preliminary SO66'!D52,VLOOKUP($DC55,'Audit Values'!$A$2:$AE$252,4,FALSE))","v":174.3},{"$f":"ROUND((X55/6)*Weightings!$M$6,1)","v":14.5},{"$f":"IF(ISNA(VLOOKUP($DC55,'Audit Values'!$A$2:$AE$252,2,FALSE)),'Preliminary SO66'!F52,VLOOKUP($DC55,'Audit Values'!$A$2:$AE$252,6,FALSE))","v":0},{"$f":"ROUND((Z55/6)*Weightings!$M$7,1)","v":0},{"$f":"IF(ISNA(VLOOKUP($DC55,'Audit Values'!$A$2:$AE$252,2,FALSE)),'Preliminary SO66'!H52,VLOOKUP($DC55,'Audit Values'!$A$2:$AE$252,9,FALSE))","v":133},{"$f":"ROUND(AB55*Weightings!$M$8,1)","v":60.6},0,0,{"$f":"AE55*Weightings!$M$9","v":0},{"$f":"IF(ISNA(VLOOKUP($DC55,'Audit Values'!$A$2:$AE$252,2,FALSE)),'Preliminary SO66'!L52,VLOOKUP($DC55,'Audit Values'!$A$2:$AE$252,12,FALSE))","v":0},{"$f":"ROUND(AG55*Weightings!$M$10,1)","v":0},{"$f":"IF(ISNA(VLOOKUP($DC55,'Audit Values'!$A$2:$AE$252,2,FALSE)),'Preliminary SO66'!O52,VLOOKUP($DC55,'Audit Values'!$A$2:$AE$252,15,FALSE))","v":121},40,{"$f":"CG55/Weightings!$M$5","v":0},{"$f":"CH55/Weightings!$M$5","v":0},{"$f":"CL55/Weightings!$M$5","v":0},0,{"$f":"IF(ISNA(VLOOKUP($DC55,'Audit Values'!$A$2:$AE$252,2,FALSE)),'Preliminary SO66'!X52,VLOOKUP($DC55,'Audit Values'!$A$2:$AE$252,24,FALSE))","v":0},603302,{"$f":"AP55/Weightings!$M$5","v":156.6},763.5,920.1,920.1,0,{"$f":"IF(ISNA(VLOOKUP($DC55,'Audit Values'!$A$2:$AC$299,2,FALSE)),\"\",IF(AND(Weightings!H55>0,VLOOKUP($DC55,'Audit Values'!$A$2:$AC$299,29,FALSE)<Weightings!H55),Weightings!H55,VLOOKUP($DC55,'Audit Values'!$A$2:$AC$299,29,FALSE)))","v":9},{"$f":"IF(ISNA(VLOOKUP($DC55,'Audit Values'!$A$2:$AD$299,2,FALSE)),\"\",VLOOKUP($DC55,'Audit Values'!$A$2:$AD$299,30,FALSE))","v":"A"},{"$f":"IF(Weightings!G55=\"\",\"\",IF(Weightings!I55=\"Pending\",\"PX\",\"R\"))","v":""},{"$f":"AR55*Weightings!$M$5+AU55","v":2941002},{"$f":"AT55*Weightings!$M$5+AU55","v":3544225},{"$f":"IF(Weightings!G55>0,Weightings!G55,'Preliminary SO66'!AB52)","v":4632239},635800,232251,24406,3739782,3544225,null,{"$f":"Weightings!E55","v":0},{"$f":"Weightings!F55","v":0},0,3544225,{"$f":"MAX(ROUND(((AR55-AN55-AO55)*Weightings!$M$12)+'2016legmax.xls'!AP55,0),ROUND((('2016legmax.xls'!AR55-'2016legmax.xls'!AN55-'2016legmax.xls'!AO55)*Weightings!$M$12)+Weightings!B55,0))","v":4031417},0.3,1209425,1280739,1209425,0.3,0,false,0,0,0,true,188.96629999999999,0.432307,195.7,0,248,0.49,{"$f":"IF(ROUND((Weightings!$P$5*CC55^Weightings!$P$6*Weightings!$P$8 ),2)<Weightings!$P$7,Weightings!$P$7,ROUND((Weightings!$P$5*CC55^Weightings!$P$6*Weightings!$P$8 ),2))","v":1272.02},{"$f":"ROUND(CD55/Weightings!$M$5,4)","v":0.33019999999999999},40,0,0,0,0,{"$f":"AS55*Weightings!$M$5*CJ55","v":0},0,0.29399999999999998,1.8,0,0,0,{"$f":"IF(ISNA(VLOOKUP($DC55,'Audit Values'!$A$2:$AE$252,2,FALSE)),'Preliminary SO66'!T52,VLOOKUP($DC55,'Audit Values'!$A$2:$AE$252,20,FALSE))","v":0},{"$f":"IF(ISNA(VLOOKUP($DC55,'Audit Values'!$A$2:$AE$252,21,FALSE)),'Preliminary SO66'!U52,VLOOKUP($DC55,'Audit Values'!$A$2:$AE$252,21,FALSE))","v":0},0,0,null,null,null,null,null,null,null,"D0243"]
[244,"Coffey","Burlington ",810.7,0,810.7,815,0,815,815.5,{"$f":"IF(ISNA(VLOOKUP($DC56,'Audit Values'!$A$2:$AE$252,2,FALSE)),'Preliminary SO66'!B53,VLOOKUP($DC56,'Audit Values'!$A$2:$AE$252,31,FALSE))","v":815.5},815.5,{"$f":"IF(ISNA(VLOOKUP($DC56,'Audit Values'!$A$2:$AE$252,2,FALSE)),'Preliminary SO66'!Z53,VLOOKUP($DC56,'Audit Values'!$A$2:$AE$252,26,FALSE))","v":0},815.5,{"$f":"IF(ISNA(VLOOKUP($DC56,'Audit Values'!$A$2:$AE$252,2,FALSE)),'Preliminary SO66'!C53,IF(VLOOKUP($DC56,'Audit Values'!$A$2:$AE$252,28,FALSE)=\"\",VLOOKUP($DC56,'Audit Values'!$A$2:$AE$252,3,FALSE),VLOOKUP($DC56,'Audit Values'!$A$2:$AE$252,28,FALSE)))","v":5.5},821,821,821,821,0,252.2,252.2,0,{"$f":"IF(ISNA(VLOOKUP($DC56,'Audit Values'!$A$2:$AE$252,2,FALSE)),'Preliminary SO66'!D53,VLOOKUP($DC56,'Audit Values'!$A$2:$AE$252,4,FALSE))","v":281.39999999999998},{"$f":"ROUND((X56/6)*Weightings!$M$6,1)","v":23.5},{"$f":"IF(ISNA(VLOOKUP($DC56,'Audit Values'!$A$2:$AE$252,2,FALSE)),'Preliminary SO66'!F53,VLOOKUP($DC56,'Audit Values'!$A$2:$AE$252,6,FALSE))","v":2.1},{"$f":"ROUND((Z56/6)*Weightings!$M$7,1)","v":0.1},{"$f":"IF(ISNA(VLOOKUP($DC56,'Audit Values'!$A$2:$AE$252,2,FALSE)),'Preliminary SO66'!H53,VLOOKUP($DC56,'Audit Values'!$A$2:$AE$252,9,FALSE))","v":237},{"$f":"ROUND(AB56*Weightings!$M$8,1)","v":108.1},0,0,{"$f":"AE56*Weightings!$M$9","v":0},{"$f":"IF(ISNA(VLOOKUP($DC56,'Audit Values'!$A$2:$AE$252,2,FALSE)),'Preliminary SO66'!L53,VLOOKUP($DC56,'Audit Values'!$A$2:$AE$252,12,FALSE))","v":0},{"$f":"ROUND(AG56*Weightings!$M$10,1)","v":0},{"$f":"IF(ISNA(VLOOKUP($DC56,'Audit Values'!$A$2:$AE$252,2,FALSE)),'Preliminary SO66'!O53,VLOOKUP($DC56,'Audit Values'!$A$2:$AE$252,15,FALSE))","v":222},56.8,{"$f":"CG56/Weightings!$M$5","v":0},{"$f":"CH56/Weightings!$M$5","v":0},{"$f":"CL56/Weightings!$M$5","v":0},0,{"$f":"IF(ISNA(VLOOKUP($DC56,'Audit Values'!$A$2:$AE$252,2,FALSE)),'Preliminary SO66'!X53,VLOOKUP($DC56,'Audit Values'!$A$2:$AE$252,24,FALSE))","v":0},1152815,{"$f":"AP56/Weightings!$M$5","v":299.3},1261.7,1561,1561,0,{"$f":"IF(ISNA(VLOOKUP($DC56,'Audit Values'!$A$2:$AC$299,2,FALSE)),\"\",IF(AND(Weightings!H56>0,VLOOKUP($DC56,'Audit Values'!$A$2:$AC$299,29,FALSE)<Weightings!H56),Weightings!H56,VLOOKUP($DC56,'Audit Values'!$A$2:$AC$299,29,FALSE)))","v":9},{"$f":"IF(ISNA(VLOOKUP($DC56,'Audit Values'!$A$2:$AD$299,2,FALSE)),\"\",VLOOKUP($DC56,'Audit Values'!$A$2:$AD$299,30,FALSE))","v":"A"},{"$f":"IF(Weightings!G56=\"\",\"\",IF(Weightings!I56=\"Pending\",\"PX\",\"R\"))","v":""},{"$f":"AR56*Weightings!$M$5+AU56","v":4860068},{"$f":"AT56*Weightings!$M$5+AU56","v":6012972},{"$f":"IF(Weightings!G56>0,Weightings!G56,'Preliminary SO66'!AB53)","v":8001786},0,606927,0,7394859,6012972,null,{"$f":"Weightings!E56","v":0},{"$f":"Weightings!F56","v":0},0,6012972,{"$f":"MAX(ROUND(((AR56-AN56-AO56)*Weightings!$M$12)+'2016legmax.xls'!AP56,0),ROUND((('2016legmax.xls'!AR56-'2016legmax.xls'!AN56-'2016legmax.xls'!AO56)*Weightings!$M$12)+Weightings!B56,0))","v":6965383},0.3,2089615,2081264,2081264,0.29880000000000001,0,false,0,0,0,true,644.73749999999995,0.30717699999999998,252.2,0,147,1.51,{"$f":"IF(ROUND((Weightings!$P$5*CC56^Weightings!$P$6*Weightings!$P$8 ),2)<Weightings!$P$7,Weightings!$P$7,ROUND((Weightings!$P$5*CC56^Weightings!$P$6*Weightings!$P$8 ),2))","v":986.12},{"$f":"ROUND(CD56/Weightings!$M$5,4)","v":0.25600000000000001},56.8,0,0,0,0,{"$f":"AS56*Weightings!$M$5*CJ56","v":0},0,0.28899999999999998,5.6,0,0,0,{"$f":"IF(ISNA(VLOOKUP($DC56,'Audit Values'!$A$2:$AE$252,2,FALSE)),'Preliminary SO66'!T53,VLOOKUP($DC56,'Audit Values'!$A$2:$AE$252,20,FALSE))","v":0},{"$f":"IF(ISNA(VLOOKUP($DC56,'Audit Values'!$A$2:$AE$252,21,FALSE)),'Preliminary SO66'!U53,VLOOKUP($DC56,'Audit Values'!$A$2:$AE$252,21,FALSE))","v":0},0,0,null,null,null,null,null,null,null,"D0244"]
[245,"Coffey","LeRoy-Gridley ",198,0,198,214.1,0,214.1,206.5,{"$f":"IF(ISNA(VLOOKUP($DC57,'Audit Values'!$A$2:$AE$252,2,FALSE)),'Preliminary SO66'!B54,VLOOKUP($DC57,'Audit Values'!$A$2:$AE$252,31,FALSE))","v":206.5},214.1,{"$f":"IF(ISNA(VLOOKUP($DC57,'Audit Values'!$A$2:$AE$252,2,FALSE)),'Preliminary SO66'!Z54,VLOOKUP($DC57,'Audit Values'!$A$2:$AE$252,26,FALSE))","v":0},214.1,{"$f":"IF(ISNA(VLOOKUP($DC57,'Audit Values'!$A$2:$AE$252,2,FALSE)),'Preliminary SO66'!C54,IF(VLOOKUP($DC57,'Audit Values'!$A$2:$AE$252,28,FALSE)=\"\",VLOOKUP($DC57,'Audit Values'!$A$2:$AE$252,3,FALSE),VLOOKUP($DC57,'Audit Values'!$A$2:$AE$252,28,FALSE)))","v":0},206.5,206.5,206.5,214.1,0,152.4,152.4,0,{"$f":"IF(ISNA(VLOOKUP($DC57,'Audit Values'!$A$2:$AE$252,2,FALSE)),'Preliminary SO66'!D54,VLOOKUP($DC57,'Audit Values'!$A$2:$AE$252,4,FALSE))","v":84.6},{"$f":"ROUND((X57/6)*Weightings!$M$6,1)","v":7.1},{"$f":"IF(ISNA(VLOOKUP($DC57,'Audit Values'!$A$2:$AE$252,2,FALSE)),'Preliminary SO66'!F54,VLOOKUP($DC57,'Audit Values'!$A$2:$AE$252,6,FALSE))","v":0},{"$f":"ROUND((Z57/6)*Weightings!$M$7,1)","v":0},{"$f":"IF(ISNA(VLOOKUP($DC57,'Audit Values'!$A$2:$AE$252,2,FALSE)),'Preliminary SO66'!H54,VLOOKUP($DC57,'Audit Values'!$A$2:$AE$252,9,FALSE))","v":75},{"$f":"ROUND(AB57*Weightings!$M$8,1)","v":34.200000000000003},0,0,{"$f":"AE57*Weightings!$M$9","v":0},{"$f":"IF(ISNA(VLOOKUP($DC57,'Audit Values'!$A$2:$AE$252,2,FALSE)),'Preliminary SO66'!L54,VLOOKUP($DC57,'Audit Values'!$A$2:$AE$252,12,FALSE))","v":0},{"$f":"ROUND(AG57*Weightings!$M$10,1)","v":0},{"$f":"IF(ISNA(VLOOKUP($DC57,'Audit Values'!$A$2:$AE$252,2,FALSE)),'Preliminary SO66'!O54,VLOOKUP($DC57,'Audit Values'!$A$2:$AE$252,15,FALSE))","v":111.5},36,{"$f":"CG57/Weightings!$M$5","v":0},{"$f":"CH57/Weightings!$M$5","v":0},{"$f":"CL57/Weightings!$M$5","v":0},0,{"$f":"IF(ISNA(VLOOKUP($DC57,'Audit Values'!$A$2:$AE$252,2,FALSE)),'Preliminary SO66'!X54,VLOOKUP($DC57,'Audit Values'!$A$2:$AE$252,24,FALSE))","v":0},289474,{"$f":"AP57/Weightings!$M$5","v":75.099999999999994},443.8,518.9,518.9,0,{"$f":"IF(ISNA(VLOOKUP($DC57,'Audit Values'!$A$2:$AC$299,2,FALSE)),\"\",IF(AND(Weightings!H57>0,VLOOKUP($DC57,'Audit Values'!$A$2:$AC$299,29,FALSE)<Weightings!H57),Weightings!H57,VLOOKUP($DC57,'Audit Values'!$A$2:$AC$299,29,FALSE)))","v":9},{"$f":"IF(ISNA(VLOOKUP($DC57,'Audit Values'!$A$2:$AD$299,2,FALSE)),\"\",VLOOKUP($DC57,'Audit Values'!$A$2:$AD$299,30,FALSE))","v":"A"},{"$f":"IF(Weightings!G57=\"\",\"\",IF(Weightings!I57=\"Pending\",\"PX\",\"R\"))","v":""},{"$f":"AR57*Weightings!$M$5+AU57","v":1709518},{"$f":"AT57*Weightings!$M$5+AU57","v":1998803},{"$f":"IF(Weightings!G57>0,Weightings!G57,'Preliminary SO66'!AB54)","v":2140352},0,120215,0,2020137,1998803,null,{"$f":"Weightings!E57","v":0},{"$f":"Weightings!F57","v":0},0,1998803,{"$f":"MAX(ROUND(((AR57-AN57-AO57)*Weightings!$M$12)+'2016legmax.xls'!AP57,0),ROUND((('2016legmax.xls'!AR57-'2016legmax.xls'!AN57-'2016legmax.xls'!AO57)*Weightings!$M$12)+Weightings!B57,0))","v":2293213},0.3,687964,695103,687964,0.3,0,true,1101.636,0.71188300000000004,152.4,false,0,0,0,0,207,0.54,{"$f":"IF(ROUND((Weightings!$P$5*CC57^Weightings!$P$6*Weightings!$P$8 ),2)<Weightings!$P$7,Weightings!$P$7,ROUND((Weightings!$P$5*CC57^Weightings!$P$6*Weightings!$P$8 ),2))","v":1244.3699999999999},{"$f":"ROUND(CD57/Weightings!$M$5,4)","v":0.32300000000000001},36,0,0,0,0,{"$f":"AS57*Weightings!$M$5*CJ57","v":0},0,0.35,1,0,0,0,{"$f":"IF(ISNA(VLOOKUP($DC57,'Audit Values'!$A$2:$AE$252,2,FALSE)),'Preliminary SO66'!T54,VLOOKUP($DC57,'Audit Values'!$A$2:$AE$252,20,FALSE))","v":0},{"$f":"IF(ISNA(VLOOKUP($DC57,'Audit Values'!$A$2:$AE$252,21,FALSE)),'Preliminary SO66'!U54,VLOOKUP($DC57,'Audit Values'!$A$2:$AE$252,21,FALSE))","v":0},0,0,null,null,null,null,null,null,null,"D0245"]
[246,"Crawford","Northeast ",477.5,0,477.5,480.5,0,480.5,460.1,{"$f":"IF(ISNA(VLOOKUP($DC58,'Audit Values'!$A$2:$AE$252,2,FALSE)),'Preliminary SO66'!B55,VLOOKUP($DC58,'Audit Values'!$A$2:$AE$252,31,FALSE))","v":451.1},480.5,{"$f":"IF(ISNA(VLOOKUP($DC58,'Audit Values'!$A$2:$AE$252,2,FALSE)),'Preliminary SO66'!Z55,VLOOKUP($DC58,'Audit Values'!$A$2:$AE$252,26,FALSE))","v":0},480.5,{"$f":"IF(ISNA(VLOOKUP($DC58,'Audit Values'!$A$2:$AE$252,2,FALSE)),'Preliminary SO66'!C55,IF(VLOOKUP($DC58,'Audit Values'!$A$2:$AE$252,28,FALSE)=\"\",VLOOKUP($DC58,'Audit Values'!$A$2:$AE$252,3,FALSE),VLOOKUP($DC58,'Audit Values'!$A$2:$AE$252,28,FALSE)))","v":4.5},455.6,464.6,464.6,485,9,204.3,204.3,0,{"$f":"IF(ISNA(VLOOKUP($DC58,'Audit Values'!$A$2:$AE$252,2,FALSE)),'Preliminary SO66'!D55,VLOOKUP($DC58,'Audit Values'!$A$2:$AE$252,4,FALSE))","v":2.9},{"$f":"ROUND((X58/6)*Weightings!$M$6,1)","v":0.2},{"$f":"IF(ISNA(VLOOKUP($DC58,'Audit Values'!$A$2:$AE$252,2,FALSE)),'Preliminary SO66'!F55,VLOOKUP($DC58,'Audit Values'!$A$2:$AE$252,6,FALSE))","v":0},{"$f":"ROUND((Z58/6)*Weightings!$M$7,1)","v":0},{"$f":"IF(ISNA(VLOOKUP($DC58,'Audit Values'!$A$2:$AE$252,2,FALSE)),'Preliminary SO66'!H55,VLOOKUP($DC58,'Audit Values'!$A$2:$AE$252,9,FALSE))","v":305},{"$f":"ROUND(AB58*Weightings!$M$8,1)","v":139.1},32,0,{"$f":"AE58*Weightings!$M$9","v":0},{"$f":"IF(ISNA(VLOOKUP($DC58,'Audit Values'!$A$2:$AE$252,2,FALSE)),'Preliminary SO66'!L55,VLOOKUP($DC58,'Audit Values'!$A$2:$AE$252,12,FALSE))","v":0},{"$f":"ROUND(AG58*Weightings!$M$10,1)","v":0},{"$f":"IF(ISNA(VLOOKUP($DC58,'Audit Values'!$A$2:$AE$252,2,FALSE)),'Preliminary SO66'!O55,VLOOKUP($DC58,'Audit Values'!$A$2:$AE$252,15,FALSE))","v":211},50.7,{"$f":"CG58/Weightings!$M$5","v":0},{"$f":"CH58/Weightings!$M$5","v":0},{"$f":"CL58/Weightings!$M$5","v":0},9.5,{"$f":"IF(ISNA(VLOOKUP($DC58,'Audit Values'!$A$2:$AE$252,2,FALSE)),'Preliminary SO66'!X55,VLOOKUP($DC58,'Audit Values'!$A$2:$AE$252,24,FALSE))","v":0},499575,{"$f":"AP58/Weightings!$M$5","v":129.69999999999999},920.8,1050.5,1050.5,0,{"$f":"IF(ISNA(VLOOKUP($DC58,'Audit Values'!$A$2:$AC$299,2,FALSE)),\"\",IF(AND(Weightings!H58>0,VLOOKUP($DC58,'Audit Values'!$A$2:$AC$299,29,FALSE)<Weightings!H58),Weightings!H58,VLOOKUP($DC58,'Audit Values'!$A$2:$AC$299,29,FALSE)))","v":2},{"$f":"IF(ISNA(VLOOKUP($DC58,'Audit Values'!$A$2:$AD$299,2,FALSE)),\"\",VLOOKUP($DC58,'Audit Values'!$A$2:$AD$299,30,FALSE))","v":"A"},{"$f":"IF(Weightings!G58=\"\",\"\",IF(Weightings!I58=\"Pending\",\"PX\",\"R\"))","v":""},{"$f":"AR58*Weightings!$M$5+AU58","v":3546922},{"$f":"AT58*Weightings!$M$5+AU58","v":4046526},{"$f":"IF(Weightings!G58>0,Weightings!G58,'Preliminary SO66'!AB55)","v":5499639},938534,283615,0,4277490,4046526,null,{"$f":"Weightings!E58","v":0},{"$f":"Weightings!F58","v":0},0,4046526,{"$f":"MAX(ROUND(((AR58-AN58-AO58)*Weightings!$M$12)+'2016legmax.xls'!AP58,0),ROUND((('2016legmax.xls'!AR58-'2016legmax.xls'!AN58-'2016legmax.xls'!AO58)*Weightings!$M$12)+Weightings!B58,0))","v":4612733},0.3,1383820,1383416,1383416,0.2999,0,false,0,0,0,true,228.9375,0.42133300000000001,204.3,0,106,1.99,{"$f":"IF(ROUND((Weightings!$P$5*CC58^Weightings!$P$6*Weightings!$P$8 ),2)<Weightings!$P$7,Weightings!$P$7,ROUND((Weightings!$P$5*CC58^Weightings!$P$6*Weightings!$P$8 ),2))","v":926.43},{"$f":"ROUND(CD58/Weightings!$M$5,4)","v":0.24049999999999999},50.7,0,0,0,0,{"$f":"AS58*Weightings!$M$5*CJ58","v":0},0,0.629,4.5999999999999996,32,0,0,{"$f":"IF(ISNA(VLOOKUP($DC58,'Audit Values'!$A$2:$AE$252,2,FALSE)),'Preliminary SO66'!T55,VLOOKUP($DC58,'Audit Values'!$A$2:$AE$252,20,FALSE))","v":9},{"$f":"IF(ISNA(VLOOKUP($DC58,'Audit Values'!$A$2:$AE$252,21,FALSE)),'Preliminary SO66'!U55,VLOOKUP($DC58,'Audit Values'!$A$2:$AE$252,21,FALSE))","v":0},0,9,null,null,null,null,null,null,null,"D0246"]
[247,"Crawford","Cherokee ",615.5,0,615.5,559.4,0,559.4,503.1,{"$f":"IF(ISNA(VLOOKUP($DC59,'Audit Values'!$A$2:$AE$252,2,FALSE)),'Preliminary SO66'!B56,VLOOKUP($DC59,'Audit Values'!$A$2:$AE$252,31,FALSE))","v":503.1},559.4,{"$f":"IF(ISNA(VLOOKUP($DC59,'Audit Values'!$A$2:$AE$252,2,FALSE)),'Preliminary SO66'!Z56,VLOOKUP($DC59,'Audit Values'!$A$2:$AE$252,26,FALSE))","v":0},559.4,{"$f":"IF(ISNA(VLOOKUP($DC59,'Audit Values'!$A$2:$AE$252,2,FALSE)),'Preliminary SO66'!C56,IF(VLOOKUP($DC59,'Audit Values'!$A$2:$AE$252,28,FALSE)=\"\",VLOOKUP($DC59,'Audit Values'!$A$2:$AE$252,3,FALSE),VLOOKUP($DC59,'Audit Values'!$A$2:$AE$252,28,FALSE)))","v":6},509.1,509.1,509.1,565.4,0,222.8,222.8,0,{"$f":"IF(ISNA(VLOOKUP($DC59,'Audit Values'!$A$2:$AE$252,2,FALSE)),'Preliminary SO66'!D56,VLOOKUP($DC59,'Audit Values'!$A$2:$AE$252,4,FALSE))","v":415.1},{"$f":"ROUND((X59/6)*Weightings!$M$6,1)","v":34.6},{"$f":"IF(ISNA(VLOOKUP($DC59,'Audit Values'!$A$2:$AE$252,2,FALSE)),'Preliminary SO66'!F56,VLOOKUP($DC59,'Audit Values'!$A$2:$AE$252,6,FALSE))","v":0},{"$f":"ROUND((Z59/6)*Weightings!$M$7,1)","v":0},{"$f":"IF(ISNA(VLOOKUP($DC59,'Audit Values'!$A$2:$AE$252,2,FALSE)),'Preliminary SO66'!H56,VLOOKUP($DC59,'Audit Values'!$A$2:$AE$252,9,FALSE))","v":267},{"$f":"ROUND(AB59*Weightings!$M$8,1)","v":121.8},22.8,0,{"$f":"AE59*Weightings!$M$9","v":0},{"$f":"IF(ISNA(VLOOKUP($DC59,'Audit Values'!$A$2:$AE$252,2,FALSE)),'Preliminary SO66'!L56,VLOOKUP($DC59,'Audit Values'!$A$2:$AE$252,12,FALSE))","v":0},{"$f":"ROUND(AG59*Weightings!$M$10,1)","v":0},{"$f":"IF(ISNA(VLOOKUP($DC59,'Audit Values'!$A$2:$AE$252,2,FALSE)),'Preliminary SO66'!O56,VLOOKUP($DC59,'Audit Values'!$A$2:$AE$252,15,FALSE))","v":338.5},92.5,{"$f":"CG59/Weightings!$M$5","v":0},{"$f":"CH59/Weightings!$M$5","v":0},{"$f":"CL59/Weightings!$M$5","v":0},0,{"$f":"IF(ISNA(VLOOKUP($DC59,'Audit Values'!$A$2:$AE$252,2,FALSE)),'Preliminary SO66'!X56,VLOOKUP($DC59,'Audit Values'!$A$2:$AE$252,24,FALSE))","v":0},608085,{"$f":"AP59/Weightings!$M$5","v":157.9},1059.9000000000001,1217.8,1217.8,0,{"$f":"IF(ISNA(VLOOKUP($DC59,'Audit Values'!$A$2:$AC$299,2,FALSE)),\"\",IF(AND(Weightings!H59>0,VLOOKUP($DC59,'Audit Values'!$A$2:$AC$299,29,FALSE)<Weightings!H59),Weightings!H59,VLOOKUP($DC59,'Audit Values'!$A$2:$AC$299,29,FALSE)))","v":10},{"$f":"IF(ISNA(VLOOKUP($DC59,'Audit Values'!$A$2:$AD$299,2,FALSE)),\"\",VLOOKUP($DC59,'Audit Values'!$A$2:$AD$299,30,FALSE))","v":"A"},{"$f":"IF(Weightings!G59=\"\",\"\",IF(Weightings!I59=\"Pending\",\"PX\",\"R\"))","v":""},{"$f":"AR59*Weightings!$M$5+AU59","v":4082735},{"$f":"AT59*Weightings!$M$5+AU59","v":4690966},{"$f":"IF(Weightings!G59>0,Weightings!G59,'Preliminary SO66'!AB56)","v":6573376},967484,371878,74862,5159152,4690966,null,{"$f":"Weightings!E59","v":0},{"$f":"Weightings!F59","v":0},0,4690966,{"$f":"MAX(ROUND(((AR59-AN59-AO59)*Weightings!$M$12)+'2016legmax.xls'!AP59,0),ROUND((('2016legmax.xls'!AR59-'2016legmax.xls'!AN59-'2016legmax.xls'!AO59)*Weightings!$M$12)+Weightings!B59,0))","v":5415591},0.3,1624677,1684619,1624677,0.3,0,false,0,0,0,true,328.4325,0.39401700000000001,222.8,0,300,1.1299999999999999,{"$f":"IF(ROUND((Weightings!$P$5*CC59^Weightings!$P$6*Weightings!$P$8 ),2)<Weightings!$P$7,Weightings!$P$7,ROUND((Weightings!$P$5*CC59^Weightings!$P$6*Weightings!$P$8 ),2))","v":1052.95},{"$f":"ROUND(CD59/Weightings!$M$5,4)","v":0.27339999999999998},92.5,0,0,0,0,{"$f":"AS59*Weightings!$M$5*CJ59","v":0},0,0.47199999999999998,1.9,0,0,22.8,{"$f":"IF(ISNA(VLOOKUP($DC59,'Audit Values'!$A$2:$AE$252,2,FALSE)),'Preliminary SO66'!T56,VLOOKUP($DC59,'Audit Values'!$A$2:$AE$252,20,FALSE))","v":0},{"$f":"IF(ISNA(VLOOKUP($DC59,'Audit Values'!$A$2:$AE$252,21,FALSE)),'Preliminary SO66'!U56,VLOOKUP($DC59,'Audit Values'!$A$2:$AE$252,21,FALSE))","v":0},0,0,null,null,null,null,null,null,null,"D0247"]
[248,"Crawford","Girard ",973.5,0,973.5,973.5,0,973.5,983.9,{"$f":"IF(ISNA(VLOOKUP($DC60,'Audit Values'!$A$2:$AE$252,2,FALSE)),'Preliminary SO66'!B57,VLOOKUP($DC60,'Audit Values'!$A$2:$AE$252,31,FALSE))","v":977.8},977.8,{"$f":"IF(ISNA(VLOOKUP($DC60,'Audit Values'!$A$2:$AE$252,2,FALSE)),'Preliminary SO66'!Z57,VLOOKUP($DC60,'Audit Values'!$A$2:$AE$252,26,FALSE))","v":0},977.8,{"$f":"IF(ISNA(VLOOKUP($DC60,'Audit Values'!$A$2:$AE$252,2,FALSE)),'Preliminary SO66'!C57,IF(VLOOKUP($DC60,'Audit Values'!$A$2:$AE$252,28,FALSE)=\"\",VLOOKUP($DC60,'Audit Values'!$A$2:$AE$252,3,FALSE),VLOOKUP($DC60,'Audit Values'!$A$2:$AE$252,28,FALSE)))","v":7},984.8,990.9,990.9,984.8,6.1,247.7,247.7,0,{"$f":"IF(ISNA(VLOOKUP($DC60,'Audit Values'!$A$2:$AE$252,2,FALSE)),'Preliminary SO66'!D57,VLOOKUP($DC60,'Audit Values'!$A$2:$AE$252,4,FALSE))","v":341.9},{"$f":"ROUND((X60/6)*Weightings!$M$6,1)","v":28.5},{"$f":"IF(ISNA(VLOOKUP($DC60,'Audit Values'!$A$2:$AE$252,2,FALSE)),'Preliminary SO66'!F57,VLOOKUP($DC60,'Audit Values'!$A$2:$AE$252,6,FALSE))","v":31.3},{"$f":"ROUND((Z60/6)*Weightings!$M$7,1)","v":2.1},{"$f":"IF(ISNA(VLOOKUP($DC60,'Audit Values'!$A$2:$AE$252,2,FALSE)),'Preliminary SO66'!H57,VLOOKUP($DC60,'Audit Values'!$A$2:$AE$252,9,FALSE))","v":431},{"$f":"ROUND(AB60*Weightings!$M$8,1)","v":196.5},26.5,0,{"$f":"AE60*Weightings!$M$9","v":0},{"$f":"IF(ISNA(VLOOKUP($DC60,'Audit Values'!$A$2:$AE$252,2,FALSE)),'Preliminary SO66'!L57,VLOOKUP($DC60,'Audit Values'!$A$2:$AE$252,12,FALSE))","v":0},{"$f":"ROUND(AG60*Weightings!$M$10,1)","v":0},{"$f":"IF(ISNA(VLOOKUP($DC60,'Audit Values'!$A$2:$AE$252,2,FALSE)),'Preliminary SO66'!O57,VLOOKUP($DC60,'Audit Values'!$A$2:$AE$252,15,FALSE))","v":341},90.3,{"$f":"CG60/Weightings!$M$5","v":0},{"$f":"CH60/Weightings!$M$5","v":0},{"$f":"CL60/Weightings!$M$5","v":0},6.4,{"$f":"IF(ISNA(VLOOKUP($DC60,'Audit Values'!$A$2:$AE$252,2,FALSE)),'Preliminary SO66'!X57,VLOOKUP($DC60,'Audit Values'!$A$2:$AE$252,24,FALSE))","v":0},924909,{"$f":"AP60/Weightings!$M$5","v":240.1},1582.8,1822.9,1822.9,0,{"$f":"IF(ISNA(VLOOKUP($DC60,'Audit Values'!$A$2:$AC$299,2,FALSE)),\"\",IF(AND(Weightings!H60>0,VLOOKUP($DC60,'Audit Values'!$A$2:$AC$299,29,FALSE)<Weightings!H60),Weightings!H60,VLOOKUP($DC60,'Audit Values'!$A$2:$AC$299,29,FALSE)))","v":7},{"$f":"IF(ISNA(VLOOKUP($DC60,'Audit Values'!$A$2:$AD$299,2,FALSE)),\"\",VLOOKUP($DC60,'Audit Values'!$A$2:$AD$299,30,FALSE))","v":"A"},{"$f":"IF(Weightings!G60=\"\",\"\",IF(Weightings!I60=\"Pending\",\"PX\",\"R\"))","v":""},{"$f":"AR60*Weightings!$M$5+AU60","v":6096946},{"$f":"AT60*Weightings!$M$5+AU60","v":7021811},{"$f":"IF(Weightings!G60>0,Weightings!G60,'Preliminary SO66'!AB57)","v":9279350},1580533,457021,58259,7183537,7021811,null,{"$f":"Weightings!E60","v":0},{"$f":"Weightings!F60","v":0},0,7021811,{"$f":"MAX(ROUND(((AR60-AN60-AO60)*Weightings!$M$12)+'2016legmax.xls'!AP60,0),ROUND((('2016legmax.xls'!AR60-'2016legmax.xls'!AN60-'2016legmax.xls'!AO60)*Weightings!$M$12)+Weightings!B60,0))","v":8002945},0.3,2400884,2335075,2335075,0.2918,0,false,0,0,0,true,847.44,0.25152600000000003,247.7,0,263,1.3,{"$f":"IF(ROUND((Weightings!$P$5*CC60^Weightings!$P$6*Weightings!$P$8 ),2)<Weightings!$P$7,Weightings!$P$7,ROUND((Weightings!$P$5*CC60^Weightings!$P$6*Weightings!$P$8 ),2))","v":1020.09},{"$f":"ROUND(CD60/Weightings!$M$5,4)","v":0.26479999999999998},90.3,0,0,0,0,{"$f":"AS60*Weightings!$M$5*CJ60","v":0},0,0.438,3.7,0,0,26.5,{"$f":"IF(ISNA(VLOOKUP($DC60,'Audit Values'!$A$2:$AE$252,2,FALSE)),'Preliminary SO66'!T57,VLOOKUP($DC60,'Audit Values'!$A$2:$AE$252,20,FALSE))","v":4},{"$f":"IF(ISNA(VLOOKUP($DC60,'Audit Values'!$A$2:$AE$252,21,FALSE)),'Preliminary SO66'!U57,VLOOKUP($DC60,'Audit Values'!$A$2:$AE$252,21,FALSE))","v":2.1},0,6.1,null,null,null,null,null,null,null,"D0248"]
[249,"Crawford","Frontenac Public Schools ",881.5,0,881.5,868.5,0,868.5,868.4,{"$f":"IF(ISNA(VLOOKUP($DC61,'Audit Values'!$A$2:$AE$252,2,FALSE)),'Preliminary SO66'!B58,VLOOKUP($DC61,'Audit Values'!$A$2:$AE$252,31,FALSE))","v":866.4},872.1,{"$f":"IF(ISNA(VLOOKUP($DC61,'Audit Values'!$A$2:$AE$252,2,FALSE)),'Preliminary SO66'!Z58,VLOOKUP($DC61,'Audit Values'!$A$2:$AE$252,26,FALSE))","v":0},872.1,{"$f":"IF(ISNA(VLOOKUP($DC61,'Audit Values'!$A$2:$AE$252,2,FALSE)),'Preliminary SO66'!C58,IF(VLOOKUP($DC61,'Audit Values'!$A$2:$AE$252,28,FALSE)=\"\",VLOOKUP($DC61,'Audit Values'!$A$2:$AE$252,3,FALSE),VLOOKUP($DC61,'Audit Values'!$A$2:$AE$252,28,FALSE)))","v":6},872.4,874.4,874.4,878.1,2,252.7,252.7,0,{"$f":"IF(ISNA(VLOOKUP($DC61,'Audit Values'!$A$2:$AE$252,2,FALSE)),'Preliminary SO66'!D58,VLOOKUP($DC61,'Audit Values'!$A$2:$AE$252,4,FALSE))","v":202.8},{"$f":"ROUND((X61/6)*Weightings!$M$6,1)","v":16.899999999999999},{"$f":"IF(ISNA(VLOOKUP($DC61,'Audit Values'!$A$2:$AE$252,2,FALSE)),'Preliminary SO66'!F58,VLOOKUP($DC61,'Audit Values'!$A$2:$AE$252,6,FALSE))","v":8.5},{"$f":"ROUND((Z61/6)*Weightings!$M$7,1)","v":0.6},{"$f":"IF(ISNA(VLOOKUP($DC61,'Audit Values'!$A$2:$AE$252,2,FALSE)),'Preliminary SO66'!H58,VLOOKUP($DC61,'Audit Values'!$A$2:$AE$252,9,FALSE))","v":319},{"$f":"ROUND(AB61*Weightings!$M$8,1)","v":145.5},2.9,0,{"$f":"AE61*Weightings!$M$9","v":0},{"$f":"IF(ISNA(VLOOKUP($DC61,'Audit Values'!$A$2:$AE$252,2,FALSE)),'Preliminary SO66'!L58,VLOOKUP($DC61,'Audit Values'!$A$2:$AE$252,12,FALSE))","v":0},{"$f":"ROUND(AG61*Weightings!$M$10,1)","v":0},{"$f":"IF(ISNA(VLOOKUP($DC61,'Audit Values'!$A$2:$AE$252,2,FALSE)),'Preliminary SO66'!O58,VLOOKUP($DC61,'Audit Values'!$A$2:$AE$252,15,FALSE))","v":102},20.3,{"$f":"CG61/Weightings!$M$5","v":0},{"$f":"CH61/Weightings!$M$5","v":0},{"$f":"CL61/Weightings!$M$5","v":0},2.1,{"$f":"IF(ISNA(VLOOKUP($DC61,'Audit Values'!$A$2:$AE$252,2,FALSE)),'Preliminary SO66'!X58,VLOOKUP($DC61,'Audit Values'!$A$2:$AE$252,24,FALSE))","v":0},807642,{"$f":"AP61/Weightings!$M$5","v":209.7},1319.1,1528.8,1528.8,0,{"$f":"IF(ISNA(VLOOKUP($DC61,'Audit Values'!$A$2:$AC$299,2,FALSE)),\"\",IF(AND(Weightings!H61>0,VLOOKUP($DC61,'Audit Values'!$A$2:$AC$299,29,FALSE)<Weightings!H61),Weightings!H61,VLOOKUP($DC61,'Audit Values'!$A$2:$AC$299,29,FALSE)))","v":2},{"$f":"IF(ISNA(VLOOKUP($DC61,'Audit Values'!$A$2:$AD$299,2,FALSE)),\"\",VLOOKUP($DC61,'Audit Values'!$A$2:$AD$299,30,FALSE))","v":"A"},{"$f":"IF(Weightings!G61=\"\",\"\",IF(Weightings!I61=\"Pending\",\"PX\",\"R\"))","v":""},{"$f":"AR61*Weightings!$M$5+AU61","v":5081173},{"$f":"AT61*Weightings!$M$5+AU61","v":5888938},{"$f":"IF(Weightings!G61>0,Weightings!G61,'Preliminary SO66'!AB58)","v":8219040},1501977,390590,47975,6278498,5888938,null,{"$f":"Weightings!E61","v":0},{"$f":"Weightings!F61","v":0},0,5888938,{"$f":"MAX(ROUND(((AR61-AN61-AO61)*Weightings!$M$12)+'2016legmax.xls'!AP61,0),ROUND((('2016legmax.xls'!AR61-'2016legmax.xls'!AN61-'2016legmax.xls'!AO61)*Weightings!$M$12)+Weightings!B61,0))","v":6720972},0.3,2016292,2034196,2016292,0.3,0,false,0,0,0,true,715.39880000000005,0.28777799999999998,252.7,0,22,4.6399999999999997,{"$f":"IF(ROUND((Weightings!$P$5*CC61^Weightings!$P$6*Weightings!$P$8 ),2)<Weightings!$P$7,Weightings!$P$7,ROUND((Weightings!$P$5*CC61^Weightings!$P$6*Weightings!$P$8 ),2))","v":764.97},{"$f":"ROUND(CD61/Weightings!$M$5,4)","v":0.1986},20.3,0,0,0,0,{"$f":"AS61*Weightings!$M$5*CJ61","v":0},0,0.36299999999999999,39.9,0,0,2.9,{"$f":"IF(ISNA(VLOOKUP($DC61,'Audit Values'!$A$2:$AE$252,2,FALSE)),'Preliminary SO66'!T58,VLOOKUP($DC61,'Audit Values'!$A$2:$AE$252,20,FALSE))","v":2},{"$f":"IF(ISNA(VLOOKUP($DC61,'Audit Values'!$A$2:$AE$252,21,FALSE)),'Preliminary SO66'!U58,VLOOKUP($DC61,'Audit Values'!$A$2:$AE$252,21,FALSE))","v":0},0,2,null,null,null,null,null,null,null,"D0249"]
[250,"Crawford","Pittsburg ",2806.8,0,2806.8,2851,0,2851,2892.1,{"$f":"IF(ISNA(VLOOKUP($DC62,'Audit Values'!$A$2:$AE$252,2,FALSE)),'Preliminary SO66'!B59,VLOOKUP($DC62,'Audit Values'!$A$2:$AE$252,31,FALSE))","v":2824.9},2851,{"$f":"IF(ISNA(VLOOKUP($DC62,'Audit Values'!$A$2:$AE$252,2,FALSE)),'Preliminary SO66'!Z59,VLOOKUP($DC62,'Audit Values'!$A$2:$AE$252,26,FALSE))","v":0},2851,{"$f":"IF(ISNA(VLOOKUP($DC62,'Audit Values'!$A$2:$AE$252,2,FALSE)),'Preliminary SO66'!C59,IF(VLOOKUP($DC62,'Audit Values'!$A$2:$AE$252,28,FALSE)=\"\",VLOOKUP($DC62,'Audit Values'!$A$2:$AE$252,3,FALSE),VLOOKUP($DC62,'Audit Values'!$A$2:$AE$252,28,FALSE)))","v":20},2844.9,2912.1,2912.1,2871,67.2,100.6,0,100.6,{"$f":"IF(ISNA(VLOOKUP($DC62,'Audit Values'!$A$2:$AE$252,2,FALSE)),'Preliminary SO66'!D59,VLOOKUP($DC62,'Audit Values'!$A$2:$AE$252,4,FALSE))","v":346.7},{"$f":"ROUND((X62/6)*Weightings!$M$6,1)","v":28.9},{"$f":"IF(ISNA(VLOOKUP($DC62,'Audit Values'!$A$2:$AE$252,2,FALSE)),'Preliminary SO66'!F59,VLOOKUP($DC62,'Audit Values'!$A$2:$AE$252,6,FALSE))","v":912},{"$f":"ROUND((Z62/6)*Weightings!$M$7,1)","v":60},{"$f":"IF(ISNA(VLOOKUP($DC62,'Audit Values'!$A$2:$AE$252,2,FALSE)),'Preliminary SO66'!H59,VLOOKUP($DC62,'Audit Values'!$A$2:$AE$252,9,FALSE))","v":1622},{"$f":"ROUND(AB62*Weightings!$M$8,1)","v":739.6},170.3,0,{"$f":"AE62*Weightings!$M$9","v":0},{"$f":"IF(ISNA(VLOOKUP($DC62,'Audit Values'!$A$2:$AE$252,2,FALSE)),'Preliminary SO66'!L59,VLOOKUP($DC62,'Audit Values'!$A$2:$AE$252,12,FALSE))","v":0},{"$f":"ROUND(AG62*Weightings!$M$10,1)","v":0},{"$f":"IF(ISNA(VLOOKUP($DC62,'Audit Values'!$A$2:$AE$252,2,FALSE)),'Preliminary SO66'!O59,VLOOKUP($DC62,'Audit Values'!$A$2:$AE$252,15,FALSE))","v":451.2},74.5,{"$f":"CG62/Weightings!$M$5","v":0},{"$f":"CH62/Weightings!$M$5","v":0},{"$f":"CL62/Weightings!$M$5","v":0},70.599999999999994,{"$f":"IF(ISNA(VLOOKUP($DC62,'Audit Values'!$A$2:$AE$252,2,FALSE)),'Preliminary SO66'!X59,VLOOKUP($DC62,'Audit Values'!$A$2:$AE$252,24,FALSE))","v":0},2616641,{"$f":"AP62/Weightings!$M$5","v":679.3},4115.5,4794.8,4794.8,0,{"$f":"IF(ISNA(VLOOKUP($DC62,'Audit Values'!$A$2:$AC$299,2,FALSE)),\"\",IF(AND(Weightings!H62>0,VLOOKUP($DC62,'Audit Values'!$A$2:$AC$299,29,FALSE)<Weightings!H62),Weightings!H62,VLOOKUP($DC62,'Audit Values'!$A$2:$AC$299,29,FALSE)))","v":11},{"$f":"IF(ISNA(VLOOKUP($DC62,'Audit Values'!$A$2:$AD$299,2,FALSE)),\"\",VLOOKUP($DC62,'Audit Values'!$A$2:$AD$299,30,FALSE))","v":"A"},{"$f":"IF(Weightings!G62=\"\",\"\",IF(Weightings!I62=\"Pending\",\"PX\",\"R\"))","v":""},{"$f":"AR62*Weightings!$M$5+AU62","v":15852906},{"$f":"AT62*Weightings!$M$5+AU62","v":18469570},{"$f":"IF(Weightings!G62>0,Weightings!G62,'Preliminary SO66'!AB59)","v":25209177},3497289,1367557,151140,20193191,18469570,null,{"$f":"Weightings!E62","v":0},{"$f":"Weightings!F62","v":0},0,18469570,{"$f":"MAX(ROUND(((AR62-AN62-AO62)*Weightings!$M$12)+'2016legmax.xls'!AP62,0),ROUND((('2016legmax.xls'!AR62-'2016legmax.xls'!AN62-'2016legmax.xls'!AO62)*Weightings!$M$12)+Weightings!B62,0))","v":20778242},0.3,6233473,6364720,6233473,0.3,0,false,0,0,0,false,0,0,0,100.6,43,10.49,{"$f":"IF(ROUND((Weightings!$P$5*CC62^Weightings!$P$6*Weightings!$P$8 ),2)<Weightings!$P$7,Weightings!$P$7,ROUND((Weightings!$P$5*CC62^Weightings!$P$6*Weightings!$P$8 ),2))","v":636.07000000000005},{"$f":"ROUND(CD62/Weightings!$M$5,4)","v":0.1651},74.5,0,0,0,0,{"$f":"AS62*Weightings!$M$5*CJ62","v":0},0,0.56499999999999995,66.8,170.3,0,0,{"$f":"IF(ISNA(VLOOKUP($DC62,'Audit Values'!$A$2:$AE$252,2,FALSE)),'Preliminary SO66'!T59,VLOOKUP($DC62,'Audit Values'!$A$2:$AE$252,20,FALSE))","v":33},{"$f":"IF(ISNA(VLOOKUP($DC62,'Audit Values'!$A$2:$AE$252,21,FALSE)),'Preliminary SO66'!U59,VLOOKUP($DC62,'Audit Values'!$A$2:$AE$252,21,FALSE))","v":1.2},33,67.2,null,null,null,null,null,null,null,"D0250"]
[251,"Lyon","North Lyon County ",432.8,0,432.8,406.1,0,406.1,415,{"$f":"IF(ISNA(VLOOKUP($DC63,'Audit Values'!$A$2:$AE$252,2,FALSE)),'Preliminary SO66'!B60,VLOOKUP($DC63,'Audit Values'!$A$2:$AE$252,31,FALSE))","v":415},418,{"$f":"IF(ISNA(VLOOKUP($DC63,'Audit Values'!$A$2:$AE$252,2,FALSE)),'Preliminary SO66'!Z60,VLOOKUP($DC63,'Audit Values'!$A$2:$AE$252,26,FALSE))","v":0},418,{"$f":"IF(ISNA(VLOOKUP($DC63,'Audit Values'!$A$2:$AE$252,2,FALSE)),'Preliminary SO66'!C60,IF(VLOOKUP($DC63,'Audit Values'!$A$2:$AE$252,28,FALSE)=\"\",VLOOKUP($DC63,'Audit Values'!$A$2:$AE$252,3,FALSE),VLOOKUP($DC63,'Audit Values'!$A$2:$AE$252,28,FALSE)))","v":0},415,415,415,418,0,185.6,185.6,0,{"$f":"IF(ISNA(VLOOKUP($DC63,'Audit Values'!$A$2:$AE$252,2,FALSE)),'Preliminary SO66'!D60,VLOOKUP($DC63,'Audit Values'!$A$2:$AE$252,4,FALSE))","v":139.69999999999999},{"$f":"ROUND((X63/6)*Weightings!$M$6,1)","v":11.6},{"$f":"IF(ISNA(VLOOKUP($DC63,'Audit Values'!$A$2:$AE$252,2,FALSE)),'Preliminary SO66'!F60,VLOOKUP($DC63,'Audit Values'!$A$2:$AE$252,6,FALSE))","v":0},{"$f":"ROUND((Z63/6)*Weightings!$M$7,1)","v":0},{"$f":"IF(ISNA(VLOOKUP($DC63,'Audit Values'!$A$2:$AE$252,2,FALSE)),'Preliminary SO66'!H60,VLOOKUP($DC63,'Audit Values'!$A$2:$AE$252,9,FALSE))","v":183},{"$f":"ROUND(AB63*Weightings!$M$8,1)","v":83.4},11.3,0,{"$f":"AE63*Weightings!$M$9","v":0},{"$f":"IF(ISNA(VLOOKUP($DC63,'Audit Values'!$A$2:$AE$252,2,FALSE)),'Preliminary SO66'!L60,VLOOKUP($DC63,'Audit Values'!$A$2:$AE$252,12,FALSE))","v":0},{"$f":"ROUND(AG63*Weightings!$M$10,1)","v":0},{"$f":"IF(ISNA(VLOOKUP($DC63,'Audit Values'!$A$2:$AE$252,2,FALSE)),'Preliminary SO66'!O60,VLOOKUP($DC63,'Audit Values'!$A$2:$AE$252,15,FALSE))","v":255},80.7,{"$f":"CG63/Weightings!$M$5","v":0},{"$f":"CH63/Weightings!$M$5","v":0},{"$f":"CL63/Weightings!$M$5","v":0},0,{"$f":"IF(ISNA(VLOOKUP($DC63,'Audit Values'!$A$2:$AE$252,2,FALSE)),'Preliminary SO66'!X60,VLOOKUP($DC63,'Audit Values'!$A$2:$AE$252,24,FALSE))","v":0},423321,{"$f":"AP63/Weightings!$M$5","v":109.9},790.6,900.5,900.5,0,{"$f":"IF(ISNA(VLOOKUP($DC63,'Audit Values'!$A$2:$AC$299,2,FALSE)),\"\",IF(AND(Weightings!H63>0,VLOOKUP($DC63,'Audit Values'!$A$2:$AC$299,29,FALSE)<Weightings!H63),Weightings!H63,VLOOKUP($DC63,'Audit Values'!$A$2:$AC$299,29,FALSE)))","v":10},{"$f":"IF(ISNA(VLOOKUP($DC63,'Audit Values'!$A$2:$AD$299,2,FALSE)),\"\",VLOOKUP($DC63,'Audit Values'!$A$2:$AD$299,30,FALSE))","v":"A"},{"$f":"IF(Weightings!G63=\"\",\"\",IF(Weightings!I63=\"Pending\",\"PX\",\"R\"))","v":""},{"$f":"AR63*Weightings!$M$5+AU63","v":3045391},{"$f":"AT63*Weightings!$M$5+AU63","v":3468726},{"$f":"IF(Weightings!G63>0,Weightings!G63,'Preliminary SO66'!AB60)","v":3840018},0,239900,0,3600118,3468726,null,{"$f":"Weightings!E63","v":0},{"$f":"Weightings!F63","v":0},0,3468726,{"$f":"MAX(ROUND(((AR63-AN63-AO63)*Weightings!$M$12)+'2016legmax.xls'!AP63,0),ROUND((('2016legmax.xls'!AR63-'2016legmax.xls'!AN63-'2016legmax.xls'!AO63)*Weightings!$M$12)+Weightings!B63,0))","v":3991880},0.3,1197564,1211303,1197564,0.3,0,false,0,0,0,true,146.02500000000001,0.44409599999999999,185.6,0,434,0.59,{"$f":"IF(ROUND((Weightings!$P$5*CC63^Weightings!$P$6*Weightings!$P$8 ),2)<Weightings!$P$7,Weightings!$P$7,ROUND((Weightings!$P$5*CC63^Weightings!$P$6*Weightings!$P$8 ),2))","v":1219.69},{"$f":"ROUND(CD63/Weightings!$M$5,4)","v":0.31659999999999999},80.7,0,0,0,0,{"$f":"AS63*Weightings!$M$5*CJ63","v":0},0,0.438,1,0,0,11.3,{"$f":"IF(ISNA(VLOOKUP($DC63,'Audit Values'!$A$2:$AE$252,2,FALSE)),'Preliminary SO66'!T60,VLOOKUP($DC63,'Audit Values'!$A$2:$AE$252,20,FALSE))","v":0},{"$f":"IF(ISNA(VLOOKUP($DC63,'Audit Values'!$A$2:$AE$252,21,FALSE)),'Preliminary SO66'!U60,VLOOKUP($DC63,'Audit Values'!$A$2:$AE$252,21,FALSE))","v":0},0,0,null,null,null,null,null,null,null,"D0251"]
[252,"Lyon","Southern Lyon County ",514.5,0,514.5,498,0,498,488.5,{"$f":"IF(ISNA(VLOOKUP($DC64,'Audit Values'!$A$2:$AE$252,2,FALSE)),'Preliminary SO66'!B61,VLOOKUP($DC64,'Audit Values'!$A$2:$AE$252,31,FALSE))","v":488.5},500.3,{"$f":"IF(ISNA(VLOOKUP($DC64,'Audit Values'!$A$2:$AE$252,2,FALSE)),'Preliminary SO66'!Z61,VLOOKUP($DC64,'Audit Values'!$A$2:$AE$252,26,FALSE))","v":0},500.3,{"$f":"IF(ISNA(VLOOKUP($DC64,'Audit Values'!$A$2:$AE$252,2,FALSE)),'Preliminary SO66'!C61,IF(VLOOKUP($DC64,'Audit Values'!$A$2:$AE$252,28,FALSE)=\"\",VLOOKUP($DC64,'Audit Values'!$A$2:$AE$252,3,FALSE),VLOOKUP($DC64,'Audit Values'!$A$2:$AE$252,28,FALSE)))","v":6.5},495,495,495,506.8,0,209.8,209.8,0,{"$f":"IF(ISNA(VLOOKUP($DC64,'Audit Values'!$A$2:$AE$252,2,FALSE)),'Preliminary SO66'!D61,VLOOKUP($DC64,'Audit Values'!$A$2:$AE$252,4,FALSE))","v":164.1},{"$f":"ROUND((X64/6)*Weightings!$M$6,1)","v":13.7},{"$f":"IF(ISNA(VLOOKUP($DC64,'Audit Values'!$A$2:$AE$252,2,FALSE)),'Preliminary SO66'!F61,VLOOKUP($DC64,'Audit Values'!$A$2:$AE$252,6,FALSE))","v":0},{"$f":"ROUND((Z64/6)*Weightings!$M$7,1)","v":0},{"$f":"IF(ISNA(VLOOKUP($DC64,'Audit Values'!$A$2:$AE$252,2,FALSE)),'Preliminary SO66'!H61,VLOOKUP($DC64,'Audit Values'!$A$2:$AE$252,9,FALSE))","v":174},{"$f":"ROUND(AB64*Weightings!$M$8,1)","v":79.3},0,0,{"$f":"AE64*Weightings!$M$9","v":0},{"$f":"IF(ISNA(VLOOKUP($DC64,'Audit Values'!$A$2:$AE$252,2,FALSE)),'Preliminary SO66'!L61,VLOOKUP($DC64,'Audit Values'!$A$2:$AE$252,12,FALSE))","v":0},{"$f":"ROUND(AG64*Weightings!$M$10,1)","v":0},{"$f":"IF(ISNA(VLOOKUP($DC64,'Audit Values'!$A$2:$AE$252,2,FALSE)),'Preliminary SO66'!O61,VLOOKUP($DC64,'Audit Values'!$A$2:$AE$252,15,FALSE))","v":205},62.6,{"$f":"CG64/Weightings!$M$5","v":0},{"$f":"CH64/Weightings!$M$5","v":0},{"$f":"CL64/Weightings!$M$5","v":0},0,{"$f":"IF(ISNA(VLOOKUP($DC64,'Audit Values'!$A$2:$AE$252,2,FALSE)),'Preliminary SO66'!X61,VLOOKUP($DC64,'Audit Values'!$A$2:$AE$252,24,FALSE))","v":0},520958,{"$f":"AP64/Weightings!$M$5","v":135.19999999999999},872.2,1007.4,1007.4,0,{"$f":"IF(ISNA(VLOOKUP($DC64,'Audit Values'!$A$2:$AC$299,2,FALSE)),\"\",IF(AND(Weightings!H64>0,VLOOKUP($DC64,'Audit Values'!$A$2:$AC$299,29,FALSE)<Weightings!H64),Weightings!H64,VLOOKUP($DC64,'Audit Values'!$A$2:$AC$299,29,FALSE)))","v":3},{"$f":"IF(ISNA(VLOOKUP($DC64,'Audit Values'!$A$2:$AD$299,2,FALSE)),\"\",VLOOKUP($DC64,'Audit Values'!$A$2:$AD$299,30,FALSE))","v":"A"},{"$f":"IF(Weightings!G64=\"\",\"\",IF(Weightings!I64=\"Pending\",\"PX\",\"R\"))","v":""},{"$f":"AR64*Weightings!$M$5+AU64","v":3359714},{"$f":"AT64*Weightings!$M$5+AU64","v":3880505},{"$f":"IF(Weightings!G64>0,Weightings!G64,'Preliminary SO66'!AB61)","v":4848008},440225,262952,18207,4126624,3880505,null,{"$f":"Weightings!E64","v":0},{"$f":"Weightings!F64","v":0},0,3880505,{"$f":"MAX(ROUND(((AR64-AN64-AO64)*Weightings!$M$12)+'2016legmax.xls'!AP64,0),ROUND((('2016legmax.xls'!AR64-'2016legmax.xls'!AN64-'2016legmax.xls'!AO64)*Weightings!$M$12)+Weightings!B64,0))","v":4437136},0.3,1331141,1350252,1331141,0.3,0,false,0,0,0,true,255.91499999999999,0.41392600000000002,209.8,0,295,0.69,{"$f":"IF(ROUND((Weightings!$P$5*CC64^Weightings!$P$6*Weightings!$P$8 ),2)<Weightings!$P$7,Weightings!$P$7,ROUND((Weightings!$P$5*CC64^Weightings!$P$6*Weightings!$P$8 ),2))","v":1177.25},{"$f":"ROUND(CD64/Weightings!$M$5,4)","v":0.30559999999999998},62.6,0,0,0,0,{"$f":"AS64*Weightings!$M$5*CJ64","v":0},0,0.34300000000000003,1.7,0,0,0,{"$f":"IF(ISNA(VLOOKUP($DC64,'Audit Values'!$A$2:$AE$252,2,FALSE)),'Preliminary SO66'!T61,VLOOKUP($DC64,'Audit Values'!$A$2:$AE$252,20,FALSE))","v":0},{"$f":"IF(ISNA(VLOOKUP($DC64,'Audit Values'!$A$2:$AE$252,21,FALSE)),'Preliminary SO66'!U61,VLOOKUP($DC64,'Audit Values'!$A$2:$AE$252,21,FALSE))","v":0},0,0,null,null,null,null,null,null,null,"D0252"]
[253,"Lyon","Emporia ",4210.1000000000004,0,4210.1000000000004,4210.3,0,4210.3,4318.7,{"$f":"IF(ISNA(VLOOKUP($DC65,'Audit Values'!$A$2:$AE$252,2,FALSE)),'Preliminary SO66'!B62,VLOOKUP($DC65,'Audit Values'!$A$2:$AE$252,31,FALSE))","v":4317.2},4317.2,{"$f":"IF(ISNA(VLOOKUP($DC65,'Audit Values'!$A$2:$AE$252,2,FALSE)),'Preliminary SO66'!Z62,VLOOKUP($DC65,'Audit Values'!$A$2:$AE$252,26,FALSE))","v":0},4317.2,{"$f":"IF(ISNA(VLOOKUP($DC65,'Audit Values'!$A$2:$AE$252,2,FALSE)),'Preliminary SO66'!C62,IF(VLOOKUP($DC65,'Audit Values'!$A$2:$AE$252,28,FALSE)=\"\",VLOOKUP($DC65,'Audit Values'!$A$2:$AE$252,3,FALSE),VLOOKUP($DC65,'Audit Values'!$A$2:$AE$252,28,FALSE)))","v":61},4378.2,4379.7,4379.7,4378.2,1.5,153.4,{"$f":"MAX(BR65,BV65,BZ65)","v":0},{"$f":"CA65","v":153.4},{"$f":"IF(ISNA(VLOOKUP($DC65,'Audit Values'!$A$2:$AE$252,2,FALSE)),'Preliminary SO66'!D62,VLOOKUP($DC65,'Audit Values'!$A$2:$AE$252,4,FALSE))","v":728.7},{"$f":"ROUND((X65/6)*Weightings!$M$6,1)","v":60.7},{"$f":"IF(ISNA(VLOOKUP($DC65,'Audit Values'!$A$2:$AE$252,2,FALSE)),'Preliminary SO66'!F62,VLOOKUP($DC65,'Audit Values'!$A$2:$AE$252,6,FALSE))","v":5369.5},{"$f":"ROUND((Z65/6)*Weightings!$M$7,1)","v":353.5},{"$f":"IF(ISNA(VLOOKUP($DC65,'Audit Values'!$A$2:$AE$252,2,FALSE)),'Preliminary SO66'!H62,VLOOKUP($DC65,'Audit Values'!$A$2:$AE$252,9,FALSE))","v":2319},{"$f":"ROUND(AB65*Weightings!$M$8,1)","v":1057.5},243.5,0,{"$f":"AE65*Weightings!$M$9","v":0},{"$f":"IF(ISNA(VLOOKUP($DC65,'Audit Values'!$A$2:$AE$252,2,FALSE)),'Preliminary SO66'!L62,VLOOKUP($DC65,'Audit Values'!$A$2:$AE$252,12,FALSE))","v":0},{"$f":"ROUND(AG65*Weightings!$M$10,1)","v":0},{"$f":"IF(ISNA(VLOOKUP($DC65,'Audit Values'!$A$2:$AE$252,2,FALSE)),'Preliminary SO66'!O62,VLOOKUP($DC65,'Audit Values'!$A$2:$AE$252,15,FALSE))","v":1605},257.60000000000002,{"$f":"CG65/Weightings!$M$5","v":0},{"$f":"CH65/Weightings!$M$5","v":0},{"$f":"CL65/Weightings!$M$5","v":0},1.6,{"$f":"IF(ISNA(VLOOKUP($DC65,'Audit Values'!$A$2:$AE$252,2,FALSE)),'Preliminary SO66'!X62,VLOOKUP($DC65,'Audit Values'!$A$2:$AE$252,24,FALSE))","v":1},3163937,{"$f":"AP65/Weightings!$M$5","v":821.4},6507,7328.4,7328.4,0,{"$f":"IF(ISNA(VLOOKUP($DC65,'Audit Values'!$A$2:$AC$299,2,FALSE)),\"\",IF(AND(Weightings!H65>0,VLOOKUP($DC65,'Audit Values'!$A$2:$AC$299,29,FALSE)<Weightings!H65),Weightings!H65,VLOOKUP($DC65,'Audit Values'!$A$2:$AC$299,29,FALSE)))","v":3},{"$f":"IF(ISNA(VLOOKUP($DC65,'Audit Values'!$A$2:$AD$299,2,FALSE)),\"\",VLOOKUP($DC65,'Audit Values'!$A$2:$AD$299,30,FALSE))","v":"A"},{"$f":"IF(Weightings!G65=\"\",\"\",IF(Weightings!I65=\"Pending\",\"PX\",\"R\"))","v":""},{"$f":"AR65*Weightings!$M$5+AU65","v":25064964},{"$f":"AT65*Weightings!$M$5+AU65","v":28228997},{"$f":"IF(Weightings!G65>0,Weightings!G65,'Preliminary SO66'!AB62)","v":38399068},6122818,2889404,254762,29132084,28228997,null,{"$f":"Weightings!E65","v":0},{"$f":"Weightings!F65","v":0},0,28228997,{"$f":"MAX(ROUND(((AR65-AN65-AO65)*Weightings!$M$12)+'2016legmax.xls'!AP65,0),ROUND((('2016legmax.xls'!AR65-'2016legmax.xls'!AN65-'2016legmax.xls'!AO65)*Weightings!$M$12)+Weightings!B65,0))","v":32368693},0.3,9710608,9558122,9558122,0.29530000000000001,0,false,0,{"$f":"IF(BS65=TRUE,ROUND(((7337-BT65)/3642.4)-1,6),0)","v":0},0,false,0,{"$f":"IF(BW65=TRUE,ROUND(((5406-BX65)/3642.4)-1,6),0)","v":0},0,153.4,135,11.89,{"$f":"IF(ROUND((Weightings!$P$5*CC65^Weightings!$P$6*Weightings!$P$8 ),2)<Weightings!$P$7,Weightings!$P$7,ROUND((Weightings!$P$5*CC65^Weightings!$P$6*Weightings!$P$8 ),2))","v":618.29999999999995},{"$f":"ROUND(CD65/Weightings!$M$5,4)","v":0.1605},257.60000000000002,0,0,0,0,{"$f":"AS65*Weightings!$M$5*CJ65","v":0},0,0.53,32.4,243.5,0,0,{"$f":"IF(ISNA(VLOOKUP($DC65,'Audit Values'!$A$2:$AE$252,2,FALSE)),'Preliminary SO66'!T62,VLOOKUP($DC65,'Audit Values'!$A$2:$AE$252,20,FALSE))","v":1},{"$f":"IF(ISNA(VLOOKUP($DC65,'Audit Values'!$A$2:$AE$252,21,FALSE)),'Preliminary SO66'!U62,VLOOKUP($DC65,'Audit Values'!$A$2:$AE$252,21,FALSE))","v":0.5},0,1.5,null,null,null,null,null,null,null,"D0253"]
[254,"Barber","Barber County North ",446.5,0,446.5,436.5,0,436.5,437.5,{"$f":"IF(ISNA(VLOOKUP($DC66,'Audit Values'!$A$2:$AE$252,2,FALSE)),'Preliminary SO66'!B63,VLOOKUP($DC66,'Audit Values'!$A$2:$AE$252,31,FALSE))","v":437.5},440.2,{"$f":"IF(ISNA(VLOOKUP($DC66,'Audit Values'!$A$2:$AE$252,2,FALSE)),'Preliminary SO66'!Z63,VLOOKUP($DC66,'Audit Values'!$A$2:$AE$252,26,FALSE))","v":0},440.2,{"$f":"IF(ISNA(VLOOKUP($DC66,'Audit Values'!$A$2:$AE$252,2,FALSE)),'Preliminary SO66'!C63,IF(VLOOKUP($DC66,'Audit Values'!$A$2:$AE$252,28,FALSE)=\"\",VLOOKUP($DC66,'Audit Values'!$A$2:$AE$252,3,FALSE),VLOOKUP($DC66,'Audit Values'!$A$2:$AE$252,28,FALSE)))","v":5},442.5,442.5,442.5,445.2,0,193.6,193.6,0,{"$f":"IF(ISNA(VLOOKUP($DC66,'Audit Values'!$A$2:$AE$252,2,FALSE)),'Preliminary SO66'!D63,VLOOKUP($DC66,'Audit Values'!$A$2:$AE$252,4,FALSE))","v":61.9},{"$f":"ROUND((X66/6)*Weightings!$M$6,1)","v":5.2},{"$f":"IF(ISNA(VLOOKUP($DC66,'Audit Values'!$A$2:$AE$252,2,FALSE)),'Preliminary SO66'!F63,VLOOKUP($DC66,'Audit Values'!$A$2:$AE$252,6,FALSE))","v":1.9},{"$f":"ROUND((Z66/6)*Weightings!$M$7,1)","v":0.1},{"$f":"IF(ISNA(VLOOKUP($DC66,'Audit Values'!$A$2:$AE$252,2,FALSE)),'Preliminary SO66'!H63,VLOOKUP($DC66,'Audit Values'!$A$2:$AE$252,9,FALSE))","v":147},{"$f":"ROUND(AB66*Weightings!$M$8,1)","v":67},0,0,{"$f":"AE66*Weightings!$M$9","v":0},{"$f":"IF(ISNA(VLOOKUP($DC66,'Audit Values'!$A$2:$AE$252,2,FALSE)),'Preliminary SO66'!L63,VLOOKUP($DC66,'Audit Values'!$A$2:$AE$252,12,FALSE))","v":0},{"$f":"ROUND(AG66*Weightings!$M$10,1)","v":0},{"$f":"IF(ISNA(VLOOKUP($DC66,'Audit Values'!$A$2:$AE$252,2,FALSE)),'Preliminary SO66'!O63,VLOOKUP($DC66,'Audit Values'!$A$2:$AE$252,15,FALSE))","v":135},55.2,{"$f":"CG66/Weightings!$M$5","v":0},{"$f":"CH66/Weightings!$M$5","v":0},{"$f":"CL66/Weightings!$M$5","v":0},0,{"$f":"IF(ISNA(VLOOKUP($DC66,'Audit Values'!$A$2:$AE$252,2,FALSE)),'Preliminary SO66'!X63,VLOOKUP($DC66,'Audit Values'!$A$2:$AE$252,24,FALSE))","v":0},550614,{"$f":"AP66/Weightings!$M$5","v":142.9},766.3,909.2,909.2,0,{"$f":"IF(ISNA(VLOOKUP($DC66,'Audit Values'!$A$2:$AC$299,2,FALSE)),\"\",IF(AND(Weightings!H66>0,VLOOKUP($DC66,'Audit Values'!$A$2:$AC$299,29,FALSE)<Weightings!H66),Weightings!H66,VLOOKUP($DC66,'Audit Values'!$A$2:$AC$299,29,FALSE)))","v":15},{"$f":"IF(ISNA(VLOOKUP($DC66,'Audit Values'!$A$2:$AD$299,2,FALSE)),\"\",VLOOKUP($DC66,'Audit Values'!$A$2:$AD$299,30,FALSE))","v":"A"},{"$f":"IF(Weightings!G66=\"\",\"\",IF(Weightings!I66=\"Pending\",\"PX\",\"R\"))","v":""},{"$f":"AR66*Weightings!$M$5+AU66","v":2951788},{"$f":"AT66*Weightings!$M$5+AU66","v":3502238},{"$f":"IF(Weightings!G66>0,Weightings!G66,'Preliminary SO66'!AB63)","v":3889552},0,225589,0,3663963,3502238,null,{"$f":"Weightings!E66","v":0},{"$f":"Weightings!F66","v":0},0,3502238,{"$f":"MAX(ROUND(((AR66-AN66-AO66)*Weightings!$M$12)+'2016legmax.xls'!AP66,0),ROUND((('2016legmax.xls'!AR66-'2016legmax.xls'!AN66-'2016legmax.xls'!AO66)*Weightings!$M$12)+Weightings!B66,0))","v":4027377},0.3,1208213,1207674,1207674,0.2999,0,false,0,{"$f":"IF(BS66=TRUE,ROUND(((7337-BT66)/3642.4)-1,6),0)","v":0},0,true,179.685,{"$f":"IF(BW66=TRUE,ROUND(((5406-BX66)/3642.4)-1,6),0)","v":0.43485499999999999},193.6,0,718,0.19,{"$f":"IF(ROUND((Weightings!$P$5*CC66^Weightings!$P$6*Weightings!$P$8 ),2)<Weightings!$P$7,Weightings!$P$7,ROUND((Weightings!$P$5*CC66^Weightings!$P$6*Weightings!$P$8 ),2))","v":1576.03},{"$f":"ROUND(CD66/Weightings!$M$5,4)","v":0.40910000000000002},55.2,0,0,0,0,{"$f":"AS66*Weightings!$M$5*CJ66","v":0},0,0.33,0.6,0,0,0,{"$f":"IF(ISNA(VLOOKUP($DC66,'Audit Values'!$A$2:$AE$252,2,FALSE)),'Preliminary SO66'!T63,VLOOKUP($DC66,'Audit Values'!$A$2:$AE$252,20,FALSE))","v":0},{"$f":"IF(ISNA(VLOOKUP($DC66,'Audit Values'!$A$2:$AE$252,21,FALSE)),'Preliminary SO66'!U63,VLOOKUP($DC66,'Audit Values'!$A$2:$AE$252,21,FALSE))","v":0},0,0,null,null,null,null,null,null,null,"D0254"]
[255,"Barber","South Barber ",235,0,235,223.5,0,223.5,223.5,{"$f":"IF(ISNA(VLOOKUP($DC67,'Audit Values'!$A$2:$AE$252,2,FALSE)),'Preliminary SO66'!B64,VLOOKUP($DC67,'Audit Values'!$A$2:$AE$252,31,FALSE))","v":223.5},227.3,{"$f":"IF(ISNA(VLOOKUP($DC67,'Audit Values'!$A$2:$AE$252,2,FALSE)),'Preliminary SO66'!Z64,VLOOKUP($DC67,'Audit Values'!$A$2:$AE$252,26,FALSE))","v":0},227.3,{"$f":"IF(ISNA(VLOOKUP($DC67,'Audit Values'!$A$2:$AE$252,2,FALSE)),'Preliminary SO66'!C64,IF(VLOOKUP($DC67,'Audit Values'!$A$2:$AE$252,28,FALSE)=\"\",VLOOKUP($DC67,'Audit Values'!$A$2:$AE$252,3,FALSE),VLOOKUP($DC67,'Audit Values'!$A$2:$AE$252,28,FALSE)))","v":0},223.5,223.5,223.5,227.3,0,153.9,153.9,0,{"$f":"IF(ISNA(VLOOKUP($DC67,'Audit Values'!$A$2:$AE$252,2,FALSE)),'Preliminary SO66'!D64,VLOOKUP($DC67,'Audit Values'!$A$2:$AE$252,4,FALSE))","v":87.7},{"$f":"ROUND((X67/6)*Weightings!$M$6,1)","v":7.3},{"$f":"IF(ISNA(VLOOKUP($DC67,'Audit Values'!$A$2:$AE$252,2,FALSE)),'Preliminary SO66'!F64,VLOOKUP($DC67,'Audit Values'!$A$2:$AE$252,6,FALSE))","v":4.5},{"$f":"ROUND((Z67/6)*Weightings!$M$7,1)","v":0.3},{"$f":"IF(ISNA(VLOOKUP($DC67,'Audit Values'!$A$2:$AE$252,2,FALSE)),'Preliminary SO66'!H64,VLOOKUP($DC67,'Audit Values'!$A$2:$AE$252,9,FALSE))","v":72},{"$f":"ROUND(AB67*Weightings!$M$8,1)","v":32.799999999999997},0,0,{"$f":"AE67*Weightings!$M$9","v":0},{"$f":"IF(ISNA(VLOOKUP($DC67,'Audit Values'!$A$2:$AE$252,2,FALSE)),'Preliminary SO66'!L64,VLOOKUP($DC67,'Audit Values'!$A$2:$AE$252,12,FALSE))","v":0},{"$f":"ROUND(AG67*Weightings!$M$10,1)","v":0},{"$f":"IF(ISNA(VLOOKUP($DC67,'Audit Values'!$A$2:$AE$252,2,FALSE)),'Preliminary SO66'!O64,VLOOKUP($DC67,'Audit Values'!$A$2:$AE$252,15,FALSE))","v":54},24.1,{"$f":"CG67/Weightings!$M$5","v":0},{"$f":"CH67/Weightings!$M$5","v":0},{"$f":"CL67/Weightings!$M$5","v":0},0,{"$f":"IF(ISNA(VLOOKUP($DC67,'Audit Values'!$A$2:$AE$252,2,FALSE)),'Preliminary SO66'!X64,VLOOKUP($DC67,'Audit Values'!$A$2:$AE$252,24,FALSE))","v":0},283554,{"$f":"AP67/Weightings!$M$5","v":73.599999999999994},445.7,519.29999999999995,519.29999999999995,0,{"$f":"IF(ISNA(VLOOKUP($DC67,'Audit Values'!$A$2:$AC$299,2,FALSE)),\"\",IF(AND(Weightings!H67>0,VLOOKUP($DC67,'Audit Values'!$A$2:$AC$299,29,FALSE)<Weightings!H67),Weightings!H67,VLOOKUP($DC67,'Audit Values'!$A$2:$AC$299,29,FALSE)))","v":4},{"$f":"IF(ISNA(VLOOKUP($DC67,'Audit Values'!$A$2:$AD$299,2,FALSE)),\"\",VLOOKUP($DC67,'Audit Values'!$A$2:$AD$299,30,FALSE))","v":"A"},{"$f":"IF(Weightings!G67=\"\",\"\",IF(Weightings!I67=\"Pending\",\"PX\",\"R\"))","v":""},{"$f":"AR67*Weightings!$M$5+AU67","v":1716836},{"$f":"AT67*Weightings!$M$5+AU67","v":2000344},{"$f":"IF(Weightings!G67>0,Weightings!G67,'Preliminary SO66'!AB64)","v":2223343},0,126847,0,2096496,2000344,null,{"$f":"Weightings!E67","v":0},{"$f":"Weightings!F67","v":0},0,2000344,{"$f":"MAX(ROUND(((AR67-AN67-AO67)*Weightings!$M$12)+'2016legmax.xls'!AP67,0),ROUND((('2016legmax.xls'!AR67-'2016legmax.xls'!AN67-'2016legmax.xls'!AO67)*Weightings!$M$12)+Weightings!B67,0))","v":2284747},0.3,685424,687767,685424,0.3,0,true,1229.0820000000001,0.676894,153.9,false,0,0,0,0,425.5,0.13,{"$f":"IF(ROUND((Weightings!$P$5*CC67^Weightings!$P$6*Weightings!$P$8 ),2)<Weightings!$P$7,Weightings!$P$7,ROUND((Weightings!$P$5*CC67^Weightings!$P$6*Weightings!$P$8 ),2))","v":1717.3},{"$f":"ROUND(CD67/Weightings!$M$5,4)","v":0.44579999999999997},24.1,0,0,0,0,{"$f":"AS67*Weightings!$M$5*CJ67","v":0},0,0.317,0.5,0,0,0,{"$f":"IF(ISNA(VLOOKUP($DC67,'Audit Values'!$A$2:$AE$252,2,FALSE)),'Preliminary SO66'!T64,VLOOKUP($DC67,'Audit Values'!$A$2:$AE$252,20,FALSE))","v":0},{"$f":"IF(ISNA(VLOOKUP($DC67,'Audit Values'!$A$2:$AE$252,21,FALSE)),'Preliminary SO66'!U64,VLOOKUP($DC67,'Audit Values'!$A$2:$AE$252,21,FALSE))","v":0},0,0,null,null,null,null,null,null,null,"D0255"]
[256,"Allen","Marmaton Valley ",277,0,277,270.5,0,270.5,272.5,{"$f":"IF(ISNA(VLOOKUP($DC68,'Audit Values'!$A$2:$AE$252,2,FALSE)),'Preliminary SO66'!B65,VLOOKUP($DC68,'Audit Values'!$A$2:$AE$252,31,FALSE))","v":272.5},273.3,{"$f":"IF(ISNA(VLOOKUP($DC68,'Audit Values'!$A$2:$AE$252,2,FALSE)),'Preliminary SO66'!Z65,VLOOKUP($DC68,'Audit Values'!$A$2:$AE$252,26,FALSE))","v":0},273.3,{"$f":"IF(ISNA(VLOOKUP($DC68,'Audit Values'!$A$2:$AE$252,2,FALSE)),'Preliminary SO66'!C65,IF(VLOOKUP($DC68,'Audit Values'!$A$2:$AE$252,28,FALSE)=\"\",VLOOKUP($DC68,'Audit Values'!$A$2:$AE$252,3,FALSE),VLOOKUP($DC68,'Audit Values'!$A$2:$AE$252,28,FALSE)))","v":4},276.5,276.5,276.5,277.3,0,151,151,0,{"$f":"IF(ISNA(VLOOKUP($DC68,'Audit Values'!$A$2:$AE$252,2,FALSE)),'Preliminary SO66'!D65,VLOOKUP($DC68,'Audit Values'!$A$2:$AE$252,4,FALSE))","v":98.1},{"$f":"ROUND((X68/6)*Weightings!$M$6,1)","v":8.1999999999999993},{"$f":"IF(ISNA(VLOOKUP($DC68,'Audit Values'!$A$2:$AE$252,2,FALSE)),'Preliminary SO66'!F65,VLOOKUP($DC68,'Audit Values'!$A$2:$AE$252,6,FALSE))","v":0},{"$f":"ROUND((Z68/6)*Weightings!$M$7,1)","v":0},{"$f":"IF(ISNA(VLOOKUP($DC68,'Audit Values'!$A$2:$AE$252,2,FALSE)),'Preliminary SO66'!H65,VLOOKUP($DC68,'Audit Values'!$A$2:$AE$252,9,FALSE))","v":132},{"$f":"ROUND(AB68*Weightings!$M$8,1)","v":60.2},11.6,0,{"$f":"AE68*Weightings!$M$9","v":0},{"$f":"IF(ISNA(VLOOKUP($DC68,'Audit Values'!$A$2:$AE$252,2,FALSE)),'Preliminary SO66'!L65,VLOOKUP($DC68,'Audit Values'!$A$2:$AE$252,12,FALSE))","v":0},{"$f":"ROUND(AG68*Weightings!$M$10,1)","v":0},{"$f":"IF(ISNA(VLOOKUP($DC68,'Audit Values'!$A$2:$AE$252,2,FALSE)),'Preliminary SO66'!O65,VLOOKUP($DC68,'Audit Values'!$A$2:$AE$252,15,FALSE))","v":122},39.4,{"$f":"CG68/Weightings!$M$5","v":0},{"$f":"CH68/Weightings!$M$5","v":0},{"$f":"CL68/Weightings!$M$5","v":0},0,{"$f":"IF(ISNA(VLOOKUP($DC68,'Audit Values'!$A$2:$AE$252,2,FALSE)),'Preliminary SO66'!X65,VLOOKUP($DC68,'Audit Values'!$A$2:$AE$252,24,FALSE))","v":0},350401,{"$f":"AP68/Weightings!$M$5","v":91},547.70000000000005,638.70000000000005,638.70000000000005,0,{"$f":"IF(ISNA(VLOOKUP($DC68,'Audit Values'!$A$2:$AC$299,2,FALSE)),\"\",IF(AND(Weightings!H68>0,VLOOKUP($DC68,'Audit Values'!$A$2:$AC$299,29,FALSE)<Weightings!H68),Weightings!H68,VLOOKUP($DC68,'Audit Values'!$A$2:$AC$299,29,FALSE)))","v":1},{"$f":"IF(ISNA(VLOOKUP($DC68,'Audit Values'!$A$2:$AD$299,2,FALSE)),\"\",VLOOKUP($DC68,'Audit Values'!$A$2:$AD$299,30,FALSE))","v":"A"},{"$f":"IF(Weightings!G68=\"\",\"\",IF(Weightings!I68=\"Pending\",\"PX\",\"R\"))","v":""},{"$f":"AR68*Weightings!$M$5+AU68","v":2109740},{"$f":"AT68*Weightings!$M$5+AU68","v":2460272},{"$f":"IF(Weightings!G68>0,Weightings!G68,'Preliminary SO66'!AB65)","v":3193073},396596,143729,0,2652748,2460272,null,{"$f":"Weightings!E68","v":0},{"$f":"Weightings!F68","v":0},0,2460272,{"$f":"MAX(ROUND(((AR68-AN68-AO68)*Weightings!$M$12)+'2016legmax.xls'!AP68,0),ROUND((('2016legmax.xls'!AR68-'2016legmax.xls'!AN68-'2016legmax.xls'!AO68)*Weightings!$M$12)+Weightings!B68,0))","v":2901861},0.2979,864464,848640,848640,0.29239999999999999,0,true,1711.8320000000001,0.54435800000000001,151,false,0,0,0,0,225,0.54,{"$f":"IF(ROUND((Weightings!$P$5*CC68^Weightings!$P$6*Weightings!$P$8 ),2)<Weightings!$P$7,Weightings!$P$7,ROUND((Weightings!$P$5*CC68^Weightings!$P$6*Weightings!$P$8 ),2))","v":1244.3699999999999},{"$f":"ROUND(CD68/Weightings!$M$5,4)","v":0.32300000000000001},39.4,0,0,0,0,{"$f":"AS68*Weightings!$M$5*CJ68","v":0},0,0.47599999999999998,1.2,0,0,11.6,{"$f":"IF(ISNA(VLOOKUP($DC68,'Audit Values'!$A$2:$AE$252,2,FALSE)),'Preliminary SO66'!T65,VLOOKUP($DC68,'Audit Values'!$A$2:$AE$252,20,FALSE))","v":0},{"$f":"IF(ISNA(VLOOKUP($DC68,'Audit Values'!$A$2:$AE$252,21,FALSE)),'Preliminary SO66'!U65,VLOOKUP($DC68,'Audit Values'!$A$2:$AE$252,21,FALSE))","v":0},0,0,null,null,null,null,null,null,null,"D0256"]
[257,"Allen","Iola ",1258.5,0,1258.5,1251.3,0,{"$f":"G69+H69","v":1251.3},{"$f":"K69+T69","v":1248.2},{"$f":"IF(ISNA(VLOOKUP($DC69,'Audit Values'!$A$2:$AE$286,2,FALSE)),'Preliminary SO66'!B66,VLOOKUP($DC69,'Audit Values'!$A$2:$AE$286,31,FALSE))","v":1220},{"$f":"MAX(K69, I69,AVERAGE(F69, I69, K69))","v":1251.3},{"$f":"IF(ISNA(VLOOKUP($DC69,'Audit Values'!$A$2:$AE$252,2,FALSE)),'Preliminary SO66'!Z66,VLOOKUP($DC69,'Audit Values'!$A$2:$AE$252,26,FALSE))","v":0},{"$f":"L69+M69","v":1251.3},{"$f":"IF(ISNA(VLOOKUP($DC69,'Audit Values'!$A$2:$AE$286,2,FALSE)),'Preliminary SO66'!C66,IF(VLOOKUP($DC69,'Audit Values'!$A$2:$AE$286,28,FALSE)=\"\",VLOOKUP($DC69,'Audit Values'!$A$2:$AE$286,3,FALSE),VLOOKUP($DC69,'Audit Values'!$A$2:$AE$286,28,FALSE)))","v":11.5},{"$f":"K69+O69","v":1231.5},{"$f":"J69+O69","v":1259.7},{"$f":"J69+O69+M69","v":1259.7},{"$f":"L69+M69+O69","v":1262.8},28.2,{"$f":"IF(L69>0,MAX(BR69,BV69,BZ69,CA69),0)","v":198.4},198.4,0,{"$f":"IF(ISNA(VLOOKUP($DC69,'Audit Values'!$A$2:$AE$252,2,FALSE)),'Preliminary SO66'!D66,VLOOKUP($DC69,'Audit Values'!$A$2:$AE$252,4,FALSE))","v":250},{"$f":"ROUND((X69/6)*Weightings!$M$6,1)","v":20.8},{"$f":"IF(ISNA(VLOOKUP($DC69,'Audit Values'!$A$2:$AE$252,2,FALSE)),'Preliminary SO66'!F66,VLOOKUP($DC69,'Audit Values'!$A$2:$AE$252,6,FALSE))","v":0},{"$f":"ROUND((Z69/6)*Weightings!$M$7,1)","v":0},{"$f":"IF(ISNA(VLOOKUP($DC69,'Audit Values'!$A$2:$AE$299,2,FALSE)),'Preliminary SO66'!H66,VLOOKUP($DC69,'Audit Values'!$A$2:$AE$299,9,FALSE))","v":682},{"$f":"ROUND(AB69*Weightings!$M$8,1)","v":311},71.599999999999994,0,{"$f":"AE69*Weightings!$M$9","v":0},{"$f":"IF(ISNA(VLOOKUP($DC69,'Audit Values'!$A$2:$AE$252,2,FALSE)),'Preliminary SO66'!L66,VLOOKUP($DC69,'Audit Values'!$A$2:$AE$252,12,FALSE))","v":0},{"$f":"ROUND(AG69*Weightings!$M$10,1)","v":0},{"$f":"IF(ISNA(VLOOKUP($DC69,'Audit Values'!$A$2:$AE$252,2,FALSE)),'Preliminary SO66'!O66,VLOOKUP($DC69,'Audit Values'!$A$2:$AE$252,15,FALSE))","v":305},{"$f":"CF69","v":71.900000000000006},{"$f":"CG69/Weightings!$M$5","v":0},{"$f":"CH69/Weightings!$M$5","v":0},{"$f":"CL69/Weightings!$M$5","v":0},29.6,{"$f":"IF(ISNA(VLOOKUP($DC69,'Audit Values'!$A$2:$AE$252,2,FALSE)),'Preliminary SO66'!X66,VLOOKUP($DC69,'Audit Values'!$A$2:$AE$252,24,FALSE))","v":0},1512901,{"$f":"AP69/Weightings!$M$5","v":392.8},{"$f":"SUM(S69+ U69+ Y69+ AA69+ AC69+ AH69+ AJ69+ AK69+ AL69+ AD69+AF69+AM69+AN69+AO69)","v":1966.1},{"$f":"SUM(S69+U69+Y69+AA69+AC69+AH69+AJ69+AK69+AL69+AD69+AF69+AQ69+AN69+AO69)","v":2358.9},{"$f":"SUM(S69+U69+Y69+AA69+AC69+AH69+AJ69+AK69+AL69+AQ69+AD69+AF69+AM69+AN69+AO69)","v":2358.9},0,{"$f":"IF(ISNA(VLOOKUP($DC69,'Audit Values'!$A$2:$AC$299,2,FALSE)),\"\",IF(AND(Weightings!H69>0,VLOOKUP($DC69,'Audit Values'!$A$2:$AC$299,29,FALSE)<Weightings!H69),Weightings!H69,VLOOKUP($DC69,'Audit Values'!$A$2:$AC$299,29,FALSE)))","v":18},{"$f":"IF(ISNA(VLOOKUP($DC69,'Audit Values'!$A$2:$AD$299,2,FALSE)),\"\",VLOOKUP($DC69,'Audit Values'!$A$2:$AD$299,30,FALSE))","v":"A"},{"$f":"IF(Weightings!G69=\"\",\"\",IF(Weightings!I69=\"Pending\",\"PX\",\"R\"))","v":""},{"$f":"AR69*Weightings!$M$5+AU69","v":7573417},{"$f":"AT69*Weightings!$M$5+AU69","v":9086483},{"$f":"IF(Weightings!G69>0,Weightings!G69,'Preliminary SO66'!AB66)","v":12495893},1998857,621078,146219,{"$f":"BA69-BB69-BC69-BD69","v":9729739},{"$f":"MIN(AZ69,BA69)","v":9086483},null,{"$f":"Weightings!E69","v":0},{"$f":"Weightings!F69","v":0},{"$f":"SUM(BG69:BI69)","v":0},9086483,{"$f":"MAX(ROUND(((AR69-AN69-AO69)*Weightings!$M$12)+'2016legmax.xls'!AP69,0),ROUND((('2016legmax.xls'!AR69-'2016legmax.xls'!AN69-'2016legmax.xls'!AO69)*Weightings!$M$12)+Weightings!B69,0))","v":10443222},0.3,3132967,3150882,{"$f":"MIN(BN69,BO69)","v":3132967},0.3,{"$f":"ROUND(IF(S69<=99.9,(S69*1.014331),0),1)","v":0},{"$f":"AND(S69>99.9,S69<=299.9)","v":false},{"$f":"IF(BS69=TRUE,ROUND((S69-100)*9.655,3),0)","v":0},0,{"$f":"ROUND(S69*BU69,1)","v":0},{"$f":"AND(S69>299.9,S69<=1621.9)","v":true},{"$f":"IF(BW69=TRUE,ROUND((S69-300)*1.2375,4),0)","v":1191.4649999999999},0.15707599999999999,{"$f":"ROUND(BY69*S69,1)","v":198.4},{"$f":"ROUND(IF(S69>=1622,(S69*0.03504),0),1)","v":0},140.5,{"$f":"AI69/CB69","v":2.17},{"$f":"IF(ROUND((Weightings!$P$5*CC69^Weightings!$P$6*Weightings!$P$8 ),2)<Weightings!$P$7,Weightings!$P$7,ROUND((Weightings!$P$5*CC69^Weightings!$P$6*Weightings!$P$8 ),2))","v":908.46},{"$f":"ROUND(CD69/Weightings!$M$5,4)","v":0.23580000000000001},{"$f":"ROUND(IF(AI69>0,CE69*AI69,0),1)","v":71.900000000000006},0,0,0,0,{"$f":"AS69*Weightings!$M$5*CJ69","v":0},0,{"$f":"ROUND(AB69/S69,3)","v":0.54},{"$f":"ROUND(S69/CB69,1)","v":9},{"$f":"IF(CM69>=50%,AB69*10.5%,0)","v":71.599999999999994},{"$f":"IF(AND(CM69>=35.1%,CN69>212),AB69*0.105,0)","v":0},{"$f":"IF(AND((CM69-0.35)>0,CM69<0.5),AB69*(CM69-0.35)*0.7,0)","v":0},{"$f":"IF(ISNA(VLOOKUP($DC69,'Audit Values'!$A$2:$AE$299,2,FALSE)),'Preliminary SO66'!T66,VLOOKUP($DC69,'Audit Values'!$A$2:$AE$299,20,FALSE))","v":25},{"$f":"IF(ISNA(VLOOKUP($DC69,'Audit Values'!$A$2:$AE$299,21,FALSE)),'Preliminary SO66'!U66,VLOOKUP($DC69,'Audit Values'!$A$2:$AE$299,21,FALSE))","v":1.2},2,28.2,null,null,null,null,null,null,null,"D0257"]
[258,"Allen","Humboldt ",586.6,0,586.6,569,0,569,840.9,{"$f":"IF(ISNA(VLOOKUP($DC70,'Audit Values'!$A$2:$AE$252,2,FALSE)),'Preliminary SO66'!B67,VLOOKUP($DC70,'Audit Values'!$A$2:$AE$252,31,FALSE))","v":584},584,{"$f":"IF(ISNA(VLOOKUP($DC70,'Audit Values'!$A$2:$AE$252,2,FALSE)),'Preliminary SO66'!Z67,VLOOKUP($DC70,'Audit Values'!$A$2:$AE$252,26,FALSE))","v":0},584,{"$f":"IF(ISNA(VLOOKUP($DC70,'Audit Values'!$A$2:$AE$252,2,FALSE)),'Preliminary SO66'!C67,IF(VLOOKUP($DC70,'Audit Values'!$A$2:$AE$252,28,FALSE)=\"\",VLOOKUP($DC70,'Audit Values'!$A$2:$AE$252,3,FALSE),VLOOKUP($DC70,'Audit Values'!$A$2:$AE$252,28,FALSE)))","v":5.5},589.5,846.4,846.4,589.5,{"$f":"CU70","v":256.89999999999998},227.4,227.4,0,{"$f":"IF(ISNA(VLOOKUP($DC70,'Audit Values'!$A$2:$AE$252,2,FALSE)),'Preliminary SO66'!D67,VLOOKUP($DC70,'Audit Values'!$A$2:$AE$252,4,FALSE))","v":287.2},{"$f":"ROUND((X70/6)*Weightings!$M$6,1)","v":23.9},{"$f":"IF(ISNA(VLOOKUP($DC70,'Audit Values'!$A$2:$AE$252,2,FALSE)),'Preliminary SO66'!F67,VLOOKUP($DC70,'Audit Values'!$A$2:$AE$252,6,FALSE))","v":1.3},{"$f":"ROUND((Z70/6)*Weightings!$M$7,1)","v":0.1},{"$f":"IF(ISNA(VLOOKUP($DC70,'Audit Values'!$A$2:$AE$252,2,FALSE)),'Preliminary SO66'!H67,VLOOKUP($DC70,'Audit Values'!$A$2:$AE$252,9,FALSE))","v":237},{"$f":"ROUND(AB70*Weightings!$M$8,1)","v":108.1},{"$f":"MAX(CO70,CP70,CQ70)","v":8.6},0,{"$f":"AE70*Weightings!$M$9","v":0},{"$f":"IF(ISNA(VLOOKUP($DC70,'Audit Values'!$A$2:$AE$252,2,FALSE)),'Preliminary SO66'!L67,VLOOKUP($DC70,'Audit Values'!$A$2:$AE$252,12,FALSE))","v":0},{"$f":"ROUND(AG70*Weightings!$M$10,1)","v":0},{"$f":"IF(ISNA(VLOOKUP($DC70,'Audit Values'!$A$2:$AE$252,2,FALSE)),'Preliminary SO66'!O67,VLOOKUP($DC70,'Audit Values'!$A$2:$AE$252,15,FALSE))","v":89},27,{"$f":"CG70/Weightings!$M$5","v":0},{"$f":"CH70/Weightings!$M$5","v":0},{"$f":"CL70/Weightings!$M$5","v":0},{"$f":"CU70*1.05","v":269.7},{"$f":"IF(ISNA(VLOOKUP($DC70,'Audit Values'!$A$2:$AE$252,2,FALSE)),'Preliminary SO66'!X67,VLOOKUP($DC70,'Audit Values'!$A$2:$AE$252,24,FALSE))","v":0},657958,{"$f":"AP70/Weightings!$M$5","v":170.8},1254.3,1425.1,1425.1,0,{"$f":"IF(ISNA(VLOOKUP($DC70,'Audit Values'!$A$2:$AC$299,2,FALSE)),\"\",IF(AND(Weightings!H70>0,VLOOKUP($DC70,'Audit Values'!$A$2:$AC$299,29,FALSE)<Weightings!H70),Weightings!H70,VLOOKUP($DC70,'Audit Values'!$A$2:$AC$299,29,FALSE)))","v":10},{"$f":"IF(ISNA(VLOOKUP($DC70,'Audit Values'!$A$2:$AD$299,2,FALSE)),\"\",VLOOKUP($DC70,'Audit Values'!$A$2:$AD$299,30,FALSE))","v":"A"},{"$f":"IF(Weightings!G70=\"\",\"\",IF(Weightings!I70=\"Pending\",\"PX\",\"R\"))","v":"R"},{"$f":"AR70*Weightings!$M$5+AU70","v":4831564},{"$f":"AT70*Weightings!$M$5+AU70","v":5489485},{"$f":"IF(Weightings!G70>0,Weightings!G70,'Preliminary SO66'!AB67)","v":7449606},992165,338876,89001,6029564,5489485,null,{"$f":"Weightings!E70","v":0},{"$f":"Weightings!F70","v":0},0,{"$f":"BF70+BJ70","v":5489485},{"$f":"MAX(ROUND(((AR70-AN70-AO70)*Weightings!$M$12)+'2016legmax.xls'!AP70,0),ROUND((('2016legmax.xls'!AR70-'2016legmax.xls'!AN70-'2016legmax.xls'!AO70)*Weightings!$M$12)+Weightings!B70,0))","v":5078812},0.3,1523644,1515110,1515110,{"$f":"BP70/BL70","v":0.29830000000000001},0,false,0,0,0,true,358.25630000000001,0.38582899999999998,227.4,0,126,0.71,{"$f":"IF(ROUND((Weightings!$P$5*CC70^Weightings!$P$6*Weightings!$P$8 ),2)<Weightings!$P$7,Weightings!$P$7,ROUND((Weightings!$P$5*CC70^Weightings!$P$6*Weightings!$P$8 ),2))","v":1169.6600000000001},{"$f":"ROUND(CD70/Weightings!$M$5,4)","v":0.30370000000000003},27,0,0,0,0,{"$f":"AS70*Weightings!$M$5*CJ70","v":0},{"$f":"IF(CI70>CK70,CK70,CI70)","v":0},0.40200000000000002,4.7,0,0,8.6,{"$f":"IF(ISNA(VLOOKUP($DC70,'Audit Values'!$A$2:$AE$252,2,FALSE)),'Preliminary SO66'!T67,VLOOKUP($DC70,'Audit Values'!$A$2:$AE$252,20,FALSE))","v":74},{"$f":"IF(ISNA(VLOOKUP($DC70,'Audit Values'!$A$2:$AE$252,21,FALSE)),'Preliminary SO66'!U67,VLOOKUP($DC70,'Audit Values'!$A$2:$AE$252,21,FALSE))","v":0.9},182,{"$f":"SUM(CR70:CT70)","v":256.89999999999998},null,null,null,null,null,null,null,"D0258"]
[259,"Sedgwick","Wichita ",45888.3,0,45888.3,46108.1,0,46108.1,46446,{"$f":"IF(ISNA(VLOOKUP($DC71,'Audit Values'!$A$2:$AE$252,2,FALSE)),'Preliminary SO66'!B68,VLOOKUP($DC71,'Audit Values'!$A$2:$AE$252,31,FALSE))","v":46003.7},46108.1,{"$f":"IF(ISNA(VLOOKUP($DC71,'Audit Values'!$A$2:$AE$252,2,FALSE)),'Preliminary SO66'!Z68,VLOOKUP($DC71,'Audit Values'!$A$2:$AE$252,26,FALSE))","v":0},46108.1,{"$f":"IF(ISNA(VLOOKUP($DC71,'Audit Values'!$A$2:$AE$252,2,FALSE)),'Preliminary SO66'!C68,IF(VLOOKUP($DC71,'Audit Values'!$A$2:$AE$252,28,FALSE)=\"\",VLOOKUP($DC71,'Audit Values'!$A$2:$AE$252,3,FALSE),VLOOKUP($DC71,'Audit Values'!$A$2:$AE$252,28,FALSE)))","v":956},46959.7,47402,47402,47064.1,442.3,1649.1,0,1649.1,{"$f":"IF(ISNA(VLOOKUP($DC71,'Audit Values'!$A$2:$AE$252,2,FALSE)),'Preliminary SO66'!D68,VLOOKUP($DC71,'Audit Values'!$A$2:$AE$252,4,FALSE))","v":9564},{"$f":"ROUND((X71/6)*Weightings!$M$6,1)","v":797},{"$f":"IF(ISNA(VLOOKUP($DC71,'Audit Values'!$A$2:$AE$252,2,FALSE)),'Preliminary SO66'!F68,VLOOKUP($DC71,'Audit Values'!$A$2:$AE$252,6,FALSE))","v":38051.5},{"$f":"ROUND((Z71/6)*Weightings!$M$7,1)","v":2505.1},{"$f":"IF(ISNA(VLOOKUP($DC71,'Audit Values'!$A$2:$AE$252,2,FALSE)),'Preliminary SO66'!H68,VLOOKUP($DC71,'Audit Values'!$A$2:$AE$252,9,FALSE))","v":33171},{"$f":"ROUND(AB71*Weightings!$M$8,1)","v":15126},3483,0,{"$f":"AE71*Weightings!$M$9","v":0},{"$f":"IF(ISNA(VLOOKUP($DC71,'Audit Values'!$A$2:$AE$252,2,FALSE)),'Preliminary SO66'!L68,VLOOKUP($DC71,'Audit Values'!$A$2:$AE$252,12,FALSE))","v":933},{"$f":"ROUND(AG71*Weightings!$M$10,1)","v":233.3},{"$f":"IF(ISNA(VLOOKUP($DC71,'Audit Values'!$A$2:$AE$252,2,FALSE)),'Preliminary SO66'!O68,VLOOKUP($DC71,'Audit Values'!$A$2:$AE$252,15,FALSE))","v":14394},2107.3000000000002,{"$f":"CG71/Weightings!$M$5","v":0},{"$f":"CH71/Weightings!$M$5","v":0},{"$f":"CL71/Weightings!$M$5","v":0},464.4,{"$f":"IF(ISNA(VLOOKUP($DC71,'Audit Values'!$A$2:$AE$252,2,FALSE)),'Preliminary SO66'!X68,VLOOKUP($DC71,'Audit Values'!$A$2:$AE$252,24,FALSE))","v":3},44276340,{"$f":"AP71/Weightings!$M$5","v":11494.4},73432.3,84926.7,84926.7,3036045,{"$f":"IF(ISNA(VLOOKUP($DC71,'Audit Values'!$A$2:$AC$299,2,FALSE)),\"\",IF(AND(Weightings!H71>0,VLOOKUP($DC71,'Audit Values'!$A$2:$AC$299,29,FALSE)<Weightings!H71),Weightings!H71,VLOOKUP($DC71,'Audit Values'!$A$2:$AC$299,29,FALSE)))","v":5},{"$f":"IF(ISNA(VLOOKUP($DC71,'Audit Values'!$A$2:$AD$299,2,FALSE)),\"\",VLOOKUP($DC71,'Audit Values'!$A$2:$AD$299,30,FALSE))","v":"A"},{"$f":"IF(Weightings!G71=\"\",\"\",IF(Weightings!I71=\"Pending\",\"PX\",\"R\"))","v":""},{"$f":"AR71*Weightings!$M$5+AU71","v":285897265},{"$f":"AT71*Weightings!$M$5+AU71","v":330173693},{"$f":"IF(Weightings!G71>0,Weightings!G71,'Preliminary SO66'!AB68)","v":426884492},54559901,28659751,4525512,339139328,330173693,null,{"$f":"Weightings!E71","v":0},{"$f":"Weightings!F71","v":0},0,330173693,{"$f":"MAX(ROUND(((AR71-AN71-AO71)*Weightings!$M$12)+'2016legmax.xls'!AP71,0),ROUND((('2016legmax.xls'!AR71-'2016legmax.xls'!AN71-'2016legmax.xls'!AO71)*Weightings!$M$12)+Weightings!B71,0))","v":371888741},0.3,111566622,111369465,111369465,0.29949999999999999,0,false,0,0,0,false,0,0,0,1649.1,151,95.32,{"$f":"IF(ROUND((Weightings!$P$5*CC71^Weightings!$P$6*Weightings!$P$8 ),2)<Weightings!$P$7,Weightings!$P$7,ROUND((Weightings!$P$5*CC71^Weightings!$P$6*Weightings!$P$8 ),2))","v":564},{"$f":"ROUND(CD71/Weightings!$M$5,4)","v":0.1464},2107.3000000000002,0,0,0,0,{"$f":"AS71*Weightings!$M$5*CJ71","v":0},0,0.70499999999999996,311.7,3483,3483,0,{"$f":"IF(ISNA(VLOOKUP($DC71,'Audit Values'!$A$2:$AE$252,2,FALSE)),'Preliminary SO66'!T68,VLOOKUP($DC71,'Audit Values'!$A$2:$AE$252,20,FALSE))","v":198},{"$f":"IF(ISNA(VLOOKUP($DC71,'Audit Values'!$A$2:$AE$252,21,FALSE)),'Preliminary SO66'!U68,VLOOKUP($DC71,'Audit Values'!$A$2:$AE$252,21,FALSE))","v":15.3},229,442.3,null,null,null,null,null,null,null,"D0259",366804]
[260,"Sedgwick","Derby ",6335.1,47,6382.1,6376.9,29.3,6406.2,6433.7,{"$f":"IF(ISNA(VLOOKUP($DC72,'Audit Values'!$A$2:$AE$286,2,FALSE)),'Preliminary SO66'!B69,VLOOKUP($DC72,'Audit Values'!$A$2:$AE$286,31,FALSE))","v":6424.8},6424.8,{"$f":"IF(ISNA(VLOOKUP($DC72,'Audit Values'!$A$2:$AE$286,2,FALSE)),'Preliminary SO66'!Z69,VLOOKUP($DC72,'Audit Values'!$A$2:$AE$286,26,FALSE))","v":0},6424.8,{"$f":"IF(ISNA(VLOOKUP($DC72,'Audit Values'!$A$2:$AE$286,2,FALSE)),'Preliminary SO66'!C69,IF(VLOOKUP($DC72,'Audit Values'!$A$2:$AE$286,28,FALSE)=\"\",VLOOKUP($DC72,'Audit Values'!$A$2:$AE$286,3,FALSE),VLOOKUP($DC72,'Audit Values'!$A$2:$AE$286,28,FALSE)))","v":25},6449.8,6458.7,6458.7,6449.8,8.9,226,{"$f":"MAX(BR72,BV72,BZ72)","v":0},{"$f":"CA72","v":226},{"$f":"IF(ISNA(VLOOKUP($DC72,'Audit Values'!$A$2:$AE$299,2,FALSE)),'Preliminary SO66'!D69,VLOOKUP($DC72,'Audit Values'!$A$2:$AE$3002,4,FALSE))","v":1340},{"$f":"ROUND((X72/6)*Weightings!$M$6,1)","v":111.7},{"$f":"IF(ISNA(VLOOKUP($DC72,'Audit Values'!$A$2:$AE$252,2,FALSE)),'Preliminary SO66'!F69,VLOOKUP($DC72,'Audit Values'!$A$2:$AE$252,6,FALSE))","v":1450.9},{"$f":"ROUND((Z72/6)*Weightings!$M$7,1)","v":95.5},{"$f":"IF(ISNA(VLOOKUP($DC72,'Audit Values'!$A$2:$AE$299,2,FALSE)),'Preliminary SO66'!H69,VLOOKUP($DC72,'Audit Values'!$A$2:$AE$299,9,FALSE))","v":2541},{"$f":"ROUND(AB72*Weightings!$M$8,1)","v":1158.7},78.3,0,{"$f":"AE72*Weightings!$M$9","v":0},{"$f":"IF(ISNA(VLOOKUP($DC72,'Audit Values'!$A$2:$AE$299,2,FALSE)),'Preliminary SO66'!L69,VLOOKUP($DC72,'Audit Values'!$A$2:$AE$299,12,FALSE))","v":1291.2},{"$f":"ROUND(AG72*Weightings!$M$10,1)","v":322.8},{"$f":"IF(ISNA(VLOOKUP($DC72,'Audit Values'!$A$2:$AE$299,2,FALSE)),'Preliminary SO66'!O69,VLOOKUP($DC72,'Audit Values'!$A$2:$AE$299,15,FALSE))","v":1572},230.1,{"$f":"CG72/Weightings!$M$5","v":0},{"$f":"CH72/Weightings!$M$5","v":0},{"$f":"CL72/Weightings!$M$5","v":0},9.3000000000000007,{"$f":"IF(ISNA(VLOOKUP($DC72,'Audit Values'!$A$2:$AE$252,2,FALSE)),'Preliminary SO66'!X69,VLOOKUP($DC72,'Audit Values'!$A$2:$AE$252,24,FALSE))","v":1},5245591,{"$f":"AP72/Weightings!$M$5","v":1361.8},8683.2000000000007,10045,10045,0,{"$f":"IF(ISNA(VLOOKUP($DC72,'Audit Values'!$A$2:$AC$299,2,FALSE)),\"\",IF(AND(Weightings!H72>0,VLOOKUP($DC72,'Audit Values'!$A$2:$AC$299,29,FALSE)<Weightings!H72),Weightings!H72,VLOOKUP($DC72,'Audit Values'!$A$2:$AC$299,29,FALSE)))","v":18},{"$f":"IF(ISNA(VLOOKUP($DC72,'Audit Values'!$A$2:$AD$299,2,FALSE)),\"\",VLOOKUP($DC72,'Audit Values'!$A$2:$AD$299,30,FALSE))","v":"A"},{"$f":"IF(Weightings!G72=\"\",\"\",IF(Weightings!I72=\"Pending\",\"PX\",\"R\"))","v":""},{"$f":"AR72*Weightings!$M$5+AU72","v":33447686},{"$f":"AT72*Weightings!$M$5+AU72","v":38693340},{"$f":"IF(Weightings!G72>0,Weightings!G72,'Preliminary SO66'!AB69)","v":48657123},5537150,3720313,354279,39045381,38693340,null,{"$f":"Weightings!E72","v":0},{"$f":"Weightings!F72","v":0},0,38693340,{"$f":"MAX(ROUND(((AR72-AN72-AO72)*Weightings!$M$12)+'2016legmax.xls'!AP72,0),ROUND((('2016legmax.xls'!AR72-'2016legmax.xls'!AN72-'2016legmax.xls'!AO72)*Weightings!$M$12)+Weightings!B72,0))","v":44186912},0.3,13256074,12767588,12767588,0.28889999999999999,0,false,0,0,0,false,0,0,0,226,50,31.44,{"$f":"IF(ROUND((Weightings!$P$5*CC72^Weightings!$P$6*Weightings!$P$8 ),2)<Weightings!$P$7,Weightings!$P$7,ROUND((Weightings!$P$5*CC72^Weightings!$P$6*Weightings!$P$8 ),2))","v":564},{"$f":"ROUND(CD72/Weightings!$M$5,4)","v":0.1464},230.1,0,0,0,0,{"$f":"AS72*Weightings!$M$5*CJ72","v":0},0,0.39400000000000002,129,0,0,78.3,{"$f":"IF(ISNA(VLOOKUP($DC72,'Audit Values'!$A$2:$AE$299,2,FALSE)),'Preliminary SO66'!T69,VLOOKUP($DC72,'Audit Values'!$A$2:$AE$299,20,FALSE))","v":5},{"$f":"IF(ISNA(VLOOKUP($DC72,'Audit Values'!$A$2:$AE$299,21,FALSE)),'Preliminary SO66'!U69,VLOOKUP($DC72,'Audit Values'!$A$2:$AE$299,21,FALSE))","v":3.9},0,8.9,null,null,null,null,null,null,null,"D0260"]
[261,"Sedgwick","Haysville ",5013.5,0,5013.5,5122.3999999999996,0,5122.3999999999996,5164.8999999999996,{"$f":"IF(ISNA(VLOOKUP($DC73,'Audit Values'!$A$2:$AE$252,2,FALSE)),'Preliminary SO66'!B70,VLOOKUP($DC73,'Audit Values'!$A$2:$AE$252,31,FALSE))","v":5164.8999999999996},5164.8999999999996,{"$f":"IF(ISNA(VLOOKUP($DC73,'Audit Values'!$A$2:$AE$252,2,FALSE)),'Preliminary SO66'!Z70,VLOOKUP($DC73,'Audit Values'!$A$2:$AE$252,26,FALSE))","v":0},5164.8999999999996,{"$f":"IF(ISNA(VLOOKUP($DC73,'Audit Values'!$A$2:$AE$252,2,FALSE)),'Preliminary SO66'!C70,IF(VLOOKUP($DC73,'Audit Values'!$A$2:$AE$252,28,FALSE)=\"\",VLOOKUP($DC73,'Audit Values'!$A$2:$AE$252,3,FALSE),VLOOKUP($DC73,'Audit Values'!$A$2:$AE$252,28,FALSE)))","v":73},5237.8999999999996,5237.8999999999996,5237.8999999999996,5237.8999999999996,0,183.5,0,183.5,{"$f":"IF(ISNA(VLOOKUP($DC73,'Audit Values'!$A$2:$AE$252,2,FALSE)),'Preliminary SO66'!D70,VLOOKUP($DC73,'Audit Values'!$A$2:$AE$252,4,FALSE))","v":1104.8},{"$f":"ROUND((X73/6)*Weightings!$M$6,1)","v":92.1},{"$f":"IF(ISNA(VLOOKUP($DC73,'Audit Values'!$A$2:$AE$252,2,FALSE)),'Preliminary SO66'!F70,VLOOKUP($DC73,'Audit Values'!$A$2:$AE$252,6,FALSE))","v":289.60000000000002},{"$f":"ROUND((Z73/6)*Weightings!$M$7,1)","v":19.100000000000001},{"$f":"IF(ISNA(VLOOKUP($DC73,'Audit Values'!$A$2:$AE$252,2,FALSE)),'Preliminary SO66'!H70,VLOOKUP($DC73,'Audit Values'!$A$2:$AE$252,9,FALSE))","v":2543},{"$f":"ROUND(AB73*Weightings!$M$8,1)","v":1159.5999999999999},240.3,0,{"$f":"AE73*Weightings!$M$9","v":0},{"$f":"IF(ISNA(VLOOKUP($DC73,'Audit Values'!$A$2:$AE$252,2,FALSE)),'Preliminary SO66'!L70,VLOOKUP($DC73,'Audit Values'!$A$2:$AE$252,12,FALSE))","v":0},{"$f":"ROUND(AG73*Weightings!$M$10,1)","v":0},{"$f":"IF(ISNA(VLOOKUP($DC73,'Audit Values'!$A$2:$AE$252,2,FALSE)),'Preliminary SO66'!O70,VLOOKUP($DC73,'Audit Values'!$A$2:$AE$252,15,FALSE))","v":2056},301,{"$f":"CG73/Weightings!$M$5","v":0},{"$f":"CH73/Weightings!$M$5","v":0},{"$f":"CL73/Weightings!$M$5","v":0},0,{"$f":"IF(ISNA(VLOOKUP($DC73,'Audit Values'!$A$2:$AE$252,2,FALSE)),'Preliminary SO66'!X70,VLOOKUP($DC73,'Audit Values'!$A$2:$AE$252,24,FALSE))","v":0},4946890,{"$f":"AP73/Weightings!$M$5","v":1284.2},7233.5,8517.7000000000007,8517.7000000000007,0,{"$f":"IF(ISNA(VLOOKUP($DC73,'Audit Values'!$A$2:$AC$299,2,FALSE)),\"\",IF(AND(Weightings!H73>0,VLOOKUP($DC73,'Audit Values'!$A$2:$AC$299,29,FALSE)<Weightings!H73),Weightings!H73,VLOOKUP($DC73,'Audit Values'!$A$2:$AC$299,29,FALSE)))","v":16},{"$f":"IF(ISNA(VLOOKUP($DC73,'Audit Values'!$A$2:$AD$299,2,FALSE)),\"\",VLOOKUP($DC73,'Audit Values'!$A$2:$AD$299,30,FALSE))","v":"A"},{"$f":"IF(Weightings!G73=\"\",\"\",IF(Weightings!I73=\"Pending\",\"PX\",\"R\"))","v":""},{"$f":"AR73*Weightings!$M$5+AU73","v":27863442},{"$f":"AT73*Weightings!$M$5+AU73","v":32810180},{"$f":"IF(Weightings!G73>0,Weightings!G73,'Preliminary SO66'!AB70)","v":45248827},8318036,2955416,540595,33434780,32810180,null,{"$f":"Weightings!E73","v":0},{"$f":"Weightings!F73","v":0},0,32810180,{"$f":"MAX(ROUND(((AR73-AN73-AO73)*Weightings!$M$12)+'2016legmax.xls'!AP73,0),ROUND((('2016legmax.xls'!AR73-'2016legmax.xls'!AN73-'2016legmax.xls'!AO73)*Weightings!$M$12)+Weightings!B73,0))","v":37425305},0.3,11227592,11069181,11069181,0.29580000000000001,0,false,0,0,0,false,0,0,0,183.5,36,57.11,{"$f":"IF(ROUND((Weightings!$P$5*CC73^Weightings!$P$6*Weightings!$P$8 ),2)<Weightings!$P$7,Weightings!$P$7,ROUND((Weightings!$P$5*CC73^Weightings!$P$6*Weightings!$P$8 ),2))","v":564},{"$f":"ROUND(CD73/Weightings!$M$5,4)","v":0.1464},301,0,0,0,0,{"$f":"AS73*Weightings!$M$5*CJ73","v":0},0,0.48499999999999999,145.5,0,0,240.3,{"$f":"IF(ISNA(VLOOKUP($DC73,'Audit Values'!$A$2:$AE$252,2,FALSE)),'Preliminary SO66'!T70,VLOOKUP($DC73,'Audit Values'!$A$2:$AE$252,20,FALSE))","v":0},{"$f":"IF(ISNA(VLOOKUP($DC73,'Audit Values'!$A$2:$AE$252,21,FALSE)),'Preliminary SO66'!U70,VLOOKUP($DC73,'Audit Values'!$A$2:$AE$252,21,FALSE))","v":0},0,0,null,null,null,null,null,null,null,"D0261"]
[262,"Sedgwick","Valley Center Pub Sch ",2584.5,0,2584.5,2624.4,0,2624.4,2733.2,{"$f":"IF(ISNA(VLOOKUP($DC74,'Audit Values'!$A$2:$AE$252,2,FALSE)),'Preliminary SO66'!B71,VLOOKUP($DC74,'Audit Values'!$A$2:$AE$252,31,FALSE))","v":2665.4},2665.4,{"$f":"IF(ISNA(VLOOKUP($DC74,'Audit Values'!$A$2:$AE$252,2,FALSE)),'Preliminary SO66'!Z71,VLOOKUP($DC74,'Audit Values'!$A$2:$AE$252,26,FALSE))","v":0},2665.4,{"$f":"IF(ISNA(VLOOKUP($DC74,'Audit Values'!$A$2:$AE$252,2,FALSE)),'Preliminary SO66'!C71,IF(VLOOKUP($DC74,'Audit Values'!$A$2:$AE$252,28,FALSE)=\"\",VLOOKUP($DC74,'Audit Values'!$A$2:$AE$252,3,FALSE),VLOOKUP($DC74,'Audit Values'!$A$2:$AE$252,28,FALSE)))","v":17},2682.4,2750.2,2750.2,2682.4,67.8,94,0,94,{"$f":"IF(ISNA(VLOOKUP($DC74,'Audit Values'!$A$2:$AE$252,2,FALSE)),'Preliminary SO66'!D71,VLOOKUP($DC74,'Audit Values'!$A$2:$AE$252,4,FALSE))","v":621.6},{"$f":"ROUND((X74/6)*Weightings!$M$6,1)","v":51.8},{"$f":"IF(ISNA(VLOOKUP($DC74,'Audit Values'!$A$2:$AE$252,2,FALSE)),'Preliminary SO66'!F71,VLOOKUP($DC74,'Audit Values'!$A$2:$AE$252,6,FALSE))","v":156.19999999999999},{"$f":"ROUND((Z74/6)*Weightings!$M$7,1)","v":10.3},{"$f":"IF(ISNA(VLOOKUP($DC74,'Audit Values'!$A$2:$AE$252,2,FALSE)),'Preliminary SO66'!H71,VLOOKUP($DC74,'Audit Values'!$A$2:$AE$252,9,FALSE))","v":951},{"$f":"ROUND(AB74*Weightings!$M$8,1)","v":433.7},3.3,0,{"$f":"AE74*Weightings!$M$9","v":0},{"$f":"IF(ISNA(VLOOKUP($DC74,'Audit Values'!$A$2:$AE$252,2,FALSE)),'Preliminary SO66'!L71,VLOOKUP($DC74,'Audit Values'!$A$2:$AE$252,12,FALSE))","v":0},{"$f":"ROUND(AG74*Weightings!$M$10,1)","v":0},{"$f":"IF(ISNA(VLOOKUP($DC74,'Audit Values'!$A$2:$AE$252,2,FALSE)),'Preliminary SO66'!O71,VLOOKUP($DC74,'Audit Values'!$A$2:$AE$252,15,FALSE))","v":1438},212,{"$f":"CG74/Weightings!$M$5","v":0},{"$f":"CH74/Weightings!$M$5","v":0},{"$f":"CL74/Weightings!$M$5","v":0},71.2,{"$f":"IF(ISNA(VLOOKUP($DC74,'Audit Values'!$A$2:$AE$252,2,FALSE)),'Preliminary SO66'!X71,VLOOKUP($DC74,'Audit Values'!$A$2:$AE$252,24,FALSE))","v":0},2478302,{"$f":"AP74/Weightings!$M$5","v":643.4},3558.7,4202.1000000000004,4202.1000000000004,25000,{"$f":"IF(ISNA(VLOOKUP($DC74,'Audit Values'!$A$2:$AC$299,2,FALSE)),\"\",IF(AND(Weightings!H74>0,VLOOKUP($DC74,'Audit Values'!$A$2:$AC$299,29,FALSE)<Weightings!H74),Weightings!H74,VLOOKUP($DC74,'Audit Values'!$A$2:$AC$299,29,FALSE)))","v":2},{"$f":"IF(ISNA(VLOOKUP($DC74,'Audit Values'!$A$2:$AD$299,2,FALSE)),\"\",VLOOKUP($DC74,'Audit Values'!$A$2:$AD$299,30,FALSE))","v":"A"},{"$f":"IF(Weightings!G74=\"\",\"\",IF(Weightings!I74=\"Pending\",\"PX\",\"R\"))","v":""},{"$f":"AR74*Weightings!$M$5+AU74","v":13733112},{"$f":"AT74*Weightings!$M$5+AU74","v":16211489},{"$f":"IF(Weightings!G74>0,Weightings!G74,'Preliminary SO66'!AB71)","v":20980421},3132525,1110039,250240,16487617,16211489,null,{"$f":"Weightings!E74","v":0},{"$f":"Weightings!F74","v":0},0,16211489,{"$f":"MAX(ROUND(((AR74-AN74-AO74)*Weightings!$M$12)+'2016legmax.xls'!AP74,0),ROUND((('2016legmax.xls'!AR74-'2016legmax.xls'!AN74-'2016legmax.xls'!AO74)*Weightings!$M$12)+Weightings!B74,0))","v":18137177},0.3,5441153,5297870,5297870,0.29210000000000003,0,false,0,0,0,false,0,0,0,94,83,17.329999999999998,{"$f":"IF(ROUND((Weightings!$P$5*CC74^Weightings!$P$6*Weightings!$P$8 ),2)<Weightings!$P$7,Weightings!$P$7,ROUND((Weightings!$P$5*CC74^Weightings!$P$6*Weightings!$P$8 ),2))","v":567.79},{"$f":"ROUND(CD74/Weightings!$M$5,4)","v":0.1474},212,0,0,0,0,{"$f":"AS74*Weightings!$M$5*CJ74","v":0},0,0.35499999999999998,32.299999999999997,0,0,3.3,{"$f":"IF(ISNA(VLOOKUP($DC74,'Audit Values'!$A$2:$AE$252,2,FALSE)),'Preliminary SO66'!T71,VLOOKUP($DC74,'Audit Values'!$A$2:$AE$252,20,FALSE))","v":23},{"$f":"IF(ISNA(VLOOKUP($DC74,'Audit Values'!$A$2:$AE$252,21,FALSE)),'Preliminary SO66'!U71,VLOOKUP($DC74,'Audit Values'!$A$2:$AE$252,21,FALSE))","v":2.8},42,67.8,null,null,null,null,null,null,null,"D0262"]
[263,"Sedgwick","Mulvane ",1741.6,0,1741.6,1732.9,0,1732.9,1702.3,{"$f":"IF(ISNA(VLOOKUP($DC75,'Audit Values'!$A$2:$AE$286,2,FALSE)),'Preliminary SO66'!B72,VLOOKUP($DC75,'Audit Values'!$A$2:$AE$286,31,FALSE))","v":1679.3},1732.9,{"$f":"IF(ISNA(VLOOKUP($DC75,'Audit Values'!$A$2:$AE$286,2,FALSE)),'Preliminary SO66'!Z72,VLOOKUP($DC75,'Audit Values'!$A$2:$AE$286,26,FALSE))","v":0},1732.9,{"$f":"IF(ISNA(VLOOKUP($DC75,'Audit Values'!$A$2:$AE$286,2,FALSE)),'Preliminary SO66'!C72,IF(VLOOKUP($DC75,'Audit Values'!$A$2:$AE$286,28,FALSE)=\"\",VLOOKUP($DC75,'Audit Values'!$A$2:$AE$286,3,FALSE),VLOOKUP($DC75,'Audit Values'!$A$2:$AE$286,28,FALSE)))","v":14.5},1693.8,1716.8,1716.8,1747.4,23,61.2,0,61.2,{"$f":"IF(ISNA(VLOOKUP($DC75,'Audit Values'!$A$2:$AE$252,2,FALSE)),'Preliminary SO66'!D72,VLOOKUP($DC75,'Audit Values'!$A$2:$AE$252,4,FALSE))","v":456.4},{"$f":"ROUND((X75/6)*Weightings!$M$6,1)","v":38},{"$f":"IF(ISNA(VLOOKUP($DC75,'Audit Values'!$A$2:$AE$252,2,FALSE)),'Preliminary SO66'!F72,VLOOKUP($DC75,'Audit Values'!$A$2:$AE$252,6,FALSE))","v":12.4},{"$f":"ROUND((Z75/6)*Weightings!$M$7,1)","v":0.8},{"$f":"IF(ISNA(VLOOKUP($DC75,'Audit Values'!$A$2:$AE$252,2,FALSE)),'Preliminary SO66'!H72,VLOOKUP($DC75,'Audit Values'!$A$2:$AE$252,9,FALSE))","v":552},{"$f":"ROUND(AB75*Weightings!$M$8,1)","v":251.7},0,0,{"$f":"AE75*Weightings!$M$9","v":0},{"$f":"IF(ISNA(VLOOKUP($DC75,'Audit Values'!$A$2:$AE$299,2,FALSE)),'Preliminary SO66'!L72,VLOOKUP($DC75,'Audit Values'!$A$2:$AE$299,12,FALSE))","v":53.5},{"$f":"ROUND(AG75*Weightings!$M$10,1)","v":13.4},{"$f":"IF(ISNA(VLOOKUP($DC75,'Audit Values'!$A$2:$AE$252,2,FALSE)),'Preliminary SO66'!O72,VLOOKUP($DC75,'Audit Values'!$A$2:$AE$252,15,FALSE))","v":432},83.5,{"$f":"CG75/Weightings!$M$5","v":0},{"$f":"CH75/Weightings!$M$5","v":0},{"$f":"CL75/Weightings!$M$5","v":0},24.2,{"$f":"IF(ISNA(VLOOKUP($DC75,'Audit Values'!$A$2:$AE$286,2,FALSE)),'Preliminary SO66'!X72,VLOOKUP($DC75,'Audit Values'!$A$2:$AE$286,24,FALSE))","v":1},1517930,{"$f":"AP75/Weightings!$M$5","v":394.1},2221.1999999999998,2615.3000000000002,2615.3000000000002,0,{"$f":"IF(ISNA(VLOOKUP($DC75,'Audit Values'!$A$2:$AC$299,2,FALSE)),\"\",IF(AND(Weightings!H75>0,VLOOKUP($DC75,'Audit Values'!$A$2:$AC$299,29,FALSE)<Weightings!H75),Weightings!H75,VLOOKUP($DC75,'Audit Values'!$A$2:$AC$299,29,FALSE)))","v":18},{"$f":"IF(ISNA(VLOOKUP($DC75,'Audit Values'!$A$2:$AD$299,2,FALSE)),\"\",VLOOKUP($DC75,'Audit Values'!$A$2:$AD$299,30,FALSE))","v":"A"},{"$f":"IF(Weightings!G75=\"\",\"\",IF(Weightings!I75=\"Pending\",\"PX\",\"R\"))","v":""},{"$f":"AR75*Weightings!$M$5+AU75","v":8556062},{"$f":"AT75*Weightings!$M$5+AU75","v":10074136},{"$f":"IF(Weightings!G75>0,Weightings!G75,'Preliminary SO66'!AB72)","v":12447834},1136888,904206,44318,10362422,10074136,null,{"$f":"Weightings!E75","v":0},{"$f":"Weightings!F75","v":0},0,10074136,{"$f":"MAX(ROUND(((AR75-AN75-AO75)*Weightings!$M$12)+'2016legmax.xls'!AP75,0),ROUND((('2016legmax.xls'!AR75-'2016legmax.xls'!AN75-'2016legmax.xls'!AO75)*Weightings!$M$12)+Weightings!B75,0))","v":11377970},0.3,3413391,3411536,3411536,0.29980000000000001,0,false,0,0,0,false,0,0,0,61.2,82.4,5.24,{"$f":"IF(ROUND((Weightings!$P$5*CC75^Weightings!$P$6*Weightings!$P$8 ),2)<Weightings!$P$7,Weightings!$P$7,ROUND((Weightings!$P$5*CC75^Weightings!$P$6*Weightings!$P$8 ),2))","v":744.21},{"$f":"ROUND(CD75/Weightings!$M$5,4)","v":0.19320000000000001},83.5,0,0,0,0,{"$f":"AS75*Weightings!$M$5*CJ75","v":0},0,0.316,21.2,0,0,0,{"$f":"IF(ISNA(VLOOKUP($DC75,'Audit Values'!$A$2:$AE$299,2,FALSE)),'Preliminary SO66'!T72,VLOOKUP($DC75,'Audit Values'!$A$2:$AE$299,20,FALSE))","v":0},{"$f":"IF(ISNA(VLOOKUP($DC75,'Audit Values'!$A$2:$AE$299,21,FALSE)),'Preliminary SO66'!U72,VLOOKUP($DC75,'Audit Values'!$A$2:$AE$299,21,FALSE))","v":0},23,23,null,null,null,null,null,null,null,"D0263"]
[264,"Sedgwick","Clearwater ",1128.5999999999999,0,1128.5999999999999,1129.8,0,1129.8,1127.5,{"$f":"IF(ISNA(VLOOKUP($DC76,'Audit Values'!$A$2:$AE$252,2,FALSE)),'Preliminary SO66'!B73,VLOOKUP($DC76,'Audit Values'!$A$2:$AE$252,31,FALSE))","v":1079.5},1129.8,{"$f":"IF(ISNA(VLOOKUP($DC76,'Audit Values'!$A$2:$AE$252,2,FALSE)),'Preliminary SO66'!Z73,VLOOKUP($DC76,'Audit Values'!$A$2:$AE$252,26,FALSE))","v":0},1129.8,{"$f":"IF(ISNA(VLOOKUP($DC76,'Audit Values'!$A$2:$AE$252,2,FALSE)),'Preliminary SO66'!C73,IF(VLOOKUP($DC76,'Audit Values'!$A$2:$AE$252,28,FALSE)=\"\",VLOOKUP($DC76,'Audit Values'!$A$2:$AE$252,3,FALSE),VLOOKUP($DC76,'Audit Values'!$A$2:$AE$252,28,FALSE)))","v":3},1082.5,1130.5,1130.5,1132.8,48,228,228,0,{"$f":"IF(ISNA(VLOOKUP($DC76,'Audit Values'!$A$2:$AE$252,2,FALSE)),'Preliminary SO66'!D73,VLOOKUP($DC76,'Audit Values'!$A$2:$AE$252,4,FALSE))","v":59.4},{"$f":"ROUND((X76/6)*Weightings!$M$6,1)","v":5},{"$f":"IF(ISNA(VLOOKUP($DC76,'Audit Values'!$A$2:$AE$252,2,FALSE)),'Preliminary SO66'!F73,VLOOKUP($DC76,'Audit Values'!$A$2:$AE$252,6,FALSE))","v":0},{"$f":"ROUND((Z76/6)*Weightings!$M$7,1)","v":0},{"$f":"IF(ISNA(VLOOKUP($DC76,'Audit Values'!$A$2:$AE$252,2,FALSE)),'Preliminary SO66'!H73,VLOOKUP($DC76,'Audit Values'!$A$2:$AE$252,9,FALSE))","v":270},{"$f":"ROUND(AB76*Weightings!$M$8,1)","v":123.1},0,0,{"$f":"AE76*Weightings!$M$9","v":0},{"$f":"IF(ISNA(VLOOKUP($DC76,'Audit Values'!$A$2:$AE$252,2,FALSE)),'Preliminary SO66'!L73,VLOOKUP($DC76,'Audit Values'!$A$2:$AE$252,12,FALSE))","v":0},{"$f":"ROUND(AG76*Weightings!$M$10,1)","v":0},{"$f":"IF(ISNA(VLOOKUP($DC76,'Audit Values'!$A$2:$AE$252,2,FALSE)),'Preliminary SO66'!O73,VLOOKUP($DC76,'Audit Values'!$A$2:$AE$252,15,FALSE))","v":471},99.9,{"$f":"CG76/Weightings!$M$5","v":0},{"$f":"CH76/Weightings!$M$5","v":0},{"$f":"CL76/Weightings!$M$5","v":0},50.4,{"$f":"IF(ISNA(VLOOKUP($DC76,'Audit Values'!$A$2:$AE$252,2,FALSE)),'Preliminary SO66'!X73,VLOOKUP($DC76,'Audit Values'!$A$2:$AE$252,24,FALSE))","v":0},1087721,{"$f":"AP76/Weightings!$M$5","v":282.39999999999998},1639.2,1921.6,1921.6,90000,{"$f":"IF(ISNA(VLOOKUP($DC76,'Audit Values'!$A$2:$AC$299,2,FALSE)),\"\",IF(AND(Weightings!H76>0,VLOOKUP($DC76,'Audit Values'!$A$2:$AC$299,29,FALSE)<Weightings!H76),Weightings!H76,VLOOKUP($DC76,'Audit Values'!$A$2:$AC$299,29,FALSE)))","v":7},{"$f":"IF(ISNA(VLOOKUP($DC76,'Audit Values'!$A$2:$AD$299,2,FALSE)),\"\",VLOOKUP($DC76,'Audit Values'!$A$2:$AD$299,30,FALSE))","v":"A"},{"$f":"IF(Weightings!G76=\"\",\"\",IF(Weightings!I76=\"Pending\",\"PX\",\"R\"))","v":""},{"$f":"AR76*Weightings!$M$5+AU76","v":6404198},{"$f":"AT76*Weightings!$M$5+AU76","v":7492003},{"$f":"IF(Weightings!G76>0,Weightings!G76,'Preliminary SO66'!AB73)","v":9685933},1319222,501770,119091,7745850,7492003,null,{"$f":"Weightings!E76","v":0},{"$f":"Weightings!F76","v":0},0,7492003,{"$f":"MAX(ROUND(((AR76-AN76-AO76)*Weightings!$M$12)+'2016legmax.xls'!AP76,0),ROUND((('2016legmax.xls'!AR76-'2016legmax.xls'!AN76-'2016legmax.xls'!AO76)*Weightings!$M$12)+Weightings!B76,0))","v":8233930},0.3,2470179,2471795,2470179,0.3,0,false,0,0,0,true,1030.5899999999999,0.20124400000000001,228,0,136,3.46,{"$f":"IF(ROUND((Weightings!$P$5*CC76^Weightings!$P$6*Weightings!$P$8 ),2)<Weightings!$P$7,Weightings!$P$7,ROUND((Weightings!$P$5*CC76^Weightings!$P$6*Weightings!$P$8 ),2))","v":817.47},{"$f":"ROUND(CD76/Weightings!$M$5,4)","v":0.2122},99.9,0,0,0,0,{"$f":"AS76*Weightings!$M$5*CJ76","v":0},0,0.23799999999999999,8.3000000000000007,0,0,0,{"$f":"IF(ISNA(VLOOKUP($DC76,'Audit Values'!$A$2:$AE$252,2,FALSE)),'Preliminary SO66'!T73,VLOOKUP($DC76,'Audit Values'!$A$2:$AE$252,20,FALSE))","v":0},{"$f":"IF(ISNA(VLOOKUP($DC76,'Audit Values'!$A$2:$AE$252,21,FALSE)),'Preliminary SO66'!U73,VLOOKUP($DC76,'Audit Values'!$A$2:$AE$252,21,FALSE))","v":0},48,48,null,null,null,null,null,null,null,"D0264"]
[265,"Sedgwick","Goddard ",5086.1000000000004,0,5086.1000000000004,5174.8999999999996,0,5174.8999999999996,5278.2,{"$f":"IF(ISNA(VLOOKUP($DC77,'Audit Values'!$A$2:$AE$252,2,FALSE)),'Preliminary SO66'!B74,VLOOKUP($DC77,'Audit Values'!$A$2:$AE$252,31,FALSE))","v":5259},5259,{"$f":"IF(ISNA(VLOOKUP($DC77,'Audit Values'!$A$2:$AE$252,2,FALSE)),'Preliminary SO66'!Z74,VLOOKUP($DC77,'Audit Values'!$A$2:$AE$252,26,FALSE))","v":0},5259,{"$f":"IF(ISNA(VLOOKUP($DC77,'Audit Values'!$A$2:$AE$252,2,FALSE)),'Preliminary SO66'!C74,IF(VLOOKUP($DC77,'Audit Values'!$A$2:$AE$252,28,FALSE)=\"\",VLOOKUP($DC77,'Audit Values'!$A$2:$AE$252,3,FALSE),VLOOKUP($DC77,'Audit Values'!$A$2:$AE$252,28,FALSE)))","v":29},5288,5307.2,5307.2,5288,19.2,185.3,0,185.3,{"$f":"IF(ISNA(VLOOKUP($DC77,'Audit Values'!$A$2:$AE$252,2,FALSE)),'Preliminary SO66'!D74,VLOOKUP($DC77,'Audit Values'!$A$2:$AE$252,4,FALSE))","v":1636.3},{"$f":"ROUND((X77/6)*Weightings!$M$6,1)","v":136.4},{"$f":"IF(ISNA(VLOOKUP($DC77,'Audit Values'!$A$2:$AE$252,2,FALSE)),'Preliminary SO66'!F74,VLOOKUP($DC77,'Audit Values'!$A$2:$AE$252,6,FALSE))","v":642.9},{"$f":"ROUND((Z77/6)*Weightings!$M$7,1)","v":42.3},{"$f":"IF(ISNA(VLOOKUP($DC77,'Audit Values'!$A$2:$AE$252,2,FALSE)),'Preliminary SO66'!H74,VLOOKUP($DC77,'Audit Values'!$A$2:$AE$252,9,FALSE))","v":1041},{"$f":"ROUND(AB77*Weightings!$M$8,1)","v":474.7},0,0,{"$f":"AE77*Weightings!$M$9","v":0},{"$f":"IF(ISNA(VLOOKUP($DC77,'Audit Values'!$A$2:$AE$252,2,FALSE)),'Preliminary SO66'!L74,VLOOKUP($DC77,'Audit Values'!$A$2:$AE$252,12,FALSE))","v":0},{"$f":"ROUND(AG77*Weightings!$M$10,1)","v":0},{"$f":"IF(ISNA(VLOOKUP($DC77,'Audit Values'!$A$2:$AE$252,2,FALSE)),'Preliminary SO66'!O74,VLOOKUP($DC77,'Audit Values'!$A$2:$AE$252,15,FALSE))","v":3629},531.29999999999995,{"$f":"CG77/Weightings!$M$5","v":0},{"$f":"CH77/Weightings!$M$5","v":0},{"$f":"CL77/Weightings!$M$5","v":0},20.2,{"$f":"IF(ISNA(VLOOKUP($DC77,'Audit Values'!$A$2:$AE$252,2,FALSE)),'Preliminary SO66'!X74,VLOOKUP($DC77,'Audit Values'!$A$2:$AE$252,24,FALSE))","v":0},4715904,{"$f":"AP77/Weightings!$M$5","v":1224.3},6678.2,7902.5,7902.5,0,{"$f":"IF(ISNA(VLOOKUP($DC77,'Audit Values'!$A$2:$AC$299,2,FALSE)),\"\",IF(AND(Weightings!H77>0,VLOOKUP($DC77,'Audit Values'!$A$2:$AC$299,29,FALSE)<Weightings!H77),Weightings!H77,VLOOKUP($DC77,'Audit Values'!$A$2:$AC$299,29,FALSE)))","v":7},{"$f":"IF(ISNA(VLOOKUP($DC77,'Audit Values'!$A$2:$AD$299,2,FALSE)),\"\",VLOOKUP($DC77,'Audit Values'!$A$2:$AD$299,30,FALSE))","v":"A"},{"$f":"IF(Weightings!G77=\"\",\"\",IF(Weightings!I77=\"Pending\",\"PX\",\"R\"))","v":""},{"$f":"AR77*Weightings!$M$5+AU77","v":25724426},{"$f":"AT77*Weightings!$M$5+AU77","v":30440430},{"$f":"IF(Weightings!G77>0,Weightings!G77,'Preliminary SO66'!AB74)","v":40565000},5920681,2339171,590398,31714750,30440430,null,{"$f":"Weightings!E77","v":0},{"$f":"Weightings!F77","v":0},0,30440430,{"$f":"MAX(ROUND(((AR77-AN77-AO77)*Weightings!$M$12)+'2016legmax.xls'!AP77,0),ROUND((('2016legmax.xls'!AR77-'2016legmax.xls'!AN77-'2016legmax.xls'!AO77)*Weightings!$M$12)+Weightings!B77,0))","v":34610324},0.3,10383097,10178501,10178501,0.29409999999999997,0,false,0,0,0,false,0,0,0,185.3,65.099999999999994,55.75,{"$f":"IF(ROUND((Weightings!$P$5*CC77^Weightings!$P$6*Weightings!$P$8 ),2)<Weightings!$P$7,Weightings!$P$7,ROUND((Weightings!$P$5*CC77^Weightings!$P$6*Weightings!$P$8 ),2))","v":564},{"$f":"ROUND(CD77/Weightings!$M$5,4)","v":0.1464},531.29999999999995,0,0,0,2.8999999999999998E-3,{"$f":"AS77*Weightings!$M$5*CJ77","v":88277},0,0.19700000000000001,81.2,0,0,0,{"$f":"IF(ISNA(VLOOKUP($DC77,'Audit Values'!$A$2:$AE$252,2,FALSE)),'Preliminary SO66'!T74,VLOOKUP($DC77,'Audit Values'!$A$2:$AE$252,20,FALSE))","v":13},{"$f":"IF(ISNA(VLOOKUP($DC77,'Audit Values'!$A$2:$AE$252,21,FALSE)),'Preliminary SO66'!U74,VLOOKUP($DC77,'Audit Values'!$A$2:$AE$252,21,FALSE))","v":5.2},1,19.2,null,null,null,null,null,null,null,"D0265",25285]
[266,"Sedgwick","Maize ",6420.7,0,6420.7,6467.4,0,6467.4,6859.7,{"$f":"IF(ISNA(VLOOKUP($DC78,'Audit Values'!$A$2:$AE$252,2,FALSE)),'Preliminary SO66'!B75,VLOOKUP($DC78,'Audit Values'!$A$2:$AE$252,31,FALSE))","v":6521.9},6521.9,{"$f":"IF(ISNA(VLOOKUP($DC78,'Audit Values'!$A$2:$AE$252,2,FALSE)),'Preliminary SO66'!Z75,VLOOKUP($DC78,'Audit Values'!$A$2:$AE$252,26,FALSE))","v":0},6521.9,{"$f":"IF(ISNA(VLOOKUP($DC78,'Audit Values'!$A$2:$AE$252,2,FALSE)),'Preliminary SO66'!C75,IF(VLOOKUP($DC78,'Audit Values'!$A$2:$AE$252,28,FALSE)=\"\",VLOOKUP($DC78,'Audit Values'!$A$2:$AE$252,3,FALSE),VLOOKUP($DC78,'Audit Values'!$A$2:$AE$252,28,FALSE)))","v":18},6539.9,6877.7,6877.7,6539.9,337.8,229.2,0,229.2,{"$f":"IF(ISNA(VLOOKUP($DC78,'Audit Values'!$A$2:$AE$252,2,FALSE)),'Preliminary SO66'!D75,VLOOKUP($DC78,'Audit Values'!$A$2:$AE$252,4,FALSE))","v":1745.1},{"$f":"ROUND((X78/6)*Weightings!$M$6,1)","v":145.4},{"$f":"IF(ISNA(VLOOKUP($DC78,'Audit Values'!$A$2:$AE$252,2,FALSE)),'Preliminary SO66'!F75,VLOOKUP($DC78,'Audit Values'!$A$2:$AE$252,6,FALSE))","v":122.2},{"$f":"ROUND((Z78/6)*Weightings!$M$7,1)","v":8},{"$f":"IF(ISNA(VLOOKUP($DC78,'Audit Values'!$A$2:$AE$252,2,FALSE)),'Preliminary SO66'!H75,VLOOKUP($DC78,'Audit Values'!$A$2:$AE$252,9,FALSE))","v":1080},{"$f":"ROUND(AB78*Weightings!$M$8,1)","v":492.5},0,0,{"$f":"AE78*Weightings!$M$9","v":0},{"$f":"IF(ISNA(VLOOKUP($DC78,'Audit Values'!$A$2:$AE$252,2,FALSE)),'Preliminary SO66'!L75,VLOOKUP($DC78,'Audit Values'!$A$2:$AE$252,12,FALSE))","v":0},{"$f":"ROUND(AG78*Weightings!$M$10,1)","v":0},{"$f":"IF(ISNA(VLOOKUP($DC78,'Audit Values'!$A$2:$AE$252,2,FALSE)),'Preliminary SO66'!O75,VLOOKUP($DC78,'Audit Values'!$A$2:$AE$252,15,FALSE))","v":4329.5},633.79999999999995,{"$f":"CG78/Weightings!$M$5","v":0},{"$f":"CH78/Weightings!$M$5","v":0},{"$f":"CL78/Weightings!$M$5","v":0},354.7,{"$f":"IF(ISNA(VLOOKUP($DC78,'Audit Values'!$A$2:$AE$252,2,FALSE)),'Preliminary SO66'!X75,VLOOKUP($DC78,'Audit Values'!$A$2:$AE$252,24,FALSE))","v":0},5886112,{"$f":"AP78/Weightings!$M$5","v":1528.1},8403.5,9931.6,9931.6,0,{"$f":"IF(ISNA(VLOOKUP($DC78,'Audit Values'!$A$2:$AC$299,2,FALSE)),\"\",IF(AND(Weightings!H78>0,VLOOKUP($DC78,'Audit Values'!$A$2:$AC$299,29,FALSE)<Weightings!H78),Weightings!H78,VLOOKUP($DC78,'Audit Values'!$A$2:$AC$299,29,FALSE)))","v":12},{"$f":"IF(ISNA(VLOOKUP($DC78,'Audit Values'!$A$2:$AD$299,2,FALSE)),\"\",VLOOKUP($DC78,'Audit Values'!$A$2:$AD$299,30,FALSE))","v":"A"},{"$f":"IF(Weightings!G78=\"\",\"\",IF(Weightings!I78=\"Pending\",\"PX\",\"R\"))","v":""},{"$f":"AR78*Weightings!$M$5+AU78","v":32370282},{"$f":"AT78*Weightings!$M$5+AU78","v":38256523},{"$f":"IF(Weightings!G78>0,Weightings!G78,'Preliminary SO66'!AB75)","v":49777690},6483838,2784400,685056,39824396,38256523,null,{"$f":"Weightings!E78","v":0},{"$f":"Weightings!F78","v":0},0,38256523,{"$f":"MAX(ROUND(((AR78-AN78-AO78)*Weightings!$M$12)+'2016legmax.xls'!AP78,0),ROUND((('2016legmax.xls'!AR78-'2016legmax.xls'!AN78-'2016legmax.xls'!AO78)*Weightings!$M$12)+Weightings!B78,0))","v":42025224},0.3,12607567,12502460,12502460,0.29749999999999999,0,false,0,0,0,false,0,0,0,229.2,42.5,101.87,{"$f":"IF(ROUND((Weightings!$P$5*CC78^Weightings!$P$6*Weightings!$P$8 ),2)<Weightings!$P$7,Weightings!$P$7,ROUND((Weightings!$P$5*CC78^Weightings!$P$6*Weightings!$P$8 ),2))","v":564},{"$f":"ROUND(CD78/Weightings!$M$5,4)","v":0.1464},633.79999999999995,0,0,0,1.5100000000000001E-2,{"$f":"AS78*Weightings!$M$5*CJ78","v":577674},0,0.16500000000000001,153.9,0,0,0,{"$f":"IF(ISNA(VLOOKUP($DC78,'Audit Values'!$A$2:$AE$252,2,FALSE)),'Preliminary SO66'!T75,VLOOKUP($DC78,'Audit Values'!$A$2:$AE$252,20,FALSE))","v":303},{"$f":"IF(ISNA(VLOOKUP($DC78,'Audit Values'!$A$2:$AE$252,21,FALSE)),'Preliminary SO66'!U75,VLOOKUP($DC78,'Audit Values'!$A$2:$AE$252,21,FALSE))","v":34.799999999999997},0,337.8,null,null,null,null,null,null,null,"D0266"]
[267,"Sedgwick","Renwick ",1845,0,1845,1874,0,1874,1827,{"$f":"IF(ISNA(VLOOKUP($DC79,'Audit Values'!$A$2:$AE$252,2,FALSE)),'Preliminary SO66'!B76,VLOOKUP($DC79,'Audit Values'!$A$2:$AE$252,31,FALSE))","v":1827},1874,{"$f":"IF(ISNA(VLOOKUP($DC79,'Audit Values'!$A$2:$AE$252,2,FALSE)),'Preliminary SO66'!Z76,VLOOKUP($DC79,'Audit Values'!$A$2:$AE$252,26,FALSE))","v":0},1874,{"$f":"IF(ISNA(VLOOKUP($DC79,'Audit Values'!$A$2:$AE$252,2,FALSE)),'Preliminary SO66'!C76,IF(VLOOKUP($DC79,'Audit Values'!$A$2:$AE$252,28,FALSE)=\"\",VLOOKUP($DC79,'Audit Values'!$A$2:$AE$252,3,FALSE),VLOOKUP($DC79,'Audit Values'!$A$2:$AE$252,28,FALSE)))","v":0},1827,1827,1827,1874,0,65.7,0,65.7,{"$f":"IF(ISNA(VLOOKUP($DC79,'Audit Values'!$A$2:$AE$252,2,FALSE)),'Preliminary SO66'!D76,VLOOKUP($DC79,'Audit Values'!$A$2:$AE$252,4,FALSE))","v":674.1},{"$f":"ROUND((X79/6)*Weightings!$M$6,1)","v":56.2},{"$f":"IF(ISNA(VLOOKUP($DC79,'Audit Values'!$A$2:$AE$252,2,FALSE)),'Preliminary SO66'!F76,VLOOKUP($DC79,'Audit Values'!$A$2:$AE$252,6,FALSE))","v":0},{"$f":"ROUND((Z79/6)*Weightings!$M$7,1)","v":0},{"$f":"IF(ISNA(VLOOKUP($DC79,'Audit Values'!$A$2:$AE$252,2,FALSE)),'Preliminary SO66'!H76,VLOOKUP($DC79,'Audit Values'!$A$2:$AE$252,9,FALSE))","v":206},{"$f":"ROUND(AB79*Weightings!$M$8,1)","v":93.9},0,0,{"$f":"AE79*Weightings!$M$9","v":0},{"$f":"IF(ISNA(VLOOKUP($DC79,'Audit Values'!$A$2:$AE$252,2,FALSE)),'Preliminary SO66'!L76,VLOOKUP($DC79,'Audit Values'!$A$2:$AE$252,12,FALSE))","v":0},{"$f":"ROUND(AG79*Weightings!$M$10,1)","v":0},{"$f":"IF(ISNA(VLOOKUP($DC79,'Audit Values'!$A$2:$AE$252,2,FALSE)),'Preliminary SO66'!O76,VLOOKUP($DC79,'Audit Values'!$A$2:$AE$252,15,FALSE))","v":737},155.9,{"$f":"CG79/Weightings!$M$5","v":0},{"$f":"CH79/Weightings!$M$5","v":0},{"$f":"CL79/Weightings!$M$5","v":0},0,{"$f":"IF(ISNA(VLOOKUP($DC79,'Audit Values'!$A$2:$AE$252,2,FALSE)),'Preliminary SO66'!X76,VLOOKUP($DC79,'Audit Values'!$A$2:$AE$252,24,FALSE))","v":0},1685674,{"$f":"AP79/Weightings!$M$5","v":437.6},2245.6999999999998,2683.3,2683.3,0,{"$f":"IF(ISNA(VLOOKUP($DC79,'Audit Values'!$A$2:$AC$299,2,FALSE)),\"\",IF(AND(Weightings!H79>0,VLOOKUP($DC79,'Audit Values'!$A$2:$AC$299,29,FALSE)<Weightings!H79),Weightings!H79,VLOOKUP($DC79,'Audit Values'!$A$2:$AC$299,29,FALSE)))","v":16},{"$f":"IF(ISNA(VLOOKUP($DC79,'Audit Values'!$A$2:$AD$299,2,FALSE)),\"\",VLOOKUP($DC79,'Audit Values'!$A$2:$AD$299,30,FALSE))","v":"A"},{"$f":"IF(Weightings!G79=\"\",\"\",IF(Weightings!I79=\"Pending\",\"PX\",\"R\"))","v":""},{"$f":"AR79*Weightings!$M$5+AU79","v":8650436},{"$f":"AT79*Weightings!$M$5+AU79","v":10336072},{"$f":"IF(Weightings!G79>0,Weightings!G79,'Preliminary SO66'!AB76)","v":13705147},1835111,719304,166873,10983859,10336072,null,{"$f":"Weightings!E79","v":0},{"$f":"Weightings!F79","v":0},0,10336072,{"$f":"MAX(ROUND(((AR79-AN79-AO79)*Weightings!$M$12)+'2016legmax.xls'!AP79,0),ROUND((('2016legmax.xls'!AR79-'2016legmax.xls'!AN79-'2016legmax.xls'!AO79)*Weightings!$M$12)+Weightings!B79,0))","v":11768867},0.33,3883726,3900441,3883726,0.33,0,false,0,0,0,false,0,0,0,65.7,210,3.51,{"$f":"IF(ROUND((Weightings!$P$5*CC79^Weightings!$P$6*Weightings!$P$8 ),2)<Weightings!$P$7,Weightings!$P$7,ROUND((Weightings!$P$5*CC79^Weightings!$P$6*Weightings!$P$8 ),2))","v":814.82},{"$f":"ROUND(CD79/Weightings!$M$5,4)","v":0.21149999999999999},155.9,0,0,0,0,{"$f":"AS79*Weightings!$M$5*CJ79","v":0},0,0.11,8.9,0,0,0,{"$f":"IF(ISNA(VLOOKUP($DC79,'Audit Values'!$A$2:$AE$252,2,FALSE)),'Preliminary SO66'!T76,VLOOKUP($DC79,'Audit Values'!$A$2:$AE$252,20,FALSE))","v":0},{"$f":"IF(ISNA(VLOOKUP($DC79,'Audit Values'!$A$2:$AE$252,21,FALSE)),'Preliminary SO66'!U76,VLOOKUP($DC79,'Audit Values'!$A$2:$AE$252,21,FALSE))","v":0},0,0,null,null,null,null,null,null,null,"D0267"]
[268,"Sedgwick","Cheney ",744.6,0,744.6,750.6,0,750.6,727.7,{"$f":"IF(ISNA(VLOOKUP($DC80,'Audit Values'!$A$2:$AE$252,2,FALSE)),'Preliminary SO66'!B77,VLOOKUP($DC80,'Audit Values'!$A$2:$AE$252,31,FALSE))","v":727.7},750.6,{"$f":"IF(ISNA(VLOOKUP($DC80,'Audit Values'!$A$2:$AE$252,2,FALSE)),'Preliminary SO66'!Z77,VLOOKUP($DC80,'Audit Values'!$A$2:$AE$252,26,FALSE))","v":0},750.6,{"$f":"IF(ISNA(VLOOKUP($DC80,'Audit Values'!$A$2:$AE$252,2,FALSE)),'Preliminary SO66'!C77,IF(VLOOKUP($DC80,'Audit Values'!$A$2:$AE$252,28,FALSE)=\"\",VLOOKUP($DC80,'Audit Values'!$A$2:$AE$252,3,FALSE),VLOOKUP($DC80,'Audit Values'!$A$2:$AE$252,28,FALSE)))","v":10},737.7,737.7,737.7,760.6,0,249.2,249.2,0,{"$f":"IF(ISNA(VLOOKUP($DC80,'Audit Values'!$A$2:$AE$252,2,FALSE)),'Preliminary SO66'!D77,VLOOKUP($DC80,'Audit Values'!$A$2:$AE$252,4,FALSE))","v":162.4},{"$f":"ROUND((X80/6)*Weightings!$M$6,1)","v":13.5},{"$f":"IF(ISNA(VLOOKUP($DC80,'Audit Values'!$A$2:$AE$252,2,FALSE)),'Preliminary SO66'!F77,VLOOKUP($DC80,'Audit Values'!$A$2:$AE$252,6,FALSE))","v":0},{"$f":"ROUND((Z80/6)*Weightings!$M$7,1)","v":0},{"$f":"IF(ISNA(VLOOKUP($DC80,'Audit Values'!$A$2:$AE$252,2,FALSE)),'Preliminary SO66'!H77,VLOOKUP($DC80,'Audit Values'!$A$2:$AE$252,9,FALSE))","v":181},{"$f":"ROUND(AB80*Weightings!$M$8,1)","v":82.5},0,0,{"$f":"AE80*Weightings!$M$9","v":0},{"$f":"IF(ISNA(VLOOKUP($DC80,'Audit Values'!$A$2:$AE$252,2,FALSE)),'Preliminary SO66'!L77,VLOOKUP($DC80,'Audit Values'!$A$2:$AE$252,12,FALSE))","v":154.80000000000001},{"$f":"ROUND(AG80*Weightings!$M$10,1)","v":38.700000000000003},{"$f":"IF(ISNA(VLOOKUP($DC80,'Audit Values'!$A$2:$AE$252,2,FALSE)),'Preliminary SO66'!O77,VLOOKUP($DC80,'Audit Values'!$A$2:$AE$252,15,FALSE))","v":192},49.1,{"$f":"CG80/Weightings!$M$5","v":0},{"$f":"CH80/Weightings!$M$5","v":0},{"$f":"CL80/Weightings!$M$5","v":0},0,{"$f":"IF(ISNA(VLOOKUP($DC80,'Audit Values'!$A$2:$AE$252,2,FALSE)),'Preliminary SO66'!X77,VLOOKUP($DC80,'Audit Values'!$A$2:$AE$252,24,FALSE))","v":1},709621,{"$f":"AP80/Weightings!$M$5","v":184.2},1194.5999999999999,1378.8,1378.8,0,{"$f":"IF(ISNA(VLOOKUP($DC80,'Audit Values'!$A$2:$AC$299,2,FALSE)),\"\",IF(AND(Weightings!H80>0,VLOOKUP($DC80,'Audit Values'!$A$2:$AC$299,29,FALSE)<Weightings!H80),Weightings!H80,VLOOKUP($DC80,'Audit Values'!$A$2:$AC$299,29,FALSE)))","v":7},{"$f":"IF(ISNA(VLOOKUP($DC80,'Audit Values'!$A$2:$AD$299,2,FALSE)),\"\",VLOOKUP($DC80,'Audit Values'!$A$2:$AD$299,30,FALSE))","v":"A"},{"$f":"IF(Weightings!G80=\"\",\"\",IF(Weightings!I80=\"Pending\",\"PX\",\"R\"))","v":""},{"$f":"AR80*Weightings!$M$5+AU80","v":4601599},{"$f":"AT80*Weightings!$M$5+AU80","v":5311138},{"$f":"IF(Weightings!G80>0,Weightings!G80,'Preliminary SO66'!AB77)","v":7313897},1114794,380892,88176,5730035,5311138,null,{"$f":"Weightings!E80","v":0},{"$f":"Weightings!F80","v":0},0,5311138,{"$f":"MAX(ROUND(((AR80-AN80-AO80)*Weightings!$M$12)+'2016legmax.xls'!AP80,0),ROUND((('2016legmax.xls'!AR80-'2016legmax.xls'!AN80-'2016legmax.xls'!AO80)*Weightings!$M$12)+Weightings!B80,0))","v":6068885},0.3,{"$f":"BL80*BM80","v":1820666},1761337,1761337,0.29020000000000001,0,false,0,0,0,true,569.99249999999995,0.32769799999999999,249.2,0,126,1.52,{"$f":"IF(ROUND((Weightings!$P$5*CC80^Weightings!$P$6*Weightings!$P$8 ),2)<Weightings!$P$7,Weightings!$P$7,ROUND((Weightings!$P$5*CC80^Weightings!$P$6*Weightings!$P$8 ),2))","v":984.64},{"$f":"ROUND(CD80/Weightings!$M$5,4)","v":0.25559999999999999},49.1,0,0,0,0,{"$f":"AS80*Weightings!$M$5*CJ80","v":0},0,0.23799999999999999,6,0,0,0,{"$f":"IF(ISNA(VLOOKUP($DC80,'Audit Values'!$A$2:$AE$252,2,FALSE)),'Preliminary SO66'!T77,VLOOKUP($DC80,'Audit Values'!$A$2:$AE$252,20,FALSE))","v":0},{"$f":"IF(ISNA(VLOOKUP($DC80,'Audit Values'!$A$2:$AE$252,21,FALSE)),'Preliminary SO66'!U77,VLOOKUP($DC80,'Audit Values'!$A$2:$AE$252,21,FALSE))","v":0},0,0,null,null,null,null,null,null,null,"D0268"]
[269,"Rooks","Palco ",124.5,0,124.5,101,0,101,104,{"$f":"IF(ISNA(VLOOKUP($DC81,'Audit Values'!$A$2:$AE$252,2,FALSE)),'Preliminary SO66'!B78,VLOOKUP($DC81,'Audit Values'!$A$2:$AE$252,31,FALSE))","v":104},109.8,{"$f":"IF(ISNA(VLOOKUP($DC81,'Audit Values'!$A$2:$AE$252,2,FALSE)),'Preliminary SO66'!Z78,VLOOKUP($DC81,'Audit Values'!$A$2:$AE$252,26,FALSE))","v":0},109.8,{"$f":"IF(ISNA(VLOOKUP($DC81,'Audit Values'!$A$2:$AE$252,2,FALSE)),'Preliminary SO66'!C78,IF(VLOOKUP($DC81,'Audit Values'!$A$2:$AE$252,28,FALSE)=\"\",VLOOKUP($DC81,'Audit Values'!$A$2:$AE$252,3,FALSE),VLOOKUP($DC81,'Audit Values'!$A$2:$AE$252,28,FALSE)))","v":0.5},104.5,104.5,104.5,110.3,0,108.9,108.9,0,{"$f":"IF(ISNA(VLOOKUP($DC81,'Audit Values'!$A$2:$AE$252,2,FALSE)),'Preliminary SO66'!D78,VLOOKUP($DC81,'Audit Values'!$A$2:$AE$252,4,FALSE))","v":31.1},{"$f":"ROUND((X81/6)*Weightings!$M$6,1)","v":2.6},{"$f":"IF(ISNA(VLOOKUP($DC81,'Audit Values'!$A$2:$AE$252,2,FALSE)),'Preliminary SO66'!F78,VLOOKUP($DC81,'Audit Values'!$A$2:$AE$252,6,FALSE))","v":0},{"$f":"ROUND((Z81/6)*Weightings!$M$7,1)","v":0},{"$f":"IF(ISNA(VLOOKUP($DC81,'Audit Values'!$A$2:$AE$252,2,FALSE)),'Preliminary SO66'!H78,VLOOKUP($DC81,'Audit Values'!$A$2:$AE$252,9,FALSE))","v":40},{"$f":"ROUND(AB81*Weightings!$M$8,1)","v":18.2},0.4,0,{"$f":"AE81*Weightings!$M$9","v":0},{"$f":"IF(ISNA(VLOOKUP($DC81,'Audit Values'!$A$2:$AE$252,2,FALSE)),'Preliminary SO66'!L78,VLOOKUP($DC81,'Audit Values'!$A$2:$AE$252,12,FALSE))","v":0},{"$f":"ROUND(AG81*Weightings!$M$10,1)","v":0},{"$f":"IF(ISNA(VLOOKUP($DC81,'Audit Values'!$A$2:$AE$252,2,FALSE)),'Preliminary SO66'!O78,VLOOKUP($DC81,'Audit Values'!$A$2:$AE$252,15,FALSE))","v":86},30.6,{"$f":"CG81/Weightings!$M$5","v":0},{"$f":"CH81/Weightings!$M$5","v":0},{"$f":"CL81/Weightings!$M$5","v":0},0,{"$f":"IF(ISNA(VLOOKUP($DC81,'Audit Values'!$A$2:$AE$252,2,FALSE)),'Preliminary SO66'!X78,VLOOKUP($DC81,'Audit Values'!$A$2:$AE$252,24,FALSE))","v":0},121060,{"$f":"AP81/Weightings!$M$5","v":31.4},271,302.39999999999998,302.39999999999998,0,{"$f":"IF(ISNA(VLOOKUP($DC81,'Audit Values'!$A$2:$AC$299,2,FALSE)),\"\",IF(AND(Weightings!H81>0,VLOOKUP($DC81,'Audit Values'!$A$2:$AC$299,29,FALSE)<Weightings!H81),Weightings!H81,VLOOKUP($DC81,'Audit Values'!$A$2:$AC$299,29,FALSE)))","v":3},{"$f":"IF(ISNA(VLOOKUP($DC81,'Audit Values'!$A$2:$AD$299,2,FALSE)),\"\",VLOOKUP($DC81,'Audit Values'!$A$2:$AD$299,30,FALSE))","v":"A"},{"$f":"IF(Weightings!G81=\"\",\"\",IF(Weightings!I81=\"Pending\",\"PX\",\"R\"))","v":""},{"$f":"AR81*Weightings!$M$5+AU81","v":1043892},{"$f":"AT81*Weightings!$M$5+AU81","v":1164845},{"$f":"IF(Weightings!G81>0,Weightings!G81,'Preliminary SO66'!AB78)","v":1363315},0,65980,0,1297335,1164845,null,{"$f":"Weightings!E81","v":0},{"$f":"Weightings!F81","v":0},0,1164845,{"$f":"MAX(ROUND(((AR81-AN81-AO81)*Weightings!$M$12)+'2016legmax.xls'!AP81,0),ROUND((('2016legmax.xls'!AR81-'2016legmax.xls'!AN81-'2016legmax.xls'!AO81)*Weightings!$M$12)+Weightings!B81,0))","v":1435400},0.3,430620,375105,375105,0.26129999999999998,0,true,99.447000000000003,0.98702900000000005,108.9,false,0,0,0,0,248.6,0.35,{"$f":"IF(ROUND((Weightings!$P$5*CC81^Weightings!$P$6*Weightings!$P$8 ),2)<Weightings!$P$7,Weightings!$P$7,ROUND((Weightings!$P$5*CC81^Weightings!$P$6*Weightings!$P$8 ),2))","v":1372.61},{"$f":"ROUND(CD81/Weightings!$M$5,4)","v":0.35630000000000001},30.6,0,0,0,0,{"$f":"AS81*Weightings!$M$5*CJ81","v":0},0,0.36299999999999999,0.4,0,0,0.4,{"$f":"IF(ISNA(VLOOKUP($DC81,'Audit Values'!$A$2:$AE$252,2,FALSE)),'Preliminary SO66'!T78,VLOOKUP($DC81,'Audit Values'!$A$2:$AE$252,20,FALSE))","v":0},{"$f":"IF(ISNA(VLOOKUP($DC81,'Audit Values'!$A$2:$AE$252,21,FALSE)),'Preliminary SO66'!U78,VLOOKUP($DC81,'Audit Values'!$A$2:$AE$252,21,FALSE))","v":0},0,0,null,null,null,null,null,null,null,"D0269"]
[270,"Rooks","Plainville ",365.3,0,365.3,369.5,0,369.5,334.8,{"$f":"IF(ISNA(VLOOKUP($DC82,'Audit Values'!$A$2:$AE$252,2,FALSE)),'Preliminary SO66'!B79,VLOOKUP($DC82,'Audit Values'!$A$2:$AE$252,31,FALSE))","v":334.8},369.5,{"$f":"IF(ISNA(VLOOKUP($DC82,'Audit Values'!$A$2:$AE$252,2,FALSE)),'Preliminary SO66'!Z79,VLOOKUP($DC82,'Audit Values'!$A$2:$AE$252,26,FALSE))","v":0},369.5,{"$f":"IF(ISNA(VLOOKUP($DC82,'Audit Values'!$A$2:$AE$252,2,FALSE)),'Preliminary SO66'!C79,IF(VLOOKUP($DC82,'Audit Values'!$A$2:$AE$252,28,FALSE)=\"\",VLOOKUP($DC82,'Audit Values'!$A$2:$AE$252,3,FALSE),VLOOKUP($DC82,'Audit Values'!$A$2:$AE$252,28,FALSE)))","v":0},334.8,334.8,334.8,369.5,0,170.2,170.2,0,{"$f":"IF(ISNA(VLOOKUP($DC82,'Audit Values'!$A$2:$AE$252,2,FALSE)),'Preliminary SO66'!D79,VLOOKUP($DC82,'Audit Values'!$A$2:$AE$252,4,FALSE))","v":173.6},{"$f":"ROUND((X82/6)*Weightings!$M$6,1)","v":14.5},{"$f":"IF(ISNA(VLOOKUP($DC82,'Audit Values'!$A$2:$AE$252,2,FALSE)),'Preliminary SO66'!F79,VLOOKUP($DC82,'Audit Values'!$A$2:$AE$252,6,FALSE))","v":0},{"$f":"ROUND((Z82/6)*Weightings!$M$7,1)","v":0},{"$f":"IF(ISNA(VLOOKUP($DC82,'Audit Values'!$A$2:$AE$252,2,FALSE)),'Preliminary SO66'!H79,VLOOKUP($DC82,'Audit Values'!$A$2:$AE$252,9,FALSE))","v":91},{"$f":"ROUND(AB82*Weightings!$M$8,1)","v":41.5},0,0,{"$f":"AE82*Weightings!$M$9","v":0},{"$f":"IF(ISNA(VLOOKUP($DC82,'Audit Values'!$A$2:$AE$252,2,FALSE)),'Preliminary SO66'!L79,VLOOKUP($DC82,'Audit Values'!$A$2:$AE$252,12,FALSE))","v":0},{"$f":"ROUND(AG82*Weightings!$M$10,1)","v":0},{"$f":"IF(ISNA(VLOOKUP($DC82,'Audit Values'!$A$2:$AE$252,2,FALSE)),'Preliminary SO66'!O79,VLOOKUP($DC82,'Audit Values'!$A$2:$AE$252,15,FALSE))","v":44.4},18.899999999999999,{"$f":"CG82/Weightings!$M$5","v":0},{"$f":"CH82/Weightings!$M$5","v":0},{"$f":"CL82/Weightings!$M$5","v":0},0,{"$f":"IF(ISNA(VLOOKUP($DC82,'Audit Values'!$A$2:$AE$252,2,FALSE)),'Preliminary SO66'!X79,VLOOKUP($DC82,'Audit Values'!$A$2:$AE$252,24,FALSE))","v":0},439218,{"$f":"AP82/Weightings!$M$5","v":114},614.6,728.6,728.6,0,{"$f":"IF(ISNA(VLOOKUP($DC82,'Audit Values'!$A$2:$AC$299,2,FALSE)),\"\",IF(AND(Weightings!H82>0,VLOOKUP($DC82,'Audit Values'!$A$2:$AC$299,29,FALSE)<Weightings!H82),Weightings!H82,VLOOKUP($DC82,'Audit Values'!$A$2:$AC$299,29,FALSE)))","v":8},{"$f":"IF(ISNA(VLOOKUP($DC82,'Audit Values'!$A$2:$AD$299,2,FALSE)),\"\",VLOOKUP($DC82,'Audit Values'!$A$2:$AD$299,30,FALSE))","v":"A"},{"$f":"IF(Weightings!G82=\"\",\"\",IF(Weightings!I82=\"Pending\",\"PX\",\"R\"))","v":""},{"$f":"AR82*Weightings!$M$5+AU82","v":2367439},{"$f":"AT82*Weightings!$M$5+AU82","v":2806567},{"$f":"IF(Weightings!G82>0,Weightings!G82,'Preliminary SO66'!AB79)","v":3205813},0,193062,0,3012751,2806567,null,{"$f":"Weightings!E82","v":0},{"$f":"Weightings!F82","v":0},0,2806567,{"$f":"MAX(ROUND(((AR82-AN82-AO82)*Weightings!$M$12)+'2016legmax.xls'!AP82,0),ROUND((('2016legmax.xls'!AR82-'2016legmax.xls'!AN82-'2016legmax.xls'!AO82)*Weightings!$M$12)+Weightings!B82,0))","v":3204054},0.3,961216,962024,961216,0.3,0,false,0,0,0,true,86.006299999999996,0.46057399999999998,170.2,0,275.8,0.16,{"$f":"IF(ROUND((Weightings!$P$5*CC82^Weightings!$P$6*Weightings!$P$8 ),2)<Weightings!$P$7,Weightings!$P$7,ROUND((Weightings!$P$5*CC82^Weightings!$P$6*Weightings!$P$8 ),2))","v":1638.5},{"$f":"ROUND(CD82/Weightings!$M$5,4)","v":0.4254},18.899999999999999,0,0,0,0,{"$f":"AS82*Weightings!$M$5*CJ82","v":0},0,0.246,1.3,0,0,0,{"$f":"IF(ISNA(VLOOKUP($DC82,'Audit Values'!$A$2:$AE$252,2,FALSE)),'Preliminary SO66'!T79,VLOOKUP($DC82,'Audit Values'!$A$2:$AE$252,20,FALSE))","v":0},{"$f":"IF(ISNA(VLOOKUP($DC82,'Audit Values'!$A$2:$AE$252,21,FALSE)),'Preliminary SO66'!U79,VLOOKUP($DC82,'Audit Values'!$A$2:$AE$252,21,FALSE))","v":0},0,0,null,null,null,null,null,null,null,"D0270"]
[271,"Rooks","Stockton ",290.10000000000002,0,{"$f":"D83+E83","v":290.10000000000002},289,0,289,297.5,{"$f":"IF(ISNA(VLOOKUP($DC83,'Audit Values'!$A$2:$AE$252,2,FALSE)),'Preliminary SO66'!B80,VLOOKUP($DC83,'Audit Values'!$A$2:$AE$252,31,FALSE))","v":297.5},297.5,{"$f":"IF(ISNA(VLOOKUP($DC83,'Audit Values'!$A$2:$AE$252,2,FALSE)),'Preliminary SO66'!Z80,VLOOKUP($DC83,'Audit Values'!$A$2:$AE$252,26,FALSE))","v":0},297.5,{"$f":"IF(ISNA(VLOOKUP($DC83,'Audit Values'!$A$2:$AE$252,2,FALSE)),'Preliminary SO66'!C80,IF(VLOOKUP($DC83,'Audit Values'!$A$2:$AE$252,28,FALSE)=\"\",VLOOKUP($DC83,'Audit Values'!$A$2:$AE$252,3,FALSE),VLOOKUP($DC83,'Audit Values'!$A$2:$AE$252,28,FALSE)))","v":4},301.5,301.5,301.5,301.5,0,145.80000000000001,145.80000000000001,0,{"$f":"IF(ISNA(VLOOKUP($DC83,'Audit Values'!$A$2:$AE$252,2,FALSE)),'Preliminary SO66'!D80,VLOOKUP($DC83,'Audit Values'!$A$2:$AE$252,4,FALSE))","v":94.7},{"$f":"ROUND((X83/6)*Weightings!$M$6,1)","v":7.9},{"$f":"IF(ISNA(VLOOKUP($DC83,'Audit Values'!$A$2:$AE$252,2,FALSE)),'Preliminary SO66'!F80,VLOOKUP($DC83,'Audit Values'!$A$2:$AE$252,6,FALSE))","v":0},{"$f":"ROUND((Z83/6)*Weightings!$M$7,1)","v":0},{"$f":"IF(ISNA(VLOOKUP($DC83,'Audit Values'!$A$2:$AE$252,2,FALSE)),'Preliminary SO66'!H80,VLOOKUP($DC83,'Audit Values'!$A$2:$AE$252,9,FALSE))","v":138},{"$f":"ROUND(AB83*Weightings!$M$8,1)","v":62.9},10.4,0,{"$f":"AE83*Weightings!$M$9","v":0},{"$f":"IF(ISNA(VLOOKUP($DC83,'Audit Values'!$A$2:$AE$252,2,FALSE)),'Preliminary SO66'!L80,VLOOKUP($DC83,'Audit Values'!$A$2:$AE$252,12,FALSE))","v":0},{"$f":"ROUND(AG83*Weightings!$M$10,1)","v":0},{"$f":"IF(ISNA(VLOOKUP($DC83,'Audit Values'!$A$2:$AE$252,2,FALSE)),'Preliminary SO66'!O80,VLOOKUP($DC83,'Audit Values'!$A$2:$AE$252,15,FALSE))","v":70},29.8,{"$f":"CG83/Weightings!$M$5","v":0},{"$f":"CH83/Weightings!$M$5","v":0},{"$f":"CL83/Weightings!$M$5","v":0},0,{"$f":"IF(ISNA(VLOOKUP($DC83,'Audit Values'!$A$2:$AE$252,2,FALSE)),'Preliminary SO66'!X80,VLOOKUP($DC83,'Audit Values'!$A$2:$AE$252,24,FALSE))","v":0},348553,{"$f":"AP83/Weightings!$M$5","v":90.5},558.29999999999995,648.79999999999995,648.79999999999995,0,{"$f":"IF(ISNA(VLOOKUP($DC83,'Audit Values'!$A$2:$AC$299,2,FALSE)),\"\",IF(AND(Weightings!H83>0,VLOOKUP($DC83,'Audit Values'!$A$2:$AC$299,29,FALSE)<Weightings!H83),Weightings!H83,VLOOKUP($DC83,'Audit Values'!$A$2:$AC$299,29,FALSE)))","v":6},{"$f":"IF(ISNA(VLOOKUP($DC83,'Audit Values'!$A$2:$AD$299,2,FALSE)),\"\",VLOOKUP($DC83,'Audit Values'!$A$2:$AD$299,30,FALSE))","v":"A"},{"$f":"IF(Weightings!G83=\"\",\"\",IF(Weightings!I83=\"Pending\",\"PX\",\"R\"))","v":""},{"$f":"AR83*Weightings!$M$5+AU83","v":2150572},{"$f":"AT83*Weightings!$M$5+AU83","v":2499178},{"$f":"IF(Weightings!G83>0,Weightings!G83,'Preliminary SO66'!AB80)","v":2758751},79914,141776,0,2537061,2499178,null,{"$f":"Weightings!E83","v":0},{"$f":"Weightings!F83","v":0},0,2499178,{"$f":"MAX(ROUND(((AR83-AN83-AO83)*Weightings!$M$12)+'2016legmax.xls'!AP83,0),ROUND((('2016legmax.xls'!AR83-'2016legmax.xls'!AN83-'2016legmax.xls'!AO83)*Weightings!$M$12)+Weightings!B83,0))","v":2879192},0.3,863758,834528,834528,0.2898,0,false,0,0,0,true,1.8563000000000001,0.48367700000000002,145.80000000000001,0,444.8,0.16,{"$f":"IF(ROUND((Weightings!$P$5*CC83^Weightings!$P$6*Weightings!$P$8 ),2)<Weightings!$P$7,Weightings!$P$7,ROUND((Weightings!$P$5*CC83^Weightings!$P$6*Weightings!$P$8 ),2))","v":1638.5},{"$f":"ROUND(CD83/Weightings!$M$5,4)","v":0.4254},29.8,0,0,0,0,{"$f":"AS83*Weightings!$M$5*CJ83","v":0},0,0.45800000000000002,0.7,0,0,10.4,{"$f":"IF(ISNA(VLOOKUP($DC83,'Audit Values'!$A$2:$AE$252,2,FALSE)),'Preliminary SO66'!T80,VLOOKUP($DC83,'Audit Values'!$A$2:$AE$252,20,FALSE))","v":0},{"$f":"IF(ISNA(VLOOKUP($DC83,'Audit Values'!$A$2:$AE$252,21,FALSE)),'Preliminary SO66'!U80,VLOOKUP($DC83,'Audit Values'!$A$2:$AE$252,21,FALSE))","v":0},0,0,null,null,null,null,null,null,null,"D0271"]
[272,"Mitchell","Waconda ",302.8,0,302.8,294,0,294,288,{"$f":"IF(ISNA(VLOOKUP($DC84,'Audit Values'!$A$2:$AE$252,2,FALSE)),'Preliminary SO66'!B81,VLOOKUP($DC84,'Audit Values'!$A$2:$AE$252,31,FALSE))","v":288},294.89999999999998,{"$f":"IF(ISNA(VLOOKUP($DC84,'Audit Values'!$A$2:$AE$252,2,FALSE)),'Preliminary SO66'!Z81,VLOOKUP($DC84,'Audit Values'!$A$2:$AE$252,26,FALSE))","v":0},294.89999999999998,{"$f":"IF(ISNA(VLOOKUP($DC84,'Audit Values'!$A$2:$AE$252,2,FALSE)),'Preliminary SO66'!C81,IF(VLOOKUP($DC84,'Audit Values'!$A$2:$AE$252,28,FALSE)=\"\",VLOOKUP($DC84,'Audit Values'!$A$2:$AE$252,3,FALSE),VLOOKUP($DC84,'Audit Values'!$A$2:$AE$252,28,FALSE)))","v":4.5},292.5,292.5,292.5,299.39999999999998,0,145.4,{"$f":"MAX(BR84,BV84,BZ84)","v":145.4},0,{"$f":"IF(ISNA(VLOOKUP($DC84,'Audit Values'!$A$2:$AE$252,2,FALSE)),'Preliminary SO66'!D81,VLOOKUP($DC84,'Audit Values'!$A$2:$AE$252,4,FALSE))","v":112.6},{"$f":"ROUND((X84/6)*Weightings!$M$6,1)","v":9.4},{"$f":"IF(ISNA(VLOOKUP($DC84,'Audit Values'!$A$2:$AE$252,2,FALSE)),'Preliminary SO66'!F81,VLOOKUP($DC84,'Audit Values'!$A$2:$AE$252,6,FALSE))","v":0},{"$f":"ROUND((Z84/6)*Weightings!$M$7,1)","v":0},{"$f":"IF(ISNA(VLOOKUP($DC84,'Audit Values'!$A$2:$AE$252,2,FALSE)),'Preliminary SO66'!H81,VLOOKUP($DC84,'Audit Values'!$A$2:$AE$252,9,FALSE))","v":108},{"$f":"ROUND(AB84*Weightings!$M$8,1)","v":49.2},0.8,0,{"$f":"AE84*Weightings!$M$9","v":0},{"$f":"IF(ISNA(VLOOKUP($DC84,'Audit Values'!$A$2:$AE$252,2,FALSE)),'Preliminary SO66'!L81,VLOOKUP($DC84,'Audit Values'!$A$2:$AE$252,12,FALSE))","v":0},{"$f":"ROUND(AG84*Weightings!$M$10,1)","v":0},{"$f":"IF(ISNA(VLOOKUP($DC84,'Audit Values'!$A$2:$AE$252,2,FALSE)),'Preliminary SO66'!O81,VLOOKUP($DC84,'Audit Values'!$A$2:$AE$252,15,FALSE))","v":158},55.3,{"$f":"CG84/Weightings!$M$5","v":0},{"$f":"CH84/Weightings!$M$5","v":0},{"$f":"CL84/Weightings!$M$5","v":0},0,{"$f":"IF(ISNA(VLOOKUP($DC84,'Audit Values'!$A$2:$AE$252,2,FALSE)),'Preliminary SO66'!X81,VLOOKUP($DC84,'Audit Values'!$A$2:$AE$252,24,FALSE))","v":0},333466,{"$f":"AP84/Weightings!$M$5","v":86.6},559.5,646.1,646.1,0,{"$f":"IF(ISNA(VLOOKUP($DC84,'Audit Values'!$A$2:$AC$299,2,FALSE)),\"\",IF(AND(Weightings!H84>0,VLOOKUP($DC84,'Audit Values'!$A$2:$AC$299,29,FALSE)<Weightings!H84),Weightings!H84,VLOOKUP($DC84,'Audit Values'!$A$2:$AC$299,29,FALSE)))","v":9},{"$f":"IF(ISNA(VLOOKUP($DC84,'Audit Values'!$A$2:$AD$299,2,FALSE)),\"\",VLOOKUP($DC84,'Audit Values'!$A$2:$AD$299,30,FALSE))","v":"A"},{"$f":"IF(Weightings!G84=\"\",\"\",IF(Weightings!I84=\"Pending\",\"PX\",\"R\"))","v":""},{"$f":"AR84*Weightings!$M$5+AU84","v":2155194},{"$f":"AT84*Weightings!$M$5+AU84","v":2488777},{"$f":"IF(Weightings!G84>0,Weightings!G84,'Preliminary SO66'!AB81)","v":2939970},196227,127486,0,2616257,2488777,null,{"$f":"Weightings!E84","v":0},{"$f":"Weightings!F84","v":0},0,2488777,{"$f":"MAX(ROUND(((AR84-AN84-AO84)*Weightings!$M$12)+'2016legmax.xls'!AP84,0),ROUND((('2016legmax.xls'!AR84-'2016legmax.xls'!AN84-'2016legmax.xls'!AO84)*Weightings!$M$12)+Weightings!B84,0))","v":2885635},0.3,865691,868923,865691,0.3,0,true,1925.2070000000001,0.48577700000000001,145.4,false,0,0,0,0,411.3,0.38,{"$f":"IF(ROUND((Weightings!$P$5*CC84^Weightings!$P$6*Weightings!$P$8 ),2)<Weightings!$P$7,Weightings!$P$7,ROUND((Weightings!$P$5*CC84^Weightings!$P$6*Weightings!$P$8 ),2))","v":1347.32},{"$f":"ROUND(CD84/Weightings!$M$5,4)","v":0.3498},55.3,0,0,0,0,{"$f":"AS84*Weightings!$M$5*CJ84","v":0},0,0.36099999999999999,0.7,0,0,0.8,{"$f":"IF(ISNA(VLOOKUP($DC84,'Audit Values'!$A$2:$AE$252,2,FALSE)),'Preliminary SO66'!T81,VLOOKUP($DC84,'Audit Values'!$A$2:$AE$252,20,FALSE))","v":0},{"$f":"IF(ISNA(VLOOKUP($DC84,'Audit Values'!$A$2:$AE$252,21,FALSE)),'Preliminary SO66'!U81,VLOOKUP($DC84,'Audit Values'!$A$2:$AE$252,21,FALSE))","v":0},0,0,null,null,null,null,null,null,null,"D0272"]
[273,"Mitchell","Beloit ",736.5,0,736.5,750,0,750,754.5,{"$f":"IF(ISNA(VLOOKUP($DC85,'Audit Values'!$A$2:$AE$252,2,FALSE)),'Preliminary SO66'!B82,VLOOKUP($DC85,'Audit Values'!$A$2:$AE$252,31,FALSE))","v":754.5},754.5,{"$f":"IF(ISNA(VLOOKUP($DC85,'Audit Values'!$A$2:$AE$252,2,FALSE)),'Preliminary SO66'!Z82,VLOOKUP($DC85,'Audit Values'!$A$2:$AE$252,26,FALSE))","v":0},754.5,{"$f":"IF(ISNA(VLOOKUP($DC85,'Audit Values'!$A$2:$AE$252,2,FALSE)),'Preliminary SO66'!C82,IF(VLOOKUP($DC85,'Audit Values'!$A$2:$AE$252,28,FALSE)=\"\",VLOOKUP($DC85,'Audit Values'!$A$2:$AE$252,3,FALSE),VLOOKUP($DC85,'Audit Values'!$A$2:$AE$252,28,FALSE)))","v":13},767.5,767.5,767.5,767.5,0,249.7,249.7,0,{"$f":"IF(ISNA(VLOOKUP($DC85,'Audit Values'!$A$2:$AE$252,2,FALSE)),'Preliminary SO66'!D82,VLOOKUP($DC85,'Audit Values'!$A$2:$AE$252,4,FALSE))","v":249.2},{"$f":"ROUND((X85/6)*Weightings!$M$6,1)","v":20.8},{"$f":"IF(ISNA(VLOOKUP($DC85,'Audit Values'!$A$2:$AE$252,2,FALSE)),'Preliminary SO66'!F82,VLOOKUP($DC85,'Audit Values'!$A$2:$AE$252,6,FALSE))","v":37.799999999999997},{"$f":"ROUND((Z85/6)*Weightings!$M$7,1)","v":2.5},{"$f":"IF(ISNA(VLOOKUP($DC85,'Audit Values'!$A$2:$AE$252,2,FALSE)),'Preliminary SO66'!H82,VLOOKUP($DC85,'Audit Values'!$A$2:$AE$252,9,FALSE))","v":237},{"$f":"ROUND(AB85*Weightings!$M$8,1)","v":108.1},0,0,{"$f":"AE85*Weightings!$M$9","v":0},{"$f":"IF(ISNA(VLOOKUP($DC85,'Audit Values'!$A$2:$AE$252,2,FALSE)),'Preliminary SO66'!L82,VLOOKUP($DC85,'Audit Values'!$A$2:$AE$252,12,FALSE))","v":0},{"$f":"ROUND(AG85*Weightings!$M$10,1)","v":0},{"$f":"IF(ISNA(VLOOKUP($DC85,'Audit Values'!$A$2:$AE$252,2,FALSE)),'Preliminary SO66'!O82,VLOOKUP($DC85,'Audit Values'!$A$2:$AE$252,15,FALSE))","v":160},60,{"$f":"CG85/Weightings!$M$5","v":0},{"$f":"CH85/Weightings!$M$5","v":0},{"$f":"CL85/Weightings!$M$5","v":0},0,{"$f":"IF(ISNA(VLOOKUP($DC85,'Audit Values'!$A$2:$AE$252,2,FALSE)),'Preliminary SO66'!X82,VLOOKUP($DC85,'Audit Values'!$A$2:$AE$252,24,FALSE))","v":0},923542,{"$f":"AP85/Weightings!$M$5","v":239.8},1208.5999999999999,1448.4,1448.4,0,{"$f":"IF(ISNA(VLOOKUP($DC85,'Audit Values'!$A$2:$AC$299,2,FALSE)),\"\",IF(AND(Weightings!H85>0,VLOOKUP($DC85,'Audit Values'!$A$2:$AC$299,29,FALSE)<Weightings!H85),Weightings!H85,VLOOKUP($DC85,'Audit Values'!$A$2:$AC$299,29,FALSE)))","v":2},{"$f":"IF(ISNA(VLOOKUP($DC85,'Audit Values'!$A$2:$AD$299,2,FALSE)),\"\",VLOOKUP($DC85,'Audit Values'!$A$2:$AD$299,30,FALSE))","v":"A"},{"$f":"IF(Weightings!G85=\"\",\"\",IF(Weightings!I85=\"Pending\",\"PX\",\"R\"))","v":""},{"$f":"AR85*Weightings!$M$5+AU85","v":4655527},{"$f":"AT85*Weightings!$M$5+AU85","v":5579237},{"$f":"IF(Weightings!G85>0,Weightings!G85,'Preliminary SO66'!AB82)","v":7285334},627276,701172,29703,5927183,5579237,null,{"$f":"Weightings!E85","v":0},{"$f":"Weightings!F85","v":0},0,5579237,{"$f":"MAX(ROUND(((AR85-AN85-AO85)*Weightings!$M$12)+'2016legmax.xls'!AP85,0),ROUND((('2016legmax.xls'!AR85-'2016legmax.xls'!AN85-'2016legmax.xls'!AO85)*Weightings!$M$12)+Weightings!B85,0))","v":6350156},0.3,1905047,1868516,1868516,0.29420000000000002,0,false,0,0,0,true,578.53129999999999,0.32535399999999998,249.7,0,565,0.28000000000000003,{"$f":"IF(ROUND((Weightings!$P$5*CC85^Weightings!$P$6*Weightings!$P$8 ),2)<Weightings!$P$7,Weightings!$P$7,ROUND((Weightings!$P$5*CC85^Weightings!$P$6*Weightings!$P$8 ),2))","v":1443.68},{"$f":"ROUND(CD85/Weightings!$M$5,4)","v":0.37480000000000002},60,0,0,0,0,{"$f":"AS85*Weightings!$M$5*CJ85","v":0},0,0.309,1.4,0,0,0,{"$f":"IF(ISNA(VLOOKUP($DC85,'Audit Values'!$A$2:$AE$252,2,FALSE)),'Preliminary SO66'!T82,VLOOKUP($DC85,'Audit Values'!$A$2:$AE$252,20,FALSE))","v":0},{"$f":"IF(ISNA(VLOOKUP($DC85,'Audit Values'!$A$2:$AE$252,21,FALSE)),'Preliminary SO66'!U82,VLOOKUP($DC85,'Audit Values'!$A$2:$AE$252,21,FALSE))","v":0},0,0,null,null,null,null,null,null,null,"D0273"]
[274,"Logan","Oakley ",375.2,0,375.2,366.1,0,366.1,387.8,{"$f":"IF(ISNA(VLOOKUP($DC86,'Audit Values'!$A$2:$AE$252,2,FALSE)),'Preliminary SO66'!B83,VLOOKUP($DC86,'Audit Values'!$A$2:$AE$252,31,FALSE))","v":387.8},387.8,{"$f":"IF(ISNA(VLOOKUP($DC86,'Audit Values'!$A$2:$AE$252,2,FALSE)),'Preliminary SO66'!Z83,VLOOKUP($DC86,'Audit Values'!$A$2:$AE$252,26,FALSE))","v":0},387.8,{"$f":"IF(ISNA(VLOOKUP($DC86,'Audit Values'!$A$2:$AE$252,2,FALSE)),'Preliminary SO66'!C83,IF(VLOOKUP($DC86,'Audit Values'!$A$2:$AE$252,28,FALSE)=\"\",VLOOKUP($DC86,'Audit Values'!$A$2:$AE$252,3,FALSE),VLOOKUP($DC86,'Audit Values'!$A$2:$AE$252,28,FALSE)))","v":0},387.8,387.8,387.8,387.8,0,176.2,176.2,0,{"$f":"IF(ISNA(VLOOKUP($DC86,'Audit Values'!$A$2:$AE$252,2,FALSE)),'Preliminary SO66'!D83,VLOOKUP($DC86,'Audit Values'!$A$2:$AE$252,4,FALSE))","v":74},{"$f":"ROUND((X86/6)*Weightings!$M$6,1)","v":6.2},{"$f":"IF(ISNA(VLOOKUP($DC86,'Audit Values'!$A$2:$AE$252,2,FALSE)),'Preliminary SO66'!F83,VLOOKUP($DC86,'Audit Values'!$A$2:$AE$252,6,FALSE))","v":0},{"$f":"ROUND((Z86/6)*Weightings!$M$7,1)","v":0},{"$f":"IF(ISNA(VLOOKUP($DC86,'Audit Values'!$A$2:$AE$252,2,FALSE)),'Preliminary SO66'!H83,VLOOKUP($DC86,'Audit Values'!$A$2:$AE$252,9,FALSE))","v":162},{"$f":"ROUND(AB86*Weightings!$M$8,1)","v":73.900000000000006},7.7,0,{"$f":"AE86*Weightings!$M$9","v":0},{"$f":"IF(ISNA(VLOOKUP($DC86,'Audit Values'!$A$2:$AE$252,2,FALSE)),'Preliminary SO66'!L83,VLOOKUP($DC86,'Audit Values'!$A$2:$AE$252,12,FALSE))","v":0},{"$f":"ROUND(AG86*Weightings!$M$10,1)","v":0},{"$f":"IF(ISNA(VLOOKUP($DC86,'Audit Values'!$A$2:$AE$252,2,FALSE)),'Preliminary SO66'!O83,VLOOKUP($DC86,'Audit Values'!$A$2:$AE$252,15,FALSE))","v":64.099999999999994},30.3,{"$f":"CG86/Weightings!$M$5","v":0},{"$f":"CH86/Weightings!$M$5","v":0},{"$f":"CL86/Weightings!$M$5","v":0},0,{"$f":"IF(ISNA(VLOOKUP($DC86,'Audit Values'!$A$2:$AE$252,2,FALSE)),'Preliminary SO66'!X83,VLOOKUP($DC86,'Audit Values'!$A$2:$AE$252,24,FALSE))","v":0},349089,{"$f":"AP86/Weightings!$M$5","v":90.6},682.1,772.7,772.7,0,{"$f":"IF(ISNA(VLOOKUP($DC86,'Audit Values'!$A$2:$AC$299,2,FALSE)),\"\",IF(AND(Weightings!H86>0,VLOOKUP($DC86,'Audit Values'!$A$2:$AC$299,29,FALSE)<Weightings!H86),Weightings!H86,VLOOKUP($DC86,'Audit Values'!$A$2:$AC$299,29,FALSE)))","v":11},{"$f":"IF(ISNA(VLOOKUP($DC86,'Audit Values'!$A$2:$AD$299,2,FALSE)),\"\",VLOOKUP($DC86,'Audit Values'!$A$2:$AD$299,30,FALSE))","v":"A"},{"$f":"IF(Weightings!G86=\"\",\"\",IF(Weightings!I86=\"Pending\",\"PX\",\"R\"))","v":""},{"$f":"AR86*Weightings!$M$5+AU86","v":2627449},{"$f":"AT86*Weightings!$M$5+AU86","v":2976440},{"$f":"IF(Weightings!G86>0,Weightings!G86,'Preliminary SO66'!AB83)","v":3170187},0,210284,0,2959903,2976440,null,{"$f":"Weightings!E86","v":0},{"$f":"Weightings!F86","v":0},0,2976440,{"$f":"MAX(ROUND(((AR86-AN86-AO86)*Weightings!$M$12)+'2016legmax.xls'!AP86,0),ROUND((('2016legmax.xls'!AR86-'2016legmax.xls'!AN86-'2016legmax.xls'!AO86)*Weightings!$M$12)+Weightings!B86,0))","v":3570803},0.3,1071241,1021941,1021941,0.28620000000000001,0,false,0,0,0,true,108.6525,0.45435599999999998,176.2,0,637,0.1,{"$f":"IF(ROUND((Weightings!$P$5*CC86^Weightings!$P$6*Weightings!$P$8 ),2)<Weightings!$P$7,Weightings!$P$7,ROUND((Weightings!$P$5*CC86^Weightings!$P$6*Weightings!$P$8 ),2))","v":1822.3},{"$f":"ROUND(CD86/Weightings!$M$5,4)","v":0.47310000000000002},30.3,0,0,0,0,{"$f":"AS86*Weightings!$M$5*CJ86","v":0},0,0.41799999999999998,0.6,0,0,7.7,{"$f":"IF(ISNA(VLOOKUP($DC86,'Audit Values'!$A$2:$AE$252,2,FALSE)),'Preliminary SO66'!T83,VLOOKUP($DC86,'Audit Values'!$A$2:$AE$252,20,FALSE))","v":0},{"$f":"IF(ISNA(VLOOKUP($DC86,'Audit Values'!$A$2:$AE$252,21,FALSE)),'Preliminary SO66'!U83,VLOOKUP($DC86,'Audit Values'!$A$2:$AE$252,21,FALSE))","v":0},0,0,null,null,null,null,null,null,null,"D0274",18262]
[275,"Logan","Triplains ",78.5,0,78.5,68,0,68,69.5,{"$f":"IF(ISNA(VLOOKUP($DC87,'Audit Values'!$A$2:$AE$252,2,FALSE)),'Preliminary SO66'!B84,VLOOKUP($DC87,'Audit Values'!$A$2:$AE$252,31,FALSE))","v":69.5},72,{"$f":"IF(ISNA(VLOOKUP($DC87,'Audit Values'!$A$2:$AE$252,2,FALSE)),'Preliminary SO66'!Z84,VLOOKUP($DC87,'Audit Values'!$A$2:$AE$252,26,FALSE))","v":0},72,{"$f":"IF(ISNA(VLOOKUP($DC87,'Audit Values'!$A$2:$AE$252,2,FALSE)),'Preliminary SO66'!C84,IF(VLOOKUP($DC87,'Audit Values'!$A$2:$AE$252,28,FALSE)=\"\",VLOOKUP($DC87,'Audit Values'!$A$2:$AE$252,3,FALSE),VLOOKUP($DC87,'Audit Values'!$A$2:$AE$252,28,FALSE)))","v":0},69.5,69.5,69.5,72,0,73,73,0,{"$f":"IF(ISNA(VLOOKUP($DC87,'Audit Values'!$A$2:$AE$252,2,FALSE)),'Preliminary SO66'!D84,VLOOKUP($DC87,'Audit Values'!$A$2:$AE$252,4,FALSE))","v":0},{"$f":"ROUND((X87/6)*Weightings!$M$6,1)","v":0},{"$f":"IF(ISNA(VLOOKUP($DC87,'Audit Values'!$A$2:$AE$252,2,FALSE)),'Preliminary SO66'!F84,VLOOKUP($DC87,'Audit Values'!$A$2:$AE$252,6,FALSE))","v":0},{"$f":"ROUND((Z87/6)*Weightings!$M$7,1)","v":0},{"$f":"IF(ISNA(VLOOKUP($DC87,'Audit Values'!$A$2:$AE$252,2,FALSE)),'Preliminary SO66'!H84,VLOOKUP($DC87,'Audit Values'!$A$2:$AE$252,9,FALSE))","v":25},{"$f":"ROUND(AB87*Weightings!$M$8,1)","v":11.4},0,0,{"$f":"AE87*Weightings!$M$9","v":0},{"$f":"IF(ISNA(VLOOKUP($DC87,'Audit Values'!$A$2:$AE$252,2,FALSE)),'Preliminary SO66'!L84,VLOOKUP($DC87,'Audit Values'!$A$2:$AE$252,12,FALSE))","v":0},{"$f":"ROUND(AG87*Weightings!$M$10,1)","v":0},{"$f":"IF(ISNA(VLOOKUP($DC87,'Audit Values'!$A$2:$AE$252,2,FALSE)),'Preliminary SO66'!O84,VLOOKUP($DC87,'Audit Values'!$A$2:$AE$252,15,FALSE))","v":29},16.899999999999999,{"$f":"CG87/Weightings!$M$5","v":0},{"$f":"CH87/Weightings!$M$5","v":0},{"$f":"CL87/Weightings!$M$5","v":0},0,{"$f":"IF(ISNA(VLOOKUP($DC87,'Audit Values'!$A$2:$AE$252,2,FALSE)),'Preliminary SO66'!X84,VLOOKUP($DC87,'Audit Values'!$A$2:$AE$252,24,FALSE))","v":0},98567,{"$f":"AP87/Weightings!$M$5","v":25.6},173.3,198.9,198.9,0,{"$f":"IF(ISNA(VLOOKUP($DC87,'Audit Values'!$A$2:$AC$299,2,FALSE)),\"\",IF(AND(Weightings!H87>0,VLOOKUP($DC87,'Audit Values'!$A$2:$AC$299,29,FALSE)<Weightings!H87),Weightings!H87,VLOOKUP($DC87,'Audit Values'!$A$2:$AC$299,29,FALSE)))","v":13},{"$f":"IF(ISNA(VLOOKUP($DC87,'Audit Values'!$A$2:$AD$299,2,FALSE)),\"\",VLOOKUP($DC87,'Audit Values'!$A$2:$AD$299,30,FALSE))","v":"A"},{"$f":"IF(Weightings!G87=\"\",\"\",IF(Weightings!I87=\"Pending\",\"PX\",\"R\"))","v":""},{"$f":"AR87*Weightings!$M$5+AU87","v":667552},{"$f":"AT87*Weightings!$M$5+AU87","v":766163},{"$f":"IF(Weightings!G87>0,Weightings!G87,'Preliminary SO66'!AB84)","v":930866},0,53083,0,877783,766163,null,{"$f":"Weightings!E87","v":0},{"$f":"Weightings!F87","v":0},0,766163,{"$f":"MAX(ROUND(((AR87-AN87-AO87)*Weightings!$M$12)+'2016legmax.xls'!AP87,0),ROUND((('2016legmax.xls'!AR87-'2016legmax.xls'!AN87-'2016legmax.xls'!AO87)*Weightings!$M$12)+Weightings!B87,0))","v":900043},0.33,297014,323981,297014,0.33,73,false,0,0,0,false,0,0,0,0,662,0.04,{"$f":"IF(ROUND((Weightings!$P$5*CC87^Weightings!$P$6*Weightings!$P$8 ),2)<Weightings!$P$7,Weightings!$P$7,ROUND((Weightings!$P$5*CC87^Weightings!$P$6*Weightings!$P$8 ),2))","v":2242.0100000000002},{"$f":"ROUND(CD87/Weightings!$M$5,4)","v":0.58199999999999996},16.899999999999999,0,0,0,0,{"$f":"AS87*Weightings!$M$5*CJ87","v":0},0,0.34699999999999998,0.1,0,0,0,{"$f":"IF(ISNA(VLOOKUP($DC87,'Audit Values'!$A$2:$AE$252,2,FALSE)),'Preliminary SO66'!T84,VLOOKUP($DC87,'Audit Values'!$A$2:$AE$252,20,FALSE))","v":0},{"$f":"IF(ISNA(VLOOKUP($DC87,'Audit Values'!$A$2:$AE$252,21,FALSE)),'Preliminary SO66'!U84,VLOOKUP($DC87,'Audit Values'!$A$2:$AE$252,21,FALSE))","v":0},0,0,null,null,null,null,null,null,null,"D0275"]
[281,"Graham","Graham County ",353.9,0,353.9,366.1,0,366.1,359.8,{"$f":"IF(ISNA(VLOOKUP($DC88,'Audit Values'!$A$2:$AE$252,2,FALSE)),'Preliminary SO66'!B85,VLOOKUP($DC88,'Audit Values'!$A$2:$AE$252,31,FALSE))","v":359.8},366.1,{"$f":"IF(ISNA(VLOOKUP($DC88,'Audit Values'!$A$2:$AE$252,2,FALSE)),'Preliminary SO66'!Z85,VLOOKUP($DC88,'Audit Values'!$A$2:$AE$252,26,FALSE))","v":0},366.1,{"$f":"IF(ISNA(VLOOKUP($DC88,'Audit Values'!$A$2:$AE$252,2,FALSE)),'Preliminary SO66'!C85,IF(VLOOKUP($DC88,'Audit Values'!$A$2:$AE$252,28,FALSE)=\"\",VLOOKUP($DC88,'Audit Values'!$A$2:$AE$252,3,FALSE),VLOOKUP($DC88,'Audit Values'!$A$2:$AE$252,28,FALSE)))","v":0},359.8,359.8,359.8,366.1,0,169,169,0,{"$f":"IF(ISNA(VLOOKUP($DC88,'Audit Values'!$A$2:$AE$252,2,FALSE)),'Preliminary SO66'!D85,VLOOKUP($DC88,'Audit Values'!$A$2:$AE$252,4,FALSE))","v":109.4},{"$f":"ROUND((X88/6)*Weightings!$M$6,1)","v":9.1},{"$f":"IF(ISNA(VLOOKUP($DC88,'Audit Values'!$A$2:$AE$252,2,FALSE)),'Preliminary SO66'!F85,VLOOKUP($DC88,'Audit Values'!$A$2:$AE$252,6,FALSE))","v":0},{"$f":"ROUND((Z88/6)*Weightings!$M$7,1)","v":0},{"$f":"IF(ISNA(VLOOKUP($DC88,'Audit Values'!$A$2:$AE$252,2,FALSE)),'Preliminary SO66'!H85,VLOOKUP($DC88,'Audit Values'!$A$2:$AE$252,9,FALSE))","v":133},{"$f":"ROUND(AB88*Weightings!$M$8,1)","v":60.6},1.2,0,{"$f":"AE88*Weightings!$M$9","v":0},{"$f":"IF(ISNA(VLOOKUP($DC88,'Audit Values'!$A$2:$AE$252,2,FALSE)),'Preliminary SO66'!L85,VLOOKUP($DC88,'Audit Values'!$A$2:$AE$252,12,FALSE))","v":0},{"$f":"ROUND(AG88*Weightings!$M$10,1)","v":0},{"$f":"IF(ISNA(VLOOKUP($DC88,'Audit Values'!$A$2:$AE$252,2,FALSE)),'Preliminary SO66'!O85,VLOOKUP($DC88,'Audit Values'!$A$2:$AE$252,15,FALSE))","v":103},45.2,{"$f":"CG88/Weightings!$M$5","v":0},{"$f":"CH88/Weightings!$M$5","v":0},{"$f":"CL88/Weightings!$M$5","v":0},0,{"$f":"IF(ISNA(VLOOKUP($DC88,'Audit Values'!$A$2:$AE$252,2,FALSE)),'Preliminary SO66'!X85,VLOOKUP($DC88,'Audit Values'!$A$2:$AE$252,24,FALSE))","v":0},307298,{"$f":"AP88/Weightings!$M$5","v":79.8},651.20000000000005,731,731,0,{"$f":"IF(ISNA(VLOOKUP($DC88,'Audit Values'!$A$2:$AC$299,2,FALSE)),\"\",IF(AND(Weightings!H88>0,VLOOKUP($DC88,'Audit Values'!$A$2:$AC$299,29,FALSE)<Weightings!H88),Weightings!H88,VLOOKUP($DC88,'Audit Values'!$A$2:$AC$299,29,FALSE)))","v":3},{"$f":"IF(ISNA(VLOOKUP($DC88,'Audit Values'!$A$2:$AD$299,2,FALSE)),\"\",VLOOKUP($DC88,'Audit Values'!$A$2:$AD$299,30,FALSE))","v":"A"},{"$f":"IF(Weightings!G88=\"\",\"\",IF(Weightings!I88=\"Pending\",\"PX\",\"R\"))","v":""},{"$f":"AR88*Weightings!$M$5+AU88","v":2508422},{"$f":"AT88*Weightings!$M$5+AU88","v":2815812},{"$f":"IF(Weightings!G88>0,Weightings!G88,'Preliminary SO66'!AB85)","v":3096972},0,203512,0,2893460,2815812,null,{"$f":"Weightings!E88","v":0},{"$f":"Weightings!F88","v":0},0,2815812,{"$f":"MAX(ROUND(((AR88-AN88-AO88)*Weightings!$M$12)+'2016legmax.xls'!AP88,0),ROUND((('2016legmax.xls'!AR88-'2016legmax.xls'!AN88-'2016legmax.xls'!AO88)*Weightings!$M$12)+Weightings!B88,0))","v":3376667},0.3,{"$f":"BL88*BM88","v":1013000},1005053,1005053,0.29759999999999998,0,false,0,0,0,true,81.7988,0.461729,169,0,728.3,0.14000000000000001,{"$f":"IF(ROUND((Weightings!$P$5*CC88^Weightings!$P$6*Weightings!$P$8 ),2)<Weightings!$P$7,Weightings!$P$7,ROUND((Weightings!$P$5*CC88^Weightings!$P$6*Weightings!$P$8 ),2))","v":1688.75},{"$f":"ROUND(CD88/Weightings!$M$5,4)","v":0.43840000000000001},45.2,0,0,0,0,{"$f":"AS88*Weightings!$M$5*CJ88","v":0},0,0.36299999999999999,0.5,0,0,1.2,{"$f":"IF(ISNA(VLOOKUP($DC88,'Audit Values'!$A$2:$AE$252,2,FALSE)),'Preliminary SO66'!T85,VLOOKUP($DC88,'Audit Values'!$A$2:$AE$252,20,FALSE))","v":0},{"$f":"IF(ISNA(VLOOKUP($DC88,'Audit Values'!$A$2:$AE$252,21,FALSE)),'Preliminary SO66'!U85,VLOOKUP($DC88,'Audit Values'!$A$2:$AE$252,21,FALSE))","v":0},0,0,null,null,null,null,null,null,null,"D0281"]
[282,"Elk","West Elk ",312.8,0,312.8,311.5,0,311.5,334.5,{"$f":"IF(ISNA(VLOOKUP($DC89,'Audit Values'!$A$2:$AE$252,2,FALSE)),'Preliminary SO66'!B86,VLOOKUP($DC89,'Audit Values'!$A$2:$AE$252,31,FALSE))","v":326.5},326.5,{"$f":"IF(ISNA(VLOOKUP($DC89,'Audit Values'!$A$2:$AE$252,2,FALSE)),'Preliminary SO66'!Z86,VLOOKUP($DC89,'Audit Values'!$A$2:$AE$252,26,FALSE))","v":0},326.5,{"$f":"IF(ISNA(VLOOKUP($DC89,'Audit Values'!$A$2:$AE$252,2,FALSE)),'Preliminary SO66'!C86,IF(VLOOKUP($DC89,'Audit Values'!$A$2:$AE$252,28,FALSE)=\"\",VLOOKUP($DC89,'Audit Values'!$A$2:$AE$252,3,FALSE),VLOOKUP($DC89,'Audit Values'!$A$2:$AE$252,28,FALSE)))","v":3.5},330,338,338,330,8,156.4,156.4,0,{"$f":"IF(ISNA(VLOOKUP($DC89,'Audit Values'!$A$2:$AE$252,2,FALSE)),'Preliminary SO66'!D86,VLOOKUP($DC89,'Audit Values'!$A$2:$AE$252,4,FALSE))","v":112.3},{"$f":"ROUND((X89/6)*Weightings!$M$6,1)","v":9.4},{"$f":"IF(ISNA(VLOOKUP($DC89,'Audit Values'!$A$2:$AE$252,2,FALSE)),'Preliminary SO66'!F86,VLOOKUP($DC89,'Audit Values'!$A$2:$AE$252,6,FALSE))","v":0},{"$f":"ROUND((Z89/6)*Weightings!$M$7,1)","v":0},{"$f":"IF(ISNA(VLOOKUP($DC89,'Audit Values'!$A$2:$AE$252,2,FALSE)),'Preliminary SO66'!H86,VLOOKUP($DC89,'Audit Values'!$A$2:$AE$252,9,FALSE))","v":157},{"$f":"ROUND(AB89*Weightings!$M$8,1)","v":71.599999999999994},13.8,0,{"$f":"AE89*Weightings!$M$9","v":0},{"$f":"IF(ISNA(VLOOKUP($DC89,'Audit Values'!$A$2:$AE$252,2,FALSE)),'Preliminary SO66'!L86,VLOOKUP($DC89,'Audit Values'!$A$2:$AE$252,12,FALSE))","v":0},{"$f":"ROUND(AG89*Weightings!$M$10,1)","v":0},{"$f":"IF(ISNA(VLOOKUP($DC89,'Audit Values'!$A$2:$AE$252,2,FALSE)),'Preliminary SO66'!O86,VLOOKUP($DC89,'Audit Values'!$A$2:$AE$252,15,FALSE))","v":176},63.6,{"$f":"CG89/Weightings!$M$5","v":0},{"$f":"CH89/Weightings!$M$5","v":0},{"$f":"CL89/Weightings!$M$5","v":0},8.4,{"$f":"IF(ISNA(VLOOKUP($DC89,'Audit Values'!$A$2:$AE$252,2,FALSE)),'Preliminary SO66'!X86,VLOOKUP($DC89,'Audit Values'!$A$2:$AE$252,24,FALSE))","v":0},533035,{"$f":"AP89/Weightings!$M$5","v":138.4},653.20000000000005,791.6,791.6,0,{"$f":"IF(ISNA(VLOOKUP($DC89,'Audit Values'!$A$2:$AC$299,2,FALSE)),\"\",IF(AND(Weightings!H89>0,VLOOKUP($DC89,'Audit Values'!$A$2:$AC$299,29,FALSE)<Weightings!H89),Weightings!H89,VLOOKUP($DC89,'Audit Values'!$A$2:$AC$299,29,FALSE)))","v":15},{"$f":"IF(ISNA(VLOOKUP($DC89,'Audit Values'!$A$2:$AD$299,2,FALSE)),\"\",VLOOKUP($DC89,'Audit Values'!$A$2:$AD$299,30,FALSE))","v":"A"},{"$f":"IF(Weightings!G89=\"\",\"\",IF(Weightings!I89=\"Pending\",\"PX\",\"R\"))","v":"R"},{"$f":"AR89*Weightings!$M$5+AU89","v":2516126},{"$f":"AT89*Weightings!$M$5+AU89","v":3049243},{"$f":"IF(Weightings!G89>0,Weightings!G89,'Preliminary SO66'!AB86)","v":4051631},435950,318233,10256,3287192,3049243,null,{"$f":"Weightings!E89","v":0},{"$f":"Weightings!F89","v":0},0,3049243,{"$f":"MAX(ROUND(((AR89-AN89-AO89)*Weightings!$M$12)+'2016legmax.xls'!AP89,0),ROUND((('2016legmax.xls'!AR89-'2016legmax.xls'!AN89-'2016legmax.xls'!AO89)*Weightings!$M$12)+Weightings!B89,0))","v":3439486},0.3,1031846,1034400,1031846,0.3,0,false,0,0,0,true,37.125,0.47399400000000003,156.4,0,541,0.33,{"$f":"IF(ROUND((Weightings!$P$5*CC89^Weightings!$P$6*Weightings!$P$8 ),2)<Weightings!$P$7,Weightings!$P$7,ROUND((Weightings!$P$5*CC89^Weightings!$P$6*Weightings!$P$8 ),2))","v":1391.01},{"$f":"ROUND(CD89/Weightings!$M$5,4)","v":0.36109999999999998},63.6,0,0,0,0,{"$f":"AS89*Weightings!$M$5*CJ89","v":0},0,0.47599999999999998,0.6,0,0,13.8,{"$f":"IF(ISNA(VLOOKUP($DC89,'Audit Values'!$A$2:$AE$252,2,FALSE)),'Preliminary SO66'!T86,VLOOKUP($DC89,'Audit Values'!$A$2:$AE$252,20,FALSE))","v":5},{"$f":"IF(ISNA(VLOOKUP($DC89,'Audit Values'!$A$2:$AE$252,21,FALSE)),'Preliminary SO66'!U86,VLOOKUP($DC89,'Audit Values'!$A$2:$AE$252,21,FALSE))","v":0},3,8,null,null,null,null,null,null,null,"D0282"]
[283,"Elk","Elk Valley ",134.5,0,134.5,137,0,137,112.5,{"$f":"IF(ISNA(VLOOKUP($DC90,'Audit Values'!$A$2:$AE$252,2,FALSE)),'Preliminary SO66'!B87,VLOOKUP($DC90,'Audit Values'!$A$2:$AE$252,31,FALSE))","v":107.5},137,{"$f":"IF(ISNA(VLOOKUP($DC90,'Audit Values'!$A$2:$AE$252,2,FALSE)),'Preliminary SO66'!Z87,VLOOKUP($DC90,'Audit Values'!$A$2:$AE$252,26,FALSE))","v":0},137,{"$f":"IF(ISNA(VLOOKUP($DC90,'Audit Values'!$A$2:$AE$252,2,FALSE)),'Preliminary SO66'!C87,IF(VLOOKUP($DC90,'Audit Values'!$A$2:$AE$252,28,FALSE)=\"\",VLOOKUP($DC90,'Audit Values'!$A$2:$AE$252,3,FALSE),VLOOKUP($DC90,'Audit Values'!$A$2:$AE$252,28,FALSE)))","v":1},108.5,113.5,113.5,138,5,126.1,126.1,0,{"$f":"IF(ISNA(VLOOKUP($DC90,'Audit Values'!$A$2:$AE$252,2,FALSE)),'Preliminary SO66'!D87,VLOOKUP($DC90,'Audit Values'!$A$2:$AE$252,4,FALSE))","v":55.6},{"$f":"ROUND((X90/6)*Weightings!$M$6,1)","v":4.5999999999999996},{"$f":"IF(ISNA(VLOOKUP($DC90,'Audit Values'!$A$2:$AE$252,2,FALSE)),'Preliminary SO66'!F87,VLOOKUP($DC90,'Audit Values'!$A$2:$AE$252,6,FALSE))","v":0},{"$f":"ROUND((Z90/6)*Weightings!$M$7,1)","v":0},{"$f":"IF(ISNA(VLOOKUP($DC90,'Audit Values'!$A$2:$AE$252,2,FALSE)),'Preliminary SO66'!H87,VLOOKUP($DC90,'Audit Values'!$A$2:$AE$252,9,FALSE))","v":74},{"$f":"ROUND(AB90*Weightings!$M$8,1)","v":33.700000000000003},7.8,0,{"$f":"AE90*Weightings!$M$9","v":0},{"$f":"IF(ISNA(VLOOKUP($DC90,'Audit Values'!$A$2:$AE$252,2,FALSE)),'Preliminary SO66'!L87,VLOOKUP($DC90,'Audit Values'!$A$2:$AE$252,12,FALSE))","v":0},{"$f":"ROUND(AG90*Weightings!$M$10,1)","v":0},{"$f":"IF(ISNA(VLOOKUP($DC90,'Audit Values'!$A$2:$AE$252,2,FALSE)),'Preliminary SO66'!O87,VLOOKUP($DC90,'Audit Values'!$A$2:$AE$252,15,FALSE))","v":41},15.6,{"$f":"CG90/Weightings!$M$5","v":0},{"$f":"CH90/Weightings!$M$5","v":0},{"$f":"CL90/Weightings!$M$5","v":0},5.3,{"$f":"IF(ISNA(VLOOKUP($DC90,'Audit Values'!$A$2:$AE$252,2,FALSE)),'Preliminary SO66'!X87,VLOOKUP($DC90,'Audit Values'!$A$2:$AE$252,24,FALSE))","v":0},234388,{"$f":"AP90/Weightings!$M$5","v":60.8},331.1,391.9,391.9,0,{"$f":"IF(ISNA(VLOOKUP($DC90,'Audit Values'!$A$2:$AC$299,2,FALSE)),\"\",IF(AND(Weightings!H90>0,VLOOKUP($DC90,'Audit Values'!$A$2:$AC$299,29,FALSE)<Weightings!H90),Weightings!H90,VLOOKUP($DC90,'Audit Values'!$A$2:$AC$299,29,FALSE)))","v":9},{"$f":"IF(ISNA(VLOOKUP($DC90,'Audit Values'!$A$2:$AD$299,2,FALSE)),\"\",VLOOKUP($DC90,'Audit Values'!$A$2:$AD$299,30,FALSE))","v":"A"},{"$f":"IF(Weightings!G90=\"\",\"\",IF(Weightings!I90=\"Pending\",\"PX\",\"R\"))","v":""},{"$f":"AR90*Weightings!$M$5+AU90","v":1275397},{"$f":"AT90*Weightings!$M$5+AU90","v":1509599},{"$f":"IF(Weightings!G90>0,Weightings!G90,'Preliminary SO66'!AB87)","v":2040141},154794,63427,0,1821920,1509599,null,{"$f":"Weightings!E90","v":0},{"$f":"Weightings!F90","v":0},0,1509599,{"$f":"MAX(ROUND(((AR90-AN90-AO90)*Weightings!$M$12)+'2016legmax.xls'!AP90,0),ROUND((('2016legmax.xls'!AR90-'2016legmax.xls'!AN90-'2016legmax.xls'!AO90)*Weightings!$M$12)+Weightings!B90,0))","v":1762754},0.2777,489517,530290,489517,0.2777,0,true,366.89,0.91360399999999997,126.1,false,0,0,0,0,160,0.26,{"$f":"IF(ROUND((Weightings!$P$5*CC90^Weightings!$P$6*Weightings!$P$8 ),2)<Weightings!$P$7,Weightings!$P$7,ROUND((Weightings!$P$5*CC90^Weightings!$P$6*Weightings!$P$8 ),2))","v":1468.08},{"$f":"ROUND(CD90/Weightings!$M$5,4)","v":0.38109999999999999},15.6,0,0,0,0,{"$f":"AS90*Weightings!$M$5*CJ90","v":0},0,0.53600000000000003,0.9,7.8,0,0,{"$f":"IF(ISNA(VLOOKUP($DC90,'Audit Values'!$A$2:$AE$252,2,FALSE)),'Preliminary SO66'!T87,VLOOKUP($DC90,'Audit Values'!$A$2:$AE$252,20,FALSE))","v":4},{"$f":"IF(ISNA(VLOOKUP($DC90,'Audit Values'!$A$2:$AE$252,21,FALSE)),'Preliminary SO66'!U87,VLOOKUP($DC90,'Audit Values'!$A$2:$AE$252,21,FALSE))","v":0},1,5,null,null,null,null,null,null,null,"D0283"]
[284,"Chase","Chase County ",364.5,0,364.5,344.5,0,344.5,341.5,{"$f":"IF(ISNA(VLOOKUP($DC91,'Audit Values'!$A$2:$AE$252,2,FALSE)),'Preliminary SO66'!B88,VLOOKUP($DC91,'Audit Values'!$A$2:$AE$252,31,FALSE))","v":341.5},350.2,{"$f":"IF(ISNA(VLOOKUP($DC91,'Audit Values'!$A$2:$AE$252,2,FALSE)),'Preliminary SO66'!Z88,VLOOKUP($DC91,'Audit Values'!$A$2:$AE$252,26,FALSE))","v":0},350.2,{"$f":"IF(ISNA(VLOOKUP($DC91,'Audit Values'!$A$2:$AE$252,2,FALSE)),'Preliminary SO66'!C88,IF(VLOOKUP($DC91,'Audit Values'!$A$2:$AE$252,28,FALSE)=\"\",VLOOKUP($DC91,'Audit Values'!$A$2:$AE$252,3,FALSE),VLOOKUP($DC91,'Audit Values'!$A$2:$AE$252,28,FALSE)))","v":0},341.5,341.5,341.5,350.2,0,163.6,163.6,0,{"$f":"IF(ISNA(VLOOKUP($DC91,'Audit Values'!$A$2:$AE$252,2,FALSE)),'Preliminary SO66'!D88,VLOOKUP($DC91,'Audit Values'!$A$2:$AE$252,4,FALSE))","v":96.4},{"$f":"ROUND((X91/6)*Weightings!$M$6,1)","v":8},{"$f":"IF(ISNA(VLOOKUP($DC91,'Audit Values'!$A$2:$AE$252,2,FALSE)),'Preliminary SO66'!F88,VLOOKUP($DC91,'Audit Values'!$A$2:$AE$252,6,FALSE))","v":0},{"$f":"ROUND((Z91/6)*Weightings!$M$7,1)","v":0},{"$f":"IF(ISNA(VLOOKUP($DC91,'Audit Values'!$A$2:$AE$252,2,FALSE)),'Preliminary SO66'!H88,VLOOKUP($DC91,'Audit Values'!$A$2:$AE$252,9,FALSE))","v":99},{"$f":"ROUND(AB91*Weightings!$M$8,1)","v":45.1},0,0,{"$f":"AE91*Weightings!$M$9","v":0},{"$f":"IF(ISNA(VLOOKUP($DC91,'Audit Values'!$A$2:$AE$252,2,FALSE)),'Preliminary SO66'!L88,VLOOKUP($DC91,'Audit Values'!$A$2:$AE$252,12,FALSE))","v":0},{"$f":"ROUND(AG91*Weightings!$M$10,1)","v":0},{"$f":"IF(ISNA(VLOOKUP($DC91,'Audit Values'!$A$2:$AE$252,2,FALSE)),'Preliminary SO66'!O88,VLOOKUP($DC91,'Audit Values'!$A$2:$AE$252,15,FALSE))","v":186},72.2,{"$f":"CG91/Weightings!$M$5","v":0},{"$f":"CH91/Weightings!$M$5","v":0},{"$f":"CL91/Weightings!$M$5","v":0},0,{"$f":"IF(ISNA(VLOOKUP($DC91,'Audit Values'!$A$2:$AE$252,2,FALSE)),'Preliminary SO66'!X88,VLOOKUP($DC91,'Audit Values'!$A$2:$AE$252,24,FALSE))","v":0},375511,{"$f":"AP91/Weightings!$M$5","v":97.5},639.1,736.6,736.6,0,{"$f":"IF(ISNA(VLOOKUP($DC91,'Audit Values'!$A$2:$AC$299,2,FALSE)),\"\",IF(AND(Weightings!H91>0,VLOOKUP($DC91,'Audit Values'!$A$2:$AC$299,29,FALSE)<Weightings!H91),Weightings!H91,VLOOKUP($DC91,'Audit Values'!$A$2:$AC$299,29,FALSE)))","v":8},{"$f":"IF(ISNA(VLOOKUP($DC91,'Audit Values'!$A$2:$AD$299,2,FALSE)),\"\",VLOOKUP($DC91,'Audit Values'!$A$2:$AD$299,30,FALSE))","v":"A"},{"$f":"IF(Weightings!G91=\"\",\"\",IF(Weightings!I91=\"Pending\",\"PX\",\"R\"))","v":""},{"$f":"AR91*Weightings!$M$5+AU91","v":2461813},{"$f":"AT91*Weightings!$M$5+AU91","v":2837383},{"$f":"IF(Weightings!G91>0,Weightings!G91,'Preliminary SO66'!AB88)","v":3186310},4606,209099,0,2972605,2837383,null,{"$f":"Weightings!E91","v":0},{"$f":"Weightings!F91","v":0},0,2837383,{"$f":"MAX(ROUND(((AR91-AN91-AO91)*Weightings!$M$12)+'2016legmax.xls'!AP91,0),ROUND((('2016legmax.xls'!AR91-'2016legmax.xls'!AN91-'2016legmax.xls'!AO91)*Weightings!$M$12)+Weightings!B91,0))","v":3312616},0.3,993785,1015472,993785,0.3,0,false,0,0,0,true,62.122500000000002,0.46713100000000002,163.6,0,780,0.24,{"$f":"IF(ROUND((Weightings!$P$5*CC91^Weightings!$P$6*Weightings!$P$8 ),2)<Weightings!$P$7,Weightings!$P$7,ROUND((Weightings!$P$5*CC91^Weightings!$P$6*Weightings!$P$8 ),2))","v":1494.91},{"$f":"ROUND(CD91/Weightings!$M$5,4)","v":0.3881},72.2,0,0,0,0,{"$f":"AS91*Weightings!$M$5*CJ91","v":0},0,0.28299999999999997,0.4,0,0,0,{"$f":"IF(ISNA(VLOOKUP($DC91,'Audit Values'!$A$2:$AE$252,2,FALSE)),'Preliminary SO66'!T88,VLOOKUP($DC91,'Audit Values'!$A$2:$AE$252,20,FALSE))","v":0},{"$f":"IF(ISNA(VLOOKUP($DC91,'Audit Values'!$A$2:$AE$252,21,FALSE)),'Preliminary SO66'!U88,VLOOKUP($DC91,'Audit Values'!$A$2:$AE$252,21,FALSE))","v":0},0,0,null,null,null,null,null,null,null,"D0284"]
[285,"Chautauqua","Cedar Vale ",163.19999999999999,0,163.19999999999999,163.6,0,163.6,172,{"$f":"IF(ISNA(VLOOKUP($DC92,'Audit Values'!$A$2:$AE$252,2,FALSE)),'Preliminary SO66'!B89,VLOOKUP($DC92,'Audit Values'!$A$2:$AE$252,31,FALSE))","v":172},172,{"$f":"IF(ISNA(VLOOKUP($DC92,'Audit Values'!$A$2:$AE$252,2,FALSE)),'Preliminary SO66'!Z89,VLOOKUP($DC92,'Audit Values'!$A$2:$AE$252,26,FALSE))","v":0},172,{"$f":"IF(ISNA(VLOOKUP($DC92,'Audit Values'!$A$2:$AE$252,2,FALSE)),'Preliminary SO66'!C89,IF(VLOOKUP($DC92,'Audit Values'!$A$2:$AE$252,28,FALSE)=\"\",VLOOKUP($DC92,'Audit Values'!$A$2:$AE$252,3,FALSE),VLOOKUP($DC92,'Audit Values'!$A$2:$AE$252,28,FALSE)))","v":0},172,172,172,172,0,141.6,141.6,0,{"$f":"IF(ISNA(VLOOKUP($DC92,'Audit Values'!$A$2:$AE$252,2,FALSE)),'Preliminary SO66'!D89,VLOOKUP($DC92,'Audit Values'!$A$2:$AE$252,4,FALSE))","v":0},{"$f":"ROUND((X92/6)*Weightings!$M$6,1)","v":0},{"$f":"IF(ISNA(VLOOKUP($DC92,'Audit Values'!$A$2:$AE$252,2,FALSE)),'Preliminary SO66'!F89,VLOOKUP($DC92,'Audit Values'!$A$2:$AE$252,6,FALSE))","v":0},{"$f":"ROUND((Z92/6)*Weightings!$M$7,1)","v":0},{"$f":"IF(ISNA(VLOOKUP($DC92,'Audit Values'!$A$2:$AE$252,2,FALSE)),'Preliminary SO66'!H89,VLOOKUP($DC92,'Audit Values'!$A$2:$AE$252,9,FALSE))","v":101},{"$f":"ROUND(AB92*Weightings!$M$8,1)","v":46.1},10.6,0,{"$f":"AE92*Weightings!$M$9","v":0},{"$f":"IF(ISNA(VLOOKUP($DC92,'Audit Values'!$A$2:$AE$252,2,FALSE)),'Preliminary SO66'!L89,VLOOKUP($DC92,'Audit Values'!$A$2:$AE$252,12,FALSE))","v":0},{"$f":"ROUND(AG92*Weightings!$M$10,1)","v":0},{"$f":"IF(ISNA(VLOOKUP($DC92,'Audit Values'!$A$2:$AE$252,2,FALSE)),'Preliminary SO66'!O89,VLOOKUP($DC92,'Audit Values'!$A$2:$AE$252,15,FALSE))","v":27.5},12.7,{"$f":"CG92/Weightings!$M$5","v":0},{"$f":"CH92/Weightings!$M$5","v":0},{"$f":"CL92/Weightings!$M$5","v":0},0,{"$f":"IF(ISNA(VLOOKUP($DC92,'Audit Values'!$A$2:$AE$252,2,FALSE)),'Preliminary SO66'!X89,VLOOKUP($DC92,'Audit Values'!$A$2:$AE$252,24,FALSE))","v":0},173341,{"$f":"AP92/Weightings!$M$5","v":45},383,428,428,0,{"$f":"IF(ISNA(VLOOKUP($DC92,'Audit Values'!$A$2:$AC$299,2,FALSE)),\"\",IF(AND(Weightings!H92>0,VLOOKUP($DC92,'Audit Values'!$A$2:$AC$299,29,FALSE)<Weightings!H92),Weightings!H92,VLOOKUP($DC92,'Audit Values'!$A$2:$AC$299,29,FALSE)))","v":1},{"$f":"IF(ISNA(VLOOKUP($DC92,'Audit Values'!$A$2:$AD$299,2,FALSE)),\"\",VLOOKUP($DC92,'Audit Values'!$A$2:$AD$299,30,FALSE))","v":"A"},{"$f":"IF(Weightings!G92=\"\",\"\",IF(Weightings!I92=\"Pending\",\"PX\",\"R\"))","v":""},{"$f":"AR92*Weightings!$M$5+AU92","v":1475316},{"$f":"AT92*Weightings!$M$5+AU92","v":1648656},{"$f":"IF(Weightings!G92>0,Weightings!G92,'Preliminary SO66'!AB89)","v":1966446},182142,92323,0,1691981,1648656,null,{"$f":"Weightings!E92","v":0},{"$f":"Weightings!F92","v":0},0,1648656,{"$f":"MAX(ROUND(((AR92-AN92-AO92)*Weightings!$M$12)+'2016legmax.xls'!AP92,0),ROUND((('2016legmax.xls'!AR92-'2016legmax.xls'!AN92-'2016legmax.xls'!AO92)*Weightings!$M$12)+Weightings!B92,0))","v":1893011},0.3,567903,360829,360829,0.19059999999999999,0,true,695.16,0.82347899999999996,141.6,false,0,0,0,0,259,0.11,{"$f":"IF(ROUND((Weightings!$P$5*CC92^Weightings!$P$6*Weightings!$P$8 ),2)<Weightings!$P$7,Weightings!$P$7,ROUND((Weightings!$P$5*CC92^Weightings!$P$6*Weightings!$P$8 ),2))","v":1783.43},{"$f":"ROUND(CD92/Weightings!$M$5,4)","v":0.46300000000000002},12.7,0,0,0,0,{"$f":"AS92*Weightings!$M$5*CJ92","v":0},0,0.58699999999999997,0.7,10.6,0,0,{"$f":"IF(ISNA(VLOOKUP($DC92,'Audit Values'!$A$2:$AE$252,2,FALSE)),'Preliminary SO66'!T89,VLOOKUP($DC92,'Audit Values'!$A$2:$AE$252,20,FALSE))","v":0},{"$f":"IF(ISNA(VLOOKUP($DC92,'Audit Values'!$A$2:$AE$252,21,FALSE)),'Preliminary SO66'!U89,VLOOKUP($DC92,'Audit Values'!$A$2:$AE$252,21,FALSE))","v":0},0,0,null,null,null,null,null,null,null,"D0285"]
[286,"Chautauqua","Chautauqua Co Community ",334.2,0,334.2,353.2,0,353.2,364.9,{"$f":"IF(ISNA(VLOOKUP($DC93,'Audit Values'!$A$2:$AE$252,2,FALSE)),'Preliminary SO66'!B90,VLOOKUP($DC93,'Audit Values'!$A$2:$AE$252,31,FALSE))","v":360.9},360.9,{"$f":"IF(ISNA(VLOOKUP($DC93,'Audit Values'!$A$2:$AE$252,2,FALSE)),'Preliminary SO66'!Z90,VLOOKUP($DC93,'Audit Values'!$A$2:$AE$252,26,FALSE))","v":0},360.9,{"$f":"IF(ISNA(VLOOKUP($DC93,'Audit Values'!$A$2:$AE$252,2,FALSE)),'Preliminary SO66'!C90,IF(VLOOKUP($DC93,'Audit Values'!$A$2:$AE$252,28,FALSE)=\"\",VLOOKUP($DC93,'Audit Values'!$A$2:$AE$252,3,FALSE),VLOOKUP($DC93,'Audit Values'!$A$2:$AE$252,28,FALSE)))","v":3.5},364.4,368.4,368.4,364.4,4,168.5,168.5,0,{"$f":"IF(ISNA(VLOOKUP($DC93,'Audit Values'!$A$2:$AE$252,2,FALSE)),'Preliminary SO66'!D90,VLOOKUP($DC93,'Audit Values'!$A$2:$AE$252,4,FALSE))","v":57.6},{"$f":"ROUND((X93/6)*Weightings!$M$6,1)","v":4.8},{"$f":"IF(ISNA(VLOOKUP($DC93,'Audit Values'!$A$2:$AE$252,2,FALSE)),'Preliminary SO66'!F90,VLOOKUP($DC93,'Audit Values'!$A$2:$AE$252,6,FALSE))","v":0},{"$f":"ROUND((Z93/6)*Weightings!$M$7,1)","v":0},{"$f":"IF(ISNA(VLOOKUP($DC93,'Audit Values'!$A$2:$AE$252,2,FALSE)),'Preliminary SO66'!H90,VLOOKUP($DC93,'Audit Values'!$A$2:$AE$252,9,FALSE))","v":195},{"$f":"ROUND(AB93*Weightings!$M$8,1)","v":88.9},20.5,0,{"$f":"AE93*Weightings!$M$9","v":0},{"$f":"IF(ISNA(VLOOKUP($DC93,'Audit Values'!$A$2:$AE$252,2,FALSE)),'Preliminary SO66'!L90,VLOOKUP($DC93,'Audit Values'!$A$2:$AE$252,12,FALSE))","v":0},{"$f":"ROUND(AG93*Weightings!$M$10,1)","v":0},{"$f":"IF(ISNA(VLOOKUP($DC93,'Audit Values'!$A$2:$AE$252,2,FALSE)),'Preliminary SO66'!O90,VLOOKUP($DC93,'Audit Values'!$A$2:$AE$252,15,FALSE))","v":134.5},47.9,{"$f":"CG93/Weightings!$M$5","v":0},{"$f":"CH93/Weightings!$M$5","v":0},{"$f":"CL93/Weightings!$M$5","v":0},4.2,{"$f":"IF(ISNA(VLOOKUP($DC93,'Audit Values'!$A$2:$AE$252,2,FALSE)),'Preliminary SO66'!X90,VLOOKUP($DC93,'Audit Values'!$A$2:$AE$252,24,FALSE))","v":0},394110,{"$f":"AP93/Weightings!$M$5","v":102.3},699.2,801.5,801.5,0,{"$f":"IF(ISNA(VLOOKUP($DC93,'Audit Values'!$A$2:$AC$299,2,FALSE)),\"\",IF(AND(Weightings!H93>0,VLOOKUP($DC93,'Audit Values'!$A$2:$AC$299,29,FALSE)<Weightings!H93),Weightings!H93,VLOOKUP($DC93,'Audit Values'!$A$2:$AC$299,29,FALSE)))","v":16},{"$f":"IF(ISNA(VLOOKUP($DC93,'Audit Values'!$A$2:$AD$299,2,FALSE)),\"\",VLOOKUP($DC93,'Audit Values'!$A$2:$AD$299,30,FALSE))","v":"A"},{"$f":"IF(Weightings!G93=\"\",\"\",IF(Weightings!I93=\"Pending\",\"PX\",\"R\"))","v":""},{"$f":"AR93*Weightings!$M$5+AU93","v":2693318},{"$f":"AT93*Weightings!$M$5+AU93","v":3087378},{"$f":"IF(Weightings!G93>0,Weightings!G93,'Preliminary SO66'!AB90)","v":3782469},422681,189639,2534,3167615,3087378,null,{"$f":"Weightings!E93","v":0},{"$f":"Weightings!F93","v":0},0,3087378,{"$f":"MAX(ROUND(((AR93-AN93-AO93)*Weightings!$M$12)+'2016legmax.xls'!AP93,0),ROUND((('2016legmax.xls'!AR93-'2016legmax.xls'!AN93-'2016legmax.xls'!AO93)*Weightings!$M$12)+Weightings!B93,0))","v":3623790},0.3,1087137,873225,873225,0.24099999999999999,0,false,0,0,0,true,79.694999999999993,0.46230599999999999,168.5,0,382.5,0.35,{"$f":"IF(ROUND((Weightings!$P$5*CC93^Weightings!$P$6*Weightings!$P$8 ),2)<Weightings!$P$7,Weightings!$P$7,ROUND((Weightings!$P$5*CC93^Weightings!$P$6*Weightings!$P$8 ),2))","v":1372.61},{"$f":"ROUND(CD93/Weightings!$M$5,4)","v":0.35630000000000001},47.9,0,0,0,0,{"$f":"AS93*Weightings!$M$5*CJ93","v":0},0,0.53500000000000003,1,20.5,0,0,{"$f":"IF(ISNA(VLOOKUP($DC93,'Audit Values'!$A$2:$AE$252,2,FALSE)),'Preliminary SO66'!T90,VLOOKUP($DC93,'Audit Values'!$A$2:$AE$252,20,FALSE))","v":4},{"$f":"IF(ISNA(VLOOKUP($DC93,'Audit Values'!$A$2:$AE$252,21,FALSE)),'Preliminary SO66'!U90,VLOOKUP($DC93,'Audit Values'!$A$2:$AE$252,21,FALSE))","v":0},0,4,null,null,null,null,null,null,null,"D0286"]
[287,"Franklin","West Franklin ",582,0,582,553.5,0,553.5,566.5,{"$f":"IF(ISNA(VLOOKUP($DC94,'Audit Values'!$A$2:$AE$252,2,FALSE)),'Preliminary SO66'!B91,VLOOKUP($DC94,'Audit Values'!$A$2:$AE$252,31,FALSE))","v":566.5},567.29999999999995,{"$f":"IF(ISNA(VLOOKUP($DC94,'Audit Values'!$A$2:$AE$252,2,FALSE)),'Preliminary SO66'!Z91,VLOOKUP($DC94,'Audit Values'!$A$2:$AE$252,26,FALSE))","v":0},567.29999999999995,{"$f":"IF(ISNA(VLOOKUP($DC94,'Audit Values'!$A$2:$AE$252,2,FALSE)),'Preliminary SO66'!C91,IF(VLOOKUP($DC94,'Audit Values'!$A$2:$AE$252,28,FALSE)=\"\",VLOOKUP($DC94,'Audit Values'!$A$2:$AE$252,3,FALSE),VLOOKUP($DC94,'Audit Values'!$A$2:$AE$252,28,FALSE)))","v":0},566.5,566.5,566.5,567.29999999999995,0,223.2,223.2,0,{"$f":"IF(ISNA(VLOOKUP($DC94,'Audit Values'!$A$2:$AE$252,2,FALSE)),'Preliminary SO66'!D91,VLOOKUP($DC94,'Audit Values'!$A$2:$AE$252,4,FALSE))","v":290.5},{"$f":"ROUND((X94/6)*Weightings!$M$6,1)","v":24.2},{"$f":"IF(ISNA(VLOOKUP($DC94,'Audit Values'!$A$2:$AE$252,2,FALSE)),'Preliminary SO66'!F91,VLOOKUP($DC94,'Audit Values'!$A$2:$AE$252,6,FALSE))","v":0},{"$f":"ROUND((Z94/6)*Weightings!$M$7,1)","v":0},{"$f":"IF(ISNA(VLOOKUP($DC94,'Audit Values'!$A$2:$AE$252,2,FALSE)),'Preliminary SO66'!H91,VLOOKUP($DC94,'Audit Values'!$A$2:$AE$252,9,FALSE))","v":278},{"$f":"ROUND(AB94*Weightings!$M$8,1)","v":126.8},27.2,0,{"$f":"AE94*Weightings!$M$9","v":0},{"$f":"IF(ISNA(VLOOKUP($DC94,'Audit Values'!$A$2:$AE$252,2,FALSE)),'Preliminary SO66'!L91,VLOOKUP($DC94,'Audit Values'!$A$2:$AE$252,12,FALSE))","v":0},{"$f":"ROUND(AG94*Weightings!$M$10,1)","v":0},{"$f":"IF(ISNA(VLOOKUP($DC94,'Audit Values'!$A$2:$AE$252,2,FALSE)),'Preliminary SO66'!O91,VLOOKUP($DC94,'Audit Values'!$A$2:$AE$252,15,FALSE))","v":411},101,{"$f":"CG94/Weightings!$M$5","v":0},{"$f":"CH94/Weightings!$M$5","v":0},{"$f":"CL94/Weightings!$M$5","v":0},0,{"$f":"IF(ISNA(VLOOKUP($DC94,'Audit Values'!$A$2:$AE$252,2,FALSE)),'Preliminary SO66'!X91,VLOOKUP($DC94,'Audit Values'!$A$2:$AE$252,24,FALSE))","v":0},737430,{"$f":"AP94/Weightings!$M$5","v":191.4},1069.7,1261.0999999999999,1261.0999999999999,0,{"$f":"IF(ISNA(VLOOKUP($DC94,'Audit Values'!$A$2:$AC$299,2,FALSE)),\"\",IF(AND(Weightings!H94>0,VLOOKUP($DC94,'Audit Values'!$A$2:$AC$299,29,FALSE)<Weightings!H94),Weightings!H94,VLOOKUP($DC94,'Audit Values'!$A$2:$AC$299,29,FALSE)))","v":10},{"$f":"IF(ISNA(VLOOKUP($DC94,'Audit Values'!$A$2:$AD$299,2,FALSE)),\"\",VLOOKUP($DC94,'Audit Values'!$A$2:$AD$299,30,FALSE))","v":"A"},{"$f":"IF(Weightings!G94=\"\",\"\",IF(Weightings!I94=\"Pending\",\"PX\",\"R\"))","v":""},{"$f":"AR94*Weightings!$M$5+AU94","v":4120484},{"$f":"AT94*Weightings!$M$5+AU94","v":4857757},{"$f":"IF(Weightings!G94>0,Weightings!G94,'Preliminary SO66'!AB91)","v":6149581},599527,327355,30782,5191917,4857757,null,{"$f":"Weightings!E94","v":0},{"$f":"Weightings!F94","v":0},0,4857757,{"$f":"MAX(ROUND(((AR94-AN94-AO94)*Weightings!$M$12)+'2016legmax.xls'!AP94,0),ROUND((('2016legmax.xls'!AR94-'2016legmax.xls'!AN94-'2016legmax.xls'!AO94)*Weightings!$M$12)+Weightings!B94,0))","v":5731077},0.3,1719323,1694000,1694000,0.29559999999999997,0,false,0,0,0,true,330.78379999999999,0.39337100000000003,223.2,0,227,1.81,{"$f":"IF(ROUND((Weightings!$P$5*CC94^Weightings!$P$6*Weightings!$P$8 ),2)<Weightings!$P$7,Weightings!$P$7,ROUND((Weightings!$P$5*CC94^Weightings!$P$6*Weightings!$P$8 ),2))","v":946.51},{"$f":"ROUND(CD94/Weightings!$M$5,4)","v":0.2457},101,0,0,0,0,{"$f":"AS94*Weightings!$M$5*CJ94","v":0},0,0.49,2.5,0,0,27.2,{"$f":"IF(ISNA(VLOOKUP($DC94,'Audit Values'!$A$2:$AE$252,2,FALSE)),'Preliminary SO66'!T91,VLOOKUP($DC94,'Audit Values'!$A$2:$AE$252,20,FALSE))","v":0},{"$f":"IF(ISNA(VLOOKUP($DC94,'Audit Values'!$A$2:$AE$252,21,FALSE)),'Preliminary SO66'!U91,VLOOKUP($DC94,'Audit Values'!$A$2:$AE$252,21,FALSE))","v":0},0,0,null,null,null,null,null,null,null,"D0287"]
[288,"Franklin","Central Heights ",546.5,0,546.5,555,0,555,533,{"$f":"IF(ISNA(VLOOKUP($DC95,'Audit Values'!$A$2:$AE$252,2,FALSE)),'Preliminary SO66'!B92,VLOOKUP($DC95,'Audit Values'!$A$2:$AE$252,31,FALSE))","v":533},555,{"$f":"IF(ISNA(VLOOKUP($DC95,'Audit Values'!$A$2:$AE$252,2,FALSE)),'Preliminary SO66'!Z92,VLOOKUP($DC95,'Audit Values'!$A$2:$AE$252,26,FALSE))","v":0},555,{"$f":"IF(ISNA(VLOOKUP($DC95,'Audit Values'!$A$2:$AE$252,2,FALSE)),'Preliminary SO66'!C92,IF(VLOOKUP($DC95,'Audit Values'!$A$2:$AE$252,28,FALSE)=\"\",VLOOKUP($DC95,'Audit Values'!$A$2:$AE$252,3,FALSE),VLOOKUP($DC95,'Audit Values'!$A$2:$AE$252,28,FALSE)))","v":5},538,538,538,560,0,221.7,221.7,0,{"$f":"IF(ISNA(VLOOKUP($DC95,'Audit Values'!$A$2:$AE$252,2,FALSE)),'Preliminary SO66'!D92,VLOOKUP($DC95,'Audit Values'!$A$2:$AE$252,4,FALSE))","v":300.10000000000002},{"$f":"ROUND((X95/6)*Weightings!$M$6,1)","v":25},{"$f":"IF(ISNA(VLOOKUP($DC95,'Audit Values'!$A$2:$AE$252,2,FALSE)),'Preliminary SO66'!F92,VLOOKUP($DC95,'Audit Values'!$A$2:$AE$252,6,FALSE))","v":2.2000000000000002},{"$f":"ROUND((Z95/6)*Weightings!$M$7,1)","v":0.1},{"$f":"IF(ISNA(VLOOKUP($DC95,'Audit Values'!$A$2:$AE$252,2,FALSE)),'Preliminary SO66'!H92,VLOOKUP($DC95,'Audit Values'!$A$2:$AE$252,9,FALSE))","v":281},{"$f":"ROUND(AB95*Weightings!$M$8,1)","v":128.1},29.5,0,{"$f":"AE95*Weightings!$M$9","v":0},{"$f":"IF(ISNA(VLOOKUP($DC95,'Audit Values'!$A$2:$AE$252,2,FALSE)),'Preliminary SO66'!L92,VLOOKUP($DC95,'Audit Values'!$A$2:$AE$252,12,FALSE))","v":22.4},{"$f":"ROUND(AG95*Weightings!$M$10,1)","v":5.6},{"$f":"IF(ISNA(VLOOKUP($DC95,'Audit Values'!$A$2:$AE$252,2,FALSE)),'Preliminary SO66'!O92,VLOOKUP($DC95,'Audit Values'!$A$2:$AE$252,15,FALSE))","v":448},97.1,{"$f":"CG95/Weightings!$M$5","v":0},{"$f":"CH95/Weightings!$M$5","v":0},{"$f":"CL95/Weightings!$M$5","v":0},0,{"$f":"IF(ISNA(VLOOKUP($DC95,'Audit Values'!$A$2:$AE$252,2,FALSE)),'Preliminary SO66'!X92,VLOOKUP($DC95,'Audit Values'!$A$2:$AE$252,24,FALSE))","v":1},443541,{"$f":"AP95/Weightings!$M$5","v":115.1},1068.0999999999999,1183.2,1183.2,0,{"$f":"IF(ISNA(VLOOKUP($DC95,'Audit Values'!$A$2:$AC$299,2,FALSE)),\"\",IF(AND(Weightings!H95>0,VLOOKUP($DC95,'Audit Values'!$A$2:$AC$299,29,FALSE)<Weightings!H95),Weightings!H95,VLOOKUP($DC95,'Audit Values'!$A$2:$AC$299,29,FALSE)))","v":5},{"$f":"IF(ISNA(VLOOKUP($DC95,'Audit Values'!$A$2:$AD$299,2,FALSE)),\"\",VLOOKUP($DC95,'Audit Values'!$A$2:$AD$299,30,FALSE))","v":"A"},{"$f":"IF(Weightings!G95=\"\",\"\",IF(Weightings!I95=\"Pending\",\"PX\",\"R\"))","v":""},{"$f":"AR95*Weightings!$M$5+AU95","v":4114321},{"$f":"AT95*Weightings!$M$5+AU95","v":4557686},{"$f":"IF(Weightings!G95>0,Weightings!G95,'Preliminary SO66'!AB92)","v":6007229},950533,269154,0,4787542,4557686,null,{"$f":"Weightings!E95","v":0},{"$f":"Weightings!F95","v":0},0,4557686,{"$f":"MAX(ROUND(((AR95-AN95-AO95)*Weightings!$M$12)+'2016legmax.xls'!AP95,0),ROUND((('2016legmax.xls'!AR95-'2016legmax.xls'!AN95-'2016legmax.xls'!AO95)*Weightings!$M$12)+Weightings!B95,0))","v":5270925},0.3,1581278,1592996,1581278,0.3,0,false,0,0,0,true,321.75,0.39585199999999998,221.7,0,142.1,3.15,{"$f":"IF(ROUND((Weightings!$P$5*CC95^Weightings!$P$6*Weightings!$P$8 ),2)<Weightings!$P$7,Weightings!$P$7,ROUND((Weightings!$P$5*CC95^Weightings!$P$6*Weightings!$P$8 ),2))","v":835.01},{"$f":"ROUND(CD95/Weightings!$M$5,4)","v":0.21679999999999999},97.1,0,0,0,0,{"$f":"AS95*Weightings!$M$5*CJ95","v":0},0,0.502,3.9,29.5,0,0,{"$f":"IF(ISNA(VLOOKUP($DC95,'Audit Values'!$A$2:$AE$252,2,FALSE)),'Preliminary SO66'!T92,VLOOKUP($DC95,'Audit Values'!$A$2:$AE$252,20,FALSE))","v":0},{"$f":"IF(ISNA(VLOOKUP($DC95,'Audit Values'!$A$2:$AE$252,21,FALSE)),'Preliminary SO66'!U92,VLOOKUP($DC95,'Audit Values'!$A$2:$AE$252,21,FALSE))","v":0},0,0,null,null,null,null,null,null,null,"D0288"]
[289,"Franklin","Wellsville ",762.4,0,762.4,765,0,765,753,{"$f":"IF(ISNA(VLOOKUP($DC96,'Audit Values'!$A$2:$AE$252,2,FALSE)),'Preliminary SO66'!B93,VLOOKUP($DC96,'Audit Values'!$A$2:$AE$252,31,FALSE))","v":753},765,{"$f":"IF(ISNA(VLOOKUP($DC96,'Audit Values'!$A$2:$AE$252,2,FALSE)),'Preliminary SO66'!Z93,VLOOKUP($DC96,'Audit Values'!$A$2:$AE$252,26,FALSE))","v":0},765,{"$f":"IF(ISNA(VLOOKUP($DC96,'Audit Values'!$A$2:$AE$252,2,FALSE)),'Preliminary SO66'!C93,IF(VLOOKUP($DC96,'Audit Values'!$A$2:$AE$252,28,FALSE)=\"\",VLOOKUP($DC96,'Audit Values'!$A$2:$AE$252,3,FALSE),VLOOKUP($DC96,'Audit Values'!$A$2:$AE$252,28,FALSE)))","v":0},753,753,753,765,0,249.5,249.5,0,{"$f":"IF(ISNA(VLOOKUP($DC96,'Audit Values'!$A$2:$AE$252,2,FALSE)),'Preliminary SO66'!D93,VLOOKUP($DC96,'Audit Values'!$A$2:$AE$252,4,FALSE))","v":210.3},{"$f":"ROUND((X96/6)*Weightings!$M$6,1)","v":17.5},{"$f":"IF(ISNA(VLOOKUP($DC96,'Audit Values'!$A$2:$AE$252,2,FALSE)),'Preliminary SO66'!F93,VLOOKUP($DC96,'Audit Values'!$A$2:$AE$252,6,FALSE))","v":0},{"$f":"ROUND((Z96/6)*Weightings!$M$7,1)","v":0},{"$f":"IF(ISNA(VLOOKUP($DC96,'Audit Values'!$A$2:$AE$252,2,FALSE)),'Preliminary SO66'!H93,VLOOKUP($DC96,'Audit Values'!$A$2:$AE$252,9,FALSE))","v":199},{"$f":"ROUND(AB96*Weightings!$M$8,1)","v":90.7},0,0,{"$f":"AE96*Weightings!$M$9","v":0},{"$f":"IF(ISNA(VLOOKUP($DC96,'Audit Values'!$A$2:$AE$252,2,FALSE)),'Preliminary SO66'!L93,VLOOKUP($DC96,'Audit Values'!$A$2:$AE$252,12,FALSE))","v":0},{"$f":"ROUND(AG96*Weightings!$M$10,1)","v":0},{"$f":"IF(ISNA(VLOOKUP($DC96,'Audit Values'!$A$2:$AE$252,2,FALSE)),'Preliminary SO66'!O93,VLOOKUP($DC96,'Audit Values'!$A$2:$AE$252,15,FALSE))","v":226.5},56.1,{"$f":"CG96/Weightings!$M$5","v":0},{"$f":"CH96/Weightings!$M$5","v":0},{"$f":"CL96/Weightings!$M$5","v":0},0,{"$f":"IF(ISNA(VLOOKUP($DC96,'Audit Values'!$A$2:$AE$252,2,FALSE)),'Preliminary SO66'!X93,VLOOKUP($DC96,'Audit Values'!$A$2:$AE$252,24,FALSE))","v":1},767635,{"$f":"AP96/Weightings!$M$5","v":199.3},1179.8,1379.1,1379.1,0,{"$f":"IF(ISNA(VLOOKUP($DC96,'Audit Values'!$A$2:$AC$299,2,FALSE)),\"\",IF(AND(Weightings!H96>0,VLOOKUP($DC96,'Audit Values'!$A$2:$AC$299,29,FALSE)<Weightings!H96),Weightings!H96,VLOOKUP($DC96,'Audit Values'!$A$2:$AC$299,29,FALSE)))","v":1},{"$f":"IF(ISNA(VLOOKUP($DC96,'Audit Values'!$A$2:$AD$299,2,FALSE)),\"\",VLOOKUP($DC96,'Audit Values'!$A$2:$AD$299,30,FALSE))","v":"A"},{"$f":"IF(Weightings!G96=\"\",\"\",IF(Weightings!I96=\"Pending\",\"PX\",\"R\"))","v":""},{"$f":"AR96*Weightings!$M$5+AU96","v":4544590},{"$f":"AT96*Weightings!$M$5+AU96","v":5312293},{"$f":"IF(Weightings!G96>0,Weightings!G96,'Preliminary SO66'!AB93)","v":6743680},804661,367406,57701,5513912,5312293,null,{"$f":"Weightings!E96","v":0},{"$f":"Weightings!F96","v":0},0,5312293,{"$f":"MAX(ROUND(((AR96-AN96-AO96)*Weightings!$M$12)+'2016legmax.xls'!AP96,0),ROUND((('2016legmax.xls'!AR96-'2016legmax.xls'!AN96-'2016legmax.xls'!AO96)*Weightings!$M$12)+Weightings!B96,0))","v":6080434},0.3,1824130,1833608,1824130,0.3,0,false,0,0,0,true,575.4375,0.32620300000000002,249.5,0,130,1.74,{"$f":"IF(ROUND((Weightings!$P$5*CC96^Weightings!$P$6*Weightings!$P$8 ),2)<Weightings!$P$7,Weightings!$P$7,ROUND((Weightings!$P$5*CC96^Weightings!$P$6*Weightings!$P$8 ),2))","v":954.99},{"$f":"ROUND(CD96/Weightings!$M$5,4)","v":0.24790000000000001},56.1,0,0,0,0,{"$f":"AS96*Weightings!$M$5*CJ96","v":0},0,0.26,5.9,0,0,0,{"$f":"IF(ISNA(VLOOKUP($DC96,'Audit Values'!$A$2:$AE$252,2,FALSE)),'Preliminary SO66'!T93,VLOOKUP($DC96,'Audit Values'!$A$2:$AE$252,20,FALSE))","v":0},{"$f":"IF(ISNA(VLOOKUP($DC96,'Audit Values'!$A$2:$AE$252,21,FALSE)),'Preliminary SO66'!U93,VLOOKUP($DC96,'Audit Values'!$A$2:$AE$252,21,FALSE))","v":0},0,0,null,null,null,null,null,null,null,"D0289"]
[290,"Franklin","Ottawa ",2355.6,0,2355.6,2375.4,0,2375.4,2319.1999999999998,{"$f":"IF(ISNA(VLOOKUP($DC97,'Audit Values'!$A$2:$AE$252,2,FALSE)),'Preliminary SO66'!B94,VLOOKUP($DC97,'Audit Values'!$A$2:$AE$252,31,FALSE))","v":2294.3000000000002},2375.4,{"$f":"IF(ISNA(VLOOKUP($DC97,'Audit Values'!$A$2:$AE$252,2,FALSE)),'Preliminary SO66'!Z94,VLOOKUP($DC97,'Audit Values'!$A$2:$AE$252,26,FALSE))","v":0},2375.4,{"$f":"IF(ISNA(VLOOKUP($DC97,'Audit Values'!$A$2:$AE$252,2,FALSE)),'Preliminary SO66'!C94,IF(VLOOKUP($DC97,'Audit Values'!$A$2:$AE$252,28,FALSE)=\"\",VLOOKUP($DC97,'Audit Values'!$A$2:$AE$252,3,FALSE),VLOOKUP($DC97,'Audit Values'!$A$2:$AE$252,28,FALSE)))","v":18},2312.3000000000002,2337.1999999999998,2337.1999999999998,2393.4,24.9,83.9,0,83.9,{"$f":"IF(ISNA(VLOOKUP($DC97,'Audit Values'!$A$2:$AE$252,2,FALSE)),'Preliminary SO66'!D94,VLOOKUP($DC97,'Audit Values'!$A$2:$AE$252,4,FALSE))","v":630.9},{"$f":"ROUND((X97/6)*Weightings!$M$6,1)","v":52.6},{"$f":"IF(ISNA(VLOOKUP($DC97,'Audit Values'!$A$2:$AE$252,2,FALSE)),'Preliminary SO66'!F94,VLOOKUP($DC97,'Audit Values'!$A$2:$AE$252,6,FALSE))","v":12.9},{"$f":"ROUND((Z97/6)*Weightings!$M$7,1)","v":0.8},{"$f":"IF(ISNA(VLOOKUP($DC97,'Audit Values'!$A$2:$AE$252,2,FALSE)),'Preliminary SO66'!H94,VLOOKUP($DC97,'Audit Values'!$A$2:$AE$252,9,FALSE))","v":1179},{"$f":"ROUND(AB97*Weightings!$M$8,1)","v":537.6},118,0,{"$f":"AE97*Weightings!$M$9","v":0},{"$f":"IF(ISNA(VLOOKUP($DC97,'Audit Values'!$A$2:$AE$252,2,FALSE)),'Preliminary SO66'!L94,VLOOKUP($DC97,'Audit Values'!$A$2:$AE$252,12,FALSE))","v":0},{"$f":"ROUND(AG97*Weightings!$M$10,1)","v":0},{"$f":"IF(ISNA(VLOOKUP($DC97,'Audit Values'!$A$2:$AE$252,2,FALSE)),'Preliminary SO66'!O94,VLOOKUP($DC97,'Audit Values'!$A$2:$AE$252,15,FALSE))","v":698},130.69999999999999,{"$f":"CG97/Weightings!$M$5","v":0},{"$f":"CH97/Weightings!$M$5","v":0},{"$f":"CL97/Weightings!$M$5","v":0},26.1,{"$f":"IF(ISNA(VLOOKUP($DC97,'Audit Values'!$A$2:$AE$252,2,FALSE)),'Preliminary SO66'!X94,VLOOKUP($DC97,'Audit Values'!$A$2:$AE$252,24,FALSE))","v":1},2238936,{"$f":"AP97/Weightings!$M$5","v":581.20000000000005},3344.1,3925.3,3925.3,0,{"$f":"IF(ISNA(VLOOKUP($DC97,'Audit Values'!$A$2:$AC$299,2,FALSE)),\"\",IF(AND(Weightings!H97>0,VLOOKUP($DC97,'Audit Values'!$A$2:$AC$299,29,FALSE)<Weightings!H97),Weightings!H97,VLOOKUP($DC97,'Audit Values'!$A$2:$AC$299,29,FALSE)))","v":10},{"$f":"IF(ISNA(VLOOKUP($DC97,'Audit Values'!$A$2:$AD$299,2,FALSE)),\"\",VLOOKUP($DC97,'Audit Values'!$A$2:$AD$299,30,FALSE))","v":"A"},{"$f":"IF(Weightings!G97=\"\",\"\",IF(Weightings!I97=\"Pending\",\"PX\",\"R\"))","v":""},{"$f":"AR97*Weightings!$M$5+AU97","v":12881473},{"$f":"AT97*Weightings!$M$5+AU97","v":15120256},{"$f":"IF(Weightings!G97>0,Weightings!G97,'Preliminary SO66'!AB94)","v":20243809},2790842,1333298,252929,15866740,15120256,null,{"$f":"Weightings!E97","v":0},{"$f":"Weightings!F97","v":0},0,15120256,{"$f":"MAX(ROUND(((AR97-AN97-AO97)*Weightings!$M$12)+'2016legmax.xls'!AP97,0),ROUND((('2016legmax.xls'!AR97-'2016legmax.xls'!AN97-'2016legmax.xls'!AO97)*Weightings!$M$12)+Weightings!B97,0))","v":17132266},0.3,5139680,5069420,5069420,0.2959,0,false,0,0,0,false,0,0,0,83.9,115.9,6.02,{"$f":"IF(ROUND((Weightings!$P$5*CC97^Weightings!$P$6*Weightings!$P$8 ),2)<Weightings!$P$7,Weightings!$P$7,ROUND((Weightings!$P$5*CC97^Weightings!$P$6*Weightings!$P$8 ),2))","v":721.21},{"$f":"ROUND(CD97/Weightings!$M$5,4)","v":0.18720000000000001},130.69999999999999,0,0,0,0,{"$f":"AS97*Weightings!$M$5*CJ97","v":0},0,0.49299999999999999,20.7,0,0,118,{"$f":"IF(ISNA(VLOOKUP($DC97,'Audit Values'!$A$2:$AE$252,2,FALSE)),'Preliminary SO66'!T94,VLOOKUP($DC97,'Audit Values'!$A$2:$AE$252,20,FALSE))","v":21},{"$f":"IF(ISNA(VLOOKUP($DC97,'Audit Values'!$A$2:$AE$252,21,FALSE)),'Preliminary SO66'!U94,VLOOKUP($DC97,'Audit Values'!$A$2:$AE$252,21,FALSE))","v":3.9},0,24.9,null,null,null,null,null,null,null,"D0290"]
[291,"Gove","Grinnell Public Schools ",90,0,90,82.5,0,82.5,85.5,{"$f":"IF(ISNA(VLOOKUP($DC98,'Audit Values'!$A$2:$AE$252,2,FALSE)),'Preliminary SO66'!B95,VLOOKUP($DC98,'Audit Values'!$A$2:$AE$252,31,FALSE))","v":85.5},86,{"$f":"IF(ISNA(VLOOKUP($DC98,'Audit Values'!$A$2:$AE$252,2,FALSE)),'Preliminary SO66'!Z95,VLOOKUP($DC98,'Audit Values'!$A$2:$AE$252,26,FALSE))","v":0},86,{"$f":"IF(ISNA(VLOOKUP($DC98,'Audit Values'!$A$2:$AE$252,2,FALSE)),'Preliminary SO66'!C95,IF(VLOOKUP($DC98,'Audit Values'!$A$2:$AE$252,28,FALSE)=\"\",VLOOKUP($DC98,'Audit Values'!$A$2:$AE$252,3,FALSE),VLOOKUP($DC98,'Audit Values'!$A$2:$AE$252,28,FALSE)))","v":0},85.5,85.5,85.5,86,0,87.2,87.2,0,{"$f":"IF(ISNA(VLOOKUP($DC98,'Audit Values'!$A$2:$AE$252,2,FALSE)),'Preliminary SO66'!D95,VLOOKUP($DC98,'Audit Values'!$A$2:$AE$252,4,FALSE))","v":15.7},{"$f":"ROUND((X98/6)*Weightings!$M$6,1)","v":1.3},{"$f":"IF(ISNA(VLOOKUP($DC98,'Audit Values'!$A$2:$AE$252,2,FALSE)),'Preliminary SO66'!F95,VLOOKUP($DC98,'Audit Values'!$A$2:$AE$252,6,FALSE))","v":0},{"$f":"ROUND((Z98/6)*Weightings!$M$7,1)","v":0},{"$f":"IF(ISNA(VLOOKUP($DC98,'Audit Values'!$A$2:$AE$252,2,FALSE)),'Preliminary SO66'!H95,VLOOKUP($DC98,'Audit Values'!$A$2:$AE$252,9,FALSE))","v":24},{"$f":"ROUND(AB98*Weightings!$M$8,1)","v":10.9},0,0,{"$f":"AE98*Weightings!$M$9","v":0},{"$f":"IF(ISNA(VLOOKUP($DC98,'Audit Values'!$A$2:$AE$252,2,FALSE)),'Preliminary SO66'!L95,VLOOKUP($DC98,'Audit Values'!$A$2:$AE$252,12,FALSE))","v":0},{"$f":"ROUND(AG98*Weightings!$M$10,1)","v":0},{"$f":"IF(ISNA(VLOOKUP($DC98,'Audit Values'!$A$2:$AE$252,2,FALSE)),'Preliminary SO66'!O95,VLOOKUP($DC98,'Audit Values'!$A$2:$AE$252,15,FALSE))","v":35},15.6,{"$f":"CG98/Weightings!$M$5","v":0},{"$f":"CH98/Weightings!$M$5","v":0},{"$f":"CL98/Weightings!$M$5","v":0},0,{"$f":"IF(ISNA(VLOOKUP($DC98,'Audit Values'!$A$2:$AE$252,2,FALSE)),'Preliminary SO66'!X95,VLOOKUP($DC98,'Audit Values'!$A$2:$AE$252,24,FALSE))","v":0},95876,{"$f":"AP98/Weightings!$M$5","v":24.9},201,225.9,225.9,0,{"$f":"IF(ISNA(VLOOKUP($DC98,'Audit Values'!$A$2:$AC$299,2,FALSE)),\"\",IF(AND(Weightings!H98>0,VLOOKUP($DC98,'Audit Values'!$A$2:$AC$299,29,FALSE)<Weightings!H98),Weightings!H98,VLOOKUP($DC98,'Audit Values'!$A$2:$AC$299,29,FALSE)))","v":9},{"$f":"IF(ISNA(VLOOKUP($DC98,'Audit Values'!$A$2:$AD$299,2,FALSE)),\"\",VLOOKUP($DC98,'Audit Values'!$A$2:$AD$299,30,FALSE))","v":"A"},{"$f":"IF(Weightings!G98=\"\",\"\",IF(Weightings!I98=\"Pending\",\"PX\",\"R\"))","v":""},{"$f":"AR98*Weightings!$M$5+AU98","v":774252},{"$f":"AT98*Weightings!$M$5+AU98","v":870167},{"$f":"IF(Weightings!G98>0,Weightings!G98,'Preliminary SO66'!AB95)","v":991850},0,55407,0,936443,870167,null,{"$f":"Weightings!E98","v":0},{"$f":"Weightings!F98","v":0},0,870167,{"$f":"MAX(ROUND(((AR98-AN98-AO98)*Weightings!$M$12)+'2016legmax.xls'!AP98,0),ROUND((('2016legmax.xls'!AR98-'2016legmax.xls'!AN98-'2016legmax.xls'!AO98)*Weightings!$M$12)+Weightings!B98,0))","v":998366},0.21260000000000001,212253,212672,212253,0.21260000000000001,87.2,false,0,0,0,false,0,0,0,0,267.8,0.13,{"$f":"IF(ROUND((Weightings!$P$5*CC98^Weightings!$P$6*Weightings!$P$8 ),2)<Weightings!$P$7,Weightings!$P$7,ROUND((Weightings!$P$5*CC98^Weightings!$P$6*Weightings!$P$8 ),2))","v":1717.3},{"$f":"ROUND(CD98/Weightings!$M$5,4)","v":0.44579999999999997},15.6,0,0,0,0,{"$f":"AS98*Weightings!$M$5*CJ98","v":0},0,0.27900000000000003,0.3,0,0,0,{"$f":"IF(ISNA(VLOOKUP($DC98,'Audit Values'!$A$2:$AE$252,2,FALSE)),'Preliminary SO66'!T95,VLOOKUP($DC98,'Audit Values'!$A$2:$AE$252,20,FALSE))","v":0},{"$f":"IF(ISNA(VLOOKUP($DC98,'Audit Values'!$A$2:$AE$252,21,FALSE)),'Preliminary SO66'!U95,VLOOKUP($DC98,'Audit Values'!$A$2:$AE$252,21,FALSE))","v":0},0,0,null,null,null,null,null,null,null,"D0291"]
[292,"Gove","Wheatland ",97.5,0,97.5,106.5,0,106.5,102,{"$f":"IF(ISNA(VLOOKUP($DC99,'Audit Values'!$A$2:$AE$252,2,FALSE)),'Preliminary SO66'!B96,VLOOKUP($DC99,'Audit Values'!$A$2:$AE$252,31,FALSE))","v":102},106.5,{"$f":"IF(ISNA(VLOOKUP($DC99,'Audit Values'!$A$2:$AE$252,2,FALSE)),'Preliminary SO66'!Z96,VLOOKUP($DC99,'Audit Values'!$A$2:$AE$252,26,FALSE))","v":0},106.5,{"$f":"IF(ISNA(VLOOKUP($DC99,'Audit Values'!$A$2:$AE$252,2,FALSE)),'Preliminary SO66'!C96,IF(VLOOKUP($DC99,'Audit Values'!$A$2:$AE$252,28,FALSE)=\"\",VLOOKUP($DC99,'Audit Values'!$A$2:$AE$252,3,FALSE),VLOOKUP($DC99,'Audit Values'!$A$2:$AE$252,28,FALSE)))","v":0},102,102,102,106.5,0,106.2,106.2,0,{"$f":"IF(ISNA(VLOOKUP($DC99,'Audit Values'!$A$2:$AE$252,2,FALSE)),'Preliminary SO66'!D96,VLOOKUP($DC99,'Audit Values'!$A$2:$AE$252,4,FALSE))","v":21.3},{"$f":"ROUND((X99/6)*Weightings!$M$6,1)","v":1.8},{"$f":"IF(ISNA(VLOOKUP($DC99,'Audit Values'!$A$2:$AE$252,2,FALSE)),'Preliminary SO66'!F96,VLOOKUP($DC99,'Audit Values'!$A$2:$AE$252,6,FALSE))","v":0},{"$f":"ROUND((Z99/6)*Weightings!$M$7,1)","v":0},{"$f":"IF(ISNA(VLOOKUP($DC99,'Audit Values'!$A$2:$AE$252,2,FALSE)),'Preliminary SO66'!H96,VLOOKUP($DC99,'Audit Values'!$A$2:$AE$252,9,FALSE))","v":30},{"$f":"ROUND(AB99*Weightings!$M$8,1)","v":13.7},0,0,{"$f":"AE99*Weightings!$M$9","v":0},{"$f":"IF(ISNA(VLOOKUP($DC99,'Audit Values'!$A$2:$AE$252,2,FALSE)),'Preliminary SO66'!L96,VLOOKUP($DC99,'Audit Values'!$A$2:$AE$252,12,FALSE))","v":0},{"$f":"ROUND(AG99*Weightings!$M$10,1)","v":0},{"$f":"IF(ISNA(VLOOKUP($DC99,'Audit Values'!$A$2:$AE$252,2,FALSE)),'Preliminary SO66'!O96,VLOOKUP($DC99,'Audit Values'!$A$2:$AE$252,15,FALSE))","v":63.5},27.4,{"$f":"CG99/Weightings!$M$5","v":0},{"$f":"CH99/Weightings!$M$5","v":0},{"$f":"CL99/Weightings!$M$5","v":0},0,{"$f":"IF(ISNA(VLOOKUP($DC99,'Audit Values'!$A$2:$AE$252,2,FALSE)),'Preliminary SO66'!X96,VLOOKUP($DC99,'Audit Values'!$A$2:$AE$252,24,FALSE))","v":0},149495,{"$f":"AP99/Weightings!$M$5","v":38.799999999999997},255.6,294.39999999999998,294.39999999999998,0,{"$f":"IF(ISNA(VLOOKUP($DC99,'Audit Values'!$A$2:$AC$299,2,FALSE)),\"\",IF(AND(Weightings!H99>0,VLOOKUP($DC99,'Audit Values'!$A$2:$AC$299,29,FALSE)<Weightings!H99),Weightings!H99,VLOOKUP($DC99,'Audit Values'!$A$2:$AC$299,29,FALSE)))","v":9},{"$f":"IF(ISNA(VLOOKUP($DC99,'Audit Values'!$A$2:$AD$299,2,FALSE)),\"\",VLOOKUP($DC99,'Audit Values'!$A$2:$AD$299,30,FALSE))","v":"A"},{"$f":"IF(Weightings!G99=\"\",\"\",IF(Weightings!I99=\"Pending\",\"PX\",\"R\"))","v":""},{"$f":"AR99*Weightings!$M$5+AU99","v":984571},{"$f":"AT99*Weightings!$M$5+AU99","v":1134029},{"$f":"IF(Weightings!G99>0,Weightings!G99,'Preliminary SO66'!AB96)","v":1261162},0,84871,0,1176291,1134029,null,{"$f":"Weightings!E99","v":0},{"$f":"Weightings!F99","v":0},0,1134029,{"$f":"MAX(ROUND(((AR99-AN99-AO99)*Weightings!$M$12)+'2016legmax.xls'!AP99,0),ROUND((('2016legmax.xls'!AR99-'2016legmax.xls'!AN99-'2016legmax.xls'!AO99)*Weightings!$M$12)+Weightings!B99,0))","v":1345109},0.3,403533,405823,403533,0.3,0,true,62.758000000000003,0.99710100000000002,106.2,false,0,0,0,0,437,0.15,{"$f":"IF(ROUND((Weightings!$P$5*CC99^Weightings!$P$6*Weightings!$P$8 ),2)<Weightings!$P$7,Weightings!$P$7,ROUND((Weightings!$P$5*CC99^Weightings!$P$6*Weightings!$P$8 ),2))","v":1662.6},{"$f":"ROUND(CD99/Weightings!$M$5,4)","v":0.43159999999999998},27.4,0,0,0,0,{"$f":"AS99*Weightings!$M$5*CJ99","v":0},0,0.28199999999999997,0.2,0,0,0,{"$f":"IF(ISNA(VLOOKUP($DC99,'Audit Values'!$A$2:$AE$252,2,FALSE)),'Preliminary SO66'!T96,VLOOKUP($DC99,'Audit Values'!$A$2:$AE$252,20,FALSE))","v":0},{"$f":"IF(ISNA(VLOOKUP($DC99,'Audit Values'!$A$2:$AE$252,21,FALSE)),'Preliminary SO66'!U96,VLOOKUP($DC99,'Audit Values'!$A$2:$AE$252,21,FALSE))","v":0},0,0,null,null,null,null,null,null,null,"D0292"]
[293,"Gove","Quinter Public Schools ",285.5,0,285.5,283.5,0,283.5,269,{"$f":"IF(ISNA(VLOOKUP($DC100,'Audit Values'!$A$2:$AE$252,2,FALSE)),'Preliminary SO66'!B97,VLOOKUP($DC100,'Audit Values'!$A$2:$AE$252,31,FALSE))","v":269},283.5,{"$f":"IF(ISNA(VLOOKUP($DC100,'Audit Values'!$A$2:$AE$252,2,FALSE)),'Preliminary SO66'!Z97,VLOOKUP($DC100,'Audit Values'!$A$2:$AE$252,26,FALSE))","v":0},283.5,{"$f":"IF(ISNA(VLOOKUP($DC100,'Audit Values'!$A$2:$AE$252,2,FALSE)),'Preliminary SO66'!C97,IF(VLOOKUP($DC100,'Audit Values'!$A$2:$AE$252,28,FALSE)=\"\",VLOOKUP($DC100,'Audit Values'!$A$2:$AE$252,3,FALSE),VLOOKUP($DC100,'Audit Values'!$A$2:$AE$252,28,FALSE)))","v":3},272,272,272,286.5,0,149,149,0,{"$f":"IF(ISNA(VLOOKUP($DC100,'Audit Values'!$A$2:$AE$252,2,FALSE)),'Preliminary SO66'!D97,VLOOKUP($DC100,'Audit Values'!$A$2:$AE$252,4,FALSE))","v":43.1},{"$f":"ROUND((X100/6)*Weightings!$M$6,1)","v":3.6},{"$f":"IF(ISNA(VLOOKUP($DC100,'Audit Values'!$A$2:$AE$252,2,FALSE)),'Preliminary SO66'!F97,VLOOKUP($DC100,'Audit Values'!$A$2:$AE$252,6,FALSE))","v":23.1},{"$f":"ROUND((Z100/6)*Weightings!$M$7,1)","v":1.5},{"$f":"IF(ISNA(VLOOKUP($DC100,'Audit Values'!$A$2:$AE$252,2,FALSE)),'Preliminary SO66'!H97,VLOOKUP($DC100,'Audit Values'!$A$2:$AE$252,9,FALSE))","v":69},{"$f":"ROUND(AB100*Weightings!$M$8,1)","v":31.5},0,0,{"$f":"AE100*Weightings!$M$9","v":0},{"$f":"IF(ISNA(VLOOKUP($DC100,'Audit Values'!$A$2:$AE$252,2,FALSE)),'Preliminary SO66'!L97,VLOOKUP($DC100,'Audit Values'!$A$2:$AE$252,12,FALSE))","v":0},{"$f":"ROUND(AG100*Weightings!$M$10,1)","v":0},{"$f":"IF(ISNA(VLOOKUP($DC100,'Audit Values'!$A$2:$AE$252,2,FALSE)),'Preliminary SO66'!O97,VLOOKUP($DC100,'Audit Values'!$A$2:$AE$252,15,FALSE))","v":73},30.2,{"$f":"CG100/Weightings!$M$5","v":0},{"$f":"CH100/Weightings!$M$5","v":0},{"$f":"CL100/Weightings!$M$5","v":0},0,{"$f":"IF(ISNA(VLOOKUP($DC100,'Audit Values'!$A$2:$AE$252,2,FALSE)),'Preliminary SO66'!X97,VLOOKUP($DC100,'Audit Values'!$A$2:$AE$252,24,FALSE))","v":0},300590,{"$f":"AP100/Weightings!$M$5","v":78},502.3,580.29999999999995,580.29999999999995,0,{"$f":"IF(ISNA(VLOOKUP($DC100,'Audit Values'!$A$2:$AC$299,2,FALSE)),\"\",IF(AND(Weightings!H100>0,VLOOKUP($DC100,'Audit Values'!$A$2:$AC$299,29,FALSE)<Weightings!H100),Weightings!H100,VLOOKUP($DC100,'Audit Values'!$A$2:$AC$299,29,FALSE)))","v":9},{"$f":"IF(ISNA(VLOOKUP($DC100,'Audit Values'!$A$2:$AD$299,2,FALSE)),\"\",VLOOKUP($DC100,'Audit Values'!$A$2:$AD$299,30,FALSE))","v":"A"},{"$f":"IF(Weightings!G100=\"\",\"\",IF(Weightings!I100=\"Pending\",\"PX\",\"R\"))","v":""},{"$f":"AR100*Weightings!$M$5+AU100","v":1934860},{"$f":"AT100*Weightings!$M$5+AU100","v":2235316},{"$f":"IF(Weightings!G100>0,Weightings!G100,'Preliminary SO66'!AB97)","v":2960322},204147,152177,0,2603998,2235316,null,{"$f":"Weightings!E100","v":0},{"$f":"Weightings!F100","v":0},0,2235316,{"$f":"MAX(ROUND(((AR100-AN100-AO100)*Weightings!$M$12)+'2016legmax.xls'!AP100,0),ROUND((('2016legmax.xls'!AR100-'2016legmax.xls'!AN100-'2016legmax.xls'!AO100)*Weightings!$M$12)+Weightings!B100,0))","v":2623972},0.31,813431,860964,813431,0.31,0,true,1800.6579999999999,0.51997099999999996,149,false,0,0,0,0,400.8,0.18,{"$f":"IF(ROUND((Weightings!$P$5*CC100^Weightings!$P$6*Weightings!$P$8 ),2)<Weightings!$P$7,Weightings!$P$7,ROUND((Weightings!$P$5*CC100^Weightings!$P$6*Weightings!$P$8 ),2))","v":1595.42},{"$f":"ROUND(CD100/Weightings!$M$5,4)","v":0.41420000000000001},30.2,0,0,0,0,{"$f":"AS100*Weightings!$M$5*CJ100","v":0},0,0.24099999999999999,0.7,0,0,0,{"$f":"IF(ISNA(VLOOKUP($DC100,'Audit Values'!$A$2:$AE$252,2,FALSE)),'Preliminary SO66'!T97,VLOOKUP($DC100,'Audit Values'!$A$2:$AE$252,20,FALSE))","v":0},{"$f":"IF(ISNA(VLOOKUP($DC100,'Audit Values'!$A$2:$AE$252,21,FALSE)),'Preliminary SO66'!U97,VLOOKUP($DC100,'Audit Values'!$A$2:$AE$252,21,FALSE))","v":0},0,0,null,null,null,null,null,null,null,"D0293"]
[294,"Decatur","Oberlin ",344.5,0,344.5,332,0,332,310.5,{"$f":"IF(ISNA(VLOOKUP($DC101,'Audit Values'!$A$2:$AE$252,2,FALSE)),'Preliminary SO66'!B98,VLOOKUP($DC101,'Audit Values'!$A$2:$AE$252,31,FALSE))","v":310.5},332,{"$f":"IF(ISNA(VLOOKUP($DC101,'Audit Values'!$A$2:$AE$252,2,FALSE)),'Preliminary SO66'!Z98,VLOOKUP($DC101,'Audit Values'!$A$2:$AE$252,26,FALSE))","v":0},332,{"$f":"IF(ISNA(VLOOKUP($DC101,'Audit Values'!$A$2:$AE$252,2,FALSE)),'Preliminary SO66'!C98,IF(VLOOKUP($DC101,'Audit Values'!$A$2:$AE$252,28,FALSE)=\"\",VLOOKUP($DC101,'Audit Values'!$A$2:$AE$252,3,FALSE),VLOOKUP($DC101,'Audit Values'!$A$2:$AE$252,28,FALSE)))","v":0},310.5,310.5,310.5,332,0,157.1,157.1,0,{"$f":"IF(ISNA(VLOOKUP($DC101,'Audit Values'!$A$2:$AE$252,2,FALSE)),'Preliminary SO66'!D98,VLOOKUP($DC101,'Audit Values'!$A$2:$AE$252,4,FALSE))","v":56.7},{"$f":"ROUND((X101/6)*Weightings!$M$6,1)","v":4.7},{"$f":"IF(ISNA(VLOOKUP($DC101,'Audit Values'!$A$2:$AE$252,2,FALSE)),'Preliminary SO66'!F98,VLOOKUP($DC101,'Audit Values'!$A$2:$AE$252,6,FALSE))","v":0},{"$f":"ROUND((Z101/6)*Weightings!$M$7,1)","v":0},{"$f":"IF(ISNA(VLOOKUP($DC101,'Audit Values'!$A$2:$AE$252,2,FALSE)),'Preliminary SO66'!H98,VLOOKUP($DC101,'Audit Values'!$A$2:$AE$252,9,FALSE))","v":108},{"$f":"ROUND(AB101*Weightings!$M$8,1)","v":49.2},0,0,{"$f":"AE101*Weightings!$M$9","v":0},{"$f":"IF(ISNA(VLOOKUP($DC101,'Audit Values'!$A$2:$AE$252,2,FALSE)),'Preliminary SO66'!L98,VLOOKUP($DC101,'Audit Values'!$A$2:$AE$252,12,FALSE))","v":0},{"$f":"ROUND(AG101*Weightings!$M$10,1)","v":0},{"$f":"IF(ISNA(VLOOKUP($DC101,'Audit Values'!$A$2:$AE$252,2,FALSE)),'Preliminary SO66'!O98,VLOOKUP($DC101,'Audit Values'!$A$2:$AE$252,15,FALSE))","v":71.5},34.6,{"$f":"CG101/Weightings!$M$5","v":0},{"$f":"CH101/Weightings!$M$5","v":0},{"$f":"CL101/Weightings!$M$5","v":0},0,{"$f":"IF(ISNA(VLOOKUP($DC101,'Audit Values'!$A$2:$AE$252,2,FALSE)),'Preliminary SO66'!X98,VLOOKUP($DC101,'Audit Values'!$A$2:$AE$252,24,FALSE))","v":1},346272,{"$f":"AP101/Weightings!$M$5","v":89.9},578.6,668.5,668.5,125588,{"$f":"IF(ISNA(VLOOKUP($DC101,'Audit Values'!$A$2:$AC$299,2,FALSE)),\"\",IF(AND(Weightings!H101>0,VLOOKUP($DC101,'Audit Values'!$A$2:$AC$299,29,FALSE)<Weightings!H101),Weightings!H101,VLOOKUP($DC101,'Audit Values'!$A$2:$AC$299,29,FALSE)))","v":16},{"$f":"IF(ISNA(VLOOKUP($DC101,'Audit Values'!$A$2:$AD$299,2,FALSE)),\"\",VLOOKUP($DC101,'Audit Values'!$A$2:$AD$299,30,FALSE))","v":"A"},{"$f":"IF(Weightings!G101=\"\",\"\",IF(Weightings!I101=\"Pending\",\"PX\",\"R\"))","v":""},{"$f":"AR101*Weightings!$M$5+AU101","v":2354355},{"$f":"AT101*Weightings!$M$5+AU101","v":2700650},{"$f":"IF(Weightings!G101>0,Weightings!G101,'Preliminary SO66'!AB98)","v":3021016},49483,215710,0,2755823,2700650,null,{"$f":"Weightings!E101","v":0},{"$f":"Weightings!F101","v":0},0,2700650,{"$f":"MAX(ROUND(((AR101-AN101-AO101)*Weightings!$M$12)+'2016legmax.xls'!AP101,0),ROUND((('2016legmax.xls'!AR101-'2016legmax.xls'!AN101-'2016legmax.xls'!AO101)*Weightings!$M$12)+Weightings!B101,0))","v":2939696},0.3,881909,904293,881909,0.3,0,false,0,0,0,true,39.6,0.47331400000000001,157.1,0,828,0.09,{"$f":"IF(ROUND((Weightings!$P$5*CC101^Weightings!$P$6*Weightings!$P$8 ),2)<Weightings!$P$7,Weightings!$P$7,ROUND((Weightings!$P$5*CC101^Weightings!$P$6*Weightings!$P$8 ),2))","v":1866.26},{"$f":"ROUND(CD101/Weightings!$M$5,4)","v":0.48449999999999999},34.6,0,0,0,0,{"$f":"AS101*Weightings!$M$5*CJ101","v":0},0,0.32500000000000001,0.4,0,0,0,{"$f":"IF(ISNA(VLOOKUP($DC101,'Audit Values'!$A$2:$AE$252,2,FALSE)),'Preliminary SO66'!T98,VLOOKUP($DC101,'Audit Values'!$A$2:$AE$252,20,FALSE))","v":0},{"$f":"IF(ISNA(VLOOKUP($DC101,'Audit Values'!$A$2:$AE$252,21,FALSE)),'Preliminary SO66'!U98,VLOOKUP($DC101,'Audit Values'!$A$2:$AE$252,21,FALSE))","v":0},0,0,null,null,null,null,null,null,null,"D0294"]
[297,"Cheyenne","St Francis Comm Sch ",284,0,284,277,0,277,270,{"$f":"IF(ISNA(VLOOKUP($DC102,'Audit Values'!$A$2:$AE$252,2,FALSE)),'Preliminary SO66'!B99,VLOOKUP($DC102,'Audit Values'!$A$2:$AE$252,31,FALSE))","v":270},277,{"$f":"IF(ISNA(VLOOKUP($DC102,'Audit Values'!$A$2:$AE$252,2,FALSE)),'Preliminary SO66'!Z99,VLOOKUP($DC102,'Audit Values'!$A$2:$AE$252,26,FALSE))","v":0},277,{"$f":"IF(ISNA(VLOOKUP($DC102,'Audit Values'!$A$2:$AE$252,2,FALSE)),'Preliminary SO66'!C99,IF(VLOOKUP($DC102,'Audit Values'!$A$2:$AE$252,28,FALSE)=\"\",VLOOKUP($DC102,'Audit Values'!$A$2:$AE$252,3,FALSE),VLOOKUP($DC102,'Audit Values'!$A$2:$AE$252,28,FALSE)))","v":0},270,270,270,277,0,151,151,0,{"$f":"IF(ISNA(VLOOKUP($DC102,'Audit Values'!$A$2:$AE$252,2,FALSE)),'Preliminary SO66'!D99,VLOOKUP($DC102,'Audit Values'!$A$2:$AE$252,4,FALSE))","v":46.7},{"$f":"ROUND((X102/6)*Weightings!$M$6,1)","v":3.9},{"$f":"IF(ISNA(VLOOKUP($DC102,'Audit Values'!$A$2:$AE$252,2,FALSE)),'Preliminary SO66'!F99,VLOOKUP($DC102,'Audit Values'!$A$2:$AE$252,6,FALSE))","v":35.4},{"$f":"ROUND((Z102/6)*Weightings!$M$7,1)","v":2.2999999999999998},{"$f":"IF(ISNA(VLOOKUP($DC102,'Audit Values'!$A$2:$AE$252,2,FALSE)),'Preliminary SO66'!H99,VLOOKUP($DC102,'Audit Values'!$A$2:$AE$252,9,FALSE))","v":84},{"$f":"ROUND(AB102*Weightings!$M$8,1)","v":38.299999999999997},0,0,{"$f":"AE102*Weightings!$M$9","v":0},{"$f":"IF(ISNA(VLOOKUP($DC102,'Audit Values'!$A$2:$AE$252,2,FALSE)),'Preliminary SO66'!L99,VLOOKUP($DC102,'Audit Values'!$A$2:$AE$252,12,FALSE))","v":0},{"$f":"ROUND(AG102*Weightings!$M$10,1)","v":0},{"$f":"IF(ISNA(VLOOKUP($DC102,'Audit Values'!$A$2:$AE$252,2,FALSE)),'Preliminary SO66'!O99,VLOOKUP($DC102,'Audit Values'!$A$2:$AE$252,15,FALSE))","v":64},30.3,{"$f":"CG102/Weightings!$M$5","v":0},{"$f":"CH102/Weightings!$M$5","v":0},{"$f":"CL102/Weightings!$M$5","v":0},0,{"$f":"IF(ISNA(VLOOKUP($DC102,'Audit Values'!$A$2:$AE$252,2,FALSE)),'Preliminary SO66'!X99,VLOOKUP($DC102,'Audit Values'!$A$2:$AE$252,24,FALSE))","v":0},187738,{"$f":"AP102/Weightings!$M$5","v":48.7},502.8,551.5,551.5,0,{"$f":"IF(ISNA(VLOOKUP($DC102,'Audit Values'!$A$2:$AC$299,2,FALSE)),\"\",IF(AND(Weightings!H102>0,VLOOKUP($DC102,'Audit Values'!$A$2:$AC$299,29,FALSE)<Weightings!H102),Weightings!H102,VLOOKUP($DC102,'Audit Values'!$A$2:$AC$299,29,FALSE)))","v":12},{"$f":"IF(ISNA(VLOOKUP($DC102,'Audit Values'!$A$2:$AD$299,2,FALSE)),\"\",VLOOKUP($DC102,'Audit Values'!$A$2:$AD$299,30,FALSE))","v":"A"},{"$f":"IF(Weightings!G102=\"\",\"\",IF(Weightings!I102=\"Pending\",\"PX\",\"R\"))","v":""},{"$f":"AR102*Weightings!$M$5+AU102","v":1936786},{"$f":"AT102*Weightings!$M$5+AU102","v":2124378},{"$f":"IF(Weightings!G102>0,Weightings!G102,'Preliminary SO66'!AB99)","v":2588959},91206,149419,0,2348334,2124378,null,{"$f":"Weightings!E102","v":0},{"$f":"Weightings!F102","v":0},0,2124378,{"$f":"MAX(ROUND(((AR102-AN102-AO102)*Weightings!$M$12)+'2016legmax.xls'!AP102,0),ROUND((('2016legmax.xls'!AR102-'2016legmax.xls'!AN102-'2016legmax.xls'!AO102)*Weightings!$M$12)+Weightings!B102,0))","v":2468594},0.3,740578,749559,740578,0.3,0,true,1708.9349999999999,0.545153,151,false,0,0,0,0,640,0.1,{"$f":"IF(ROUND((Weightings!$P$5*CC102^Weightings!$P$6*Weightings!$P$8 ),2)<Weightings!$P$7,Weightings!$P$7,ROUND((Weightings!$P$5*CC102^Weightings!$P$6*Weightings!$P$8 ),2))","v":1822.3},{"$f":"ROUND(CD102/Weightings!$M$5,4)","v":0.47310000000000002},30.3,0,0,0,0,{"$f":"AS102*Weightings!$M$5*CJ102","v":0},0,0.30299999999999999,0.4,0,0,0,{"$f":"IF(ISNA(VLOOKUP($DC102,'Audit Values'!$A$2:$AE$252,2,FALSE)),'Preliminary SO66'!T99,VLOOKUP($DC102,'Audit Values'!$A$2:$AE$252,20,FALSE))","v":0},{"$f":"IF(ISNA(VLOOKUP($DC102,'Audit Values'!$A$2:$AE$252,21,FALSE)),'Preliminary SO66'!U99,VLOOKUP($DC102,'Audit Values'!$A$2:$AE$252,21,FALSE))","v":0},0,0,null,null,null,null,null,null,null,"D0297"]
[298,"Lincoln","Lincoln ",340.5,0,340.5,326.60000000000002,0,326.60000000000002,339.5,{"$f":"IF(ISNA(VLOOKUP($DC103,'Audit Values'!$A$2:$AE$252,2,FALSE)),'Preliminary SO66'!B100,VLOOKUP($DC103,'Audit Values'!$A$2:$AE$252,31,FALSE))","v":339.5},339.5,{"$f":"IF(ISNA(VLOOKUP($DC103,'Audit Values'!$A$2:$AE$252,2,FALSE)),'Preliminary SO66'!Z100,VLOOKUP($DC103,'Audit Values'!$A$2:$AE$252,26,FALSE))","v":0},339.5,{"$f":"IF(ISNA(VLOOKUP($DC103,'Audit Values'!$A$2:$AE$252,2,FALSE)),'Preliminary SO66'!C100,IF(VLOOKUP($DC103,'Audit Values'!$A$2:$AE$252,28,FALSE)=\"\",VLOOKUP($DC103,'Audit Values'!$A$2:$AE$252,3,FALSE),VLOOKUP($DC103,'Audit Values'!$A$2:$AE$252,28,FALSE)))","v":6.5},346,346,346,346,0,162.1,162.1,0,{"$f":"IF(ISNA(VLOOKUP($DC103,'Audit Values'!$A$2:$AE$252,2,FALSE)),'Preliminary SO66'!D100,VLOOKUP($DC103,'Audit Values'!$A$2:$AE$252,4,FALSE))","v":57.5},{"$f":"ROUND((X103/6)*Weightings!$M$6,1)","v":4.8},{"$f":"IF(ISNA(VLOOKUP($DC103,'Audit Values'!$A$2:$AE$252,2,FALSE)),'Preliminary SO66'!F100,VLOOKUP($DC103,'Audit Values'!$A$2:$AE$252,6,FALSE))","v":15.5},{"$f":"ROUND((Z103/6)*Weightings!$M$7,1)","v":1},{"$f":"IF(ISNA(VLOOKUP($DC103,'Audit Values'!$A$2:$AE$252,2,FALSE)),'Preliminary SO66'!H100,VLOOKUP($DC103,'Audit Values'!$A$2:$AE$252,9,FALSE))","v":154},{"$f":"ROUND(AB103*Weightings!$M$8,1)","v":70.2},10.199999999999999,0,{"$f":"AE103*Weightings!$M$9","v":0},{"$f":"IF(ISNA(VLOOKUP($DC103,'Audit Values'!$A$2:$AE$252,2,FALSE)),'Preliminary SO66'!L100,VLOOKUP($DC103,'Audit Values'!$A$2:$AE$252,12,FALSE))","v":0},{"$f":"ROUND(AG103*Weightings!$M$10,1)","v":0},{"$f":"IF(ISNA(VLOOKUP($DC103,'Audit Values'!$A$2:$AE$252,2,FALSE)),'Preliminary SO66'!O100,VLOOKUP($DC103,'Audit Values'!$A$2:$AE$252,15,FALSE))","v":129},48,{"$f":"CG103/Weightings!$M$5","v":0},{"$f":"CH103/Weightings!$M$5","v":0},{"$f":"CL103/Weightings!$M$5","v":0},0,{"$f":"IF(ISNA(VLOOKUP($DC103,'Audit Values'!$A$2:$AE$252,2,FALSE)),'Preliminary SO66'!X100,VLOOKUP($DC103,'Audit Values'!$A$2:$AE$252,24,FALSE))","v":0},399342,{"$f":"AP103/Weightings!$M$5","v":103.7},642.29999999999995,746,746,0,{"$f":"IF(ISNA(VLOOKUP($DC103,'Audit Values'!$A$2:$AC$299,2,FALSE)),\"\",IF(AND(Weightings!H103>0,VLOOKUP($DC103,'Audit Values'!$A$2:$AC$299,29,FALSE)<Weightings!H103),Weightings!H103,VLOOKUP($DC103,'Audit Values'!$A$2:$AC$299,29,FALSE)))","v":11},{"$f":"IF(ISNA(VLOOKUP($DC103,'Audit Values'!$A$2:$AD$299,2,FALSE)),\"\",VLOOKUP($DC103,'Audit Values'!$A$2:$AD$299,30,FALSE))","v":"A"},{"$f":"IF(Weightings!G103=\"\",\"\",IF(Weightings!I103=\"Pending\",\"PX\",\"R\"))","v":""},{"$f":"AR103*Weightings!$M$5+AU103","v":2474140},{"$f":"AT103*Weightings!$M$5+AU103","v":2873592},{"$f":"IF(Weightings!G103>0,Weightings!G103,'Preliminary SO66'!AB100)","v":3723548},334115,200709,13356,3175368,2873592,null,{"$f":"Weightings!E103","v":0},{"$f":"Weightings!F103","v":0},0,2873592,{"$f":"MAX(ROUND(((AR103-AN103-AO103)*Weightings!$M$12)+'2016legmax.xls'!AP103,0),ROUND((('2016legmax.xls'!AR103-'2016legmax.xls'!AN103-'2016legmax.xls'!AO103)*Weightings!$M$12)+Weightings!B103,0))","v":3283269},0.3,984981,996229,984981,0.3,0,false,0,0,0,true,56.924999999999997,0.46855799999999997,162.1,0,444,0.28999999999999998,{"$f":"IF(ROUND((Weightings!$P$5*CC103^Weightings!$P$6*Weightings!$P$8 ),2)<Weightings!$P$7,Weightings!$P$7,ROUND((Weightings!$P$5*CC103^Weightings!$P$6*Weightings!$P$8 ),2))","v":1432.26},{"$f":"ROUND(CD103/Weightings!$M$5,4)","v":0.37180000000000002},48,0,0,0,0,{"$f":"AS103*Weightings!$M$5*CJ103","v":0},0,0.44500000000000001,0.8,0,0,10.199999999999999,{"$f":"IF(ISNA(VLOOKUP($DC103,'Audit Values'!$A$2:$AE$252,2,FALSE)),'Preliminary SO66'!T100,VLOOKUP($DC103,'Audit Values'!$A$2:$AE$252,20,FALSE))","v":0},{"$f":"IF(ISNA(VLOOKUP($DC103,'Audit Values'!$A$2:$AE$252,21,FALSE)),'Preliminary SO66'!U100,VLOOKUP($DC103,'Audit Values'!$A$2:$AE$252,21,FALSE))","v":0},0,0,null,null,null,null,null,null,null,"D0298"]
[299,"Lincoln","Sylvan Grove ",212.7,0,212.7,217.8,0,217.8,225.4,{"$f":"IF(ISNA(VLOOKUP($DC104,'Audit Values'!$A$2:$AE$252,2,FALSE)),'Preliminary SO66'!B101,VLOOKUP($DC104,'Audit Values'!$A$2:$AE$252,31,FALSE))","v":225.4},225.4,{"$f":"IF(ISNA(VLOOKUP($DC104,'Audit Values'!$A$2:$AE$252,2,FALSE)),'Preliminary SO66'!Z101,VLOOKUP($DC104,'Audit Values'!$A$2:$AE$252,26,FALSE))","v":0},225.4,{"$f":"IF(ISNA(VLOOKUP($DC104,'Audit Values'!$A$2:$AE$252,2,FALSE)),'Preliminary SO66'!C101,IF(VLOOKUP($DC104,'Audit Values'!$A$2:$AE$252,28,FALSE)=\"\",VLOOKUP($DC104,'Audit Values'!$A$2:$AE$252,3,FALSE),VLOOKUP($DC104,'Audit Values'!$A$2:$AE$252,28,FALSE)))","v":2.5},227.9,227.9,227.9,227.9,0,153.9,153.9,0,{"$f":"IF(ISNA(VLOOKUP($DC104,'Audit Values'!$A$2:$AE$252,2,FALSE)),'Preliminary SO66'!D101,VLOOKUP($DC104,'Audit Values'!$A$2:$AE$252,4,FALSE))","v":35.5},{"$f":"ROUND((X104/6)*Weightings!$M$6,1)","v":3},{"$f":"IF(ISNA(VLOOKUP($DC104,'Audit Values'!$A$2:$AE$252,2,FALSE)),'Preliminary SO66'!F101,VLOOKUP($DC104,'Audit Values'!$A$2:$AE$252,6,FALSE))","v":0},{"$f":"ROUND((Z104/6)*Weightings!$M$7,1)","v":0},{"$f":"IF(ISNA(VLOOKUP($DC104,'Audit Values'!$A$2:$AE$252,2,FALSE)),'Preliminary SO66'!H101,VLOOKUP($DC104,'Audit Values'!$A$2:$AE$252,9,FALSE))","v":75},{"$f":"ROUND(AB104*Weightings!$M$8,1)","v":34.200000000000003},0,0,{"$f":"AE104*Weightings!$M$9","v":0},{"$f":"IF(ISNA(VLOOKUP($DC104,'Audit Values'!$A$2:$AE$252,2,FALSE)),'Preliminary SO66'!L101,VLOOKUP($DC104,'Audit Values'!$A$2:$AE$252,12,FALSE))","v":0},{"$f":"ROUND(AG104*Weightings!$M$10,1)","v":0},{"$f":"IF(ISNA(VLOOKUP($DC104,'Audit Values'!$A$2:$AE$252,2,FALSE)),'Preliminary SO66'!O101,VLOOKUP($DC104,'Audit Values'!$A$2:$AE$252,15,FALSE))","v":158.5},60.9,{"$f":"CG104/Weightings!$M$5","v":0},{"$f":"CH104/Weightings!$M$5","v":0},{"$f":"CL104/Weightings!$M$5","v":0},0,{"$f":"IF(ISNA(VLOOKUP($DC104,'Audit Values'!$A$2:$AE$252,2,FALSE)),'Preliminary SO66'!X101,VLOOKUP($DC104,'Audit Values'!$A$2:$AE$252,24,FALSE))","v":0},219584,{"$f":"AP104/Weightings!$M$5","v":57},479.9,536.9,536.9,0,{"$f":"IF(ISNA(VLOOKUP($DC104,'Audit Values'!$A$2:$AC$299,2,FALSE)),\"\",IF(AND(Weightings!H104>0,VLOOKUP($DC104,'Audit Values'!$A$2:$AC$299,29,FALSE)<Weightings!H104),Weightings!H104,VLOOKUP($DC104,'Audit Values'!$A$2:$AC$299,29,FALSE)))","v":11},{"$f":"IF(ISNA(VLOOKUP($DC104,'Audit Values'!$A$2:$AD$299,2,FALSE)),\"\",VLOOKUP($DC104,'Audit Values'!$A$2:$AD$299,30,FALSE))","v":"A"},{"$f":"IF(Weightings!G104=\"\",\"\",IF(Weightings!I104=\"Pending\",\"PX\",\"R\"))","v":""},{"$f":"AR104*Weightings!$M$5+AU104","v":1848575},{"$f":"AT104*Weightings!$M$5+AU104","v":2068139},{"$f":"IF(Weightings!G104>0,Weightings!G104,'Preliminary SO66'!AB101)","v":2361105},71914,105493,0,2183698,2068139,null,{"$f":"Weightings!E104","v":0},{"$f":"Weightings!F104","v":0},0,2068139,{"$f":"MAX(ROUND(((AR104-AN104-AO104)*Weightings!$M$12)+'2016legmax.xls'!AP104,0),ROUND((('2016legmax.xls'!AR104-'2016legmax.xls'!AN104-'2016legmax.xls'!AO104)*Weightings!$M$12)+Weightings!B104,0))","v":2374335},0.3,712301,553819,553819,0.23330000000000001,0,true,1234.875,0.67530299999999999,153.9,false,0,0,0,0,623,0.25,{"$f":"IF(ROUND((Weightings!$P$5*CC104^Weightings!$P$6*Weightings!$P$8 ),2)<Weightings!$P$7,Weightings!$P$7,ROUND((Weightings!$P$5*CC104^Weightings!$P$6*Weightings!$P$8 ),2))","v":1481.17},{"$f":"ROUND(CD104/Weightings!$M$5,4)","v":0.38450000000000001},60.9,0,0,0,0,{"$f":"AS104*Weightings!$M$5*CJ104","v":0},0,0.32900000000000001,0.4,0,0,0,{"$f":"IF(ISNA(VLOOKUP($DC104,'Audit Values'!$A$2:$AE$252,2,FALSE)),'Preliminary SO66'!T101,VLOOKUP($DC104,'Audit Values'!$A$2:$AE$252,20,FALSE))","v":0},{"$f":"IF(ISNA(VLOOKUP($DC104,'Audit Values'!$A$2:$AE$252,21,FALSE)),'Preliminary SO66'!U101,VLOOKUP($DC104,'Audit Values'!$A$2:$AE$252,21,FALSE))","v":0},0,0,null,null,null,null,null,null,null,"D0299"]
[300,"Comanche","Comanche County ",324.5,0,324.5,312,0,312,313,{"$f":"IF(ISNA(VLOOKUP($DC105,'Audit Values'!$A$2:$AE$252,2,FALSE)),'Preliminary SO66'!B102,VLOOKUP($DC105,'Audit Values'!$A$2:$AE$252,31,FALSE))","v":313},316.5,{"$f":"IF(ISNA(VLOOKUP($DC105,'Audit Values'!$A$2:$AE$252,2,FALSE)),'Preliminary SO66'!Z102,VLOOKUP($DC105,'Audit Values'!$A$2:$AE$252,26,FALSE))","v":0},316.5,{"$f":"IF(ISNA(VLOOKUP($DC105,'Audit Values'!$A$2:$AE$252,2,FALSE)),'Preliminary SO66'!C102,IF(VLOOKUP($DC105,'Audit Values'!$A$2:$AE$252,28,FALSE)=\"\",VLOOKUP($DC105,'Audit Values'!$A$2:$AE$252,3,FALSE),VLOOKUP($DC105,'Audit Values'!$A$2:$AE$252,28,FALSE)))","v":0},313,313,313,316.5,0,151.5,151.5,0,{"$f":"IF(ISNA(VLOOKUP($DC105,'Audit Values'!$A$2:$AE$252,2,FALSE)),'Preliminary SO66'!D102,VLOOKUP($DC105,'Audit Values'!$A$2:$AE$252,4,FALSE))","v":72.599999999999994},{"$f":"ROUND((X105/6)*Weightings!$M$6,1)","v":6.1},{"$f":"IF(ISNA(VLOOKUP($DC105,'Audit Values'!$A$2:$AE$252,2,FALSE)),'Preliminary SO66'!F102,VLOOKUP($DC105,'Audit Values'!$A$2:$AE$252,6,FALSE))","v":0},{"$f":"ROUND((Z105/6)*Weightings!$M$7,1)","v":0},{"$f":"IF(ISNA(VLOOKUP($DC105,'Audit Values'!$A$2:$AE$269,2,FALSE)),'Preliminary SO66'!H102,VLOOKUP($DC105,'Audit Values'!$A$2:$AE$269,9,FALSE))","v":89},{"$f":"ROUND(AB105*Weightings!$M$8,1)","v":40.6},0,0,{"$f":"AE105*Weightings!$M$9","v":0},{"$f":"IF(ISNA(VLOOKUP($DC105,'Audit Values'!$A$2:$AE$252,2,FALSE)),'Preliminary SO66'!L102,VLOOKUP($DC105,'Audit Values'!$A$2:$AE$252,12,FALSE))","v":0},{"$f":"ROUND(AG105*Weightings!$M$10,1)","v":0},{"$f":"IF(ISNA(VLOOKUP($DC105,'Audit Values'!$A$2:$AE$299,2,FALSE)),'Preliminary SO66'!O102,VLOOKUP($DC105,'Audit Values'!$A$2:$AE$299,15,FALSE))","v":208.5},80.900000000000006,{"$f":"CG105/Weightings!$M$5","v":0},{"$f":"CH105/Weightings!$M$5","v":0},{"$f":"CL105/Weightings!$M$5","v":0},0,{"$f":"IF(ISNA(VLOOKUP($DC105,'Audit Values'!$A$2:$AE$252,2,FALSE)),'Preliminary SO66'!X102,VLOOKUP($DC105,'Audit Values'!$A$2:$AE$252,24,FALSE))","v":0},406443,{"$f":"AP105/Weightings!$M$5","v":105.5},595.6,701.1,701.1,0,{"$f":"IF(ISNA(VLOOKUP($DC105,'Audit Values'!$A$2:$AC$299,2,FALSE)),\"\",IF(AND(Weightings!H105>0,VLOOKUP($DC105,'Audit Values'!$A$2:$AC$299,29,FALSE)<Weightings!H105),Weightings!H105,VLOOKUP($DC105,'Audit Values'!$A$2:$AC$299,29,FALSE)))","v":16},{"$f":"IF(ISNA(VLOOKUP($DC105,'Audit Values'!$A$2:$AD$299,2,FALSE)),\"\",VLOOKUP($DC105,'Audit Values'!$A$2:$AD$299,30,FALSE))","v":"A"},{"$f":"IF(Weightings!G105=\"\",\"\",IF(Weightings!I105=\"Pending\",\"PX\",\"R\"))","v":""},{"$f":"AR105*Weightings!$M$5+AU105","v":2294251},{"$f":"AT105*Weightings!$M$5+AU105","v":2700637},{"$f":"IF(Weightings!G105>0,Weightings!G105,'Preliminary SO66'!AB102)","v":2966733},0,144039,0,2822694,2700637,null,{"$f":"Weightings!E105","v":0},{"$f":"Weightings!F105","v":0},0,2700637,{"$f":"MAX(ROUND(((AR105-AN105-AO105)*Weightings!$M$12)+'2016legmax.xls'!AP105,0),ROUND((('2016legmax.xls'!AR105-'2016legmax.xls'!AN105-'2016legmax.xls'!AO105)*Weightings!$M$12)+Weightings!B105,0))","v":3080687},0.3,924206,936283,924206,0.3,0,false,0,0,0,true,20.418800000000001,0.47858000000000001,151.5,0,864,0.24,{"$f":"IF(ROUND((Weightings!$P$5*CC105^Weightings!$P$6*Weightings!$P$8 ),2)<Weightings!$P$7,Weightings!$P$7,ROUND((Weightings!$P$5*CC105^Weightings!$P$6*Weightings!$P$8 ),2))","v":1494.91},{"$f":"ROUND(CD105/Weightings!$M$5,4)","v":0.3881},80.900000000000006,0,0,0,0,{"$f":"AS105*Weightings!$M$5*CJ105","v":0},0,0.28100000000000003,0.4,0,0,0,{"$f":"IF(ISNA(VLOOKUP($DC105,'Audit Values'!$A$2:$AE$252,2,FALSE)),'Preliminary SO66'!T102,VLOOKUP($DC105,'Audit Values'!$A$2:$AE$252,20,FALSE))","v":0},{"$f":"IF(ISNA(VLOOKUP($DC105,'Audit Values'!$A$2:$AE$252,21,FALSE)),'Preliminary SO66'!U102,VLOOKUP($DC105,'Audit Values'!$A$2:$AE$252,21,FALSE))","v":0},0,0,null,null,null,null,null,null,null,"D0300"]
[303,"Ness","Ness City ",298.8,0,298.8,293.89999999999998,0,293.89999999999998,281.10000000000002,{"$f":"IF(ISNA(VLOOKUP($DC106,'Audit Values'!$A$2:$AE$252,2,FALSE)),'Preliminary SO66'!B103,VLOOKUP($DC106,'Audit Values'!$A$2:$AE$252,31,FALSE))","v":281.10000000000002},293.89999999999998,{"$f":"IF(ISNA(VLOOKUP($DC106,'Audit Values'!$A$2:$AE$252,2,FALSE)),'Preliminary SO66'!Z103,VLOOKUP($DC106,'Audit Values'!$A$2:$AE$252,26,FALSE))","v":0},293.89999999999998,{"$f":"IF(ISNA(VLOOKUP($DC106,'Audit Values'!$A$2:$AE$252,2,FALSE)),'Preliminary SO66'!C103,IF(VLOOKUP($DC106,'Audit Values'!$A$2:$AE$252,28,FALSE)=\"\",VLOOKUP($DC106,'Audit Values'!$A$2:$AE$252,3,FALSE),VLOOKUP($DC106,'Audit Values'!$A$2:$AE$252,28,FALSE)))","v":0},281.10000000000002,281.10000000000002,281.10000000000002,293.89999999999998,0,147.1,147.1,0,{"$f":"IF(ISNA(VLOOKUP($DC106,'Audit Values'!$A$2:$AE$252,2,FALSE)),'Preliminary SO66'!D103,VLOOKUP($DC106,'Audit Values'!$A$2:$AE$252,4,FALSE))","v":118.2},{"$f":"ROUND((X106/6)*Weightings!$M$6,1)","v":9.9},{"$f":"IF(ISNA(VLOOKUP($DC106,'Audit Values'!$A$2:$AE$252,2,FALSE)),'Preliminary SO66'!F103,VLOOKUP($DC106,'Audit Values'!$A$2:$AE$252,6,FALSE))","v":88.4},{"$f":"ROUND((Z106/6)*Weightings!$M$7,1)","v":5.8},{"$f":"IF(ISNA(VLOOKUP($DC106,'Audit Values'!$A$2:$AE$252,2,FALSE)),'Preliminary SO66'!H103,VLOOKUP($DC106,'Audit Values'!$A$2:$AE$252,9,FALSE))","v":102},{"$f":"ROUND(AB106*Weightings!$M$8,1)","v":46.5},0,0,{"$f":"AE106*Weightings!$M$9","v":0},{"$f":"IF(ISNA(VLOOKUP($DC106,'Audit Values'!$A$2:$AE$252,2,FALSE)),'Preliminary SO66'!L103,VLOOKUP($DC106,'Audit Values'!$A$2:$AE$252,12,FALSE))","v":0},{"$f":"ROUND(AG106*Weightings!$M$10,1)","v":0},{"$f":"IF(ISNA(VLOOKUP($DC106,'Audit Values'!$A$2:$AE$252,2,FALSE)),'Preliminary SO66'!O103,VLOOKUP($DC106,'Audit Values'!$A$2:$AE$252,15,FALSE))","v":31.6},16.8,{"$f":"CG106/Weightings!$M$5","v":0},{"$f":"CH106/Weightings!$M$5","v":0},{"$f":"CL106/Weightings!$M$5","v":0},0,{"$f":"IF(ISNA(VLOOKUP($DC106,'Audit Values'!$A$2:$AE$252,2,FALSE)),'Preliminary SO66'!X103,VLOOKUP($DC106,'Audit Values'!$A$2:$AE$252,24,FALSE))","v":0},212506,{"$f":"AP106/Weightings!$M$5","v":55.2},520,575.20000000000005,575.20000000000005,10000,{"$f":"IF(ISNA(VLOOKUP($DC106,'Audit Values'!$A$2:$AC$299,2,FALSE)),\"\",IF(AND(Weightings!H106>0,VLOOKUP($DC106,'Audit Values'!$A$2:$AC$299,29,FALSE)<Weightings!H106),Weightings!H106,VLOOKUP($DC106,'Audit Values'!$A$2:$AC$299,29,FALSE)))","v":15},{"$f":"IF(ISNA(VLOOKUP($DC106,'Audit Values'!$A$2:$AD$299,2,FALSE)),\"\",VLOOKUP($DC106,'Audit Values'!$A$2:$AD$299,30,FALSE))","v":"A"},{"$f":"IF(Weightings!G106=\"\",\"\",IF(Weightings!I106=\"Pending\",\"PX\",\"R\"))","v":""},{"$f":"AR106*Weightings!$M$5+AU106","v":2013040},{"$f":"AT106*Weightings!$M$5+AU106","v":2225670},{"$f":"IF(Weightings!G106>0,Weightings!G106,'Preliminary SO66'!AB103)","v":2466440},0,150130,0,2316310,2225670,null,{"$f":"Weightings!E106","v":0},{"$f":"Weightings!F106","v":0},0,2225670,{"$f":"MAX(ROUND(((AR106-AN106-AO106)*Weightings!$M$12)+'2016legmax.xls'!AP106,0),ROUND((('2016legmax.xls'!AR106-'2016legmax.xls'!AN106-'2016legmax.xls'!AO106)*Weightings!$M$12)+Weightings!B106,0))","v":2564541},0.3,769362,771787,769362,0.3,0,true,1872.105,0.50035600000000002,147.1,false,0,0,0,0,517.79999999999995,0.06,{"$f":"IF(ROUND((Weightings!$P$5*CC106^Weightings!$P$6*Weightings!$P$8 ),2)<Weightings!$P$7,Weightings!$P$7,ROUND((Weightings!$P$5*CC106^Weightings!$P$6*Weightings!$P$8 ),2))","v":2045.52},{"$f":"ROUND(CD106/Weightings!$M$5,4)","v":0.53100000000000003},16.8,0,0,0,0,{"$f":"AS106*Weightings!$M$5*CJ106","v":0},0,0.34699999999999998,0.6,0,0,0,{"$f":"IF(ISNA(VLOOKUP($DC106,'Audit Values'!$A$2:$AE$252,2,FALSE)),'Preliminary SO66'!T103,VLOOKUP($DC106,'Audit Values'!$A$2:$AE$252,20,FALSE))","v":0},{"$f":"IF(ISNA(VLOOKUP($DC106,'Audit Values'!$A$2:$AE$252,21,FALSE)),'Preliminary SO66'!U103,VLOOKUP($DC106,'Audit Values'!$A$2:$AE$252,21,FALSE))","v":0},0,0,null,null,null,null,null,null,null,"D0303"]
[305,"Saline","Salina ",6894.1,0,6894.1,6920.7,0,6920.7,6945.4,{"$f":"IF(ISNA(VLOOKUP($DC107,'Audit Values'!$A$2:$AE$252,2,FALSE)),'Preliminary SO66'!B104,VLOOKUP($DC107,'Audit Values'!$A$2:$AE$252,31,FALSE))","v":6883},6920.7,{"$f":"IF(ISNA(VLOOKUP($DC107,'Audit Values'!$A$2:$AE$252,2,FALSE)),'Preliminary SO66'!Z104,VLOOKUP($DC107,'Audit Values'!$A$2:$AE$252,26,FALSE))","v":0},6920.7,{"$f":"IF(ISNA(VLOOKUP($DC107,'Audit Values'!$A$2:$AE$252,2,FALSE)),'Preliminary SO66'!C104,IF(VLOOKUP($DC107,'Audit Values'!$A$2:$AE$252,28,FALSE)=\"\",VLOOKUP($DC107,'Audit Values'!$A$2:$AE$252,3,FALSE),VLOOKUP($DC107,'Audit Values'!$A$2:$AE$252,28,FALSE)))","v":30},6913,6975.4,6975.4,6950.7,62.4,243.6,0,243.6,{"$f":"IF(ISNA(VLOOKUP($DC107,'Audit Values'!$A$2:$AE$252,2,FALSE)),'Preliminary SO66'!D104,VLOOKUP($DC107,'Audit Values'!$A$2:$AE$252,4,FALSE))","v":851.3},{"$f":"ROUND((X107/6)*Weightings!$M$6,1)","v":70.900000000000006},{"$f":"IF(ISNA(VLOOKUP($DC107,'Audit Values'!$A$2:$AE$252,2,FALSE)),'Preliminary SO66'!F104,VLOOKUP($DC107,'Audit Values'!$A$2:$AE$252,6,FALSE))","v":1674.1},{"$f":"ROUND((Z107/6)*Weightings!$M$7,1)","v":110.2},{"$f":"IF(ISNA(VLOOKUP($DC107,'Audit Values'!$A$2:$AE$252,2,FALSE)),'Preliminary SO66'!H104,VLOOKUP($DC107,'Audit Values'!$A$2:$AE$252,9,FALSE))","v":3610},{"$f":"ROUND(AB107*Weightings!$M$8,1)","v":1646.2},379.1,0,{"$f":"AE107*Weightings!$M$9","v":0},{"$f":"IF(ISNA(VLOOKUP($DC107,'Audit Values'!$A$2:$AE$252,2,FALSE)),'Preliminary SO66'!L104,VLOOKUP($DC107,'Audit Values'!$A$2:$AE$252,12,FALSE))","v":0},{"$f":"ROUND(AG107*Weightings!$M$10,1)","v":0},{"$f":"IF(ISNA(VLOOKUP($DC107,'Audit Values'!$A$2:$AE$252,2,FALSE)),'Preliminary SO66'!O104,VLOOKUP($DC107,'Audit Values'!$A$2:$AE$252,15,FALSE))","v":1090},175.5,{"$f":"CG107/Weightings!$M$5","v":0},{"$f":"CH107/Weightings!$M$5","v":0},{"$f":"CL107/Weightings!$M$5","v":0},65.5,{"$f":"IF(ISNA(VLOOKUP($DC107,'Audit Values'!$A$2:$AE$252,2,FALSE)),'Preliminary SO66'!X104,VLOOKUP($DC107,'Audit Values'!$A$2:$AE$252,24,FALSE))","v":2},6513844,{"$f":"AP107/Weightings!$M$5","v":1691},9643.7000000000007,11334.7,11334.7,0,{"$f":"IF(ISNA(VLOOKUP($DC107,'Audit Values'!$A$2:$AC$299,2,FALSE)),\"\",IF(AND(Weightings!H107>0,VLOOKUP($DC107,'Audit Values'!$A$2:$AC$299,29,FALSE)<Weightings!H107),Weightings!H107,VLOOKUP($DC107,'Audit Values'!$A$2:$AC$299,29,FALSE)))","v":6},{"$f":"IF(ISNA(VLOOKUP($DC107,'Audit Values'!$A$2:$AD$299,2,FALSE)),\"\",VLOOKUP($DC107,'Audit Values'!$A$2:$AD$299,30,FALSE))","v":"A"},{"$f":"IF(Weightings!G107=\"\",\"\",IF(Weightings!I107=\"Pending\",\"PX\",\"R\"))","v":""},{"$f":"AR107*Weightings!$M$5+AU107","v":37147532},{"$f":"AT107*Weightings!$M$5+AU107","v":43661264},{"$f":"IF(Weightings!G107>0,Weightings!G107,'Preliminary SO66'!AB104)","v":58875408},6442128,5178172,365490,46889618,43661264,null,{"$f":"Weightings!E107","v":0},{"$f":"Weightings!F107","v":0},0,43661264,{"$f":"MAX(ROUND(((AR107-AN107-AO107)*Weightings!$M$12)+'2016legmax.xls'!AP107,0),ROUND((('2016legmax.xls'!AR107-'2016legmax.xls'!AN107-'2016legmax.xls'!AO107)*Weightings!$M$12)+Weightings!B107,0))","v":49966093},0.3,14989828,15002490,14989828,0.3,0,false,0,0,0,false,0,0,0,243.6,93,11.72,{"$f":"IF(ROUND((Weightings!$P$5*CC107^Weightings!$P$6*Weightings!$P$8 ),2)<Weightings!$P$7,Weightings!$P$7,ROUND((Weightings!$P$5*CC107^Weightings!$P$6*Weightings!$P$8 ),2))","v":620.32000000000005},{"$f":"ROUND(CD107/Weightings!$M$5,4)","v":0.161},175.5,0,0,0,0,{"$f":"AS107*Weightings!$M$5*CJ107","v":0},0,0.51900000000000002,74.7,379.1,0,0,{"$f":"IF(ISNA(VLOOKUP($DC107,'Audit Values'!$A$2:$AE$252,2,FALSE)),'Preliminary SO66'!T104,VLOOKUP($DC107,'Audit Values'!$A$2:$AE$252,20,FALSE))","v":0},{"$f":"IF(ISNA(VLOOKUP($DC107,'Audit Values'!$A$2:$AE$252,21,FALSE)),'Preliminary SO66'!U104,VLOOKUP($DC107,'Audit Values'!$A$2:$AE$252,21,FALSE))","v":3.4},59,62.4,null,null,null,null,null,null,null,"D0305"]
[306,"Saline","Southeast Of Saline ",720.2,0,720.2,692.8,0,692.8,670.5,{"$f":"IF(ISNA(VLOOKUP($DC108,'Audit Values'!$A$2:$AE$252,2,FALSE)),'Preliminary SO66'!B105,VLOOKUP($DC108,'Audit Values'!$A$2:$AE$252,31,FALSE))","v":670.5},694.5,{"$f":"IF(ISNA(VLOOKUP($DC108,'Audit Values'!$A$2:$AE$252,2,FALSE)),'Preliminary SO66'!Z105,VLOOKUP($DC108,'Audit Values'!$A$2:$AE$252,26,FALSE))","v":0},694.5,{"$f":"IF(ISNA(VLOOKUP($DC108,'Audit Values'!$A$2:$AE$252,2,FALSE)),'Preliminary SO66'!C105,IF(VLOOKUP($DC108,'Audit Values'!$A$2:$AE$252,28,FALSE)=\"\",VLOOKUP($DC108,'Audit Values'!$A$2:$AE$252,3,FALSE),VLOOKUP($DC108,'Audit Values'!$A$2:$AE$252,28,FALSE)))","v":0},670.5,670.5,670.5,694.5,0,243.2,243.2,0,{"$f":"IF(ISNA(VLOOKUP($DC108,'Audit Values'!$A$2:$AE$252,2,FALSE)),'Preliminary SO66'!D105,VLOOKUP($DC108,'Audit Values'!$A$2:$AE$252,4,FALSE))","v":165.5},{"$f":"ROUND((X108/6)*Weightings!$M$6,1)","v":13.8},{"$f":"IF(ISNA(VLOOKUP($DC108,'Audit Values'!$A$2:$AE$252,2,FALSE)),'Preliminary SO66'!F105,VLOOKUP($DC108,'Audit Values'!$A$2:$AE$252,6,FALSE))","v":0},{"$f":"ROUND((Z108/6)*Weightings!$M$7,1)","v":0},{"$f":"IF(ISNA(VLOOKUP($DC108,'Audit Values'!$A$2:$AE$252,2,FALSE)),'Preliminary SO66'!H105,VLOOKUP($DC108,'Audit Values'!$A$2:$AE$252,9,FALSE))","v":95},{"$f":"ROUND(AB108*Weightings!$M$8,1)","v":43.3},0,0,{"$f":"AE108*Weightings!$M$9","v":0},{"$f":"IF(ISNA(VLOOKUP($DC108,'Audit Values'!$A$2:$AE$252,2,FALSE)),'Preliminary SO66'!L105,VLOOKUP($DC108,'Audit Values'!$A$2:$AE$252,12,FALSE))","v":0},{"$f":"ROUND(AG108*Weightings!$M$10,1)","v":0},{"$f":"IF(ISNA(VLOOKUP($DC108,'Audit Values'!$A$2:$AE$252,2,FALSE)),'Preliminary SO66'!O105,VLOOKUP($DC108,'Audit Values'!$A$2:$AE$252,15,FALSE))","v":449},107.1,{"$f":"CG108/Weightings!$M$5","v":0},{"$f":"CH108/Weightings!$M$5","v":0},{"$f":"CL108/Weightings!$M$5","v":0},0,{"$f":"IF(ISNA(VLOOKUP($DC108,'Audit Values'!$A$2:$AE$252,2,FALSE)),'Preliminary SO66'!X105,VLOOKUP($DC108,'Audit Values'!$A$2:$AE$252,24,FALSE))","v":0},632109,{"$f":"AP108/Weightings!$M$5","v":164.1},1101.9000000000001,1266,1266,0,{"$f":"IF(ISNA(VLOOKUP($DC108,'Audit Values'!$A$2:$AC$299,2,FALSE)),\"\",IF(AND(Weightings!H108>0,VLOOKUP($DC108,'Audit Values'!$A$2:$AC$299,29,FALSE)<Weightings!H108),Weightings!H108,VLOOKUP($DC108,'Audit Values'!$A$2:$AC$299,29,FALSE)))","v":13},{"$f":"IF(ISNA(VLOOKUP($DC108,'Audit Values'!$A$2:$AD$299,2,FALSE)),\"\",VLOOKUP($DC108,'Audit Values'!$A$2:$AD$299,30,FALSE))","v":"A"},{"$f":"IF(Weightings!G108=\"\",\"\",IF(Weightings!I108=\"Pending\",\"PX\",\"R\"))","v":""},{"$f":"AR108*Weightings!$M$5+AU108","v":4244519},{"$f":"AT108*Weightings!$M$5+AU108","v":4876632},{"$f":"IF(Weightings!G108>0,Weightings!G108,'Preliminary SO66'!AB105)","v":5841561},253149,367255,0,5221157,4876632,null,{"$f":"Weightings!E108","v":0},{"$f":"Weightings!F108","v":0},0,4876632,{"$f":"MAX(ROUND(((AR108-AN108-AO108)*Weightings!$M$12)+'2016legmax.xls'!AP108,0),ROUND((('2016legmax.xls'!AR108-'2016legmax.xls'!AN108-'2016legmax.xls'!AO108)*Weightings!$M$12)+Weightings!B108,0))","v":5579640},0.3,1673892,1717612,1673892,0.3,0,false,0,0,0,true,488.19380000000001,0.35015499999999999,243.2,0,217.5,2.06,{"$f":"IF(ROUND((Weightings!$P$5*CC108^Weightings!$P$6*Weightings!$P$8 ),2)<Weightings!$P$7,Weightings!$P$7,ROUND((Weightings!$P$5*CC108^Weightings!$P$6*Weightings!$P$8 ),2))","v":919.21},{"$f":"ROUND(CD108/Weightings!$M$5,4)","v":0.23860000000000001},107.1,0,0,0,0,{"$f":"AS108*Weightings!$M$5*CJ108","v":0},0,0.13700000000000001,3.2,0,0,0,{"$f":"IF(ISNA(VLOOKUP($DC108,'Audit Values'!$A$2:$AE$252,2,FALSE)),'Preliminary SO66'!T105,VLOOKUP($DC108,'Audit Values'!$A$2:$AE$252,20,FALSE))","v":0},{"$f":"IF(ISNA(VLOOKUP($DC108,'Audit Values'!$A$2:$AE$252,21,FALSE)),'Preliminary SO66'!U105,VLOOKUP($DC108,'Audit Values'!$A$2:$AE$252,21,FALSE))","v":0},0,0,null,null,null,null,null,null,null,"D0306"]
[307,"Saline","Ell-Saline ",489.2,0,489.2,468.5,0,468.5,448.5,{"$f":"IF(ISNA(VLOOKUP($DC109,'Audit Values'!$A$2:$AE$252,2,FALSE)),'Preliminary SO66'!B106,VLOOKUP($DC109,'Audit Values'!$A$2:$AE$252,31,FALSE))","v":445.5},468.5,{"$f":"IF(ISNA(VLOOKUP($DC109,'Audit Values'!$A$2:$AE$252,2,FALSE)),'Preliminary SO66'!Z106,VLOOKUP($DC109,'Audit Values'!$A$2:$AE$252,26,FALSE))","v":0},468.5,{"$f":"IF(ISNA(VLOOKUP($DC109,'Audit Values'!$A$2:$AE$252,2,FALSE)),'Preliminary SO66'!C106,IF(VLOOKUP($DC109,'Audit Values'!$A$2:$AE$252,28,FALSE)=\"\",VLOOKUP($DC109,'Audit Values'!$A$2:$AE$252,3,FALSE),VLOOKUP($DC109,'Audit Values'!$A$2:$AE$252,28,FALSE)))","v":0},445.5,448.5,448.5,468.5,3,200,200,0,{"$f":"IF(ISNA(VLOOKUP($DC109,'Audit Values'!$A$2:$AE$252,2,FALSE)),'Preliminary SO66'!D106,VLOOKUP($DC109,'Audit Values'!$A$2:$AE$252,4,FALSE))","v":149.4},{"$f":"ROUND((X109/6)*Weightings!$M$6,1)","v":12.5},{"$f":"IF(ISNA(VLOOKUP($DC109,'Audit Values'!$A$2:$AE$252,2,FALSE)),'Preliminary SO66'!F106,VLOOKUP($DC109,'Audit Values'!$A$2:$AE$252,6,FALSE))","v":28.5},{"$f":"ROUND((Z109/6)*Weightings!$M$7,1)","v":1.9},{"$f":"IF(ISNA(VLOOKUP($DC109,'Audit Values'!$A$2:$AE$252,2,FALSE)),'Preliminary SO66'!H106,VLOOKUP($DC109,'Audit Values'!$A$2:$AE$252,9,FALSE))","v":105},{"$f":"ROUND(AB109*Weightings!$M$8,1)","v":47.9},0,0,{"$f":"AE109*Weightings!$M$9","v":0},{"$f":"IF(ISNA(VLOOKUP($DC109,'Audit Values'!$A$2:$AE$252,2,FALSE)),'Preliminary SO66'!L106,VLOOKUP($DC109,'Audit Values'!$A$2:$AE$252,12,FALSE))","v":0},{"$f":"ROUND(AG109*Weightings!$M$10,1)","v":0},{"$f":"IF(ISNA(VLOOKUP($DC109,'Audit Values'!$A$2:$AE$252,2,FALSE)),'Preliminary SO66'!O106,VLOOKUP($DC109,'Audit Values'!$A$2:$AE$252,15,FALSE))","v":218},61.7,{"$f":"CG109/Weightings!$M$5","v":0},{"$f":"CH109/Weightings!$M$5","v":0},{"$f":"CL109/Weightings!$M$5","v":0},3.2,{"$f":"IF(ISNA(VLOOKUP($DC109,'Audit Values'!$A$2:$AE$252,2,FALSE)),'Preliminary SO66'!X106,VLOOKUP($DC109,'Audit Values'!$A$2:$AE$252,24,FALSE))","v":0},406752,{"$f":"AP109/Weightings!$M$5","v":105.6},795.7,901.3,901.3,0,{"$f":"IF(ISNA(VLOOKUP($DC109,'Audit Values'!$A$2:$AC$299,2,FALSE)),\"\",IF(AND(Weightings!H109>0,VLOOKUP($DC109,'Audit Values'!$A$2:$AC$299,29,FALSE)<Weightings!H109),Weightings!H109,VLOOKUP($DC109,'Audit Values'!$A$2:$AC$299,29,FALSE)))","v":13},{"$f":"IF(ISNA(VLOOKUP($DC109,'Audit Values'!$A$2:$AD$299,2,FALSE)),\"\",VLOOKUP($DC109,'Audit Values'!$A$2:$AD$299,30,FALSE))","v":"A"},{"$f":"IF(Weightings!G109=\"\",\"\",IF(Weightings!I109=\"Pending\",\"PX\",\"R\"))","v":""},{"$f":"AR109*Weightings!$M$5+AU109","v":3065036},{"$f":"AT109*Weightings!$M$5+AU109","v":3471808},{"$f":"IF(Weightings!G109>0,Weightings!G109,'Preliminary SO66'!AB106)","v":4908825},763981,212874,29311,3902659,3471808,null,{"$f":"Weightings!E109","v":0},{"$f":"Weightings!F109","v":0},0,3471808,{"$f":"MAX(ROUND(((AR109-AN109-AO109)*Weightings!$M$12)+'2016legmax.xls'!AP109,0),ROUND((('2016legmax.xls'!AR109-'2016legmax.xls'!AN109-'2016legmax.xls'!AO109)*Weightings!$M$12)+Weightings!B109,0))","v":3968481},0.3,1190544,1233338,1190544,0.3,0,false,0,0,0,true,208.5188,0.42693900000000001,200,0,225,0.97,{"$f":"IF(ROUND((Weightings!$P$5*CC109^Weightings!$P$6*Weightings!$P$8 ),2)<Weightings!$P$7,Weightings!$P$7,ROUND((Weightings!$P$5*CC109^Weightings!$P$6*Weightings!$P$8 ),2))","v":1089.95},{"$f":"ROUND(CD109/Weightings!$M$5,4)","v":0.28299999999999997},61.7,0,0,0,0,{"$f":"AS109*Weightings!$M$5*CJ109","v":0},0,0.224,2.1,0,0,0,{"$f":"IF(ISNA(VLOOKUP($DC109,'Audit Values'!$A$2:$AE$252,2,FALSE)),'Preliminary SO66'!T106,VLOOKUP($DC109,'Audit Values'!$A$2:$AE$252,20,FALSE))","v":3},{"$f":"IF(ISNA(VLOOKUP($DC109,'Audit Values'!$A$2:$AE$252,21,FALSE)),'Preliminary SO66'!U106,VLOOKUP($DC109,'Audit Values'!$A$2:$AE$252,21,FALSE))","v":0},0,3,null,null,null,null,null,null,null,"D0307"]
[308,"Reno","Hutchinson Public Schools ",4852.5,0,4852.5,4792.6000000000004,0,4792.6000000000004,4682.7,{"$f":"IF(ISNA(VLOOKUP($DC110,'Audit Values'!$A$2:$AE$252,2,FALSE)),'Preliminary SO66'!B107,VLOOKUP($DC110,'Audit Values'!$A$2:$AE$252,31,FALSE))","v":4677.7},4792.6000000000004,{"$f":"IF(ISNA(VLOOKUP($DC110,'Audit Values'!$A$2:$AE$252,2,FALSE)),'Preliminary SO66'!Z107,VLOOKUP($DC110,'Audit Values'!$A$2:$AE$252,26,FALSE))","v":0},4792.6000000000004,{"$f":"IF(ISNA(VLOOKUP($DC110,'Audit Values'!$A$2:$AE$252,2,FALSE)),'Preliminary SO66'!C107,IF(VLOOKUP($DC110,'Audit Values'!$A$2:$AE$252,28,FALSE)=\"\",VLOOKUP($DC110,'Audit Values'!$A$2:$AE$252,3,FALSE),VLOOKUP($DC110,'Audit Values'!$A$2:$AE$252,28,FALSE)))","v":25.5},4703.2,4708.2,4708.2,4818.1000000000004,5,168.8,0,168.8,{"$f":"IF(ISNA(VLOOKUP($DC110,'Audit Values'!$A$2:$AE$252,2,FALSE)),'Preliminary SO66'!D107,VLOOKUP($DC110,'Audit Values'!$A$2:$AE$252,4,FALSE))","v":1527.2},{"$f":"ROUND((X110/6)*Weightings!$M$6,1)","v":127.3},{"$f":"IF(ISNA(VLOOKUP($DC110,'Audit Values'!$A$2:$AE$252,2,FALSE)),'Preliminary SO66'!F107,VLOOKUP($DC110,'Audit Values'!$A$2:$AE$252,6,FALSE))","v":717.7},{"$f":"ROUND((Z110/6)*Weightings!$M$7,1)","v":47.2},{"$f":"IF(ISNA(VLOOKUP($DC110,'Audit Values'!$A$2:$AE$252,2,FALSE)),'Preliminary SO66'!H107,VLOOKUP($DC110,'Audit Values'!$A$2:$AE$252,9,FALSE))","v":2766},{"$f":"ROUND(AB110*Weightings!$M$8,1)","v":1261.3},290.39999999999998,0,{"$f":"AE110*Weightings!$M$9","v":0},{"$f":"IF(ISNA(VLOOKUP($DC110,'Audit Values'!$A$2:$AE$252,2,FALSE)),'Preliminary SO66'!L107,VLOOKUP($DC110,'Audit Values'!$A$2:$AE$252,12,FALSE))","v":0},{"$f":"ROUND(AG110*Weightings!$M$10,1)","v":0},{"$f":"IF(ISNA(VLOOKUP($DC110,'Audit Values'!$A$2:$AE$252,2,FALSE)),'Preliminary SO66'!O107,VLOOKUP($DC110,'Audit Values'!$A$2:$AE$252,15,FALSE))","v":10},3,{"$f":"CG110/Weightings!$M$5","v":0},{"$f":"CH110/Weightings!$M$5","v":0},{"$f":"CL110/Weightings!$M$5","v":0},5.3,{"$f":"IF(ISNA(VLOOKUP($DC110,'Audit Values'!$A$2:$AE$252,2,FALSE)),'Preliminary SO66'!X107,VLOOKUP($DC110,'Audit Values'!$A$2:$AE$252,24,FALSE))","v":0},4173582,{"$f":"AP110/Weightings!$M$5","v":1083.5},6721.4,7804.9,7804.9,380211,{"$f":"IF(ISNA(VLOOKUP($DC110,'Audit Values'!$A$2:$AC$299,2,FALSE)),\"\",IF(AND(Weightings!H110>0,VLOOKUP($DC110,'Audit Values'!$A$2:$AC$299,29,FALSE)<Weightings!H110),Weightings!H110,VLOOKUP($DC110,'Audit Values'!$A$2:$AC$299,29,FALSE)))","v":12},{"$f":"IF(ISNA(VLOOKUP($DC110,'Audit Values'!$A$2:$AD$299,2,FALSE)),\"\",VLOOKUP($DC110,'Audit Values'!$A$2:$AD$299,30,FALSE))","v":"A"},{"$f":"IF(Weightings!G110=\"\",\"\",IF(Weightings!I110=\"Pending\",\"PX\",\"R\"))","v":""},{"$f":"AR110*Weightings!$M$5+AU110","v":26271044},{"$f":"AT110*Weightings!$M$5+AU110","v":30444686},{"$f":"IF(Weightings!G110>0,Weightings!G110,'Preliminary SO66'!AB107)","v":41629123},6262320,2541983,287216,32537604,30444686,null,{"$f":"Weightings!E110","v":0},{"$f":"Weightings!F110","v":0},0,30444686,{"$f":"MAX(ROUND(((AR110-AN110-AO110)*Weightings!$M$12)+'2016legmax.xls'!AP110,0),ROUND((('2016legmax.xls'!AR110-'2016legmax.xls'!AN110-'2016legmax.xls'!AO110)*Weightings!$M$12)+Weightings!B110,0))","v":34328871},0.3,10298661,10287770,10287770,0.29970000000000002,0,false,0,0,0,false,0,0,0,168.8,14,0.71,{"$f":"IF(ROUND((Weightings!$P$5*CC110^Weightings!$P$6*Weightings!$P$8 ),2)<Weightings!$P$7,Weightings!$P$7,ROUND((Weightings!$P$5*CC110^Weightings!$P$6*Weightings!$P$8 ),2))","v":1169.6600000000001},{"$f":"ROUND(CD110/Weightings!$M$5,4)","v":0.30370000000000003},3,0,0,0,0,{"$f":"AS110*Weightings!$M$5*CJ110","v":0},0,0.57399999999999995,344.2,290.39999999999998,290.39999999999998,0,{"$f":"IF(ISNA(VLOOKUP($DC110,'Audit Values'!$A$2:$AE$252,2,FALSE)),'Preliminary SO66'!T107,VLOOKUP($DC110,'Audit Values'!$A$2:$AE$252,20,FALSE))","v":0},{"$f":"IF(ISNA(VLOOKUP($DC110,'Audit Values'!$A$2:$AE$252,21,FALSE)),'Preliminary SO66'!U107,VLOOKUP($DC110,'Audit Values'!$A$2:$AE$252,21,FALSE))","v":0},5,5,null,null,null,null,null,null,null,"D0308"]
[309,"Reno","Nickerson ",1098.3,0,1098.3,1106,0,1106,1070.5,{"$f":"IF(ISNA(VLOOKUP($DC111,'Audit Values'!$A$2:$AE$252,2,FALSE)),'Preliminary SO66'!B108,VLOOKUP($DC111,'Audit Values'!$A$2:$AE$252,31,FALSE))","v":1064},1106,{"$f":"IF(ISNA(VLOOKUP($DC111,'Audit Values'!$A$2:$AE$252,2,FALSE)),'Preliminary SO66'!Z108,VLOOKUP($DC111,'Audit Values'!$A$2:$AE$252,26,FALSE))","v":0},1106,{"$f":"IF(ISNA(VLOOKUP($DC111,'Audit Values'!$A$2:$AE$252,2,FALSE)),'Preliminary SO66'!C108,IF(VLOOKUP($DC111,'Audit Values'!$A$2:$AE$252,28,FALSE)=\"\",VLOOKUP($DC111,'Audit Values'!$A$2:$AE$252,3,FALSE),VLOOKUP($DC111,'Audit Values'!$A$2:$AE$252,28,FALSE)))","v":6},1070,1076.5,1076.5,1112,6.5,231.6,231.6,0,{"$f":"IF(ISNA(VLOOKUP($DC111,'Audit Values'!$A$2:$AE$252,2,FALSE)),'Preliminary SO66'!D108,VLOOKUP($DC111,'Audit Values'!$A$2:$AE$252,4,FALSE))","v":289.3},{"$f":"ROUND((X111/6)*Weightings!$M$6,1)","v":24.1},{"$f":"IF(ISNA(VLOOKUP($DC111,'Audit Values'!$A$2:$AE$252,2,FALSE)),'Preliminary SO66'!F108,VLOOKUP($DC111,'Audit Values'!$A$2:$AE$252,6,FALSE))","v":90.4},{"$f":"ROUND((Z111/6)*Weightings!$M$7,1)","v":6},{"$f":"IF(ISNA(VLOOKUP($DC111,'Audit Values'!$A$2:$AE$252,2,FALSE)),'Preliminary SO66'!H108,VLOOKUP($DC111,'Audit Values'!$A$2:$AE$252,9,FALSE))","v":506},{"$f":"ROUND(AB111*Weightings!$M$8,1)","v":230.7},37.200000000000003,0,{"$f":"AE111*Weightings!$M$9","v":0},{"$f":"IF(ISNA(VLOOKUP($DC111,'Audit Values'!$A$2:$AE$252,2,FALSE)),'Preliminary SO66'!L108,VLOOKUP($DC111,'Audit Values'!$A$2:$AE$252,12,FALSE))","v":0},{"$f":"ROUND(AG111*Weightings!$M$10,1)","v":0},{"$f":"IF(ISNA(VLOOKUP($DC111,'Audit Values'!$A$2:$AE$252,2,FALSE)),'Preliminary SO66'!O108,VLOOKUP($DC111,'Audit Values'!$A$2:$AE$252,15,FALSE))","v":479},108.9,{"$f":"CG111/Weightings!$M$5","v":0},{"$f":"CH111/Weightings!$M$5","v":0},{"$f":"CL111/Weightings!$M$5","v":0},6.8,{"$f":"IF(ISNA(VLOOKUP($DC111,'Audit Values'!$A$2:$AE$252,2,FALSE)),'Preliminary SO66'!X108,VLOOKUP($DC111,'Audit Values'!$A$2:$AE$252,24,FALSE))","v":0},1158729,{"$f":"AP111/Weightings!$M$5","v":300.8},1757.3,2058.1,2058.1,0,{"$f":"IF(ISNA(VLOOKUP($DC111,'Audit Values'!$A$2:$AC$299,2,FALSE)),\"\",IF(AND(Weightings!H111>0,VLOOKUP($DC111,'Audit Values'!$A$2:$AC$299,29,FALSE)<Weightings!H111),Weightings!H111,VLOOKUP($DC111,'Audit Values'!$A$2:$AC$299,29,FALSE)))","v":14},{"$f":"IF(ISNA(VLOOKUP($DC111,'Audit Values'!$A$2:$AD$299,2,FALSE)),\"\",VLOOKUP($DC111,'Audit Values'!$A$2:$AD$299,30,FALSE))","v":"A"},{"$f":"IF(Weightings!G111=\"\",\"\",IF(Weightings!I111=\"Pending\",\"PX\",\"R\"))","v":""},{"$f":"AR111*Weightings!$M$5+AU111","v":6769120},{"$f":"AT111*Weightings!$M$5+AU111","v":7927801},{"$f":"IF(Weightings!G111>0,Weightings!G111,'Preliminary SO66'!AB108)","v":10204711},1203647,553600,40722,8406742,7927801,null,{"$f":"Weightings!E111","v":0},{"$f":"Weightings!F111","v":0},0,7927801,{"$f":"MAX(ROUND(((AR111-AN111-AO111)*Weightings!$M$12)+'2016legmax.xls'!AP111,0),ROUND((('2016legmax.xls'!AR111-'2016legmax.xls'!AN111-'2016legmax.xls'!AO111)*Weightings!$M$12)+Weightings!B111,0))","v":9044902},0.3,2713471,2769732,2713471,0.3,0,false,0,0,0,true,1004.85,0.20831,231.6,0,187.5,2.5499999999999998,{"$f":"IF(ROUND((Weightings!$P$5*CC111^Weightings!$P$6*Weightings!$P$8 ),2)<Weightings!$P$7,Weightings!$P$7,ROUND((Weightings!$P$5*CC111^Weightings!$P$6*Weightings!$P$8 ),2))","v":875.89},{"$f":"ROUND(CD111/Weightings!$M$5,4)","v":0.22739999999999999},108.9,0,0,0,0,{"$f":"AS111*Weightings!$M$5*CJ111","v":0},0,0.45500000000000002,5.9,0,0,37.200000000000003,{"$f":"IF(ISNA(VLOOKUP($DC111,'Audit Values'!$A$2:$AE$252,2,FALSE)),'Preliminary SO66'!T108,VLOOKUP($DC111,'Audit Values'!$A$2:$AE$252,20,FALSE))","v":0},{"$f":"IF(ISNA(VLOOKUP($DC111,'Audit Values'!$A$2:$AE$252,21,FALSE)),'Preliminary SO66'!U108,VLOOKUP($DC111,'Audit Values'!$A$2:$AE$252,21,FALSE))","v":3.5},3,6.5,null,null,null,null,null,null,null,"D0309"]
[310,"Reno","Fairfield ",272,0,272,274.5,0,274.5,287,{"$f":"IF(ISNA(VLOOKUP($DC112,'Audit Values'!$A$2:$AE$252,2,FALSE)),'Preliminary SO66'!B109,VLOOKUP($DC112,'Audit Values'!$A$2:$AE$252,31,FALSE))","v":287},287,{"$f":"IF(ISNA(VLOOKUP($DC112,'Audit Values'!$A$2:$AE$252,2,FALSE)),'Preliminary SO66'!Z109,VLOOKUP($DC112,'Audit Values'!$A$2:$AE$252,26,FALSE))","v":0},287,{"$f":"IF(ISNA(VLOOKUP($DC112,'Audit Values'!$A$2:$AE$252,2,FALSE)),'Preliminary SO66'!C109,IF(VLOOKUP($DC112,'Audit Values'!$A$2:$AE$252,28,FALSE)=\"\",VLOOKUP($DC112,'Audit Values'!$A$2:$AE$252,3,FALSE),VLOOKUP($DC112,'Audit Values'!$A$2:$AE$252,28,FALSE)))","v":0},287,287,287,287,0,148.9,148.9,0,{"$f":"IF(ISNA(VLOOKUP($DC112,'Audit Values'!$A$2:$AE$252,2,FALSE)),'Preliminary SO66'!D109,VLOOKUP($DC112,'Audit Values'!$A$2:$AE$252,4,FALSE))","v":101.3},{"$f":"ROUND((X112/6)*Weightings!$M$6,1)","v":8.4},{"$f":"IF(ISNA(VLOOKUP($DC112,'Audit Values'!$A$2:$AE$252,2,FALSE)),'Preliminary SO66'!F109,VLOOKUP($DC112,'Audit Values'!$A$2:$AE$252,6,FALSE))","v":27},{"$f":"ROUND((Z112/6)*Weightings!$M$7,1)","v":1.8},{"$f":"IF(ISNA(VLOOKUP($DC112,'Audit Values'!$A$2:$AE$252,2,FALSE)),'Preliminary SO66'!H109,VLOOKUP($DC112,'Audit Values'!$A$2:$AE$252,9,FALSE))","v":160},{"$f":"ROUND(AB112*Weightings!$M$8,1)","v":73},16.8,0,{"$f":"AE112*Weightings!$M$9","v":0},{"$f":"IF(ISNA(VLOOKUP($DC112,'Audit Values'!$A$2:$AE$252,2,FALSE)),'Preliminary SO66'!L109,VLOOKUP($DC112,'Audit Values'!$A$2:$AE$252,12,FALSE))","v":0},{"$f":"ROUND(AG112*Weightings!$M$10,1)","v":0},{"$f":"IF(ISNA(VLOOKUP($DC112,'Audit Values'!$A$2:$AE$252,2,FALSE)),'Preliminary SO66'!O109,VLOOKUP($DC112,'Audit Values'!$A$2:$AE$252,15,FALSE))","v":286},88.3,{"$f":"CG112/Weightings!$M$5","v":0},{"$f":"CH112/Weightings!$M$5","v":0},{"$f":"CL112/Weightings!$M$5","v":0},0,{"$f":"IF(ISNA(VLOOKUP($DC112,'Audit Values'!$A$2:$AE$252,2,FALSE)),'Preliminary SO66'!X109,VLOOKUP($DC112,'Audit Values'!$A$2:$AE$252,24,FALSE))","v":0},300583,{"$f":"AP112/Weightings!$M$5","v":78},624.20000000000005,702.2,702.2,0,{"$f":"IF(ISNA(VLOOKUP($DC112,'Audit Values'!$A$2:$AC$299,2,FALSE)),\"\",IF(AND(Weightings!H112>0,VLOOKUP($DC112,'Audit Values'!$A$2:$AC$299,29,FALSE)<Weightings!H112),Weightings!H112,VLOOKUP($DC112,'Audit Values'!$A$2:$AC$299,29,FALSE)))","v":4},{"$f":"IF(ISNA(VLOOKUP($DC112,'Audit Values'!$A$2:$AD$299,2,FALSE)),\"\",VLOOKUP($DC112,'Audit Values'!$A$2:$AD$299,30,FALSE))","v":"A"},{"$f":"IF(Weightings!G112=\"\",\"\",IF(Weightings!I112=\"Pending\",\"PX\",\"R\"))","v":""},{"$f":"AR112*Weightings!$M$5+AU112","v":2404418},{"$f":"AT112*Weightings!$M$5+AU112","v":2704874},{"$f":"IF(Weightings!G112>0,Weightings!G112,'Preliminary SO66'!AB109)","v":2993646},0,197886,0,2795760,2704874,null,{"$f":"Weightings!E112","v":0},{"$f":"Weightings!F112","v":0},0,2704874,{"$f":"MAX(ROUND(((AR112-AN112-AO112)*Weightings!$M$12)+'2016legmax.xls'!AP112,0),ROUND((('2016legmax.xls'!AR112-'2016legmax.xls'!AN112-'2016legmax.xls'!AO112)*Weightings!$M$12)+Weightings!B112,0))","v":3187670},0.3,956301,930708,930708,0.29199999999999998,0,true,1805.4849999999999,0.51864600000000005,148.9,false,0,0,0,0,435.5,0.66,{"$f":"IF(ROUND((Weightings!$P$5*CC112^Weightings!$P$6*Weightings!$P$8 ),2)<Weightings!$P$7,Weightings!$P$7,ROUND((Weightings!$P$5*CC112^Weightings!$P$6*Weightings!$P$8 ),2))","v":1189.1400000000001},{"$f":"ROUND(CD112/Weightings!$M$5,4)","v":0.30869999999999997},88.3,0,0,0,0,{"$f":"AS112*Weightings!$M$5*CJ112","v":0},0,0.55700000000000005,0.7,16.8,0,0,{"$f":"IF(ISNA(VLOOKUP($DC112,'Audit Values'!$A$2:$AE$252,2,FALSE)),'Preliminary SO66'!T109,VLOOKUP($DC112,'Audit Values'!$A$2:$AE$252,20,FALSE))","v":0},{"$f":"IF(ISNA(VLOOKUP($DC112,'Audit Values'!$A$2:$AE$252,21,FALSE)),'Preliminary SO66'!U109,VLOOKUP($DC112,'Audit Values'!$A$2:$AE$252,21,FALSE))","v":0},0,0,null,null,null,null,null,null,null,"D0310"]
[311,"Reno","Pretty Prairie ",275.3,0,275.3,272.39999999999998,0,272.39999999999998,251.5,{"$f":"IF(ISNA(VLOOKUP($DC113,'Audit Values'!$A$2:$AE$252,2,FALSE)),'Preliminary SO66'!B110,VLOOKUP($DC113,'Audit Values'!$A$2:$AE$252,31,FALSE))","v":251.5},272.39999999999998,{"$f":"IF(ISNA(VLOOKUP($DC113,'Audit Values'!$A$2:$AE$252,2,FALSE)),'Preliminary SO66'!Z110,VLOOKUP($DC113,'Audit Values'!$A$2:$AE$252,26,FALSE))","v":0},272.39999999999998,{"$f":"IF(ISNA(VLOOKUP($DC113,'Audit Values'!$A$2:$AE$252,2,FALSE)),'Preliminary SO66'!C110,IF(VLOOKUP($DC113,'Audit Values'!$A$2:$AE$252,28,FALSE)=\"\",VLOOKUP($DC113,'Audit Values'!$A$2:$AE$252,3,FALSE),VLOOKUP($DC113,'Audit Values'!$A$2:$AE$252,28,FALSE)))","v":0},251.5,251.5,251.5,272.39999999999998,0,151.80000000000001,151.80000000000001,0,{"$f":"IF(ISNA(VLOOKUP($DC113,'Audit Values'!$A$2:$AE$252,2,FALSE)),'Preliminary SO66'!D110,VLOOKUP($DC113,'Audit Values'!$A$2:$AE$252,4,FALSE))","v":88.7},{"$f":"ROUND((X113/6)*Weightings!$M$6,1)","v":7.4},{"$f":"IF(ISNA(VLOOKUP($DC113,'Audit Values'!$A$2:$AE$252,2,FALSE)),'Preliminary SO66'!F110,VLOOKUP($DC113,'Audit Values'!$A$2:$AE$252,6,FALSE))","v":0},{"$f":"ROUND((Z113/6)*Weightings!$M$7,1)","v":0},{"$f":"IF(ISNA(VLOOKUP($DC113,'Audit Values'!$A$2:$AE$252,2,FALSE)),'Preliminary SO66'!H110,VLOOKUP($DC113,'Audit Values'!$A$2:$AE$252,9,FALSE))","v":53},{"$f":"ROUND(AB113*Weightings!$M$8,1)","v":24.2},0,0,{"$f":"AE113*Weightings!$M$9","v":0},{"$f":"IF(ISNA(VLOOKUP($DC113,'Audit Values'!$A$2:$AE$252,2,FALSE)),'Preliminary SO66'!L110,VLOOKUP($DC113,'Audit Values'!$A$2:$AE$252,12,FALSE))","v":0},{"$f":"ROUND(AG113*Weightings!$M$10,1)","v":0},{"$f":"IF(ISNA(VLOOKUP($DC113,'Audit Values'!$A$2:$AE$252,2,FALSE)),'Preliminary SO66'!O110,VLOOKUP($DC113,'Audit Values'!$A$2:$AE$252,15,FALSE))","v":106},34.700000000000003,{"$f":"CG113/Weightings!$M$5","v":0},{"$f":"CH113/Weightings!$M$5","v":0},{"$f":"CL113/Weightings!$M$5","v":0},0,{"$f":"IF(ISNA(VLOOKUP($DC113,'Audit Values'!$A$2:$AE$252,2,FALSE)),'Preliminary SO66'!X110,VLOOKUP($DC113,'Audit Values'!$A$2:$AE$252,24,FALSE))","v":0},260066,{"$f":"AP113/Weightings!$M$5","v":67.5},490.5,558,558,0,{"$f":"IF(ISNA(VLOOKUP($DC113,'Audit Values'!$A$2:$AC$299,2,FALSE)),\"\",IF(AND(Weightings!H113>0,VLOOKUP($DC113,'Audit Values'!$A$2:$AC$299,29,FALSE)<Weightings!H113),Weightings!H113,VLOOKUP($DC113,'Audit Values'!$A$2:$AC$299,29,FALSE)))","v":10},{"$f":"IF(ISNA(VLOOKUP($DC113,'Audit Values'!$A$2:$AD$299,2,FALSE)),\"\",VLOOKUP($DC113,'Audit Values'!$A$2:$AD$299,30,FALSE))","v":"A"},{"$f":"IF(Weightings!G113=\"\",\"\",IF(Weightings!I113=\"Pending\",\"PX\",\"R\"))","v":""},{"$f":"AR113*Weightings!$M$5+AU113","v":1889406},{"$f":"AT113*Weightings!$M$5+AU113","v":2149416},{"$f":"IF(Weightings!G113>0,Weightings!G113,'Preliminary SO66'!AB110)","v":2868653},344760,136224,22851,2364818,2149416,null,{"$f":"Weightings!E113","v":0},{"$f":"Weightings!F113","v":0},0,2149416,{"$f":"MAX(ROUND(((AR113-AN113-AO113)*Weightings!$M$12)+'2016legmax.xls'!AP113,0),ROUND((('2016legmax.xls'!AR113-'2016legmax.xls'!AN113-'2016legmax.xls'!AO113)*Weightings!$M$12)+Weightings!B113,0))","v":2462411},0.3,738723,765242,738723,0.3,0,true,1664.5219999999999,0.55734600000000001,151.80000000000001,false,0,0,0,0,208,0.51,{"$f":"IF(ROUND((Weightings!$P$5*CC113^Weightings!$P$6*Weightings!$P$8 ),2)<Weightings!$P$7,Weightings!$P$7,ROUND((Weightings!$P$5*CC113^Weightings!$P$6*Weightings!$P$8 ),2))","v":1260.56},{"$f":"ROUND(CD113/Weightings!$M$5,4)","v":0.32719999999999999},34.700000000000003,0,0,0,0,{"$f":"AS113*Weightings!$M$5*CJ113","v":0},0,0.19500000000000001,1.3,0,0,0,{"$f":"IF(ISNA(VLOOKUP($DC113,'Audit Values'!$A$2:$AE$252,2,FALSE)),'Preliminary SO66'!T110,VLOOKUP($DC113,'Audit Values'!$A$2:$AE$252,20,FALSE))","v":0},{"$f":"IF(ISNA(VLOOKUP($DC113,'Audit Values'!$A$2:$AE$252,21,FALSE)),'Preliminary SO66'!U110,VLOOKUP($DC113,'Audit Values'!$A$2:$AE$252,21,FALSE))","v":0},0,0,null,null,null,null,null,null,null,"D0311"]
[312,"Reno","Haven Public Schools ",855.5,0,855.5,850.5,0,850.5,854.4,{"$f":"IF(ISNA(VLOOKUP($DC114,'Audit Values'!$A$2:$AE$286,2,FALSE)),'Preliminary SO66'!B111,VLOOKUP($DC114,'Audit Values'!$A$2:$AE$286,31,FALSE))","v":783.5},850.5,{"$f":"IF(ISNA(VLOOKUP($DC114,'Audit Values'!$A$2:$AE$252,2,FALSE)),'Preliminary SO66'!Z111,VLOOKUP($DC114,'Audit Values'!$A$2:$AE$252,26,FALSE))","v":0},850.5,{"$f":"IF(ISNA(VLOOKUP($DC114,'Audit Values'!$A$2:$AE$286,2,FALSE)),'Preliminary SO66'!C111,IF(VLOOKUP($DC114,'Audit Values'!$A$2:$AE$286,28,FALSE)=\"\",VLOOKUP($DC114,'Audit Values'!$A$2:$AE$286,3,FALSE),VLOOKUP($DC114,'Audit Values'!$A$2:$AE$286,28,FALSE)))","v":4.5},788,858.9,858.9,855,70.900000000000006,252.8,252.8,0,{"$f":"IF(ISNA(VLOOKUP($DC114,'Audit Values'!$A$2:$AE$252,2,FALSE)),'Preliminary SO66'!D111,VLOOKUP($DC114,'Audit Values'!$A$2:$AE$252,4,FALSE))","v":386.8},{"$f":"ROUND((X114/6)*Weightings!$M$6,1)","v":32.200000000000003},{"$f":"IF(ISNA(VLOOKUP($DC114,'Audit Values'!$A$2:$AE$299,2,FALSE)),'Preliminary SO66'!F111,VLOOKUP($DC114,'Audit Values'!$A$2:$AE$299,6,FALSE))","v":166.1},{"$f":"ROUND((Z114/6)*Weightings!$M$7,1)","v":10.9},{"$f":"IF(ISNA(VLOOKUP($DC114,'Audit Values'!$A$2:$AE$252,2,FALSE)),'Preliminary SO66'!H111,VLOOKUP($DC114,'Audit Values'!$A$2:$AE$252,9,FALSE))","v":282},{"$f":"ROUND(AB114*Weightings!$M$8,1)","v":128.6},0,0,{"$f":"AE114*Weightings!$M$9","v":0},{"$f":"IF(ISNA(VLOOKUP($DC114,'Audit Values'!$A$2:$AE$252,2,FALSE)),'Preliminary SO66'!L111,VLOOKUP($DC114,'Audit Values'!$A$2:$AE$252,12,FALSE))","v":0},{"$f":"ROUND(AG114*Weightings!$M$10,1)","v":0},{"$f":"IF(ISNA(VLOOKUP($DC114,'Audit Values'!$A$2:$AE$299,2,FALSE)),'Preliminary SO66'!O111,VLOOKUP($DC114,'Audit Values'!$A$2:$AE$299,15,FALSE))","v":444},112.7,{"$f":"CG114/Weightings!$M$5","v":0},{"$f":"CH114/Weightings!$M$5","v":0},{"$f":"CL114/Weightings!$M$5","v":0},74.400000000000006,{"$f":"IF(ISNA(VLOOKUP($DC114,'Audit Values'!$A$2:$AE$252,2,FALSE)),'Preliminary SO66'!X111,VLOOKUP($DC114,'Audit Values'!$A$2:$AE$252,24,FALSE))","v":0},901109,{"$f":"AP114/Weightings!$M$5","v":233.9},1466.6,1700.5,1700.5,3867,{"$f":"IF(ISNA(VLOOKUP($DC114,'Audit Values'!$A$2:$AC$299,2,FALSE)),\"\",IF(AND(Weightings!H114>0,VLOOKUP($DC114,'Audit Values'!$A$2:$AC$299,29,FALSE)<Weightings!H114),Weightings!H114,VLOOKUP($DC114,'Audit Values'!$A$2:$AC$299,29,FALSE)))","v":18},{"$f":"IF(ISNA(VLOOKUP($DC114,'Audit Values'!$A$2:$AD$299,2,FALSE)),\"\",VLOOKUP($DC114,'Audit Values'!$A$2:$AD$299,30,FALSE))","v":"A"},{"$f":"IF(Weightings!G114=\"\",\"\",IF(Weightings!I114=\"Pending\",\"PX\",\"R\"))","v":""},{"$f":"AR114*Weightings!$M$5+AU114","v":5653210},{"$f":"AT114*Weightings!$M$5+AU114","v":6554193},{"$f":"IF(Weightings!G114>0,Weightings!G114,'Preliminary SO66'!AB111)","v":8051039},781538,462074,32227,6775200,6554193,null,{"$f":"Weightings!E114","v":0},{"$f":"Weightings!F114","v":0},0,6554193,{"$f":"MAX(ROUND(((AR114-AN114-AO114)*Weightings!$M$12)+'2016legmax.xls'!AP114,0),ROUND((('2016legmax.xls'!AR114-'2016legmax.xls'!AN114-'2016legmax.xls'!AO114)*Weightings!$M$12)+Weightings!B114,0))","v":7235269},0.31,2242933,2248779,2242933,0.31,0,false,0,0,0,true,686.8125,0.295626,252.8,0,282,1.57,{"$f":"IF(ROUND((Weightings!$P$5*CC114^Weightings!$P$6*Weightings!$P$8 ),2)<Weightings!$P$7,Weightings!$P$7,ROUND((Weightings!$P$5*CC114^Weightings!$P$6*Weightings!$P$8 ),2))","v":977.46},{"$f":"ROUND(CD114/Weightings!$M$5,4)","v":0.25380000000000003},112.7,0,0,0,0,{"$f":"AS114*Weightings!$M$5*CJ114","v":0},0,0.33,3,0,0,0,{"$f":"IF(ISNA(VLOOKUP($DC114,'Audit Values'!$A$2:$AE$299,2,FALSE)),'Preliminary SO66'!T111,VLOOKUP($DC114,'Audit Values'!$A$2:$AE$299,20,FALSE))","v":62},{"$f":"IF(ISNA(VLOOKUP($DC114,'Audit Values'!$A$2:$AE$299,21,FALSE)),'Preliminary SO66'!U111,VLOOKUP($DC114,'Audit Values'!$A$2:$AE$299,21,FALSE))","v":0.9},8,70.900000000000006,null,null,null,null,null,null,null,"D0312"]
[313,"Reno","Buhler ",2091.6999999999998,0,2091.6999999999998,2101.5,0,2101.5,2160.3000000000002,{"$f":"IF(ISNA(VLOOKUP($DC115,'Audit Values'!$A$2:$AE$252,2,FALSE)),'Preliminary SO66'!B112,VLOOKUP($DC115,'Audit Values'!$A$2:$AE$252,31,FALSE))","v":2160.3000000000002},2160.3000000000002,{"$f":"IF(ISNA(VLOOKUP($DC115,'Audit Values'!$A$2:$AE$252,2,FALSE)),'Preliminary SO66'!Z112,VLOOKUP($DC115,'Audit Values'!$A$2:$AE$252,26,FALSE))","v":0},2160.3000000000002,{"$f":"IF(ISNA(VLOOKUP($DC115,'Audit Values'!$A$2:$AE$252,2,FALSE)),'Preliminary SO66'!C112,IF(VLOOKUP($DC115,'Audit Values'!$A$2:$AE$252,28,FALSE)=\"\",VLOOKUP($DC115,'Audit Values'!$A$2:$AE$252,3,FALSE),VLOOKUP($DC115,'Audit Values'!$A$2:$AE$252,28,FALSE)))","v":22},2182.3000000000002,2182.3000000000002,2182.3000000000002,2182.3000000000002,0,76.5,0,76.5,{"$f":"IF(ISNA(VLOOKUP($DC115,'Audit Values'!$A$2:$AE$252,2,FALSE)),'Preliminary SO66'!D112,VLOOKUP($DC115,'Audit Values'!$A$2:$AE$252,4,FALSE))","v":754.6},{"$f":"ROUND((X115/6)*Weightings!$M$6,1)","v":62.9},{"$f":"IF(ISNA(VLOOKUP($DC115,'Audit Values'!$A$2:$AE$252,2,FALSE)),'Preliminary SO66'!F112,VLOOKUP($DC115,'Audit Values'!$A$2:$AE$252,6,FALSE))","v":64.5},{"$f":"ROUND((Z115/6)*Weightings!$M$7,1)","v":4.2},{"$f":"IF(ISNA(VLOOKUP($DC115,'Audit Values'!$A$2:$AE$252,2,FALSE)),'Preliminary SO66'!H112,VLOOKUP($DC115,'Audit Values'!$A$2:$AE$252,9,FALSE))","v":654},{"$f":"ROUND(AB115*Weightings!$M$8,1)","v":298.2},0,0,{"$f":"AE115*Weightings!$M$9","v":0},{"$f":"IF(ISNA(VLOOKUP($DC115,'Audit Values'!$A$2:$AE$252,2,FALSE)),'Preliminary SO66'!L112,VLOOKUP($DC115,'Audit Values'!$A$2:$AE$252,12,FALSE))","v":665.5},{"$f":"ROUND(AG115*Weightings!$M$10,1)","v":166.4},{"$f":"IF(ISNA(VLOOKUP($DC115,'Audit Values'!$A$2:$AE$252,2,FALSE)),'Preliminary SO66'!O112,VLOOKUP($DC115,'Audit Values'!$A$2:$AE$252,15,FALSE))","v":1069},189,{"$f":"CG115/Weightings!$M$5","v":0},{"$f":"CH115/Weightings!$M$5","v":0},{"$f":"CL115/Weightings!$M$5","v":0},0,{"$f":"IF(ISNA(VLOOKUP($DC115,'Audit Values'!$A$2:$AE$252,2,FALSE)),'Preliminary SO66'!X112,VLOOKUP($DC115,'Audit Values'!$A$2:$AE$252,24,FALSE))","v":0},2073552,{"$f":"AP115/Weightings!$M$5","v":538.29999999999995},2979.5,3517.8,3517.8,202393,{"$f":"IF(ISNA(VLOOKUP($DC115,'Audit Values'!$A$2:$AC$299,2,FALSE)),\"\",IF(AND(Weightings!H115>0,VLOOKUP($DC115,'Audit Values'!$A$2:$AC$299,29,FALSE)<Weightings!H115),Weightings!H115,VLOOKUP($DC115,'Audit Values'!$A$2:$AC$299,29,FALSE)))","v":13},{"$f":"IF(ISNA(VLOOKUP($DC115,'Audit Values'!$A$2:$AD$299,2,FALSE)),\"\",VLOOKUP($DC115,'Audit Values'!$A$2:$AD$299,30,FALSE))","v":"A"},{"$f":"IF(Weightings!G115=\"\",\"\",IF(Weightings!I115=\"Pending\",\"PX\",\"R\"))","v":""},{"$f":"AR115*Weightings!$M$5+AU115","v":11679427},{"$f":"AT115*Weightings!$M$5+AU115","v":13752959},{"$f":"IF(Weightings!G115>0,Weightings!G115,'Preliminary SO66'!AB112)","v":16646505},1564516,935350,97426,14049213,13752959,null,{"$f":"Weightings!E115","v":0},{"$f":"Weightings!F115","v":0},0,13752959,{"$f":"MAX(ROUND(((AR115-AN115-AO115)*Weightings!$M$12)+'2016legmax.xls'!AP115,0),ROUND((('2016legmax.xls'!AR115-'2016legmax.xls'!AN115-'2016legmax.xls'!AO115)*Weightings!$M$12)+Weightings!B115,0))","v":15805399},0.3,4741620,4617490,4617490,0.29210000000000003,0,false,0,0,0,false,0,0,0,76.5,137.69999999999999,7.76,{"$f":"IF(ROUND((Weightings!$P$5*CC115^Weightings!$P$6*Weightings!$P$8 ),2)<Weightings!$P$7,Weightings!$P$7,ROUND((Weightings!$P$5*CC115^Weightings!$P$6*Weightings!$P$8 ),2))","v":680.96},{"$f":"ROUND(CD115/Weightings!$M$5,4)","v":0.17680000000000001},189,0,0,0,0,{"$f":"AS115*Weightings!$M$5*CJ115","v":0},0,0.3,15.8,0,0,0,{"$f":"IF(ISNA(VLOOKUP($DC115,'Audit Values'!$A$2:$AE$252,2,FALSE)),'Preliminary SO66'!T112,VLOOKUP($DC115,'Audit Values'!$A$2:$AE$252,20,FALSE))","v":0},{"$f":"IF(ISNA(VLOOKUP($DC115,'Audit Values'!$A$2:$AE$252,21,FALSE)),'Preliminary SO66'!U112,VLOOKUP($DC115,'Audit Values'!$A$2:$AE$252,21,FALSE))","v":0},0,0,null,null,null,null,null,null,null,"D0313",60801]
[314,"Thomas","Brewster ",98.9,0,98.9,111,0,111,125.5,{"$f":"IF(ISNA(VLOOKUP($DC116,'Audit Values'!$A$2:$AE$252,2,FALSE)),'Preliminary SO66'!B113,VLOOKUP($DC116,'Audit Values'!$A$2:$AE$252,31,FALSE))","v":125.5},125.5,{"$f":"IF(ISNA(VLOOKUP($DC116,'Audit Values'!$A$2:$AE$252,2,FALSE)),'Preliminary SO66'!Z113,VLOOKUP($DC116,'Audit Values'!$A$2:$AE$252,26,FALSE))","v":0},125.5,{"$f":"IF(ISNA(VLOOKUP($DC116,'Audit Values'!$A$2:$AE$252,2,FALSE)),'Preliminary SO66'!C113,IF(VLOOKUP($DC116,'Audit Values'!$A$2:$AE$252,28,FALSE)=\"\",VLOOKUP($DC116,'Audit Values'!$A$2:$AE$252,3,FALSE),VLOOKUP($DC116,'Audit Values'!$A$2:$AE$252,28,FALSE)))","v":0},125.5,125.5,125.5,125.5,0,118.8,118.8,0,{"$f":"IF(ISNA(VLOOKUP($DC116,'Audit Values'!$A$2:$AE$252,2,FALSE)),'Preliminary SO66'!D113,VLOOKUP($DC116,'Audit Values'!$A$2:$AE$252,4,FALSE))","v":0},{"$f":"ROUND((X116/6)*Weightings!$M$6,1)","v":0},{"$f":"IF(ISNA(VLOOKUP($DC116,'Audit Values'!$A$2:$AE$252,2,FALSE)),'Preliminary SO66'!F113,VLOOKUP($DC116,'Audit Values'!$A$2:$AE$252,6,FALSE))","v":0},{"$f":"ROUND((Z116/6)*Weightings!$M$7,1)","v":0},{"$f":"IF(ISNA(VLOOKUP($DC116,'Audit Values'!$A$2:$AE$252,2,FALSE)),'Preliminary SO66'!H113,VLOOKUP($DC116,'Audit Values'!$A$2:$AE$252,9,FALSE))","v":40},{"$f":"ROUND(AB116*Weightings!$M$8,1)","v":18.2},0,0,{"$f":"AE116*Weightings!$M$9","v":0},{"$f":"IF(ISNA(VLOOKUP($DC116,'Audit Values'!$A$2:$AE$252,2,FALSE)),'Preliminary SO66'!L113,VLOOKUP($DC116,'Audit Values'!$A$2:$AE$252,12,FALSE))","v":0},{"$f":"ROUND(AG116*Weightings!$M$10,1)","v":0},{"$f":"IF(ISNA(VLOOKUP($DC116,'Audit Values'!$A$2:$AE$252,2,FALSE)),'Preliminary SO66'!O113,VLOOKUP($DC116,'Audit Values'!$A$2:$AE$252,15,FALSE))","v":31},15.4,{"$f":"CG116/Weightings!$M$5","v":0},{"$f":"CH116/Weightings!$M$5","v":0},{"$f":"CL116/Weightings!$M$5","v":0},0,{"$f":"IF(ISNA(VLOOKUP($DC116,'Audit Values'!$A$2:$AE$252,2,FALSE)),'Preliminary SO66'!X113,VLOOKUP($DC116,'Audit Values'!$A$2:$AE$252,24,FALSE))","v":0},137777,{"$f":"AP116/Weightings!$M$5","v":35.799999999999997},277.89999999999998,313.7,313.7,0,{"$f":"IF(ISNA(VLOOKUP($DC116,'Audit Values'!$A$2:$AC$299,2,FALSE)),\"\",IF(AND(Weightings!H116>0,VLOOKUP($DC116,'Audit Values'!$A$2:$AC$299,29,FALSE)<Weightings!H116),Weightings!H116,VLOOKUP($DC116,'Audit Values'!$A$2:$AC$299,29,FALSE)))","v":8},{"$f":"IF(ISNA(VLOOKUP($DC116,'Audit Values'!$A$2:$AD$299,2,FALSE)),\"\",VLOOKUP($DC116,'Audit Values'!$A$2:$AD$299,30,FALSE))","v":"A"},{"$f":"IF(Weightings!G116=\"\",\"\",IF(Weightings!I116=\"Pending\",\"PX\",\"R\"))","v":"R"},{"$f":"AR116*Weightings!$M$5+AU116","v":1070471},{"$f":"AT116*Weightings!$M$5+AU116","v":1208372},{"$f":"IF(Weightings!G116>0,Weightings!G116,'Preliminary SO66'!AB113)","v":1310085},0,65651,0,1244434,1208372,null,{"$f":"Weightings!E116","v":0},{"$f":"Weightings!F116","v":0},0,1208372,{"$f":"MAX(ROUND(((AR116-AN116-AO116)*Weightings!$M$12)+'2016legmax.xls'!AP116,0),ROUND((('2016legmax.xls'!AR116-'2016legmax.xls'!AN116-'2016legmax.xls'!AO116)*Weightings!$M$12)+Weightings!B116,0))","v":1385548},0.3,415664,344544,344544,0.2487,0,true,246.203,0.94673799999999997,118.8,false,0,0,0,0,372.8,0.08,{"$f":"IF(ROUND((Weightings!$P$5*CC116^Weightings!$P$6*Weightings!$P$8 ),2)<Weightings!$P$7,Weightings!$P$7,ROUND((Weightings!$P$5*CC116^Weightings!$P$6*Weightings!$P$8 ),2))","v":1916.65},{"$f":"ROUND(CD116/Weightings!$M$5,4)","v":0.49759999999999999},15.4,0,0,0,0,{"$f":"AS116*Weightings!$M$5*CJ116","v":0},0,0.31900000000000001,0.3,0,0,0,{"$f":"IF(ISNA(VLOOKUP($DC116,'Audit Values'!$A$2:$AE$252,2,FALSE)),'Preliminary SO66'!T113,VLOOKUP($DC116,'Audit Values'!$A$2:$AE$252,20,FALSE))","v":0},{"$f":"IF(ISNA(VLOOKUP($DC116,'Audit Values'!$A$2:$AE$252,21,FALSE)),'Preliminary SO66'!U113,VLOOKUP($DC116,'Audit Values'!$A$2:$AE$252,21,FALSE))","v":0},0,0,null,null,null,null,null,null,null,"D0314",92148]
[315,"Thomas","Colby Public Schools ",914.5,0,914.5,895.7,0,895.7,873.7,{"$f":"IF(ISNA(VLOOKUP($DC117,'Audit Values'!$A$2:$AE$252,2,FALSE)),'Preliminary SO66'!B114,VLOOKUP($DC117,'Audit Values'!$A$2:$AE$252,31,FALSE))","v":868.9},895.7,{"$f":"IF(ISNA(VLOOKUP($DC117,'Audit Values'!$A$2:$AE$252,2,FALSE)),'Preliminary SO66'!Z114,VLOOKUP($DC117,'Audit Values'!$A$2:$AE$252,26,FALSE))","v":0},895.7,{"$f":"IF(ISNA(VLOOKUP($DC117,'Audit Values'!$A$2:$AE$252,2,FALSE)),'Preliminary SO66'!C114,IF(VLOOKUP($DC117,'Audit Values'!$A$2:$AE$252,28,FALSE)=\"\",VLOOKUP($DC117,'Audit Values'!$A$2:$AE$252,3,FALSE),VLOOKUP($DC117,'Audit Values'!$A$2:$AE$252,28,FALSE)))","v":0},868.9,873.7,873.7,895.7,4.8,252.4,252.4,0,{"$f":"IF(ISNA(VLOOKUP($DC117,'Audit Values'!$A$2:$AE$252,2,FALSE)),'Preliminary SO66'!D114,VLOOKUP($DC117,'Audit Values'!$A$2:$AE$252,4,FALSE))","v":274.5},{"$f":"ROUND((X117/6)*Weightings!$M$6,1)","v":22.9},{"$f":"IF(ISNA(VLOOKUP($DC117,'Audit Values'!$A$2:$AE$252,2,FALSE)),'Preliminary SO66'!F114,VLOOKUP($DC117,'Audit Values'!$A$2:$AE$252,6,FALSE))","v":82},{"$f":"ROUND((Z117/6)*Weightings!$M$7,1)","v":5.4},{"$f":"IF(ISNA(VLOOKUP($DC117,'Audit Values'!$A$2:$AE$252,2,FALSE)),'Preliminary SO66'!H114,VLOOKUP($DC117,'Audit Values'!$A$2:$AE$252,9,FALSE))","v":283},{"$f":"ROUND(AB117*Weightings!$M$8,1)","v":129},0,0,{"$f":"AE117*Weightings!$M$9","v":0},{"$f":"IF(ISNA(VLOOKUP($DC117,'Audit Values'!$A$2:$AE$252,2,FALSE)),'Preliminary SO66'!L114,VLOOKUP($DC117,'Audit Values'!$A$2:$AE$252,12,FALSE))","v":0},{"$f":"ROUND(AG117*Weightings!$M$10,1)","v":0},{"$f":"IF(ISNA(VLOOKUP($DC117,'Audit Values'!$A$2:$AE$252,2,FALSE)),'Preliminary SO66'!O114,VLOOKUP($DC117,'Audit Values'!$A$2:$AE$252,15,FALSE))","v":182},63.3,{"$f":"CG117/Weightings!$M$5","v":0},{"$f":"CH117/Weightings!$M$5","v":0},{"$f":"CL117/Weightings!$M$5","v":0},5,{"$f":"IF(ISNA(VLOOKUP($DC117,'Audit Values'!$A$2:$AE$252,2,FALSE)),'Preliminary SO66'!X114,VLOOKUP($DC117,'Audit Values'!$A$2:$AE$252,24,FALSE))","v":0},669304,{"$f":"AP117/Weightings!$M$5","v":173.8},1373.7,1547.5,1547.5,0,{"$f":"IF(ISNA(VLOOKUP($DC117,'Audit Values'!$A$2:$AC$299,2,FALSE)),\"\",IF(AND(Weightings!H117>0,VLOOKUP($DC117,'Audit Values'!$A$2:$AC$299,29,FALSE)<Weightings!H117),Weightings!H117,VLOOKUP($DC117,'Audit Values'!$A$2:$AC$299,29,FALSE)))","v":8},{"$f":"IF(ISNA(VLOOKUP($DC117,'Audit Values'!$A$2:$AD$299,2,FALSE)),\"\",VLOOKUP($DC117,'Audit Values'!$A$2:$AD$299,30,FALSE))","v":"A"},{"$f":"IF(Weightings!G117=\"\",\"\",IF(Weightings!I117=\"Pending\",\"PX\",\"R\"))","v":""},{"$f":"AR117*Weightings!$M$5+AU117","v":5291492},{"$f":"AT117*Weightings!$M$5+AU117","v":5960970},{"$f":"IF(Weightings!G117>0,Weightings!G117,'Preliminary SO66'!AB114)","v":7451949},604811,371369,0,6475769,5960970,null,{"$f":"Weightings!E117","v":0},{"$f":"Weightings!F117","v":0},0,5960970,{"$f":"MAX(ROUND(((AR117-AN117-AO117)*Weightings!$M$12)+'2016legmax.xls'!AP117,0),ROUND((('2016legmax.xls'!AR117-'2016legmax.xls'!AN117-'2016legmax.xls'!AO117)*Weightings!$M$12)+Weightings!B117,0))","v":7191725},0.3,2157518,2176376,2157518,0.3,0,false,0,0,0,true,737.17880000000002,0.28179799999999999,252.4,0,463,0.39,{"$f":"IF(ROUND((Weightings!$P$5*CC117^Weightings!$P$6*Weightings!$P$8 ),2)<Weightings!$P$7,Weightings!$P$7,ROUND((Weightings!$P$5*CC117^Weightings!$P$6*Weightings!$P$8 ),2))","v":1339.42},{"$f":"ROUND(CD117/Weightings!$M$5,4)","v":0.34770000000000001},63.3,0,0,0,0,{"$f":"AS117*Weightings!$M$5*CJ117","v":0},0,0.316,1.9,0,0,0,{"$f":"IF(ISNA(VLOOKUP($DC117,'Audit Values'!$A$2:$AE$252,2,FALSE)),'Preliminary SO66'!T114,VLOOKUP($DC117,'Audit Values'!$A$2:$AE$252,20,FALSE))","v":1},{"$f":"IF(ISNA(VLOOKUP($DC117,'Audit Values'!$A$2:$AE$252,21,FALSE)),'Preliminary SO66'!U114,VLOOKUP($DC117,'Audit Values'!$A$2:$AE$252,21,FALSE))","v":0},3.8,4.8,null,null,null,null,null,null,null,"D0315"]
[316,"Thomas","Golden Plains ",187.4,0,187.4,178.9,0,178.9,177.6,{"$f":"IF(ISNA(VLOOKUP($DC118,'Audit Values'!$A$2:$AE$269,2,FALSE)),'Preliminary SO66'!B115,VLOOKUP($DC118,'Audit Values'!$A$2:$AE$269,31,FALSE))","v":177.6},181.3,{"$f":"IF(ISNA(VLOOKUP($DC118,'Audit Values'!$A$2:$AE$252,2,FALSE)),'Preliminary SO66'!Z115,VLOOKUP($DC118,'Audit Values'!$A$2:$AE$252,26,FALSE))","v":0},181.3,{"$f":"IF(ISNA(VLOOKUP($DC118,'Audit Values'!$A$2:$AE$269,2,FALSE)),'Preliminary SO66'!C115,IF(VLOOKUP($DC118,'Audit Values'!$A$2:$AE$269,28,FALSE)=\"\",VLOOKUP($DC118,'Audit Values'!$A$2:$AE$269,3,FALSE),VLOOKUP($DC118,'Audit Values'!$A$2:$AE$269,28,FALSE)))","v":2},179.6,179.6,179.6,183.3,0,145.5,145.5,0,{"$f":"IF(ISNA(VLOOKUP($DC118,'Audit Values'!$A$2:$AE$252,2,FALSE)),'Preliminary SO66'!D115,VLOOKUP($DC118,'Audit Values'!$A$2:$AE$252,4,FALSE))","v":9.4},{"$f":"ROUND((X118/6)*Weightings!$M$6,1)","v":0.8},{"$f":"IF(ISNA(VLOOKUP($DC118,'Audit Values'!$A$2:$AE$252,2,FALSE)),'Preliminary SO66'!F115,VLOOKUP($DC118,'Audit Values'!$A$2:$AE$252,6,FALSE))","v":82},{"$f":"ROUND((Z118/6)*Weightings!$M$7,1)","v":5.4},{"$f":"IF(ISNA(VLOOKUP($DC118,'Audit Values'!$A$2:$AE$269,2,FALSE)),'Preliminary SO66'!H115,VLOOKUP($DC118,'Audit Values'!$A$2:$AE$269,9,FALSE))","v":83},{"$f":"ROUND(AB118*Weightings!$M$8,1)","v":37.799999999999997},6,0,{"$f":"AE118*Weightings!$M$9","v":0},{"$f":"IF(ISNA(VLOOKUP($DC118,'Audit Values'!$A$2:$AE$252,2,FALSE)),'Preliminary SO66'!L115,VLOOKUP($DC118,'Audit Values'!$A$2:$AE$252,12,FALSE))","v":0},{"$f":"ROUND(AG118*Weightings!$M$10,1)","v":0},{"$f":"IF(ISNA(VLOOKUP($DC118,'Audit Values'!$A$2:$AE$269,2,FALSE)),'Preliminary SO66'!O115,VLOOKUP($DC118,'Audit Values'!$A$2:$AE$269,15,FALSE))","v":91},31.8,{"$f":"CG118/Weightings!$M$5","v":0},{"$f":"CH118/Weightings!$M$5","v":0},{"$f":"CL118/Weightings!$M$5","v":0},0,{"$f":"IF(ISNA(VLOOKUP($DC118,'Audit Values'!$A$2:$AE$252,2,FALSE)),'Preliminary SO66'!X115,VLOOKUP($DC118,'Audit Values'!$A$2:$AE$252,24,FALSE))","v":0},252469,{"$f":"AP118/Weightings!$M$5","v":65.5},410.6,476.1,476.1,0,{"$f":"IF(ISNA(VLOOKUP($DC118,'Audit Values'!$A$2:$AC$299,2,FALSE)),\"\",IF(AND(Weightings!H118>0,VLOOKUP($DC118,'Audit Values'!$A$2:$AC$299,29,FALSE)<Weightings!H118),Weightings!H118,VLOOKUP($DC118,'Audit Values'!$A$2:$AC$299,29,FALSE)))","v":17},{"$f":"IF(ISNA(VLOOKUP($DC118,'Audit Values'!$A$2:$AD$299,2,FALSE)),\"\",VLOOKUP($DC118,'Audit Values'!$A$2:$AD$299,30,FALSE))","v":"A"},{"$f":"IF(Weightings!G118=\"\",\"\",IF(Weightings!I118=\"Pending\",\"PX\",\"R\"))","v":""},{"$f":"AR118*Weightings!$M$5+AU118","v":1581631},{"$f":"AT118*Weightings!$M$5+AU118","v":1833937},{"$f":"IF(Weightings!G118>0,Weightings!G118,'Preliminary SO66'!AB115)","v":2273112},265781,116235,0,1891096,1833937,null,{"$f":"Weightings!E118","v":0},{"$f":"Weightings!F118","v":0},0,1833937,{"$f":"MAX(ROUND(((AR118-AN118-AO118)*Weightings!$M$12)+'2016legmax.xls'!AP118,0),ROUND((('2016legmax.xls'!AR118-'2016legmax.xls'!AN118-'2016legmax.xls'!AO118)*Weightings!$M$12)+Weightings!B118,0))","v":2185455},0.3,655637,661429,655637,0.3,0,true,804.26199999999994,0.79352599999999995,145.5,false,0,0,0,0,242,0.38,{"$f":"IF(ROUND((Weightings!$P$5*CC118^Weightings!$P$6*Weightings!$P$8 ),2)<Weightings!$P$7,Weightings!$P$7,ROUND((Weightings!$P$5*CC118^Weightings!$P$6*Weightings!$P$8 ),2))","v":1347.32},{"$f":"ROUND(CD118/Weightings!$M$5,4)","v":0.3498},31.8,0,0,0,0,{"$f":"AS118*Weightings!$M$5*CJ118","v":0},0,0.45300000000000001,0.8,0,0,6,{"$f":"IF(ISNA(VLOOKUP($DC118,'Audit Values'!$A$2:$AE$252,2,FALSE)),'Preliminary SO66'!T115,VLOOKUP($DC118,'Audit Values'!$A$2:$AE$252,20,FALSE))","v":0},{"$f":"IF(ISNA(VLOOKUP($DC118,'Audit Values'!$A$2:$AE$252,21,FALSE)),'Preliminary SO66'!U115,VLOOKUP($DC118,'Audit Values'!$A$2:$AE$252,21,FALSE))","v":0},0,0,null,null,null,null,null,null,null,"D0316"]
[320,"Pottawatomie","Wamego ",1464.6,0,1464.6,1494.8,0,1494.8,1470.1,{"$f":"IF(ISNA(VLOOKUP($DC119,'Audit Values'!$A$2:$AE$252,2,FALSE)),'Preliminary SO66'!B116,VLOOKUP($DC119,'Audit Values'!$A$2:$AE$252,31,FALSE))","v":1470.1},1494.8,{"$f":"IF(ISNA(VLOOKUP($DC119,'Audit Values'!$A$2:$AE$252,2,FALSE)),'Preliminary SO66'!Z116,VLOOKUP($DC119,'Audit Values'!$A$2:$AE$252,26,FALSE))","v":0},1494.8,{"$f":"IF(ISNA(VLOOKUP($DC119,'Audit Values'!$A$2:$AE$252,2,FALSE)),'Preliminary SO66'!C116,IF(VLOOKUP($DC119,'Audit Values'!$A$2:$AE$252,28,FALSE)=\"\",VLOOKUP($DC119,'Audit Values'!$A$2:$AE$252,3,FALSE),VLOOKUP($DC119,'Audit Values'!$A$2:$AE$252,28,FALSE)))","v":0},1470.1,1470.1,1470.1,1494.8,0,117,{"$f":"MAX(BR119,BV119,BZ119)","v":117},0,{"$f":"IF(ISNA(VLOOKUP($DC119,'Audit Values'!$A$2:$AE$252,2,FALSE)),'Preliminary SO66'!D116,VLOOKUP($DC119,'Audit Values'!$A$2:$AE$252,4,FALSE))","v":270.7},{"$f":"ROUND((X119/6)*Weightings!$M$6,1)","v":22.6},{"$f":"IF(ISNA(VLOOKUP($DC119,'Audit Values'!$A$2:$AE$252,2,FALSE)),'Preliminary SO66'!F116,VLOOKUP($DC119,'Audit Values'!$A$2:$AE$252,6,FALSE))","v":24},{"$f":"ROUND((Z119/6)*Weightings!$M$7,1)","v":1.6},{"$f":"IF(ISNA(VLOOKUP($DC119,'Audit Values'!$A$2:$AE$252,2,FALSE)),'Preliminary SO66'!H116,VLOOKUP($DC119,'Audit Values'!$A$2:$AE$252,9,FALSE))","v":317},{"$f":"ROUND(AB119*Weightings!$M$8,1)","v":144.6},0,0,{"$f":"AE119*Weightings!$M$9","v":0},{"$f":"IF(ISNA(VLOOKUP($DC119,'Audit Values'!$A$2:$AE$252,2,FALSE)),'Preliminary SO66'!L116,VLOOKUP($DC119,'Audit Values'!$A$2:$AE$252,12,FALSE))","v":0},{"$f":"ROUND(AG119*Weightings!$M$10,1)","v":0},{"$f":"IF(ISNA(VLOOKUP($DC119,'Audit Values'!$A$2:$AE$252,2,FALSE)),'Preliminary SO66'!O116,VLOOKUP($DC119,'Audit Values'!$A$2:$AE$252,15,FALSE))","v":418},98.6,{"$f":"CG119/Weightings!$M$5","v":0},{"$f":"CH119/Weightings!$M$5","v":0},{"$f":"CL119/Weightings!$M$5","v":0},0,{"$f":"IF(ISNA(VLOOKUP($DC119,'Audit Values'!$A$2:$AE$252,2,FALSE)),'Preliminary SO66'!X116,VLOOKUP($DC119,'Audit Values'!$A$2:$AE$252,24,FALSE))","v":0},1472051,{"$f":"AP119/Weightings!$M$5","v":382.2},1879.2,2261.4,2261.4,0,{"$f":"IF(ISNA(VLOOKUP($DC119,'Audit Values'!$A$2:$AC$299,2,FALSE)),\"\",IF(AND(Weightings!H119>0,VLOOKUP($DC119,'Audit Values'!$A$2:$AC$299,29,FALSE)<Weightings!H119),Weightings!H119,VLOOKUP($DC119,'Audit Values'!$A$2:$AC$299,29,FALSE)))","v":15},{"$f":"IF(ISNA(VLOOKUP($DC119,'Audit Values'!$A$2:$AD$299,2,FALSE)),\"\",VLOOKUP($DC119,'Audit Values'!$A$2:$AD$299,30,FALSE))","v":"A"},{"$f":"IF(Weightings!G119=\"\",\"\",IF(Weightings!I119=\"Pending\",\"PX\",\"R\"))","v":""},{"$f":"AR119*Weightings!$M$5+AU119","v":7238678},{"$f":"AT119*Weightings!$M$5+AU119","v":8710913},{"$f":"IF(Weightings!G119>0,Weightings!G119,'Preliminary SO66'!AB116)","v":11805967},1604363,968817,77056,9155731,8710913,null,{"$f":"Weightings!E119","v":0},{"$f":"Weightings!F119","v":0},0,8710913,{"$f":"MAX(ROUND(((AR119-AN119-AO119)*Weightings!$M$12)+'2016legmax.xls'!AP119,0),ROUND((('2016legmax.xls'!AR119-'2016legmax.xls'!AN119-'2016legmax.xls'!AO119)*Weightings!$M$12)+Weightings!B119,0))","v":9909659},0.3,2972898,3002851,2972898,0.3,0,false,0,0,0,true,1478.5650000000001,7.8255000000000005E-2,117,0,193,2.17,{"$f":"IF(ROUND((Weightings!$P$5*CC119^Weightings!$P$6*Weightings!$P$8 ),2)<Weightings!$P$7,Weightings!$P$7,ROUND((Weightings!$P$5*CC119^Weightings!$P$6*Weightings!$P$8 ),2))","v":908.46},{"$f":"ROUND(CD119/Weightings!$M$5,4)","v":0.23580000000000001},98.6,0,0,0,0,{"$f":"AS119*Weightings!$M$5*CJ119","v":0},0,0.21199999999999999,7.7,0,0,0,{"$f":"IF(ISNA(VLOOKUP($DC119,'Audit Values'!$A$2:$AE$252,2,FALSE)),'Preliminary SO66'!T116,VLOOKUP($DC119,'Audit Values'!$A$2:$AE$252,20,FALSE))","v":0},{"$f":"IF(ISNA(VLOOKUP($DC119,'Audit Values'!$A$2:$AE$252,21,FALSE)),'Preliminary SO66'!U116,VLOOKUP($DC119,'Audit Values'!$A$2:$AE$252,21,FALSE))","v":0},0,0,null,null,null,null,null,null,null,"D0320"]
[321,"Pottawatomie","Kaw Valley ",1118.5,0,1118.5,1112.9000000000001,0,1112.9000000000001,1097,{"$f":"IF(ISNA(VLOOKUP($DC120,'Audit Values'!$A$2:$AE$252,2,FALSE)),'Preliminary SO66'!B117,VLOOKUP($DC120,'Audit Values'!$A$2:$AE$252,31,FALSE))","v":1097},1112.9000000000001,{"$f":"IF(ISNA(VLOOKUP($DC120,'Audit Values'!$A$2:$AE$252,2,FALSE)),'Preliminary SO66'!Z117,VLOOKUP($DC120,'Audit Values'!$A$2:$AE$252,26,FALSE))","v":0},1112.9000000000001,{"$f":"IF(ISNA(VLOOKUP($DC120,'Audit Values'!$A$2:$AE$252,2,FALSE)),'Preliminary SO66'!C117,IF(VLOOKUP($DC120,'Audit Values'!$A$2:$AE$252,28,FALSE)=\"\",VLOOKUP($DC120,'Audit Values'!$A$2:$AE$252,3,FALSE),VLOOKUP($DC120,'Audit Values'!$A$2:$AE$252,28,FALSE)))","v":8.5},1105.5,1105.5,1105.5,1121.4000000000001,0,230,230,0,{"$f":"IF(ISNA(VLOOKUP($DC120,'Audit Values'!$A$2:$AE$252,2,FALSE)),'Preliminary SO66'!D117,VLOOKUP($DC120,'Audit Values'!$A$2:$AE$252,4,FALSE))","v":304.2},{"$f":"ROUND((X120/6)*Weightings!$M$6,1)","v":25.4},{"$f":"IF(ISNA(VLOOKUP($DC120,'Audit Values'!$A$2:$AE$252,2,FALSE)),'Preliminary SO66'!F117,VLOOKUP($DC120,'Audit Values'!$A$2:$AE$252,6,FALSE))","v":0},{"$f":"ROUND((Z120/6)*Weightings!$M$7,1)","v":0},{"$f":"IF(ISNA(VLOOKUP($DC120,'Audit Values'!$A$2:$AE$252,2,FALSE)),'Preliminary SO66'!H117,VLOOKUP($DC120,'Audit Values'!$A$2:$AE$252,9,FALSE))","v":321},{"$f":"ROUND(AB120*Weightings!$M$8,1)","v":146.4},0,0,{"$f":"AE120*Weightings!$M$9","v":0},{"$f":"IF(ISNA(VLOOKUP($DC120,'Audit Values'!$A$2:$AE$252,2,FALSE)),'Preliminary SO66'!L117,VLOOKUP($DC120,'Audit Values'!$A$2:$AE$252,12,FALSE))","v":0},{"$f":"ROUND(AG120*Weightings!$M$10,1)","v":0},{"$f":"IF(ISNA(VLOOKUP($DC120,'Audit Values'!$A$2:$AE$252,2,FALSE)),'Preliminary SO66'!O117,VLOOKUP($DC120,'Audit Values'!$A$2:$AE$252,15,FALSE))","v":425},111.2,{"$f":"CG120/Weightings!$M$5","v":0},{"$f":"CH120/Weightings!$M$5","v":0},{"$f":"CL120/Weightings!$M$5","v":0},0,{"$f":"IF(ISNA(VLOOKUP($DC120,'Audit Values'!$A$2:$AE$252,2,FALSE)),'Preliminary SO66'!X117,VLOOKUP($DC120,'Audit Values'!$A$2:$AE$252,24,FALSE))","v":0},1291330,{"$f":"AP120/Weightings!$M$5","v":335.2},1634.4,1969.6,1969.6,0,{"$f":"IF(ISNA(VLOOKUP($DC120,'Audit Values'!$A$2:$AC$299,2,FALSE)),\"\",IF(AND(Weightings!H120>0,VLOOKUP($DC120,'Audit Values'!$A$2:$AC$299,29,FALSE)<Weightings!H120),Weightings!H120,VLOOKUP($DC120,'Audit Values'!$A$2:$AC$299,29,FALSE)))","v":12},{"$f":"IF(ISNA(VLOOKUP($DC120,'Audit Values'!$A$2:$AD$299,2,FALSE)),\"\",VLOOKUP($DC120,'Audit Values'!$A$2:$AD$299,30,FALSE))","v":"A"},{"$f":"IF(Weightings!G120=\"\",\"\",IF(Weightings!I120=\"Pending\",\"PX\",\"R\"))","v":""},{"$f":"AR120*Weightings!$M$5+AU120","v":6295709},{"$f":"AT120*Weightings!$M$5+AU120","v":7586899},{"$f":"IF(Weightings!G120>0,Weightings!G120,'Preliminary SO66'!AB117)","v":8837520},0,702904,0,8134616,7586899,null,{"$f":"Weightings!E120","v":0},{"$f":"Weightings!F120","v":0},0,7586899,{"$f":"MAX(ROUND(((AR120-AN120-AO120)*Weightings!$M$12)+'2016legmax.xls'!AP120,0),ROUND((('2016legmax.xls'!AR120-'2016legmax.xls'!AN120-'2016legmax.xls'!AO120)*Weightings!$M$12)+Weightings!B120,0))","v":8728350},0.3,2618505,2634833,2618505,0.3,0,false,0,0,0,true,1016.4825,0.20511699999999999,230,0,311,1.37,{"$f":"IF(ROUND((Weightings!$P$5*CC120^Weightings!$P$6*Weightings!$P$8 ),2)<Weightings!$P$7,Weightings!$P$7,ROUND((Weightings!$P$5*CC120^Weightings!$P$6*Weightings!$P$8 ),2))","v":1008.06},{"$f":"ROUND(CD120/Weightings!$M$5,4)","v":0.26169999999999999},111.2,0,0,0,0,{"$f":"AS120*Weightings!$M$5*CJ120","v":0},0,0.28599999999999998,3.6,0,0,0,{"$f":"IF(ISNA(VLOOKUP($DC120,'Audit Values'!$A$2:$AE$252,2,FALSE)),'Preliminary SO66'!T117,VLOOKUP($DC120,'Audit Values'!$A$2:$AE$252,20,FALSE))","v":0},{"$f":"IF(ISNA(VLOOKUP($DC120,'Audit Values'!$A$2:$AE$252,21,FALSE)),'Preliminary SO66'!U117,VLOOKUP($DC120,'Audit Values'!$A$2:$AE$252,21,FALSE))","v":0},0,0,null,null,null,null,null,null,null,"D0321"]
[322,"Pottawatomie","Onaga-Havensville-Wheaton ",304,0,304,304.5,0,304.5,289.5,{"$f":"IF(ISNA(VLOOKUP($DC121,'Audit Values'!$A$2:$AE$252,2,FALSE)),'Preliminary SO66'!B118,VLOOKUP($DC121,'Audit Values'!$A$2:$AE$252,31,FALSE))","v":289.5},304.5,{"$f":"IF(ISNA(VLOOKUP($DC121,'Audit Values'!$A$2:$AE$252,2,FALSE)),'Preliminary SO66'!Z118,VLOOKUP($DC121,'Audit Values'!$A$2:$AE$252,26,FALSE))","v":0},304.5,{"$f":"IF(ISNA(VLOOKUP($DC121,'Audit Values'!$A$2:$AE$252,2,FALSE)),'Preliminary SO66'!C118,IF(VLOOKUP($DC121,'Audit Values'!$A$2:$AE$252,28,FALSE)=\"\",VLOOKUP($DC121,'Audit Values'!$A$2:$AE$252,3,FALSE),VLOOKUP($DC121,'Audit Values'!$A$2:$AE$252,28,FALSE)))","v":0},289.5,289.5,289.5,304.5,0,147,147,0,{"$f":"IF(ISNA(VLOOKUP($DC121,'Audit Values'!$A$2:$AE$252,2,FALSE)),'Preliminary SO66'!D118,VLOOKUP($DC121,'Audit Values'!$A$2:$AE$252,4,FALSE))","v":37.9},{"$f":"ROUND((X121/6)*Weightings!$M$6,1)","v":3.2},{"$f":"IF(ISNA(VLOOKUP($DC121,'Audit Values'!$A$2:$AE$252,2,FALSE)),'Preliminary SO66'!F118,VLOOKUP($DC121,'Audit Values'!$A$2:$AE$252,6,FALSE))","v":0},{"$f":"ROUND((Z121/6)*Weightings!$M$7,1)","v":0},{"$f":"IF(ISNA(VLOOKUP($DC121,'Audit Values'!$A$2:$AE$252,2,FALSE)),'Preliminary SO66'!H118,VLOOKUP($DC121,'Audit Values'!$A$2:$AE$252,9,FALSE))","v":84},{"$f":"ROUND(AB121*Weightings!$M$8,1)","v":38.299999999999997},0,0,{"$f":"AE121*Weightings!$M$9","v":0},{"$f":"IF(ISNA(VLOOKUP($DC121,'Audit Values'!$A$2:$AE$252,2,FALSE)),'Preliminary SO66'!L118,VLOOKUP($DC121,'Audit Values'!$A$2:$AE$252,12,FALSE))","v":0},{"$f":"ROUND(AG121*Weightings!$M$10,1)","v":0},{"$f":"IF(ISNA(VLOOKUP($DC121,'Audit Values'!$A$2:$AE$252,2,FALSE)),'Preliminary SO66'!O118,VLOOKUP($DC121,'Audit Values'!$A$2:$AE$252,15,FALSE))","v":134},43.7,{"$f":"CG121/Weightings!$M$5","v":0},{"$f":"CH121/Weightings!$M$5","v":0},{"$f":"CL121/Weightings!$M$5","v":0},0,{"$f":"IF(ISNA(VLOOKUP($DC121,'Audit Values'!$A$2:$AE$252,2,FALSE)),'Preliminary SO66'!X118,VLOOKUP($DC121,'Audit Values'!$A$2:$AE$252,24,FALSE))","v":0},312851,{"$f":"AP121/Weightings!$M$5","v":81.2},536.70000000000005,617.9,617.9,0,{"$f":"IF(ISNA(VLOOKUP($DC121,'Audit Values'!$A$2:$AC$299,2,FALSE)),\"\",IF(AND(Weightings!H121>0,VLOOKUP($DC121,'Audit Values'!$A$2:$AC$299,29,FALSE)<Weightings!H121),Weightings!H121,VLOOKUP($DC121,'Audit Values'!$A$2:$AC$299,29,FALSE)))","v":2},{"$f":"IF(ISNA(VLOOKUP($DC121,'Audit Values'!$A$2:$AD$299,2,FALSE)),\"\",VLOOKUP($DC121,'Audit Values'!$A$2:$AD$299,30,FALSE))","v":"A"},{"$f":"IF(Weightings!G121=\"\",\"\",IF(Weightings!I121=\"Pending\",\"PX\",\"R\"))","v":""},{"$f":"AR121*Weightings!$M$5+AU121","v":2067368},{"$f":"AT121*Weightings!$M$5+AU121","v":2380151},{"$f":"IF(Weightings!G121>0,Weightings!G121,'Preliminary SO66'!AB118)","v":3046517},343817,162941,9750,2530009,2380151,null,{"$f":"Weightings!E121","v":0},{"$f":"Weightings!F121","v":0},0,2380151,{"$f":"MAX(ROUND(((AR121-AN121-AO121)*Weightings!$M$12)+'2016legmax.xls'!AP121,0),ROUND((('2016legmax.xls'!AR121-'2016legmax.xls'!AN121-'2016legmax.xls'!AO121)*Weightings!$M$12)+Weightings!B121,0))","v":2722634},0.3,816790,840540,816790,0.3,0,false,0,0,0,true,5.5688000000000004,0.482657,147,0,256.39999999999998,0.52,{"$f":"IF(ROUND((Weightings!$P$5*CC121^Weightings!$P$6*Weightings!$P$8 ),2)<Weightings!$P$7,Weightings!$P$7,ROUND((Weightings!$P$5*CC121^Weightings!$P$6*Weightings!$P$8 ),2))","v":1255.03},{"$f":"ROUND(CD121/Weightings!$M$5,4)","v":0.32579999999999998},43.7,0,0,0,0,{"$f":"AS121*Weightings!$M$5*CJ121","v":0},0,0.27600000000000002,1.2,0,0,0,{"$f":"IF(ISNA(VLOOKUP($DC121,'Audit Values'!$A$2:$AE$252,2,FALSE)),'Preliminary SO66'!T118,VLOOKUP($DC121,'Audit Values'!$A$2:$AE$252,20,FALSE))","v":0},{"$f":"IF(ISNA(VLOOKUP($DC121,'Audit Values'!$A$2:$AE$252,21,FALSE)),'Preliminary SO66'!U118,VLOOKUP($DC121,'Audit Values'!$A$2:$AE$252,21,FALSE))","v":0},0,0,null,null,null,null,null,null,null,"D0322"]
[323,"Pottawatomie","Rock Creek ",854.9,0,854.9,902.1,0,902.1,942.1,{"$f":"IF(ISNA(VLOOKUP($DC122,'Audit Values'!$A$2:$AE$269,2,FALSE)),'Preliminary SO66'!B119,VLOOKUP($DC122,'Audit Values'!$A$2:$AE$269,31,FALSE))","v":942.1},942.1,{"$f":"IF(ISNA(VLOOKUP($DC122,'Audit Values'!$A$2:$AE$252,2,FALSE)),'Preliminary SO66'!Z119,VLOOKUP($DC122,'Audit Values'!$A$2:$AE$252,26,FALSE))","v":0},942.1,{"$f":"IF(ISNA(VLOOKUP($DC122,'Audit Values'!$A$2:$AE$252,2,FALSE)),'Preliminary SO66'!C119,IF(VLOOKUP($DC122,'Audit Values'!$A$2:$AE$252,28,FALSE)=\"\",VLOOKUP($DC122,'Audit Values'!$A$2:$AE$252,3,FALSE),VLOOKUP($DC122,'Audit Values'!$A$2:$AE$252,28,FALSE)))","v":0},942.1,942.1,942.1,942.1,0,250.6,250.6,0,{"$f":"IF(ISNA(VLOOKUP($DC122,'Audit Values'!$A$2:$AE$252,2,FALSE)),'Preliminary SO66'!D119,VLOOKUP($DC122,'Audit Values'!$A$2:$AE$252,4,FALSE))","v":229.2},{"$f":"ROUND((X122/6)*Weightings!$M$6,1)","v":19.100000000000001},{"$f":"IF(ISNA(VLOOKUP($DC122,'Audit Values'!$A$2:$AE$252,2,FALSE)),'Preliminary SO66'!F119,VLOOKUP($DC122,'Audit Values'!$A$2:$AE$252,6,FALSE))","v":14.8},{"$f":"ROUND((Z122/6)*Weightings!$M$7,1)","v":1},{"$f":"IF(ISNA(VLOOKUP($DC122,'Audit Values'!$A$2:$AE$269,2,FALSE)),'Preliminary SO66'!H119,VLOOKUP($DC122,'Audit Values'!$A$2:$AE$269,9,FALSE))","v":216},{"$f":"ROUND(AB122*Weightings!$M$8,1)","v":98.5},0,0,{"$f":"AE122*Weightings!$M$9","v":0},{"$f":"IF(ISNA(VLOOKUP($DC122,'Audit Values'!$A$2:$AE$269,2,FALSE)),'Preliminary SO66'!L119,VLOOKUP($DC122,'Audit Values'!$A$2:$AE$269,12,FALSE))","v":204.6},{"$f":"ROUND(AG122*Weightings!$M$10,1)","v":51.2},{"$f":"IF(ISNA(VLOOKUP($DC122,'Audit Values'!$A$2:$AE$252,2,FALSE)),'Preliminary SO66'!O119,VLOOKUP($DC122,'Audit Values'!$A$2:$AE$252,15,FALSE))","v":626.5},140.80000000000001,{"$f":"CG122/Weightings!$M$5","v":0},{"$f":"CH122/Weightings!$M$5","v":0},{"$f":"CL122/Weightings!$M$5","v":0},0,{"$f":"IF(ISNA(VLOOKUP($DC122,'Audit Values'!$A$2:$AE$252,2,FALSE)),'Preliminary SO66'!X119,VLOOKUP($DC122,'Audit Values'!$A$2:$AE$252,24,FALSE))","v":0},824006,{"$f":"AP122/Weightings!$M$5","v":213.9},1503.3,1717.2,1717.2,0,{"$f":"IF(ISNA(VLOOKUP($DC122,'Audit Values'!$A$2:$AC$299,2,FALSE)),\"\",IF(AND(Weightings!H122>0,VLOOKUP($DC122,'Audit Values'!$A$2:$AC$299,29,FALSE)<Weightings!H122),Weightings!H122,VLOOKUP($DC122,'Audit Values'!$A$2:$AC$299,29,FALSE)))","v":17},{"$f":"IF(ISNA(VLOOKUP($DC122,'Audit Values'!$A$2:$AD$299,2,FALSE)),\"\",VLOOKUP($DC122,'Audit Values'!$A$2:$AD$299,30,FALSE))","v":"A"},{"$f":"IF(Weightings!G122=\"\",\"\",IF(Weightings!I122=\"Pending\",\"PX\",\"R\"))","v":""},{"$f":"AR122*Weightings!$M$5+AU122","v":5790712},{"$f":"AT122*Weightings!$M$5+AU122","v":6614654},{"$f":"IF(Weightings!G122>0,Weightings!G122,'Preliminary SO66'!AB119)","v":8116720},1054938,398905,0,6662877,6614654,null,{"$f":"Weightings!E122","v":0},{"$f":"Weightings!F122","v":0},0,6614654,{"$f":"MAX(ROUND(((AR122-AN122-AO122)*Weightings!$M$12)+'2016legmax.xls'!AP122,0),ROUND((('2016legmax.xls'!AR122-'2016legmax.xls'!AN122-'2016legmax.xls'!AO122)*Weightings!$M$12)+Weightings!B122,0))","v":7639813},0.3,2291944,1999750,1999750,0.26179999999999998,0,false,0,0,0,true,794.59879999999998,0.26603399999999999,250.6,0,233,2.69,{"$f":"IF(ROUND((Weightings!$P$5*CC122^Weightings!$P$6*Weightings!$P$8 ),2)<Weightings!$P$7,Weightings!$P$7,ROUND((Weightings!$P$5*CC122^Weightings!$P$6*Weightings!$P$8 ),2))","v":865.37},{"$f":"ROUND(CD122/Weightings!$M$5,4)","v":0.22470000000000001},140.80000000000001,0,0,0,0,{"$f":"AS122*Weightings!$M$5*CJ122","v":0},0,0.22900000000000001,4,0,0,0,{"$f":"IF(ISNA(VLOOKUP($DC122,'Audit Values'!$A$2:$AE$252,2,FALSE)),'Preliminary SO66'!T119,VLOOKUP($DC122,'Audit Values'!$A$2:$AE$252,20,FALSE))","v":0},{"$f":"IF(ISNA(VLOOKUP($DC122,'Audit Values'!$A$2:$AE$252,21,FALSE)),'Preliminary SO66'!U119,VLOOKUP($DC122,'Audit Values'!$A$2:$AE$252,21,FALSE))","v":0},0,0,null,null,null,null,null,null,null,"D0323",116778]
[325,"Phillips","Phillipsburg ",587,0,587,591,0,591,607.5,{"$f":"IF(ISNA(VLOOKUP($DC123,'Audit Values'!$A$2:$AE$252,2,FALSE)),'Preliminary SO66'!B120,VLOOKUP($DC123,'Audit Values'!$A$2:$AE$252,31,FALSE))","v":607.5},607.5,{"$f":"IF(ISNA(VLOOKUP($DC123,'Audit Values'!$A$2:$AE$252,2,FALSE)),'Preliminary SO66'!Z120,VLOOKUP($DC123,'Audit Values'!$A$2:$AE$252,26,FALSE))","v":0},607.5,{"$f":"IF(ISNA(VLOOKUP($DC123,'Audit Values'!$A$2:$AE$252,2,FALSE)),'Preliminary SO66'!C120,IF(VLOOKUP($DC123,'Audit Values'!$A$2:$AE$252,28,FALSE)=\"\",VLOOKUP($DC123,'Audit Values'!$A$2:$AE$252,3,FALSE),VLOOKUP($DC123,'Audit Values'!$A$2:$AE$252,28,FALSE)))","v":0},607.5,607.5,607.5,607.5,0,230.7,230.7,0,{"$f":"IF(ISNA(VLOOKUP($DC123,'Audit Values'!$A$2:$AE$252,2,FALSE)),'Preliminary SO66'!D120,VLOOKUP($DC123,'Audit Values'!$A$2:$AE$252,4,FALSE))","v":111.6},{"$f":"ROUND((X123/6)*Weightings!$M$6,1)","v":9.3000000000000007},{"$f":"IF(ISNA(VLOOKUP($DC123,'Audit Values'!$A$2:$AE$252,2,FALSE)),'Preliminary SO66'!F120,VLOOKUP($DC123,'Audit Values'!$A$2:$AE$252,6,FALSE))","v":0},{"$f":"ROUND((Z123/6)*Weightings!$M$7,1)","v":0},{"$f":"IF(ISNA(VLOOKUP($DC123,'Audit Values'!$A$2:$AE$252,2,FALSE)),'Preliminary SO66'!H120,VLOOKUP($DC123,'Audit Values'!$A$2:$AE$252,9,FALSE))","v":187},{"$f":"ROUND(AB123*Weightings!$M$8,1)","v":85.3},0,0,{"$f":"AE123*Weightings!$M$9","v":0},{"$f":"IF(ISNA(VLOOKUP($DC123,'Audit Values'!$A$2:$AE$252,2,FALSE)),'Preliminary SO66'!L120,VLOOKUP($DC123,'Audit Values'!$A$2:$AE$252,12,FALSE))","v":0},{"$f":"ROUND(AG123*Weightings!$M$10,1)","v":0},{"$f":"IF(ISNA(VLOOKUP($DC123,'Audit Values'!$A$2:$AE$252,2,FALSE)),'Preliminary SO66'!O120,VLOOKUP($DC123,'Audit Values'!$A$2:$AE$252,15,FALSE))","v":119},42.7,{"$f":"CG123/Weightings!$M$5","v":0},{"$f":"CH123/Weightings!$M$5","v":0},{"$f":"CL123/Weightings!$M$5","v":0},0,{"$f":"IF(ISNA(VLOOKUP($DC123,'Audit Values'!$A$2:$AE$252,2,FALSE)),'Preliminary SO66'!X120,VLOOKUP($DC123,'Audit Values'!$A$2:$AE$252,24,FALSE))","v":0},710971,{"$f":"AP123/Weightings!$M$5","v":184.6},975.5,1160.0999999999999,1160.0999999999999,0,{"$f":"IF(ISNA(VLOOKUP($DC123,'Audit Values'!$A$2:$AC$299,2,FALSE)),\"\",IF(AND(Weightings!H123>0,VLOOKUP($DC123,'Audit Values'!$A$2:$AC$299,29,FALSE)<Weightings!H123),Weightings!H123,VLOOKUP($DC123,'Audit Values'!$A$2:$AC$299,29,FALSE)))","v":8},{"$f":"IF(ISNA(VLOOKUP($DC123,'Audit Values'!$A$2:$AD$299,2,FALSE)),\"\",VLOOKUP($DC123,'Audit Values'!$A$2:$AD$299,30,FALSE))","v":"A"},{"$f":"IF(Weightings!G123=\"\",\"\",IF(Weightings!I123=\"Pending\",\"PX\",\"R\"))","v":""},{"$f":"AR123*Weightings!$M$5+AU123","v":3757626},{"$f":"AT123*Weightings!$M$5+AU123","v":4468705},{"$f":"IF(Weightings!G123>0,Weightings!G123,'Preliminary SO66'!AB120)","v":5808259},847787,268992,40218,4651262,4468705,null,{"$f":"Weightings!E123","v":0},{"$f":"Weightings!F123","v":0},0,4468705,{"$f":"MAX(ROUND(((AR123-AN123-AO123)*Weightings!$M$12)+'2016legmax.xls'!AP123,0),ROUND((('2016legmax.xls'!AR123-'2016legmax.xls'!AN123-'2016legmax.xls'!AO123)*Weightings!$M$12)+Weightings!B123,0))","v":5137034},0.3,{"$f":"BL123*BM123","v":1541110},1525889,1525889,0.29699999999999999,0,false,0,0,0,true,380.53129999999999,0.379714,230.7,0,353,0.34,{"$f":"IF(ROUND((Weightings!$P$5*CC123^Weightings!$P$6*Weightings!$P$8 ),2)<Weightings!$P$7,Weightings!$P$7,ROUND((Weightings!$P$5*CC123^Weightings!$P$6*Weightings!$P$8 ),2))","v":1381.64},{"$f":"ROUND(CD123/Weightings!$M$5,4)","v":0.35870000000000002},42.7,0,0,0,0,{"$f":"AS123*Weightings!$M$5*CJ123","v":0},0,0.308,1.7,0,0,0,{"$f":"IF(ISNA(VLOOKUP($DC123,'Audit Values'!$A$2:$AE$252,2,FALSE)),'Preliminary SO66'!T120,VLOOKUP($DC123,'Audit Values'!$A$2:$AE$252,20,FALSE))","v":0},{"$f":"IF(ISNA(VLOOKUP($DC123,'Audit Values'!$A$2:$AE$252,21,FALSE)),'Preliminary SO66'!U120,VLOOKUP($DC123,'Audit Values'!$A$2:$AE$252,21,FALSE))","v":0},0,0,null,null,null,null,null,null,null,"D0325"]
[326,"Phillips","Logan ",168,0,168,149.5,0,149.5,144.5,{"$f":"IF(ISNA(VLOOKUP($DC124,'Audit Values'!$A$2:$AE$252,2,FALSE)),'Preliminary SO66'!B121,VLOOKUP($DC124,'Audit Values'!$A$2:$AE$252,31,FALSE))","v":144.5},154,{"$f":"IF(ISNA(VLOOKUP($DC124,'Audit Values'!$A$2:$AE$252,2,FALSE)),'Preliminary SO66'!Z121,VLOOKUP($DC124,'Audit Values'!$A$2:$AE$252,26,FALSE))","v":0},154,{"$f":"IF(ISNA(VLOOKUP($DC124,'Audit Values'!$A$2:$AE$252,2,FALSE)),'Preliminary SO66'!C121,IF(VLOOKUP($DC124,'Audit Values'!$A$2:$AE$252,28,FALSE)=\"\",VLOOKUP($DC124,'Audit Values'!$A$2:$AE$252,3,FALSE),VLOOKUP($DC124,'Audit Values'!$A$2:$AE$252,28,FALSE)))","v":0.5},145,145,145,154.5,0,134.4,{"$f":"MAX(BR124,BV124,BZ124)","v":134.4},0,{"$f":"IF(ISNA(VLOOKUP($DC124,'Audit Values'!$A$2:$AE$252,2,FALSE)),'Preliminary SO66'!D121,VLOOKUP($DC124,'Audit Values'!$A$2:$AE$252,4,FALSE))","v":61.9},{"$f":"ROUND((X124/6)*Weightings!$M$6,1)","v":5.2},{"$f":"IF(ISNA(VLOOKUP($DC124,'Audit Values'!$A$2:$AE$252,2,FALSE)),'Preliminary SO66'!F121,VLOOKUP($DC124,'Audit Values'!$A$2:$AE$252,6,FALSE))","v":0},{"$f":"ROUND((Z124/6)*Weightings!$M$7,1)","v":0},{"$f":"IF(ISNA(VLOOKUP($DC124,'Audit Values'!$A$2:$AE$252,2,FALSE)),'Preliminary SO66'!H121,VLOOKUP($DC124,'Audit Values'!$A$2:$AE$252,9,FALSE))","v":51},{"$f":"ROUND(AB124*Weightings!$M$8,1)","v":23.3},0,0,{"$f":"AE124*Weightings!$M$9","v":0},{"$f":"IF(ISNA(VLOOKUP($DC124,'Audit Values'!$A$2:$AE$252,2,FALSE)),'Preliminary SO66'!L121,VLOOKUP($DC124,'Audit Values'!$A$2:$AE$252,12,FALSE))","v":0},{"$f":"ROUND(AG124*Weightings!$M$10,1)","v":0},{"$f":"IF(ISNA(VLOOKUP($DC124,'Audit Values'!$A$2:$AE$252,2,FALSE)),'Preliminary SO66'!O121,VLOOKUP($DC124,'Audit Values'!$A$2:$AE$252,15,FALSE))","v":57.5},24.1,{"$f":"CG124/Weightings!$M$5","v":0},{"$f":"CH124/Weightings!$M$5","v":0},{"$f":"CL124/Weightings!$M$5","v":0},0,{"$f":"IF(ISNA(VLOOKUP($DC124,'Audit Values'!$A$2:$AE$252,2,FALSE)),'Preliminary SO66'!X121,VLOOKUP($DC124,'Audit Values'!$A$2:$AE$252,24,FALSE))","v":0},178978,{"$f":"AP124/Weightings!$M$5","v":46.5},341.5,388,388,0,{"$f":"IF(ISNA(VLOOKUP($DC124,'Audit Values'!$A$2:$AC$299,2,FALSE)),\"\",IF(AND(Weightings!H124>0,VLOOKUP($DC124,'Audit Values'!$A$2:$AC$299,29,FALSE)<Weightings!H124),Weightings!H124,VLOOKUP($DC124,'Audit Values'!$A$2:$AC$299,29,FALSE)))","v":9},{"$f":"IF(ISNA(VLOOKUP($DC124,'Audit Values'!$A$2:$AD$299,2,FALSE)),\"\",VLOOKUP($DC124,'Audit Values'!$A$2:$AD$299,30,FALSE))","v":"A"},{"$f":"IF(Weightings!G124=\"\",\"\",IF(Weightings!I124=\"Pending\",\"PX\",\"R\"))","v":""},{"$f":"AR124*Weightings!$M$5+AU124","v":1315458},{"$f":"AT124*Weightings!$M$5+AU124","v":1494576},{"$f":"IF(Weightings!G124>0,Weightings!G124,'Preliminary SO66'!AB121)","v":1827716},46428,103330,0,1677958,1494576,null,{"$f":"Weightings!E124","v":0},{"$f":"Weightings!F124","v":0},0,1494576,{"$f":"MAX(ROUND(((AR124-AN124-AO124)*Weightings!$M$12)+'2016legmax.xls'!AP124,0),ROUND((('2016legmax.xls'!AR124-'2016legmax.xls'!AN124-'2016legmax.xls'!AO124)*Weightings!$M$12)+Weightings!B124,0))","v":1749860},0.3,524958,565637,524958,0.3,0,true,526.19799999999998,{"$f":"IF(BS124=TRUE,ROUND(((7337-BT124)/3642.4)-1,6),0)","v":0.86986699999999995},134.4,false,0,{"$f":"IF(BW124=TRUE,ROUND(((5406-BX124)/3642.4)-1,6),0)","v":0},0,0,332.1,0.17,{"$f":"IF(ROUND((Weightings!$P$5*CC124^Weightings!$P$6*Weightings!$P$8 ),2)<Weightings!$P$7,Weightings!$P$7,ROUND((Weightings!$P$5*CC124^Weightings!$P$6*Weightings!$P$8 ),2))","v":1616.19},{"$f":"ROUND(CD124/Weightings!$M$5,4)","v":0.41959999999999997},24.1,0,0,0,0,{"$f":"AS124*Weightings!$M$5*CJ124","v":0},{"$f":"IF(CI124>CK124,CK124,CI124)","v":0},0.33,0.5,0,0,0,{"$f":"IF(ISNA(VLOOKUP($DC124,'Audit Values'!$A$2:$AE$252,2,FALSE)),'Preliminary SO66'!T121,VLOOKUP($DC124,'Audit Values'!$A$2:$AE$252,20,FALSE))","v":0},{"$f":"IF(ISNA(VLOOKUP($DC124,'Audit Values'!$A$2:$AE$252,21,FALSE)),'Preliminary SO66'!U121,VLOOKUP($DC124,'Audit Values'!$A$2:$AE$252,21,FALSE))","v":0},0,0,null,null,null,null,null,null,null,"D0326"]
[327,"Ellsworth","Ellsworth ",581.5,0,581.5,592,0,592,602.6,{"$f":"IF(ISNA(VLOOKUP($DC125,'Audit Values'!$A$2:$AE$252,2,FALSE)),'Preliminary SO66'!B122,VLOOKUP($DC125,'Audit Values'!$A$2:$AE$252,31,FALSE))","v":602.6},602.6,{"$f":"IF(ISNA(VLOOKUP($DC125,'Audit Values'!$A$2:$AE$252,2,FALSE)),'Preliminary SO66'!Z122,VLOOKUP($DC125,'Audit Values'!$A$2:$AE$252,26,FALSE))","v":0},602.6,{"$f":"IF(ISNA(VLOOKUP($DC125,'Audit Values'!$A$2:$AE$252,2,FALSE)),'Preliminary SO66'!C122,IF(VLOOKUP($DC125,'Audit Values'!$A$2:$AE$252,28,FALSE)=\"\",VLOOKUP($DC125,'Audit Values'!$A$2:$AE$252,3,FALSE),VLOOKUP($DC125,'Audit Values'!$A$2:$AE$252,28,FALSE)))","v":0},602.6,602.6,602.6,602.6,0,229.8,229.8,0,{"$f":"IF(ISNA(VLOOKUP($DC125,'Audit Values'!$A$2:$AE$252,2,FALSE)),'Preliminary SO66'!D122,VLOOKUP($DC125,'Audit Values'!$A$2:$AE$252,4,FALSE))","v":114.8},{"$f":"ROUND((X125/6)*Weightings!$M$6,1)","v":9.6},{"$f":"IF(ISNA(VLOOKUP($DC125,'Audit Values'!$A$2:$AE$252,2,FALSE)),'Preliminary SO66'!F122,VLOOKUP($DC125,'Audit Values'!$A$2:$AE$252,6,FALSE))","v":0},{"$f":"ROUND((Z125/6)*Weightings!$M$7,1)","v":0},{"$f":"IF(ISNA(VLOOKUP($DC125,'Audit Values'!$A$2:$AE$252,2,FALSE)),'Preliminary SO66'!H122,VLOOKUP($DC125,'Audit Values'!$A$2:$AE$252,9,FALSE))","v":173},{"$f":"ROUND(AB125*Weightings!$M$8,1)","v":78.900000000000006},0,0,{"$f":"AE125*Weightings!$M$9","v":0},{"$f":"IF(ISNA(VLOOKUP($DC125,'Audit Values'!$A$2:$AE$252,2,FALSE)),'Preliminary SO66'!L122,VLOOKUP($DC125,'Audit Values'!$A$2:$AE$252,12,FALSE))","v":0},{"$f":"ROUND(AG125*Weightings!$M$10,1)","v":0},{"$f":"IF(ISNA(VLOOKUP($DC125,'Audit Values'!$A$2:$AE$252,2,FALSE)),'Preliminary SO66'!O122,VLOOKUP($DC125,'Audit Values'!$A$2:$AE$252,15,FALSE))","v":241},76.900000000000006,{"$f":"CG125/Weightings!$M$5","v":0},{"$f":"CH125/Weightings!$M$5","v":0},{"$f":"CL125/Weightings!$M$5","v":0},0,{"$f":"IF(ISNA(VLOOKUP($DC125,'Audit Values'!$A$2:$AE$252,2,FALSE)),'Preliminary SO66'!X122,VLOOKUP($DC125,'Audit Values'!$A$2:$AE$252,24,FALSE))","v":0},522919,{"$f":"AP125/Weightings!$M$5","v":135.80000000000001},997.8,1133.5999999999999,1133.5999999999999,0,{"$f":"IF(ISNA(VLOOKUP($DC125,'Audit Values'!$A$2:$AC$299,2,FALSE)),\"\",IF(AND(Weightings!H125>0,VLOOKUP($DC125,'Audit Values'!$A$2:$AC$299,29,FALSE)<Weightings!H125),Weightings!H125,VLOOKUP($DC125,'Audit Values'!$A$2:$AC$299,29,FALSE)))","v":2},{"$f":"IF(ISNA(VLOOKUP($DC125,'Audit Values'!$A$2:$AD$299,2,FALSE)),\"\",VLOOKUP($DC125,'Audit Values'!$A$2:$AD$299,30,FALSE))","v":"A"},{"$f":"IF(Weightings!G125=\"\",\"\",IF(Weightings!I125=\"Pending\",\"PX\",\"R\"))","v":""},{"$f":"AR125*Weightings!$M$5+AU125","v":3843526},{"$f":"AT125*Weightings!$M$5+AU125","v":4366627},{"$f":"IF(Weightings!G125>0,Weightings!G125,'Preliminary SO66'!AB122)","v":5383834},523301,298996,20329,4541208,4366627,null,{"$f":"Weightings!E125","v":0},{"$f":"Weightings!F125","v":0},0,4366627,{"$f":"MAX(ROUND(((AR125-AN125-AO125)*Weightings!$M$12)+'2016legmax.xls'!AP125,0),ROUND((('2016legmax.xls'!AR125-'2016legmax.xls'!AN125-'2016legmax.xls'!AO125)*Weightings!$M$12)+Weightings!B125,0))","v":5003041},0.2999,1500412,1481000,1481000,0.29599999999999999,0,false,0,0,0,true,374.46749999999997,0.38137799999999999,229.8,0,425.3,0.56999999999999995,{"$f":"IF(ROUND((Weightings!$P$5*CC125^Weightings!$P$6*Weightings!$P$8 ),2)<Weightings!$P$7,Weightings!$P$7,ROUND((Weightings!$P$5*CC125^Weightings!$P$6*Weightings!$P$8 ),2))","v":1229.24},{"$f":"ROUND(CD125/Weightings!$M$5,4)","v":0.31909999999999999},76.900000000000006,0,0,0,0,{"$f":"AS125*Weightings!$M$5*CJ125","v":0},0,0.28699999999999998,1.4,0,0,0,{"$f":"IF(ISNA(VLOOKUP($DC125,'Audit Values'!$A$2:$AE$252,2,FALSE)),'Preliminary SO66'!T122,VLOOKUP($DC125,'Audit Values'!$A$2:$AE$252,20,FALSE))","v":0},{"$f":"IF(ISNA(VLOOKUP($DC125,'Audit Values'!$A$2:$AE$252,21,FALSE)),'Preliminary SO66'!U122,VLOOKUP($DC125,'Audit Values'!$A$2:$AE$252,21,FALSE))","v":0},0,0,null,null,null,null,null,null,null,"D0327"]
[329,"Wabaunsee","Mill Creek Valley ",471.5,0,471.5,453.5,0,453.5,422.4,{"$f":"IF(ISNA(VLOOKUP($DC126,'Audit Values'!$A$2:$AE$252,2,FALSE)),'Preliminary SO66'!B123,VLOOKUP($DC126,'Audit Values'!$A$2:$AE$252,31,FALSE))","v":422.4},453.5,{"$f":"IF(ISNA(VLOOKUP($DC126,'Audit Values'!$A$2:$AE$252,2,FALSE)),'Preliminary SO66'!Z123,VLOOKUP($DC126,'Audit Values'!$A$2:$AE$252,26,FALSE))","v":0},453.5,{"$f":"IF(ISNA(VLOOKUP($DC126,'Audit Values'!$A$2:$AE$252,2,FALSE)),'Preliminary SO66'!C123,IF(VLOOKUP($DC126,'Audit Values'!$A$2:$AE$252,28,FALSE)=\"\",VLOOKUP($DC126,'Audit Values'!$A$2:$AE$252,3,FALSE),VLOOKUP($DC126,'Audit Values'!$A$2:$AE$252,28,FALSE)))","v":0},422.4,422.4,422.4,453.5,0,195.9,195.9,0,{"$f":"IF(ISNA(VLOOKUP($DC126,'Audit Values'!$A$2:$AE$252,2,FALSE)),'Preliminary SO66'!D123,VLOOKUP($DC126,'Audit Values'!$A$2:$AE$252,4,FALSE))","v":151.1},{"$f":"ROUND((X126/6)*Weightings!$M$6,1)","v":12.6},{"$f":"IF(ISNA(VLOOKUP($DC126,'Audit Values'!$A$2:$AE$252,2,FALSE)),'Preliminary SO66'!F123,VLOOKUP($DC126,'Audit Values'!$A$2:$AE$252,6,FALSE))","v":0},{"$f":"ROUND((Z126/6)*Weightings!$M$7,1)","v":0},{"$f":"IF(ISNA(VLOOKUP($DC126,'Audit Values'!$A$2:$AE$252,2,FALSE)),'Preliminary SO66'!H123,VLOOKUP($DC126,'Audit Values'!$A$2:$AE$252,9,FALSE))","v":96},{"$f":"ROUND(AB126*Weightings!$M$8,1)","v":43.8},0,0,{"$f":"AE126*Weightings!$M$9","v":0},{"$f":"IF(ISNA(VLOOKUP($DC126,'Audit Values'!$A$2:$AE$252,2,FALSE)),'Preliminary SO66'!L123,VLOOKUP($DC126,'Audit Values'!$A$2:$AE$252,12,FALSE))","v":0},{"$f":"ROUND(AG126*Weightings!$M$10,1)","v":0},{"$f":"IF(ISNA(VLOOKUP($DC126,'Audit Values'!$A$2:$AE$252,2,FALSE)),'Preliminary SO66'!O123,VLOOKUP($DC126,'Audit Values'!$A$2:$AE$252,15,FALSE))","v":261.5},80.7,{"$f":"CG126/Weightings!$M$5","v":0},{"$f":"CH126/Weightings!$M$5","v":0},{"$f":"CL126/Weightings!$M$5","v":0},0,{"$f":"IF(ISNA(VLOOKUP($DC126,'Audit Values'!$A$2:$AE$252,2,FALSE)),'Preliminary SO66'!X123,VLOOKUP($DC126,'Audit Values'!$A$2:$AE$252,24,FALSE))","v":0},450033,{"$f":"AP126/Weightings!$M$5","v":116.8},786.5,903.3,903.3,10000,{"$f":"IF(ISNA(VLOOKUP($DC126,'Audit Values'!$A$2:$AC$299,2,FALSE)),\"\",IF(AND(Weightings!H126>0,VLOOKUP($DC126,'Audit Values'!$A$2:$AC$299,29,FALSE)<Weightings!H126),Weightings!H126,VLOOKUP($DC126,'Audit Values'!$A$2:$AC$299,29,FALSE)))","v":10},{"$f":"IF(ISNA(VLOOKUP($DC126,'Audit Values'!$A$2:$AD$299,2,FALSE)),\"\",VLOOKUP($DC126,'Audit Values'!$A$2:$AD$299,30,FALSE))","v":"A"},{"$f":"IF(Weightings!G126=\"\",\"\",IF(Weightings!I126=\"Pending\",\"PX\",\"R\"))","v":""},{"$f":"AR126*Weightings!$M$5+AU126","v":3039598},{"$f":"AT126*Weightings!$M$5+AU126","v":3489512},{"$f":"IF(Weightings!G126>0,Weightings!G126,'Preliminary SO66'!AB123)","v":4373691},338435,270120,0,3765136,3489512,null,{"$f":"Weightings!E126","v":0},{"$f":"Weightings!F126","v":0},0,3489512,{"$f":"MAX(ROUND(((AR126-AN126-AO126)*Weightings!$M$12)+'2016legmax.xls'!AP126,0),ROUND((('2016legmax.xls'!AR126-'2016legmax.xls'!AN126-'2016legmax.xls'!AO126)*Weightings!$M$12)+Weightings!B126,0))","v":4068347},0.3,1220504,1269535,1220504,0.3,0,false,0,0,0,true,189.9563,0.432035,195.9,0,397,0.66,{"$f":"IF(ROUND((Weightings!$P$5*CC126^Weightings!$P$6*Weightings!$P$8 ),2)<Weightings!$P$7,Weightings!$P$7,ROUND((Weightings!$P$5*CC126^Weightings!$P$6*Weightings!$P$8 ),2))","v":1189.1400000000001},{"$f":"ROUND(CD126/Weightings!$M$5,4)","v":0.30869999999999997},80.7,0,0,0,0,{"$f":"AS126*Weightings!$M$5*CJ126","v":0},0,0.21199999999999999,1.1000000000000001,0,0,0,{"$f":"IF(ISNA(VLOOKUP($DC126,'Audit Values'!$A$2:$AE$252,2,FALSE)),'Preliminary SO66'!T123,VLOOKUP($DC126,'Audit Values'!$A$2:$AE$252,20,FALSE))","v":0},{"$f":"IF(ISNA(VLOOKUP($DC126,'Audit Values'!$A$2:$AE$252,21,FALSE)),'Preliminary SO66'!U123,VLOOKUP($DC126,'Audit Values'!$A$2:$AE$252,21,FALSE))","v":0},0,0,null,null,null,null,null,null,null,"D0329"]
[330,"Wabaunsee","Mission Valley ",474.1,0,474.1,454,0,454,462.2,{"$f":"IF(ISNA(VLOOKUP($DC127,'Audit Values'!$A$2:$AE$252,2,FALSE)),'Preliminary SO66'!B124,VLOOKUP($DC127,'Audit Values'!$A$2:$AE$252,31,FALSE))","v":462.2},463.4,{"$f":"IF(ISNA(VLOOKUP($DC127,'Audit Values'!$A$2:$AE$252,2,FALSE)),'Preliminary SO66'!Z124,VLOOKUP($DC127,'Audit Values'!$A$2:$AE$252,26,FALSE))","v":0},463.4,{"$f":"IF(ISNA(VLOOKUP($DC127,'Audit Values'!$A$2:$AE$252,2,FALSE)),'Preliminary SO66'!C124,IF(VLOOKUP($DC127,'Audit Values'!$A$2:$AE$252,28,FALSE)=\"\",VLOOKUP($DC127,'Audit Values'!$A$2:$AE$252,3,FALSE),VLOOKUP($DC127,'Audit Values'!$A$2:$AE$252,28,FALSE)))","v":0},462.2,462.2,462.2,463.4,0,198.6,198.6,0,{"$f":"IF(ISNA(VLOOKUP($DC127,'Audit Values'!$A$2:$AE$252,2,FALSE)),'Preliminary SO66'!D124,VLOOKUP($DC127,'Audit Values'!$A$2:$AE$252,4,FALSE))","v":245.6},{"$f":"ROUND((X127/6)*Weightings!$M$6,1)","v":20.5},{"$f":"IF(ISNA(VLOOKUP($DC127,'Audit Values'!$A$2:$AE$252,2,FALSE)),'Preliminary SO66'!F124,VLOOKUP($DC127,'Audit Values'!$A$2:$AE$252,6,FALSE))","v":0},{"$f":"ROUND((Z127/6)*Weightings!$M$7,1)","v":0},{"$f":"IF(ISNA(VLOOKUP($DC127,'Audit Values'!$A$2:$AE$252,2,FALSE)),'Preliminary SO66'!H124,VLOOKUP($DC127,'Audit Values'!$A$2:$AE$252,9,FALSE))","v":131},{"$f":"ROUND(AB127*Weightings!$M$8,1)","v":59.7},0,0,{"$f":"AE127*Weightings!$M$9","v":0},{"$f":"IF(ISNA(VLOOKUP($DC127,'Audit Values'!$A$2:$AE$252,2,FALSE)),'Preliminary SO66'!L124,VLOOKUP($DC127,'Audit Values'!$A$2:$AE$252,12,FALSE))","v":0},{"$f":"ROUND(AG127*Weightings!$M$10,1)","v":0},{"$f":"IF(ISNA(VLOOKUP($DC127,'Audit Values'!$A$2:$AE$252,2,FALSE)),'Preliminary SO66'!O124,VLOOKUP($DC127,'Audit Values'!$A$2:$AE$252,15,FALSE))","v":385.6},107.4,{"$f":"CG127/Weightings!$M$5","v":0},{"$f":"CH127/Weightings!$M$5","v":0},{"$f":"CL127/Weightings!$M$5","v":0},0,{"$f":"IF(ISNA(VLOOKUP($DC127,'Audit Values'!$A$2:$AE$252,2,FALSE)),'Preliminary SO66'!X124,VLOOKUP($DC127,'Audit Values'!$A$2:$AE$252,24,FALSE))","v":0},750808,{"$f":"AP127/Weightings!$M$5","v":194.9},849.6,1044.5,1044.5,0,{"$f":"IF(ISNA(VLOOKUP($DC127,'Audit Values'!$A$2:$AC$299,2,FALSE)),\"\",IF(AND(Weightings!H127>0,VLOOKUP($DC127,'Audit Values'!$A$2:$AC$299,29,FALSE)<Weightings!H127),Weightings!H127,VLOOKUP($DC127,'Audit Values'!$A$2:$AC$299,29,FALSE)))","v":13},{"$f":"IF(ISNA(VLOOKUP($DC127,'Audit Values'!$A$2:$AD$299,2,FALSE)),\"\",VLOOKUP($DC127,'Audit Values'!$A$2:$AD$299,30,FALSE))","v":"A"},{"$f":"IF(Weightings!G127=\"\",\"\",IF(Weightings!I127=\"Pending\",\"PX\",\"R\"))","v":"R"},{"$f":"AR127*Weightings!$M$5+AU127","v":3272659},{"$f":"AT127*Weightings!$M$5+AU127","v":4023414},{"$f":"IF(Weightings!G127>0,Weightings!G127,'Preliminary SO66'!AB124)","v":4903056},406169,314609,5524,4176754,4023414,null,{"$f":"Weightings!E127","v":0},{"$f":"Weightings!F127","v":0},0,4023414,{"$f":"MAX(ROUND(((AR127-AN127-AO127)*Weightings!$M$12)+'2016legmax.xls'!AP127,0),ROUND((('2016legmax.xls'!AR127-'2016legmax.xls'!AN127-'2016legmax.xls'!AO127)*Weightings!$M$12)+Weightings!B127,0))","v":4565512},0.3,1369654,1364541,{"$f":"MIN(BN127,BO127)","v":1364541},0.2989,0,false,0,{"$f":"IF(BS127=TRUE,ROUND(((7337-BT127)/3642.4)-1,6),0)","v":0},0,true,202.20750000000001,{"$f":"IF(BW127=TRUE,ROUND(((5406-BX127)/3642.4)-1,6),0)","v":0.42867100000000002},198.6,0,370,1.04,{"$f":"IF(ROUND((Weightings!$P$5*CC127^Weightings!$P$6*Weightings!$P$8 ),2)<Weightings!$P$7,Weightings!$P$7,ROUND((Weightings!$P$5*CC127^Weightings!$P$6*Weightings!$P$8 ),2))","v":1072.9000000000001},{"$f":"ROUND(CD127/Weightings!$M$5,4)","v":0.27850000000000003},107.4,0,0,0,0,{"$f":"AS127*Weightings!$M$5*CJ127","v":0},0,0.28299999999999997,1.3,0,0,0,{"$f":"IF(ISNA(VLOOKUP($DC127,'Audit Values'!$A$2:$AE$252,2,FALSE)),'Preliminary SO66'!T124,VLOOKUP($DC127,'Audit Values'!$A$2:$AE$252,20,FALSE))","v":0},{"$f":"IF(ISNA(VLOOKUP($DC127,'Audit Values'!$A$2:$AE$252,21,FALSE)),'Preliminary SO66'!U124,VLOOKUP($DC127,'Audit Values'!$A$2:$AE$252,21,FALSE))","v":0},0,0,null,null,null,null,null,null,null,"D0330"]
[331,"Kingman","Kingman - Norwich ",923.1,0,923.1,929.8,0,929.8,931.5,{"$f":"IF(ISNA(VLOOKUP($DC128,'Audit Values'!$A$2:$AE$252,2,FALSE)),'Preliminary SO66'!B125,VLOOKUP($DC128,'Audit Values'!$A$2:$AE$252,31,FALSE))","v":891.5},929.8,{"$f":"IF(ISNA(VLOOKUP($DC128,'Audit Values'!$A$2:$AE$252,2,FALSE)),'Preliminary SO66'!Z125,VLOOKUP($DC128,'Audit Values'!$A$2:$AE$252,26,FALSE))","v":0},929.8,{"$f":"IF(ISNA(VLOOKUP($DC128,'Audit Values'!$A$2:$AE$252,2,FALSE)),'Preliminary SO66'!C125,IF(VLOOKUP($DC128,'Audit Values'!$A$2:$AE$252,28,FALSE)=\"\",VLOOKUP($DC128,'Audit Values'!$A$2:$AE$252,3,FALSE),VLOOKUP($DC128,'Audit Values'!$A$2:$AE$252,28,FALSE)))","v":0},891.5,931.5,931.5,929.8,40,251.2,251.2,0,{"$f":"IF(ISNA(VLOOKUP($DC128,'Audit Values'!$A$2:$AE$252,2,FALSE)),'Preliminary SO66'!D125,VLOOKUP($DC128,'Audit Values'!$A$2:$AE$252,4,FALSE))","v":340.9},{"$f":"ROUND((X128/6)*Weightings!$M$6,1)","v":28.4},{"$f":"IF(ISNA(VLOOKUP($DC128,'Audit Values'!$A$2:$AE$252,2,FALSE)),'Preliminary SO66'!F125,VLOOKUP($DC128,'Audit Values'!$A$2:$AE$252,6,FALSE))","v":0},{"$f":"ROUND((Z128/6)*Weightings!$M$7,1)","v":0},{"$f":"IF(ISNA(VLOOKUP($DC128,'Audit Values'!$A$2:$AE$252,2,FALSE)),'Preliminary SO66'!H125,VLOOKUP($DC128,'Audit Values'!$A$2:$AE$252,9,FALSE))","v":360},{"$f":"ROUND(AB128*Weightings!$M$8,1)","v":164.2},{"$f":"MAX(CO128,CP128,CQ128)","v":9.3000000000000007},0,{"$f":"AE128*Weightings!$M$9","v":0},{"$f":"IF(ISNA(VLOOKUP($DC128,'Audit Values'!$A$2:$AE$252,2,FALSE)),'Preliminary SO66'!L125,VLOOKUP($DC128,'Audit Values'!$A$2:$AE$252,12,FALSE))","v":0},{"$f":"ROUND(AG128*Weightings!$M$10,1)","v":0},{"$f":"IF(ISNA(VLOOKUP($DC128,'Audit Values'!$A$2:$AE$252,2,FALSE)),'Preliminary SO66'!O125,VLOOKUP($DC128,'Audit Values'!$A$2:$AE$252,15,FALSE))","v":257},86.5,{"$f":"CG128/Weightings!$M$5","v":0},{"$f":"CH128/Weightings!$M$5","v":0},{"$f":"CL128/Weightings!$M$5","v":0},42,{"$f":"IF(ISNA(VLOOKUP($DC128,'Audit Values'!$A$2:$AE$252,2,FALSE)),'Preliminary SO66'!X125,VLOOKUP($DC128,'Audit Values'!$A$2:$AE$252,24,FALSE))","v":0},1180795,{"$f":"AP128/Weightings!$M$5","v":306.5},1511.4,1817.9,1817.9,0,{"$f":"IF(ISNA(VLOOKUP($DC128,'Audit Values'!$A$2:$AC$299,2,FALSE)),\"\",IF(AND(Weightings!H128>0,VLOOKUP($DC128,'Audit Values'!$A$2:$AC$299,29,FALSE)<Weightings!H128),Weightings!H128,VLOOKUP($DC128,'Audit Values'!$A$2:$AC$299,29,FALSE)))","v":6},{"$f":"IF(ISNA(VLOOKUP($DC128,'Audit Values'!$A$2:$AD$299,2,FALSE)),\"\",VLOOKUP($DC128,'Audit Values'!$A$2:$AD$299,30,FALSE))","v":"A"},{"$f":"IF(Weightings!G128=\"\",\"\",IF(Weightings!I128=\"Pending\",\"PX\",\"R\"))","v":""},{"$f":"AR128*Weightings!$M$5+AU128","v":5821913},{"$f":"AT128*Weightings!$M$5+AU128","v":7002551},{"$f":"IF(Weightings!G128>0,Weightings!G128,'Preliminary SO66'!AB125)","v":8502000},734292,440830,18896,7307982,7002551,null,{"$f":"Weightings!E128","v":0},{"$f":"Weightings!F128","v":0},0,7002551,{"$f":"MAX(ROUND(((AR128-AN128-AO128)*Weightings!$M$12)+'2016legmax.xls'!AP128,0),ROUND((('2016legmax.xls'!AR128-'2016legmax.xls'!AN128-'2016legmax.xls'!AO128)*Weightings!$M$12)+Weightings!B128,0))","v":7790188},0.3,2337056,2349718,2337056,0.3,0,false,0,0,0,true,779.37750000000005,0.27021299999999998,251.2,0,565.5,0.45,{"$f":"IF(ROUND((Weightings!$P$5*CC128^Weightings!$P$6*Weightings!$P$8 ),2)<Weightings!$P$7,Weightings!$P$7,ROUND((Weightings!$P$5*CC128^Weightings!$P$6*Weightings!$P$8 ),2))","v":1296.76},{"$f":"ROUND(CD128/Weightings!$M$5,4)","v":0.33660000000000001},86.5,0,0,0,0,{"$f":"AS128*Weightings!$M$5*CJ128","v":0},{"$f":"IF(CI128>CK128,CK128,CI128)","v":0},0.38700000000000001,1.6,0,0,9.3000000000000007,{"$f":"IF(ISNA(VLOOKUP($DC128,'Audit Values'!$A$2:$AE$252,2,FALSE)),'Preliminary SO66'!T125,VLOOKUP($DC128,'Audit Values'!$A$2:$AE$252,20,FALSE))","v":17},{"$f":"IF(ISNA(VLOOKUP($DC128,'Audit Values'!$A$2:$AE$252,21,FALSE)),'Preliminary SO66'!U125,VLOOKUP($DC128,'Audit Values'!$A$2:$AE$252,21,FALSE))","v":0},23,40,null,null,null,null,null,null,null,"D0331"]
[332,"Kingman","Cunningham ",155.1,0,155.1,157.80000000000001,0,157.80000000000001,145.5,{"$f":"IF(ISNA(VLOOKUP($DC129,'Audit Values'!$A$2:$AE$252,2,FALSE)),'Preliminary SO66'!B126,VLOOKUP($DC129,'Audit Values'!$A$2:$AE$252,31,FALSE))","v":145.5},157.80000000000001,{"$f":"IF(ISNA(VLOOKUP($DC129,'Audit Values'!$A$2:$AE$252,2,FALSE)),'Preliminary SO66'!Z126,VLOOKUP($DC129,'Audit Values'!$A$2:$AE$252,26,FALSE))","v":0},157.80000000000001,{"$f":"IF(ISNA(VLOOKUP($DC129,'Audit Values'!$A$2:$AE$252,2,FALSE)),'Preliminary SO66'!C126,IF(VLOOKUP($DC129,'Audit Values'!$A$2:$AE$252,28,FALSE)=\"\",VLOOKUP($DC129,'Audit Values'!$A$2:$AE$252,3,FALSE),VLOOKUP($DC129,'Audit Values'!$A$2:$AE$252,28,FALSE)))","v":0},145.5,145.5,145.5,157.80000000000001,0,135.9,135.9,0,{"$f":"IF(ISNA(VLOOKUP($DC129,'Audit Values'!$A$2:$AE$252,2,FALSE)),'Preliminary SO66'!D126,VLOOKUP($DC129,'Audit Values'!$A$2:$AE$252,4,FALSE))","v":0},{"$f":"ROUND((X129/6)*Weightings!$M$6,1)","v":0},{"$f":"IF(ISNA(VLOOKUP($DC129,'Audit Values'!$A$2:$AE$252,2,FALSE)),'Preliminary SO66'!F126,VLOOKUP($DC129,'Audit Values'!$A$2:$AE$252,6,FALSE))","v":0},{"$f":"ROUND((Z129/6)*Weightings!$M$7,1)","v":0},{"$f":"IF(ISNA(VLOOKUP($DC129,'Audit Values'!$A$2:$AE$252,2,FALSE)),'Preliminary SO66'!H126,VLOOKUP($DC129,'Audit Values'!$A$2:$AE$252,9,FALSE))","v":43},{"$f":"ROUND(AB129*Weightings!$M$8,1)","v":19.600000000000001},0,0,{"$f":"AE129*Weightings!$M$9","v":0},{"$f":"IF(ISNA(VLOOKUP($DC129,'Audit Values'!$A$2:$AE$252,2,FALSE)),'Preliminary SO66'!L126,VLOOKUP($DC129,'Audit Values'!$A$2:$AE$252,12,FALSE))","v":0},{"$f":"ROUND(AG129*Weightings!$M$10,1)","v":0},{"$f":"IF(ISNA(VLOOKUP($DC129,'Audit Values'!$A$2:$AE$252,2,FALSE)),'Preliminary SO66'!O126,VLOOKUP($DC129,'Audit Values'!$A$2:$AE$252,15,FALSE))","v":62},25.4,{"$f":"CG129/Weightings!$M$5","v":0},{"$f":"CH129/Weightings!$M$5","v":0},{"$f":"CL129/Weightings!$M$5","v":0},0,{"$f":"IF(ISNA(VLOOKUP($DC129,'Audit Values'!$A$2:$AE$252,2,FALSE)),'Preliminary SO66'!X126,VLOOKUP($DC129,'Audit Values'!$A$2:$AE$252,24,FALSE))","v":0},239973,{"$f":"AP129/Weightings!$M$5","v":62.3},338.7,401,401,0,{"$f":"IF(ISNA(VLOOKUP($DC129,'Audit Values'!$A$2:$AC$299,2,FALSE)),\"\",IF(AND(Weightings!H129>0,VLOOKUP($DC129,'Audit Values'!$A$2:$AC$299,29,FALSE)<Weightings!H129),Weightings!H129,VLOOKUP($DC129,'Audit Values'!$A$2:$AC$299,29,FALSE)))","v":2},{"$f":"IF(ISNA(VLOOKUP($DC129,'Audit Values'!$A$2:$AD$299,2,FALSE)),\"\",VLOOKUP($DC129,'Audit Values'!$A$2:$AD$299,30,FALSE))","v":"A"},{"$f":"IF(Weightings!G129=\"\",\"\",IF(Weightings!I129=\"Pending\",\"PX\",\"R\"))","v":""},{"$f":"AR129*Weightings!$M$5+AU129","v":1304672},{"$f":"AT129*Weightings!$M$5+AU129","v":1544652},{"$f":"IF(Weightings!G129>0,Weightings!G129,'Preliminary SO66'!AB126)","v":1759839},0,119159,0,1640680,1544652,null,{"$f":"Weightings!E129","v":0},{"$f":"Weightings!F129","v":0},0,1544652,{"$f":"MAX(ROUND(((AR129-AN129-AO129)*Weightings!$M$12)+'2016legmax.xls'!AP129,0),ROUND((('2016legmax.xls'!AR129-'2016legmax.xls'!AN129-'2016legmax.xls'!AO129)*Weightings!$M$12)+Weightings!B129,0))","v":1763579},0.3,529074,537156,529074,0.3,0,true,558.05899999999997,0.86111899999999997,135.9,false,0,0,0,0,323.5,0.19,{"$f":"IF(ROUND((Weightings!$P$5*CC129^Weightings!$P$6*Weightings!$P$8 ),2)<Weightings!$P$7,Weightings!$P$7,ROUND((Weightings!$P$5*CC129^Weightings!$P$6*Weightings!$P$8 ),2))","v":1576.03},{"$f":"ROUND(CD129/Weightings!$M$5,4)","v":0.40910000000000002},25.4,0,0,0,0,{"$f":"AS129*Weightings!$M$5*CJ129","v":0},0,0.27200000000000002,0.5,0,0,0,{"$f":"IF(ISNA(VLOOKUP($DC129,'Audit Values'!$A$2:$AE$252,2,FALSE)),'Preliminary SO66'!T126,VLOOKUP($DC129,'Audit Values'!$A$2:$AE$252,20,FALSE))","v":0},{"$f":"IF(ISNA(VLOOKUP($DC129,'Audit Values'!$A$2:$AE$252,21,FALSE)),'Preliminary SO66'!U126,VLOOKUP($DC129,'Audit Values'!$A$2:$AE$252,21,FALSE))","v":0},0,0,null,null,null,null,null,null,null,"D0332"]
[333,"Cloud","Concordia ",996.5,0,996.5,1001.5,0,1001.5,994.2,{"$f":"IF(ISNA(VLOOKUP($DC130,'Audit Values'!$A$2:$AE$252,2,FALSE)),'Preliminary SO66'!B127,VLOOKUP($DC130,'Audit Values'!$A$2:$AE$252,31,FALSE))","v":994.2},1001.5,{"$f":"IF(ISNA(VLOOKUP($DC130,'Audit Values'!$A$2:$AE$252,2,FALSE)),'Preliminary SO66'!Z127,VLOOKUP($DC130,'Audit Values'!$A$2:$AE$252,26,FALSE))","v":0},1001.5,{"$f":"IF(ISNA(VLOOKUP($DC130,'Audit Values'!$A$2:$AE$252,2,FALSE)),'Preliminary SO66'!C127,IF(VLOOKUP($DC130,'Audit Values'!$A$2:$AE$252,28,FALSE)=\"\",VLOOKUP($DC130,'Audit Values'!$A$2:$AE$252,3,FALSE),VLOOKUP($DC130,'Audit Values'!$A$2:$AE$252,28,FALSE)))","v":13.5},1007.7,1007.7,1007.7,1015,0,244.9,{"$f":"MAX(BR130,BV130,BZ130)","v":244.9},{"$f":"CA130","v":0},{"$f":"IF(ISNA(VLOOKUP($DC130,'Audit Values'!$A$2:$AE$252,2,FALSE)),'Preliminary SO66'!D127,VLOOKUP($DC130,'Audit Values'!$A$2:$AE$252,4,FALSE))","v":277.89999999999998},{"$f":"ROUND((X130/6)*Weightings!$M$6,1)","v":23.2},{"$f":"IF(ISNA(VLOOKUP($DC130,'Audit Values'!$A$2:$AE$252,2,FALSE)),'Preliminary SO66'!F127,VLOOKUP($DC130,'Audit Values'!$A$2:$AE$252,6,FALSE))","v":4.4000000000000004},{"$f":"ROUND((Z130/6)*Weightings!$M$7,1)","v":0.3},{"$f":"IF(ISNA(VLOOKUP($DC130,'Audit Values'!$A$2:$AE$252,2,FALSE)),'Preliminary SO66'!H127,VLOOKUP($DC130,'Audit Values'!$A$2:$AE$252,9,FALSE))","v":384},{"$f":"ROUND(AB130*Weightings!$M$8,1)","v":175.1},7.5,0,{"$f":"AE130*Weightings!$M$9","v":0},{"$f":"IF(ISNA(VLOOKUP($DC130,'Audit Values'!$A$2:$AE$252,2,FALSE)),'Preliminary SO66'!L127,VLOOKUP($DC130,'Audit Values'!$A$2:$AE$252,12,FALSE))","v":68.099999999999994},{"$f":"ROUND(AG130*Weightings!$M$10,1)","v":17},{"$f":"IF(ISNA(VLOOKUP($DC130,'Audit Values'!$A$2:$AE$252,2,FALSE)),'Preliminary SO66'!O127,VLOOKUP($DC130,'Audit Values'!$A$2:$AE$252,15,FALSE))","v":201},63.4,{"$f":"CG130/Weightings!$M$5","v":0},{"$f":"CH130/Weightings!$M$5","v":0},{"$f":"CL130/Weightings!$M$5","v":0},0,{"$f":"IF(ISNA(VLOOKUP($DC130,'Audit Values'!$A$2:$AE$252,2,FALSE)),'Preliminary SO66'!X127,VLOOKUP($DC130,'Audit Values'!$A$2:$AE$252,24,FALSE))","v":0},880270,{"$f":"AP130/Weightings!$M$5","v":228.5},1546.4,1774.9,1774.9,0,{"$f":"IF(ISNA(VLOOKUP($DC130,'Audit Values'!$A$2:$AC$299,2,FALSE)),\"\",IF(AND(Weightings!H130>0,VLOOKUP($DC130,'Audit Values'!$A$2:$AC$299,29,FALSE)<Weightings!H130),Weightings!H130,VLOOKUP($DC130,'Audit Values'!$A$2:$AC$299,29,FALSE)))","v":10},{"$f":"IF(ISNA(VLOOKUP($DC130,'Audit Values'!$A$2:$AD$299,2,FALSE)),\"\",VLOOKUP($DC130,'Audit Values'!$A$2:$AD$299,30,FALSE))","v":"A"},{"$f":"IF(Weightings!G130=\"\",\"\",IF(Weightings!I130=\"Pending\",\"PX\",\"R\"))","v":""},{"$f":"AR130*Weightings!$M$5+AU130","v":5956733},{"$f":"AT130*Weightings!$M$5+AU130","v":6836915},{"$f":"IF(Weightings!G130>0,Weightings!G130,'Preliminary SO66'!AB127)","v":9305234},1327413,647301,109682,7220838,6836915,null,{"$f":"Weightings!E130","v":0},{"$f":"Weightings!F130","v":0},0,6836915,{"$f":"MAX(ROUND(((AR130-AN130-AO130)*Weightings!$M$12)+'2016legmax.xls'!AP130,0),ROUND((('2016legmax.xls'!AR130-'2016legmax.xls'!AN130-'2016legmax.xls'!AO130)*Weightings!$M$12)+Weightings!B130,0))","v":8118126},0.3,2435438,2393007,2393007,0.29480000000000001,0,false,0,0,0,true,884.8125,0.24126600000000001,244.9,0,336,0.6,{"$f":"IF(ROUND((Weightings!$P$5*CC130^Weightings!$P$6*Weightings!$P$8 ),2)<Weightings!$P$7,Weightings!$P$7,ROUND((Weightings!$P$5*CC130^Weightings!$P$6*Weightings!$P$8 ),2))","v":1215.06},{"$f":"ROUND(CD130/Weightings!$M$5,4)","v":0.31540000000000001},63.4,0,0,0,0,{"$f":"AS130*Weightings!$M$5*CJ130","v":0},0,0.378,3,0,0,7.5,{"$f":"IF(ISNA(VLOOKUP($DC130,'Audit Values'!$A$2:$AE$252,2,FALSE)),'Preliminary SO66'!T127,VLOOKUP($DC130,'Audit Values'!$A$2:$AE$252,20,FALSE))","v":0},{"$f":"IF(ISNA(VLOOKUP($DC130,'Audit Values'!$A$2:$AE$252,21,FALSE)),'Preliminary SO66'!U127,VLOOKUP($DC130,'Audit Values'!$A$2:$AE$252,21,FALSE))","v":0},0,0,null,null,null,null,null,null,null,"D0333"]
[334,"Cloud","Southern Cloud ",229.6,0,229.6,199,0,199,211,{"$f":"IF(ISNA(VLOOKUP($DC131,'Audit Values'!$A$2:$AE$252,2,FALSE)),'Preliminary SO66'!B128,VLOOKUP($DC131,'Audit Values'!$A$2:$AE$252,31,FALSE))","v":182},203.5,{"$f":"IF(ISNA(VLOOKUP($DC131,'Audit Values'!$A$2:$AE$252,2,FALSE)),'Preliminary SO66'!Z128,VLOOKUP($DC131,'Audit Values'!$A$2:$AE$252,26,FALSE))","v":0},203.5,{"$f":"IF(ISNA(VLOOKUP($DC131,'Audit Values'!$A$2:$AE$252,2,FALSE)),'Preliminary SO66'!C128,IF(VLOOKUP($DC131,'Audit Values'!$A$2:$AE$252,28,FALSE)=\"\",VLOOKUP($DC131,'Audit Values'!$A$2:$AE$252,3,FALSE),VLOOKUP($DC131,'Audit Values'!$A$2:$AE$252,28,FALSE)))","v":0},182,211,211,203.5,29,150.6,150.6,0,{"$f":"IF(ISNA(VLOOKUP($DC131,'Audit Values'!$A$2:$AE$252,2,FALSE)),'Preliminary SO66'!D128,VLOOKUP($DC131,'Audit Values'!$A$2:$AE$252,4,FALSE))","v":40.700000000000003},{"$f":"ROUND((X131/6)*Weightings!$M$6,1)","v":3.4},{"$f":"IF(ISNA(VLOOKUP($DC131,'Audit Values'!$A$2:$AE$252,2,FALSE)),'Preliminary SO66'!F128,VLOOKUP($DC131,'Audit Values'!$A$2:$AE$252,6,FALSE))","v":0},{"$f":"ROUND((Z131/6)*Weightings!$M$7,1)","v":0},{"$f":"IF(ISNA(VLOOKUP($DC131,'Audit Values'!$A$2:$AE$252,2,FALSE)),'Preliminary SO66'!H128,VLOOKUP($DC131,'Audit Values'!$A$2:$AE$252,9,FALSE))","v":112},{"$f":"ROUND(AB131*Weightings!$M$8,1)","v":51.1},11.8,0,{"$f":"AE131*Weightings!$M$9","v":0},{"$f":"IF(ISNA(VLOOKUP($DC131,'Audit Values'!$A$2:$AE$252,2,FALSE)),'Preliminary SO66'!L128,VLOOKUP($DC131,'Audit Values'!$A$2:$AE$252,12,FALSE))","v":0},{"$f":"ROUND(AG131*Weightings!$M$10,1)","v":0},{"$f":"IF(ISNA(VLOOKUP($DC131,'Audit Values'!$A$2:$AE$252,2,FALSE)),'Preliminary SO66'!O128,VLOOKUP($DC131,'Audit Values'!$A$2:$AE$252,15,FALSE))","v":31},14.4,{"$f":"CG131/Weightings!$M$5","v":0},{"$f":"CH131/Weightings!$M$5","v":0},{"$f":"CL131/Weightings!$M$5","v":0},30.5,{"$f":"IF(ISNA(VLOOKUP($DC131,'Audit Values'!$A$2:$AE$252,2,FALSE)),'Preliminary SO66'!X128,VLOOKUP($DC131,'Audit Values'!$A$2:$AE$252,24,FALSE))","v":0},312207,{"$f":"AP131/Weightings!$M$5","v":81.099999999999994},465.3,546.4,546.4,0,{"$f":"IF(ISNA(VLOOKUP($DC131,'Audit Values'!$A$2:$AC$299,2,FALSE)),\"\",IF(AND(Weightings!H131>0,VLOOKUP($DC131,'Audit Values'!$A$2:$AC$299,29,FALSE)<Weightings!H131),Weightings!H131,VLOOKUP($DC131,'Audit Values'!$A$2:$AC$299,29,FALSE)))","v":3},{"$f":"IF(ISNA(VLOOKUP($DC131,'Audit Values'!$A$2:$AD$299,2,FALSE)),\"\",VLOOKUP($DC131,'Audit Values'!$A$2:$AD$299,30,FALSE))","v":"A"},{"$f":"IF(Weightings!G131=\"\",\"\",IF(Weightings!I131=\"Pending\",\"PX\",\"R\"))","v":""},{"$f":"AR131*Weightings!$M$5+AU131","v":1792336},{"$f":"AT131*Weightings!$M$5+AU131","v":2104733},{"$f":"IF(Weightings!G131>0,Weightings!G131,'Preliminary SO66'!AB128)","v":2511683},118621,161452,0,2231610,2104733,null,{"$f":"Weightings!E131","v":0},{"$f":"Weightings!F131","v":-857},-857,2103876,{"$f":"MAX(ROUND(((AR131-AN131-AO131)*Weightings!$M$12)+'2016legmax.xls'!AP131,0),ROUND((('2016legmax.xls'!AR131-'2016legmax.xls'!AN131-'2016legmax.xls'!AO131)*Weightings!$M$12)+Weightings!B131,0))","v":2274553},0.3,682366,713212,682366,0.3,0,true,999.29300000000001,0.739981,150.6,false,0,0,0,0,273,0.11,{"$f":"IF(ROUND((Weightings!$P$5*CC131^Weightings!$P$6*Weightings!$P$8 ),2)<Weightings!$P$7,Weightings!$P$7,ROUND((Weightings!$P$5*CC131^Weightings!$P$6*Weightings!$P$8 ),2))","v":1783.43},{"$f":"ROUND(CD131/Weightings!$M$5,4)","v":0.46300000000000002},14.4,0,0,0,0,{"$f":"AS131*Weightings!$M$5*CJ131","v":0},0,0.55000000000000004,0.7,11.8,0,0,{"$f":"IF(ISNA(VLOOKUP($DC131,'Audit Values'!$A$2:$AE$252,2,FALSE)),'Preliminary SO66'!T128,VLOOKUP($DC131,'Audit Values'!$A$2:$AE$252,20,FALSE))","v":2},{"$f":"IF(ISNA(VLOOKUP($DC131,'Audit Values'!$A$2:$AE$252,21,FALSE)),'Preliminary SO66'!U128,VLOOKUP($DC131,'Audit Values'!$A$2:$AE$252,21,FALSE))","v":0},27,29,null,null,null,null,null,null,null,"D0334"]
[335,"Jackson","North Jackson ",388,0,388,376,0,376,361.5,{"$f":"IF(ISNA(VLOOKUP($DC132,'Audit Values'!$A$2:$AE$252,2,FALSE)),'Preliminary SO66'!B129,VLOOKUP($DC132,'Audit Values'!$A$2:$AE$252,31,FALSE))","v":361.5},376,{"$f":"IF(ISNA(VLOOKUP($DC132,'Audit Values'!$A$2:$AE$252,2,FALSE)),'Preliminary SO66'!Z129,VLOOKUP($DC132,'Audit Values'!$A$2:$AE$252,26,FALSE))","v":0},376,{"$f":"IF(ISNA(VLOOKUP($DC132,'Audit Values'!$A$2:$AE$252,2,FALSE)),'Preliminary SO66'!C129,IF(VLOOKUP($DC132,'Audit Values'!$A$2:$AE$252,28,FALSE)=\"\",VLOOKUP($DC132,'Audit Values'!$A$2:$AE$252,3,FALSE),VLOOKUP($DC132,'Audit Values'!$A$2:$AE$252,28,FALSE)))","v":0},361.5,361.5,361.5,376,0,172.3,172.3,0,{"$f":"IF(ISNA(VLOOKUP($DC132,'Audit Values'!$A$2:$AE$252,2,FALSE)),'Preliminary SO66'!D129,VLOOKUP($DC132,'Audit Values'!$A$2:$AE$252,4,FALSE))","v":107.3},{"$f":"ROUND((X132/6)*Weightings!$M$6,1)","v":8.9},{"$f":"IF(ISNA(VLOOKUP($DC132,'Audit Values'!$A$2:$AE$252,2,FALSE)),'Preliminary SO66'!F129,VLOOKUP($DC132,'Audit Values'!$A$2:$AE$252,6,FALSE))","v":0},{"$f":"ROUND((Z132/6)*Weightings!$M$7,1)","v":0},{"$f":"IF(ISNA(VLOOKUP($DC132,'Audit Values'!$A$2:$AE$252,2,FALSE)),'Preliminary SO66'!H129,VLOOKUP($DC132,'Audit Values'!$A$2:$AE$252,9,FALSE))","v":116},{"$f":"ROUND(AB132*Weightings!$M$8,1)","v":52.9},0,0,{"$f":"AE132*Weightings!$M$9","v":0},{"$f":"IF(ISNA(VLOOKUP($DC132,'Audit Values'!$A$2:$AE$252,2,FALSE)),'Preliminary SO66'!L129,VLOOKUP($DC132,'Audit Values'!$A$2:$AE$252,12,FALSE))","v":0},{"$f":"ROUND(AG132*Weightings!$M$10,1)","v":0},{"$f":"IF(ISNA(VLOOKUP($DC132,'Audit Values'!$A$2:$AE$252,2,FALSE)),'Preliminary SO66'!O129,VLOOKUP($DC132,'Audit Values'!$A$2:$AE$252,15,FALSE))","v":279.5},73.900000000000006,{"$f":"CG132/Weightings!$M$5","v":0},{"$f":"CH132/Weightings!$M$5","v":0},{"$f":"CL132/Weightings!$M$5","v":0},0,{"$f":"IF(ISNA(VLOOKUP($DC132,'Audit Values'!$A$2:$AE$252,2,FALSE)),'Preliminary SO66'!X129,VLOOKUP($DC132,'Audit Values'!$A$2:$AE$252,24,FALSE))","v":1},315874,{"$f":"AP132/Weightings!$M$5","v":82},685,767,767,0,{"$f":"IF(ISNA(VLOOKUP($DC132,'Audit Values'!$A$2:$AC$299,2,FALSE)),\"\",IF(AND(Weightings!H132>0,VLOOKUP($DC132,'Audit Values'!$A$2:$AC$299,29,FALSE)<Weightings!H132),Weightings!H132,VLOOKUP($DC132,'Audit Values'!$A$2:$AC$299,29,FALSE)))","v":3},{"$f":"IF(ISNA(VLOOKUP($DC132,'Audit Values'!$A$2:$AD$299,2,FALSE)),\"\",VLOOKUP($DC132,'Audit Values'!$A$2:$AD$299,30,FALSE))","v":"A"},{"$f":"IF(Weightings!G132=\"\",\"\",IF(Weightings!I132=\"Pending\",\"PX\",\"R\"))","v":""},{"$f":"AR132*Weightings!$M$5+AU132","v":2638620},{"$f":"AT132*Weightings!$M$5+AU132","v":2954484},{"$f":"IF(Weightings!G132>0,Weightings!G132,'Preliminary SO66'!AB129)","v":3958707},610936,179758,38853,3129160,2954484,null,{"$f":"Weightings!E132","v":0},{"$f":"Weightings!F132","v":0},0,2954484,{"$f":"MAX(ROUND(((AR132-AN132-AO132)*Weightings!$M$12)+'2016legmax.xls'!AP132,0),ROUND((('2016legmax.xls'!AR132-'2016legmax.xls'!AN132-'2016legmax.xls'!AO132)*Weightings!$M$12)+Weightings!B132,0))","v":3387034},0.3,1016110,1035405,1016110,0.3,0,false,0,0,0,true,94.05,0.45836500000000002,172.3,0,213,1.31,{"$f":"IF(ROUND((Weightings!$P$5*CC132^Weightings!$P$6*Weightings!$P$8 ),2)<Weightings!$P$7,Weightings!$P$7,ROUND((Weightings!$P$5*CC132^Weightings!$P$6*Weightings!$P$8 ),2))","v":1018.32},{"$f":"ROUND(CD132/Weightings!$M$5,4)","v":0.26440000000000002},73.900000000000006,0,0,0,0,{"$f":"AS132*Weightings!$M$5*CJ132","v":0},0,0.309,1.8,0,0,0,{"$f":"IF(ISNA(VLOOKUP($DC132,'Audit Values'!$A$2:$AE$252,2,FALSE)),'Preliminary SO66'!T129,VLOOKUP($DC132,'Audit Values'!$A$2:$AE$252,20,FALSE))","v":0},{"$f":"IF(ISNA(VLOOKUP($DC132,'Audit Values'!$A$2:$AE$252,21,FALSE)),'Preliminary SO66'!U129,VLOOKUP($DC132,'Audit Values'!$A$2:$AE$252,21,FALSE))","v":0},0,0,null,null,null,null,null,null,null,"D0335"]
[336,"Jackson","Holton ",1151.4000000000001,0,1151.4000000000001,1118.5,0,{"$f":"G133+H133","v":1118.5},{"$f":"K133+T133","v":1086.5},{"$f":"IF(ISNA(VLOOKUP($DC133,'Audit Values'!$A$2:$AE$252,2,FALSE)),'Preliminary SO66'!B130,VLOOKUP($DC133,'Audit Values'!$A$2:$AE$252,31,FALSE))","v":1026.5},{"$f":"MAX(K133, I133,AVERAGE(F133, I133, K133))","v":1118.5},{"$f":"IF(ISNA(VLOOKUP($DC133,'Audit Values'!$A$2:$AE$252,2,FALSE)),'Preliminary SO66'!Z130,VLOOKUP($DC133,'Audit Values'!$A$2:$AE$252,26,FALSE))","v":0},{"$f":"L133+M133","v":1118.5},{"$f":"IF(ISNA(VLOOKUP($DC133,'Audit Values'!$A$2:$AE$252,2,FALSE)),'Preliminary SO66'!C130,IF(VLOOKUP($DC133,'Audit Values'!$A$2:$AE$252,28,FALSE)=\"\",VLOOKUP($DC133,'Audit Values'!$A$2:$AE$252,3,FALSE),VLOOKUP($DC133,'Audit Values'!$A$2:$AE$252,28,FALSE)))","v":0},{"$f":"K133+O133","v":1026.5},{"$f":"J133+O133","v":1086.5},{"$f":"J133+O133+M133","v":1086.5},{"$f":"L133+M133+O133","v":1118.5},60,{"$f":"IF(L133>0,MAX(BR133,BV133,BZ133,CA133),0)","v":230.5},230.5,0,{"$f":"IF(ISNA(VLOOKUP($DC133,'Audit Values'!$A$2:$AE$252,2,FALSE)),'Preliminary SO66'!D130,VLOOKUP($DC133,'Audit Values'!$A$2:$AE$252,4,FALSE))","v":321.8},{"$f":"ROUND((X133/6)*Weightings!$M$6,1)","v":26.8},{"$f":"IF(ISNA(VLOOKUP($DC133,'Audit Values'!$A$2:$AE$252,2,FALSE)),'Preliminary SO66'!F130,VLOOKUP($DC133,'Audit Values'!$A$2:$AE$252,6,FALSE))","v":59.5},{"$f":"ROUND((Z133/6)*Weightings!$M$7,1)","v":3.9},{"$f":"IF(ISNA(VLOOKUP($DC133,'Audit Values'!$A$2:$AE$252,2,FALSE)),'Preliminary SO66'!H130,VLOOKUP($DC133,'Audit Values'!$A$2:$AE$252,9,FALSE))","v":374},{"$f":"ROUND(AB133*Weightings!$M$8,1)","v":170.5},0,0,{"$f":"AE133*Weightings!$M$9","v":0},{"$f":"IF(ISNA(VLOOKUP($DC133,'Audit Values'!$A$2:$AE$252,2,FALSE)),'Preliminary SO66'!L130,VLOOKUP($DC133,'Audit Values'!$A$2:$AE$252,12,FALSE))","v":0},{"$f":"ROUND(AG133*Weightings!$M$10,1)","v":0},{"$f":"IF(ISNA(VLOOKUP($DC133,'Audit Values'!$A$2:$AE$252,2,FALSE)),'Preliminary SO66'!O130,VLOOKUP($DC133,'Audit Values'!$A$2:$AE$252,15,FALSE))","v":371},{"$f":"CF133","v":86.7},{"$f":"CG133/Weightings!$M$5","v":0},{"$f":"CH133/Weightings!$M$5","v":0},{"$f":"CL133/Weightings!$M$5","v":0},63,{"$f":"IF(ISNA(VLOOKUP($DC133,'Audit Values'!$A$2:$AE$252,2,FALSE)),'Preliminary SO66'!X130,VLOOKUP($DC133,'Audit Values'!$A$2:$AE$252,24,FALSE))","v":1},885719,{"$f":"AP133/Weightings!$M$5","v":229.9},{"$f":"SUM(S133+ U133+ Y133+ AA133+ AC133+ AH133+ AJ133+ AK133+ AL133+ AD133+AF133+AM133+AN133+AO133)","v":1700.9},{"$f":"SUM(S133+U133+Y133+AA133+AC133+AH133+AJ133+AK133+AL133+AD133+AF133+AQ133+AN133+AO133)","v":1930.8},{"$f":"SUM(S133+U133+Y133+AA133+AC133+AH133+AJ133+AK133+AL133+AQ133+AD133+AF133+AM133+AN133+AO133)","v":1930.8},0,{"$f":"IF(ISNA(VLOOKUP($DC133,'Audit Values'!$A$2:$AC$299,2,FALSE)),\"\",IF(AND(Weightings!H133>0,VLOOKUP($DC133,'Audit Values'!$A$2:$AC$299,29,FALSE)<Weightings!H133),Weightings!H133,VLOOKUP($DC133,'Audit Values'!$A$2:$AC$299,29,FALSE)))","v":3},{"$f":"IF(ISNA(VLOOKUP($DC133,'Audit Values'!$A$2:$AD$299,2,FALSE)),\"\",VLOOKUP($DC133,'Audit Values'!$A$2:$AD$299,30,FALSE))","v":"A"},{"$f":"IF(Weightings!G133=\"\",\"\",IF(Weightings!I133=\"Pending\",\"PX\",\"R\"))","v":""},{"$f":"AR133*Weightings!$M$5+AU133","v":6551867},{"$f":"AT133*Weightings!$M$5+AU133","v":7437442},{"$f":"IF(Weightings!G133>0,Weightings!G133,'Preliminary SO66'!AB130)","v":11181761},1705511,920648,135130,{"$f":"BA133-BB133-BC133-BD133","v":8420472},{"$f":"MIN(AZ133,BA133)","v":7437442},null,{"$f":"Weightings!E133","v":0},{"$f":"Weightings!F133","v":0},{"$f":"SUM(BG133:BI133)","v":0},7437442,{"$f":"MAX(ROUND(((AR133-AN133-AO133)*Weightings!$M$12)+'2016legmax.xls'!AP133,0),ROUND((('2016legmax.xls'!AR133-'2016legmax.xls'!AN133-'2016legmax.xls'!AO133)*Weightings!$M$12)+Weightings!B133,0))","v":8340879},0.3,2502264,2554123,2502264,0.3,{"$f":"ROUND(IF(S133<=99.9,(S133*1.014331),0),1)","v":0},{"$f":"AND(S133>99.9,S133<=299.9)","v":false},{"$f":"IF(BS133=TRUE,ROUND((S133-100)*9.655,3),0)","v":0},0,{"$f":"ROUND(S133*BU133,1)","v":0},{"$f":"AND(S133>299.9,S133<=1621.9)","v":true},{"$f":"IF(BW133=TRUE,ROUND((S133-300)*1.2375,4),0)","v":1012.8938000000001},0.20610200000000001,{"$f":"ROUND(BY133*S133,1)","v":230.5},{"$f":"ROUND(IF(S133>=1622,(S133*0.03504),0),1)","v":0},164.5,{"$f":"AI133/CB133","v":2.2599999999999998},{"$f":"IF(ROUND((Weightings!$P$5*CC133^Weightings!$P$6*Weightings!$P$8 ),2)<Weightings!$P$7,Weightings!$P$7,ROUND((Weightings!$P$5*CC133^Weightings!$P$6*Weightings!$P$8 ),2))","v":900.14},{"$f":"ROUND(CD133/Weightings!$M$5,4)","v":0.23369999999999999},{"$f":"ROUND(IF(AI133>0,CE133*AI133,0),1)","v":86.7},0,0,0,0,{"$f":"AS133*Weightings!$M$5*CJ133","v":0},0,{"$f":"ROUND(AB133/S133,3)","v":0.33400000000000002},{"$f":"ROUND(S133/CB133,1)","v":6.8},{"$f":"IF(CM133>=50%,AB133*10.5%,0)","v":0},{"$f":"IF(AND(CM133>=35.1%,CN133>212),AB133*0.105,0)","v":0},{"$f":"IF(AND((CM133-0.35)>0,CM133<0.5),AB133*(CM133-0.35)*0.7,0)","v":0},{"$f":"IF(ISNA(VLOOKUP($DC133,'Audit Values'!$A$2:$AE$252,2,FALSE)),'Preliminary SO66'!T130,VLOOKUP($DC133,'Audit Values'!$A$2:$AE$252,20,FALSE))","v":7},{"$f":"IF(ISNA(VLOOKUP($DC133,'Audit Values'!$A$2:$AE$252,21,FALSE)),'Preliminary SO66'!U130,VLOOKUP($DC133,'Audit Values'!$A$2:$AE$252,21,FALSE))","v":0},53,60,null,null,null,null,null,null,null,"D0336"]
[337,"Jackson","Royal Valley ",917.4,0,917.4,871.5,0,871.5,810.1,{"$f":"IF(ISNA(VLOOKUP($DC134,'Audit Values'!$A$2:$AE$252,2,FALSE)),'Preliminary SO66'!B131,VLOOKUP($DC134,'Audit Values'!$A$2:$AE$252,31,FALSE))","v":810.1},871.5,{"$f":"IF(ISNA(VLOOKUP($DC134,'Audit Values'!$A$2:$AE$252,2,FALSE)),'Preliminary SO66'!Z131,VLOOKUP($DC134,'Audit Values'!$A$2:$AE$252,26,FALSE))","v":0},871.5,{"$f":"IF(ISNA(VLOOKUP($DC134,'Audit Values'!$A$2:$AE$252,2,FALSE)),'Preliminary SO66'!C131,IF(VLOOKUP($DC134,'Audit Values'!$A$2:$AE$252,28,FALSE)=\"\",VLOOKUP($DC134,'Audit Values'!$A$2:$AE$252,3,FALSE),VLOOKUP($DC134,'Audit Values'!$A$2:$AE$252,28,FALSE)))","v":0},810.1,810.1,810.1,871.5,{"$f":"CU134","v":0},252.8,252.8,0,{"$f":"IF(ISNA(VLOOKUP($DC134,'Audit Values'!$A$2:$AE$252,2,FALSE)),'Preliminary SO66'!D131,VLOOKUP($DC134,'Audit Values'!$A$2:$AE$252,4,FALSE))","v":186.8},{"$f":"ROUND((X134/6)*Weightings!$M$6,1)","v":15.6},{"$f":"IF(ISNA(VLOOKUP($DC134,'Audit Values'!$A$2:$AE$252,2,FALSE)),'Preliminary SO66'!F131,VLOOKUP($DC134,'Audit Values'!$A$2:$AE$252,6,FALSE))","v":0},{"$f":"ROUND((Z134/6)*Weightings!$M$7,1)","v":0},{"$f":"IF(ISNA(VLOOKUP($DC134,'Audit Values'!$A$2:$AE$252,2,FALSE)),'Preliminary SO66'!H131,VLOOKUP($DC134,'Audit Values'!$A$2:$AE$252,9,FALSE))","v":334},{"$f":"ROUND(AB134*Weightings!$M$8,1)","v":152.30000000000001},7.7,0,{"$f":"AE134*Weightings!$M$9","v":0},{"$f":"IF(ISNA(VLOOKUP($DC134,'Audit Values'!$A$2:$AE$252,2,FALSE)),'Preliminary SO66'!L131,VLOOKUP($DC134,'Audit Values'!$A$2:$AE$252,12,FALSE))","v":0},{"$f":"ROUND(AG134*Weightings!$M$10,1)","v":0},{"$f":"IF(ISNA(VLOOKUP($DC134,'Audit Values'!$A$2:$AE$252,2,FALSE)),'Preliminary SO66'!O131,VLOOKUP($DC134,'Audit Values'!$A$2:$AE$252,15,FALSE))","v":584.5},124,{"$f":"CG134/Weightings!$M$5","v":0},{"$f":"CH134/Weightings!$M$5","v":0},{"$f":"CL134/Weightings!$M$5","v":0},{"$f":"CU134*1.05","v":0},{"$f":"IF(ISNA(VLOOKUP($DC134,'Audit Values'!$A$2:$AE$252,2,FALSE)),'Preliminary SO66'!X131,VLOOKUP($DC134,'Audit Values'!$A$2:$AE$252,24,FALSE))","v":0},860972,{"$f":"AP134/Weightings!$M$5","v":223.5},1423.9,1647.4,1647.4,0,{"$f":"IF(ISNA(VLOOKUP($DC134,'Audit Values'!$A$2:$AC$299,2,FALSE)),\"\",IF(AND(Weightings!H134>0,VLOOKUP($DC134,'Audit Values'!$A$2:$AC$299,29,FALSE)<Weightings!H134),Weightings!H134,VLOOKUP($DC134,'Audit Values'!$A$2:$AC$299,29,FALSE)))","v":3},{"$f":"IF(ISNA(VLOOKUP($DC134,'Audit Values'!$A$2:$AD$299,2,FALSE)),\"\",VLOOKUP($DC134,'Audit Values'!$A$2:$AD$299,30,FALSE))","v":"A"},{"$f":"IF(Weightings!G134=\"\",\"\",IF(Weightings!I134=\"Pending\",\"PX\",\"R\"))","v":""},{"$f":"AR134*Weightings!$M$5+AU134","v":5484863},{"$f":"AT134*Weightings!$M$5+AU134","v":6345785},{"$f":"IF(Weightings!G134>0,Weightings!G134,'Preliminary SO66'!AB131)","v":9185775},1626881,490136,104157,6964601,6345785,null,{"$f":"Weightings!E134","v":0},{"$f":"Weightings!F134","v":0},0,{"$f":"BF134+BJ134","v":6345785},{"$f":"MAX(ROUND(((AR134-AN134-AO134)*Weightings!$M$12)+'2016legmax.xls'!AP134,0),ROUND((('2016legmax.xls'!AR134-'2016legmax.xls'!AN134-'2016legmax.xls'!AO134)*Weightings!$M$12)+Weightings!B134,0))","v":7337198},0.3,2201159,2287502,2201159,{"$f":"BP134/BL134","v":0.3},0,false,0,0,0,true,707.23130000000003,0.29002,252.8,0,169,3.46,{"$f":"IF(ROUND((Weightings!$P$5*CC134^Weightings!$P$6*Weightings!$P$8 ),2)<Weightings!$P$7,Weightings!$P$7,ROUND((Weightings!$P$5*CC134^Weightings!$P$6*Weightings!$P$8 ),2))","v":817.47},{"$f":"ROUND(CD134/Weightings!$M$5,4)","v":0.2122},124,0,0,0,0,{"$f":"AS134*Weightings!$M$5*CJ134","v":0},0,0.38300000000000001,5.2,0,0,7.7,{"$f":"IF(ISNA(VLOOKUP($DC134,'Audit Values'!$A$2:$AE$252,2,FALSE)),'Preliminary SO66'!T131,VLOOKUP($DC134,'Audit Values'!$A$2:$AE$252,20,FALSE))","v":0},{"$f":"IF(ISNA(VLOOKUP($DC134,'Audit Values'!$A$2:$AE$252,21,FALSE)),'Preliminary SO66'!U131,VLOOKUP($DC134,'Audit Values'!$A$2:$AE$252,21,FALSE))","v":0},0,{"$f":"SUM(CR134:CT134)","v":0},null,null,null,null,null,null,null,"D0337"]
[338,"Jefferson","Valley Falls ",388.5,0,388.5,380,0,380,358.5,{"$f":"IF(ISNA(VLOOKUP($DC135,'Audit Values'!$A$2:$AE$252,2,FALSE)),'Preliminary SO66'!B132,VLOOKUP($DC135,'Audit Values'!$A$2:$AE$252,31,FALSE))","v":358.5},380,{"$f":"IF(ISNA(VLOOKUP($DC135,'Audit Values'!$A$2:$AE$252,2,FALSE)),'Preliminary SO66'!Z132,VLOOKUP($DC135,'Audit Values'!$A$2:$AE$252,26,FALSE))","v":0},380,{"$f":"IF(ISNA(VLOOKUP($DC135,'Audit Values'!$A$2:$AE$252,2,FALSE)),'Preliminary SO66'!C132,IF(VLOOKUP($DC135,'Audit Values'!$A$2:$AE$252,28,FALSE)=\"\",VLOOKUP($DC135,'Audit Values'!$A$2:$AE$252,3,FALSE),VLOOKUP($DC135,'Audit Values'!$A$2:$AE$252,28,FALSE)))","v":4.5},363,363,363,384.5,0,175.1,175.1,0,{"$f":"IF(ISNA(VLOOKUP($DC135,'Audit Values'!$A$2:$AE$252,2,FALSE)),'Preliminary SO66'!D132,VLOOKUP($DC135,'Audit Values'!$A$2:$AE$252,4,FALSE))","v":60.9},{"$f":"ROUND((X135/6)*Weightings!$M$6,1)","v":5.0999999999999996},{"$f":"IF(ISNA(VLOOKUP($DC135,'Audit Values'!$A$2:$AE$252,2,FALSE)),'Preliminary SO66'!F132,VLOOKUP($DC135,'Audit Values'!$A$2:$AE$252,6,FALSE))","v":0},{"$f":"ROUND((Z135/6)*Weightings!$M$7,1)","v":0},{"$f":"IF(ISNA(VLOOKUP($DC135,'Audit Values'!$A$2:$AE$252,2,FALSE)),'Preliminary SO66'!H132,VLOOKUP($DC135,'Audit Values'!$A$2:$AE$252,9,FALSE))","v":128},{"$f":"ROUND(AB135*Weightings!$M$8,1)","v":58.4},0,0,{"$f":"AE135*Weightings!$M$9","v":0},{"$f":"IF(ISNA(VLOOKUP($DC135,'Audit Values'!$A$2:$AE$252,2,FALSE)),'Preliminary SO66'!L132,VLOOKUP($DC135,'Audit Values'!$A$2:$AE$252,12,FALSE))","v":0},{"$f":"ROUND(AG135*Weightings!$M$10,1)","v":0},{"$f":"IF(ISNA(VLOOKUP($DC135,'Audit Values'!$A$2:$AE$252,2,FALSE)),'Preliminary SO66'!O132,VLOOKUP($DC135,'Audit Values'!$A$2:$AE$252,15,FALSE))","v":115},32.299999999999997,{"$f":"CG135/Weightings!$M$5","v":0},{"$f":"CH135/Weightings!$M$5","v":0},{"$f":"CL135/Weightings!$M$5","v":0},0,{"$f":"IF(ISNA(VLOOKUP($DC135,'Audit Values'!$A$2:$AE$252,2,FALSE)),'Preliminary SO66'!X132,VLOOKUP($DC135,'Audit Values'!$A$2:$AE$252,24,FALSE))","v":0},496987,{"$f":"AP135/Weightings!$M$5","v":129},655.4,784.4,784.4,0,{"$f":"IF(ISNA(VLOOKUP($DC135,'Audit Values'!$A$2:$AC$299,2,FALSE)),\"\",IF(AND(Weightings!H135>0,VLOOKUP($DC135,'Audit Values'!$A$2:$AC$299,29,FALSE)<Weightings!H135),Weightings!H135,VLOOKUP($DC135,'Audit Values'!$A$2:$AC$299,29,FALSE)))","v":2},{"$f":"IF(ISNA(VLOOKUP($DC135,'Audit Values'!$A$2:$AD$299,2,FALSE)),\"\",VLOOKUP($DC135,'Audit Values'!$A$2:$AD$299,30,FALSE))","v":"A"},{"$f":"IF(Weightings!G135=\"\",\"\",IF(Weightings!I135=\"Pending\",\"PX\",\"R\"))","v":""},{"$f":"AR135*Weightings!$M$5+AU135","v":2524601},{"$f":"AT135*Weightings!$M$5+AU135","v":3021509},{"$f":"IF(Weightings!G135>0,Weightings!G135,'Preliminary SO66'!AB132)","v":4161829},674388,195053,46261,3246127,3021509,null,{"$f":"Weightings!E135","v":0},{"$f":"Weightings!F135","v":0},0,3021509,{"$f":"MAX(ROUND(((AR135-AN135-AO135)*Weightings!$M$12)+'2016legmax.xls'!AP135,0),ROUND((('2016legmax.xls'!AR135-'2016legmax.xls'!AN135-'2016legmax.xls'!AO135)*Weightings!$M$12)+Weightings!B135,0))","v":3439733},0.3,1031920,1056443,1031920,0.3,0,false,0,0,0,true,104.5688,0.45547700000000002,175.1,0,115,1,{"$f":"IF(ROUND((Weightings!$P$5*CC135^Weightings!$P$6*Weightings!$P$8 ),2)<Weightings!$P$7,Weightings!$P$7,ROUND((Weightings!$P$5*CC135^Weightings!$P$6*Weightings!$P$8 ),2))","v":1082.46},{"$f":"ROUND(CD135/Weightings!$M$5,4)","v":0.28100000000000003},32.299999999999997,0,0,0,0,{"$f":"AS135*Weightings!$M$5*CJ135","v":0},0,0.33300000000000002,3.3,0,0,0,{"$f":"IF(ISNA(VLOOKUP($DC135,'Audit Values'!$A$2:$AE$252,2,FALSE)),'Preliminary SO66'!T132,VLOOKUP($DC135,'Audit Values'!$A$2:$AE$252,20,FALSE))","v":0},{"$f":"IF(ISNA(VLOOKUP($DC135,'Audit Values'!$A$2:$AE$252,21,FALSE)),'Preliminary SO66'!U132,VLOOKUP($DC135,'Audit Values'!$A$2:$AE$252,21,FALSE))","v":0},0,0,null,null,null,null,null,null,null,"D0338"]
[339,"Jefferson","Jefferson County North ",431,0,431,415,0,415,420,{"$f":"IF(ISNA(VLOOKUP($DC136,'Audit Values'!$A$2:$AE$252,2,FALSE)),'Preliminary SO66'!B133,VLOOKUP($DC136,'Audit Values'!$A$2:$AE$252,31,FALSE))","v":420},422,{"$f":"IF(ISNA(VLOOKUP($DC136,'Audit Values'!$A$2:$AE$252,2,FALSE)),'Preliminary SO66'!Z133,VLOOKUP($DC136,'Audit Values'!$A$2:$AE$252,26,FALSE))","v":0},422,{"$f":"IF(ISNA(VLOOKUP($DC136,'Audit Values'!$A$2:$AE$252,2,FALSE)),'Preliminary SO66'!C133,IF(VLOOKUP($DC136,'Audit Values'!$A$2:$AE$252,28,FALSE)=\"\",VLOOKUP($DC136,'Audit Values'!$A$2:$AE$252,3,FALSE),VLOOKUP($DC136,'Audit Values'!$A$2:$AE$252,28,FALSE)))","v":5},425,425,425,427,0,188.3,188.3,0,{"$f":"IF(ISNA(VLOOKUP($DC136,'Audit Values'!$A$2:$AE$252,2,FALSE)),'Preliminary SO66'!D133,VLOOKUP($DC136,'Audit Values'!$A$2:$AE$252,4,FALSE))","v":82.3},{"$f":"ROUND((X136/6)*Weightings!$M$6,1)","v":6.9},{"$f":"IF(ISNA(VLOOKUP($DC136,'Audit Values'!$A$2:$AE$252,2,FALSE)),'Preliminary SO66'!F133,VLOOKUP($DC136,'Audit Values'!$A$2:$AE$252,6,FALSE))","v":0},{"$f":"ROUND((Z136/6)*Weightings!$M$7,1)","v":0},{"$f":"IF(ISNA(VLOOKUP($DC136,'Audit Values'!$A$2:$AE$252,2,FALSE)),'Preliminary SO66'!H133,VLOOKUP($DC136,'Audit Values'!$A$2:$AE$252,9,FALSE))","v":105},{"$f":"ROUND(AB136*Weightings!$M$8,1)","v":47.9},0,0,{"$f":"AE136*Weightings!$M$9","v":0},{"$f":"IF(ISNA(VLOOKUP($DC136,'Audit Values'!$A$2:$AE$252,2,FALSE)),'Preliminary SO66'!L133,VLOOKUP($DC136,'Audit Values'!$A$2:$AE$252,12,FALSE))","v":8.4},{"$f":"ROUND(AG136*Weightings!$M$10,1)","v":2.1},{"$f":"IF(ISNA(VLOOKUP($DC136,'Audit Values'!$A$2:$AE$252,2,FALSE)),'Preliminary SO66'!O133,VLOOKUP($DC136,'Audit Values'!$A$2:$AE$252,15,FALSE))","v":209},51.2,{"$f":"CG136/Weightings!$M$5","v":0},{"$f":"CH136/Weightings!$M$5","v":0},{"$f":"CL136/Weightings!$M$5","v":0},0,{"$f":"IF(ISNA(VLOOKUP($DC136,'Audit Values'!$A$2:$AE$252,2,FALSE)),'Preliminary SO66'!X133,VLOOKUP($DC136,'Audit Values'!$A$2:$AE$252,24,FALSE))","v":0},634050,{"$f":"AP136/Weightings!$M$5","v":164.6},723.4,888,888,0,{"$f":"IF(ISNA(VLOOKUP($DC136,'Audit Values'!$A$2:$AC$299,2,FALSE)),\"\",IF(AND(Weightings!H136>0,VLOOKUP($DC136,'Audit Values'!$A$2:$AC$299,29,FALSE)<Weightings!H136),Weightings!H136,VLOOKUP($DC136,'Audit Values'!$A$2:$AC$299,29,FALSE)))","v":3},{"$f":"IF(ISNA(VLOOKUP($DC136,'Audit Values'!$A$2:$AD$299,2,FALSE)),\"\",VLOOKUP($DC136,'Audit Values'!$A$2:$AD$299,30,FALSE))","v":"A"},{"$f":"IF(Weightings!G136=\"\",\"\",IF(Weightings!I136=\"Pending\",\"PX\",\"R\"))","v":""},{"$f":"AR136*Weightings!$M$5+AU136","v":2786537},{"$f":"AT136*Weightings!$M$5+AU136","v":3420576},{"$f":"IF(Weightings!G136>0,Weightings!G136,'Preliminary SO66'!AB133)","v":4563529},753497,217530,38026,3554476,3420576,null,{"$f":"Weightings!E136","v":0},{"$f":"Weightings!F136","v":0},0,3420576,{"$f":"MAX(ROUND(((AR136-AN136-AO136)*Weightings!$M$12)+'2016legmax.xls'!AP136,0),ROUND((('2016legmax.xls'!AR136-'2016legmax.xls'!AN136-'2016legmax.xls'!AO136)*Weightings!$M$12)+Weightings!B136,0))","v":3882116},0.3,1164635,1171469,1164635,0.3,0,false,0,0,0,true,157.16249999999999,0.44103799999999999,188.3,0,114,1.83,{"$f":"IF(ROUND((Weightings!$P$5*CC136^Weightings!$P$6*Weightings!$P$8 ),2)<Weightings!$P$7,Weightings!$P$7,ROUND((Weightings!$P$5*CC136^Weightings!$P$6*Weightings!$P$8 ),2))","v":944.16},{"$f":"ROUND(CD136/Weightings!$M$5,4)","v":0.24510000000000001},51.2,0,0,0,0,{"$f":"AS136*Weightings!$M$5*CJ136","v":0},0,0.246,3.7,0,0,0,{"$f":"IF(ISNA(VLOOKUP($DC136,'Audit Values'!$A$2:$AE$252,2,FALSE)),'Preliminary SO66'!T133,VLOOKUP($DC136,'Audit Values'!$A$2:$AE$252,20,FALSE))","v":0},{"$f":"IF(ISNA(VLOOKUP($DC136,'Audit Values'!$A$2:$AE$252,21,FALSE)),'Preliminary SO66'!U133,VLOOKUP($DC136,'Audit Values'!$A$2:$AE$252,21,FALSE))","v":0},0,0,null,null,null,null,null,null,null,"D0339"]
[340,"Jefferson","Jefferson West ",854.8,0,854.8,822,0,822,835,{"$f":"IF(ISNA(VLOOKUP($DC137,'Audit Values'!$A$2:$AE$252,2,FALSE)),'Preliminary SO66'!B134,VLOOKUP($DC137,'Audit Values'!$A$2:$AE$252,31,FALSE))","v":835},837.3,{"$f":"IF(ISNA(VLOOKUP($DC137,'Audit Values'!$A$2:$AE$252,2,FALSE)),'Preliminary SO66'!Z134,VLOOKUP($DC137,'Audit Values'!$A$2:$AE$252,26,FALSE))","v":0},837.3,{"$f":"IF(ISNA(VLOOKUP($DC137,'Audit Values'!$A$2:$AE$252,2,FALSE)),'Preliminary SO66'!C134,IF(VLOOKUP($DC137,'Audit Values'!$A$2:$AE$252,28,FALSE)=\"\",VLOOKUP($DC137,'Audit Values'!$A$2:$AE$252,3,FALSE),VLOOKUP($DC137,'Audit Values'!$A$2:$AE$252,28,FALSE)))","v":0},835,835,835,837.3,0,252.6,252.6,0,{"$f":"IF(ISNA(VLOOKUP($DC137,'Audit Values'!$A$2:$AE$252,2,FALSE)),'Preliminary SO66'!D134,VLOOKUP($DC137,'Audit Values'!$A$2:$AE$252,4,FALSE))","v":183.1},{"$f":"ROUND((X137/6)*Weightings!$M$6,1)","v":15.3},{"$f":"IF(ISNA(VLOOKUP($DC137,'Audit Values'!$A$2:$AE$252,2,FALSE)),'Preliminary SO66'!F134,VLOOKUP($DC137,'Audit Values'!$A$2:$AE$252,6,FALSE))","v":0},{"$f":"ROUND((Z137/6)*Weightings!$M$7,1)","v":0},{"$f":"IF(ISNA(VLOOKUP($DC137,'Audit Values'!$A$2:$AE$252,2,FALSE)),'Preliminary SO66'!H134,VLOOKUP($DC137,'Audit Values'!$A$2:$AE$252,9,FALSE))","v":177},{"$f":"ROUND(AB137*Weightings!$M$8,1)","v":80.7},0,0,{"$f":"AE137*Weightings!$M$9","v":0},{"$f":"IF(ISNA(VLOOKUP($DC137,'Audit Values'!$A$2:$AE$252,2,FALSE)),'Preliminary SO66'!L134,VLOOKUP($DC137,'Audit Values'!$A$2:$AE$252,12,FALSE))","v":0},{"$f":"ROUND(AG137*Weightings!$M$10,1)","v":0},{"$f":"IF(ISNA(VLOOKUP($DC137,'Audit Values'!$A$2:$AE$252,2,FALSE)),'Preliminary SO66'!O134,VLOOKUP($DC137,'Audit Values'!$A$2:$AE$252,15,FALSE))","v":501},89.6,{"$f":"CG137/Weightings!$M$5","v":0},{"$f":"CH137/Weightings!$M$5","v":0},{"$f":"CL137/Weightings!$M$5","v":0},0,{"$f":"IF(ISNA(VLOOKUP($DC137,'Audit Values'!$A$2:$AE$252,2,FALSE)),'Preliminary SO66'!X134,VLOOKUP($DC137,'Audit Values'!$A$2:$AE$252,24,FALSE))","v":1},1013198,{"$f":"AP137/Weightings!$M$5","v":263},1276.5,1539.5,1539.5,0,{"$f":"IF(ISNA(VLOOKUP($DC137,'Audit Values'!$A$2:$AC$299,2,FALSE)),\"\",IF(AND(Weightings!H137>0,VLOOKUP($DC137,'Audit Values'!$A$2:$AC$299,29,FALSE)<Weightings!H137),Weightings!H137,VLOOKUP($DC137,'Audit Values'!$A$2:$AC$299,29,FALSE)))","v":3},{"$f":"IF(ISNA(VLOOKUP($DC137,'Audit Values'!$A$2:$AD$299,2,FALSE)),\"\",VLOOKUP($DC137,'Audit Values'!$A$2:$AD$299,30,FALSE))","v":"A"},{"$f":"IF(Weightings!G137=\"\",\"\",IF(Weightings!I137=\"Pending\",\"PX\",\"R\"))","v":""},{"$f":"AR137*Weightings!$M$5+AU137","v":4917078},{"$f":"AT137*Weightings!$M$5+AU137","v":5930154},{"$f":"IF(Weightings!G137>0,Weightings!G137,'Preliminary SO66'!AB134)","v":7884862},1193449,374531,95223,6221659,5930154,null,{"$f":"Weightings!E137","v":0},{"$f":"Weightings!F137","v":0},0,5930154,{"$f":"MAX(ROUND(((AR137-AN137-AO137)*Weightings!$M$12)+'2016legmax.xls'!AP137,0),ROUND((('2016legmax.xls'!AR137-'2016legmax.xls'!AN137-'2016legmax.xls'!AO137)*Weightings!$M$12)+Weightings!B137,0))","v":6740193},0.3,2022058,2035421,2022058,0.3,0,false,0,0,0,true,664.90880000000004,0.30163899999999999,252.6,0,68,7.37,{"$f":"IF(ROUND((Weightings!$P$5*CC137^Weightings!$P$6*Weightings!$P$8 ),2)<Weightings!$P$7,Weightings!$P$7,ROUND((Weightings!$P$5*CC137^Weightings!$P$6*Weightings!$P$8 ),2))","v":688.95},{"$f":"ROUND(CD137/Weightings!$M$5,4)","v":0.1789},89.6,0,0,0,0,{"$f":"AS137*Weightings!$M$5*CJ137","v":0},0,0.21099999999999999,12.3,0,0,0,{"$f":"IF(ISNA(VLOOKUP($DC137,'Audit Values'!$A$2:$AE$252,2,FALSE)),'Preliminary SO66'!T134,VLOOKUP($DC137,'Audit Values'!$A$2:$AE$252,20,FALSE))","v":0},{"$f":"IF(ISNA(VLOOKUP($DC137,'Audit Values'!$A$2:$AE$252,21,FALSE)),'Preliminary SO66'!U134,VLOOKUP($DC137,'Audit Values'!$A$2:$AE$252,21,FALSE))","v":0},0,0,null,null,null,null,null,null,null,"D0340"]
[341,"Jefferson","Oskaloosa Public Schools ",517.5,0,517.5,519.5,0,519.5,528.79999999999995,{"$f":"IF(ISNA(VLOOKUP($DC138,'Audit Values'!$A$2:$AE$252,2,FALSE)),'Preliminary SO66'!B135,VLOOKUP($DC138,'Audit Values'!$A$2:$AE$252,31,FALSE))","v":528.79999999999995},528.79999999999995,{"$f":"IF(ISNA(VLOOKUP($DC138,'Audit Values'!$A$2:$AE$252,2,FALSE)),'Preliminary SO66'!Z135,VLOOKUP($DC138,'Audit Values'!$A$2:$AE$252,26,FALSE))","v":0},528.79999999999995,{"$f":"IF(ISNA(VLOOKUP($DC138,'Audit Values'!$A$2:$AE$252,2,FALSE)),'Preliminary SO66'!C135,IF(VLOOKUP($DC138,'Audit Values'!$A$2:$AE$252,28,FALSE)=\"\",VLOOKUP($DC138,'Audit Values'!$A$2:$AE$252,3,FALSE),VLOOKUP($DC138,'Audit Values'!$A$2:$AE$252,28,FALSE)))","v":15},543.79999999999995,543.79999999999995,543.79999999999995,543.79999999999995,0,218.3,218.3,0,{"$f":"IF(ISNA(VLOOKUP($DC138,'Audit Values'!$A$2:$AE$252,2,FALSE)),'Preliminary SO66'!D135,VLOOKUP($DC138,'Audit Values'!$A$2:$AE$252,4,FALSE))","v":75.8},{"$f":"ROUND((X138/6)*Weightings!$M$6,1)","v":6.3},{"$f":"IF(ISNA(VLOOKUP($DC138,'Audit Values'!$A$2:$AE$252,2,FALSE)),'Preliminary SO66'!F135,VLOOKUP($DC138,'Audit Values'!$A$2:$AE$252,6,FALSE))","v":0},{"$f":"ROUND((Z138/6)*Weightings!$M$7,1)","v":0},{"$f":"IF(ISNA(VLOOKUP($DC138,'Audit Values'!$A$2:$AE$252,2,FALSE)),'Preliminary SO66'!H135,VLOOKUP($DC138,'Audit Values'!$A$2:$AE$252,9,FALSE))","v":245},{"$f":"ROUND(AB138*Weightings!$M$8,1)","v":111.7},17.3,0,{"$f":"AE138*Weightings!$M$9","v":0},{"$f":"IF(ISNA(VLOOKUP($DC138,'Audit Values'!$A$2:$AE$252,2,FALSE)),'Preliminary SO66'!L135,VLOOKUP($DC138,'Audit Values'!$A$2:$AE$252,12,FALSE))","v":0},{"$f":"ROUND(AG138*Weightings!$M$10,1)","v":0},{"$f":"IF(ISNA(VLOOKUP($DC138,'Audit Values'!$A$2:$AE$252,2,FALSE)),'Preliminary SO66'!O135,VLOOKUP($DC138,'Audit Values'!$A$2:$AE$252,15,FALSE))","v":322},69,{"$f":"CG138/Weightings!$M$5","v":0},{"$f":"CH138/Weightings!$M$5","v":0},{"$f":"CL138/Weightings!$M$5","v":0},0,{"$f":"IF(ISNA(VLOOKUP($DC138,'Audit Values'!$A$2:$AE$252,2,FALSE)),'Preliminary SO66'!X135,VLOOKUP($DC138,'Audit Values'!$A$2:$AE$252,24,FALSE))","v":0},955372,{"$f":"AP138/Weightings!$M$5","v":248},966.4,1214.4000000000001,1214.4000000000001,0,{"$f":"IF(ISNA(VLOOKUP($DC138,'Audit Values'!$A$2:$AC$299,2,FALSE)),\"\",IF(AND(Weightings!H138>0,VLOOKUP($DC138,'Audit Values'!$A$2:$AC$299,29,FALSE)<Weightings!H138),Weightings!H138,VLOOKUP($DC138,'Audit Values'!$A$2:$AC$299,29,FALSE)))","v":2},{"$f":"IF(ISNA(VLOOKUP($DC138,'Audit Values'!$A$2:$AD$299,2,FALSE)),\"\",VLOOKUP($DC138,'Audit Values'!$A$2:$AD$299,30,FALSE))","v":"A"},{"$f":"IF(Weightings!G138=\"\",\"\",IF(Weightings!I138=\"Pending\",\"PX\",\"R\"))","v":""},{"$f":"AR138*Weightings!$M$5+AU138","v":3722573},{"$f":"AT138*Weightings!$M$5+AU138","v":4677869},{"$f":"IF(Weightings!G138>0,Weightings!G138,'Preliminary SO66'!AB135)","v":6110334},886512,286075,43180,4894567,4677869,null,{"$f":"Weightings!E138","v":0},{"$f":"Weightings!F138","v":0},0,4677869,{"$f":"MAX(ROUND(((AR138-AN138-AO138)*Weightings!$M$12)+'2016legmax.xls'!AP138,0),ROUND((('2016legmax.xls'!AR138-'2016legmax.xls'!AN138-'2016legmax.xls'!AO138)*Weightings!$M$12)+Weightings!B138,0))","v":5294508},0.3,1588352,1565231,1565231,0.29559999999999997,0,false,0,0,0,true,301.70249999999999,0.40135599999999999,218.3,0,97,3.32,{"$f":"IF(ROUND((Weightings!$P$5*CC138^Weightings!$P$6*Weightings!$P$8 ),2)<Weightings!$P$7,Weightings!$P$7,ROUND((Weightings!$P$5*CC138^Weightings!$P$6*Weightings!$P$8 ),2))","v":825.14},{"$f":"ROUND(CD138/Weightings!$M$5,4)","v":0.2142},69,0,0,0,0,{"$f":"AS138*Weightings!$M$5*CJ138","v":0},0,0.45100000000000001,5.6,0,0,17.3,{"$f":"IF(ISNA(VLOOKUP($DC138,'Audit Values'!$A$2:$AE$252,2,FALSE)),'Preliminary SO66'!T135,VLOOKUP($DC138,'Audit Values'!$A$2:$AE$252,20,FALSE))","v":0},{"$f":"IF(ISNA(VLOOKUP($DC138,'Audit Values'!$A$2:$AE$252,21,FALSE)),'Preliminary SO66'!U135,VLOOKUP($DC138,'Audit Values'!$A$2:$AE$252,21,FALSE))","v":0},0,0,null,null,null,null,null,null,null,"D0341"]
[342,"Jefferson","McLouth ",493.7,0,493.7,484.1,0,484.1,451,{"$f":"IF(ISNA(VLOOKUP($DC139,'Audit Values'!$A$2:$AE$252,2,FALSE)),'Preliminary SO66'!B136,VLOOKUP($DC139,'Audit Values'!$A$2:$AE$252,31,FALSE))","v":451},484.1,{"$f":"IF(ISNA(VLOOKUP($DC139,'Audit Values'!$A$2:$AE$252,2,FALSE)),'Preliminary SO66'!Z136,VLOOKUP($DC139,'Audit Values'!$A$2:$AE$252,26,FALSE))","v":0},484.1,{"$f":"IF(ISNA(VLOOKUP($DC139,'Audit Values'!$A$2:$AE$252,2,FALSE)),'Preliminary SO66'!C136,IF(VLOOKUP($DC139,'Audit Values'!$A$2:$AE$252,28,FALSE)=\"\",VLOOKUP($DC139,'Audit Values'!$A$2:$AE$252,3,FALSE),VLOOKUP($DC139,'Audit Values'!$A$2:$AE$252,28,FALSE)))","v":4},455,455,455,488.1,0,205.1,205.1,0,{"$f":"IF(ISNA(VLOOKUP($DC139,'Audit Values'!$A$2:$AE$252,2,FALSE)),'Preliminary SO66'!D136,VLOOKUP($DC139,'Audit Values'!$A$2:$AE$252,4,FALSE))","v":94.3},{"$f":"ROUND((X139/6)*Weightings!$M$6,1)","v":7.9},{"$f":"IF(ISNA(VLOOKUP($DC139,'Audit Values'!$A$2:$AE$252,2,FALSE)),'Preliminary SO66'!F136,VLOOKUP($DC139,'Audit Values'!$A$2:$AE$252,6,FALSE))","v":0},{"$f":"ROUND((Z139/6)*Weightings!$M$7,1)","v":0},{"$f":"IF(ISNA(VLOOKUP($DC139,'Audit Values'!$A$2:$AE$252,2,FALSE)),'Preliminary SO66'!H136,VLOOKUP($DC139,'Audit Values'!$A$2:$AE$252,9,FALSE))","v":169},{"$f":"ROUND(AB139*Weightings!$M$8,1)","v":77.099999999999994},0,0,{"$f":"AE139*Weightings!$M$9","v":0},{"$f":"IF(ISNA(VLOOKUP($DC139,'Audit Values'!$A$2:$AE$252,2,FALSE)),'Preliminary SO66'!L136,VLOOKUP($DC139,'Audit Values'!$A$2:$AE$252,12,FALSE))","v":0},{"$f":"ROUND(AG139*Weightings!$M$10,1)","v":0},{"$f":"IF(ISNA(VLOOKUP($DC139,'Audit Values'!$A$2:$AE$252,2,FALSE)),'Preliminary SO66'!O136,VLOOKUP($DC139,'Audit Values'!$A$2:$AE$252,15,FALSE))","v":232},52.6,{"$f":"CG139/Weightings!$M$5","v":0},{"$f":"CH139/Weightings!$M$5","v":0},{"$f":"CL139/Weightings!$M$5","v":0},0,{"$f":"IF(ISNA(VLOOKUP($DC139,'Audit Values'!$A$2:$AE$252,2,FALSE)),'Preliminary SO66'!X136,VLOOKUP($DC139,'Audit Values'!$A$2:$AE$252,24,FALSE))","v":0},689520,{"$f":"AP139/Weightings!$M$5","v":179},830.8,1009.8,1009.8,0,{"$f":"IF(ISNA(VLOOKUP($DC139,'Audit Values'!$A$2:$AC$299,2,FALSE)),\"\",IF(AND(Weightings!H139>0,VLOOKUP($DC139,'Audit Values'!$A$2:$AC$299,29,FALSE)<Weightings!H139),Weightings!H139,VLOOKUP($DC139,'Audit Values'!$A$2:$AC$299,29,FALSE)))","v":1},{"$f":"IF(ISNA(VLOOKUP($DC139,'Audit Values'!$A$2:$AD$299,2,FALSE)),\"\",VLOOKUP($DC139,'Audit Values'!$A$2:$AD$299,30,FALSE))","v":"A"},{"$f":"IF(Weightings!G139=\"\",\"\",IF(Weightings!I139=\"Pending\",\"PX\",\"R\"))","v":""},{"$f":"AR139*Weightings!$M$5+AU139","v":3200242},{"$f":"AT139*Weightings!$M$5+AU139","v":3889750},{"$f":"IF(Weightings!G139>0,Weightings!G139,'Preliminary SO66'!AB136)","v":4940931},604218,227379,24919,4084415,3889750,null,{"$f":"Weightings!E139","v":0},{"$f":"Weightings!F139","v":0},0,3889750,{"$f":"MAX(ROUND(((AR139-AN139-AO139)*Weightings!$M$12)+'2016legmax.xls'!AP139,0),ROUND((('2016legmax.xls'!AR139-'2016legmax.xls'!AN139-'2016legmax.xls'!AO139)*Weightings!$M$12)+Weightings!B139,0))","v":4419812},0.3,1325944,1340050,1325944,0.3,0,false,0,0,0,true,232.77379999999999,0.42027999999999999,205.1,0,90,2.58,{"$f":"IF(ROUND((Weightings!$P$5*CC139^Weightings!$P$6*Weightings!$P$8 ),2)<Weightings!$P$7,Weightings!$P$7,ROUND((Weightings!$P$5*CC139^Weightings!$P$6*Weightings!$P$8 ),2))","v":873.58},{"$f":"ROUND(CD139/Weightings!$M$5,4)","v":0.2268},52.6,0,0,0,0,{"$f":"AS139*Weightings!$M$5*CJ139","v":0},0,0.34599999999999997,5.4,0,0,0,{"$f":"IF(ISNA(VLOOKUP($DC139,'Audit Values'!$A$2:$AE$252,2,FALSE)),'Preliminary SO66'!T136,VLOOKUP($DC139,'Audit Values'!$A$2:$AE$252,20,FALSE))","v":0},{"$f":"IF(ISNA(VLOOKUP($DC139,'Audit Values'!$A$2:$AE$252,21,FALSE)),'Preliminary SO66'!U136,VLOOKUP($DC139,'Audit Values'!$A$2:$AE$252,21,FALSE))","v":0},0,0,null,null,null,null,null,null,null,"D0342"]
[343,"Jefferson","Perry Public Schools ",804,0,804,753.6,0,753.6,736,{"$f":"IF(ISNA(VLOOKUP($DC140,'Audit Values'!$A$2:$AE$252,2,FALSE)),'Preliminary SO66'!B137,VLOOKUP($DC140,'Audit Values'!$A$2:$AE$252,31,FALSE))","v":736},764.5,{"$f":"IF(ISNA(VLOOKUP($DC140,'Audit Values'!$A$2:$AE$252,2,FALSE)),'Preliminary SO66'!Z137,VLOOKUP($DC140,'Audit Values'!$A$2:$AE$252,26,FALSE))","v":0},764.5,{"$f":"IF(ISNA(VLOOKUP($DC140,'Audit Values'!$A$2:$AE$252,2,FALSE)),'Preliminary SO66'!C137,IF(VLOOKUP($DC140,'Audit Values'!$A$2:$AE$252,28,FALSE)=\"\",VLOOKUP($DC140,'Audit Values'!$A$2:$AE$252,3,FALSE),VLOOKUP($DC140,'Audit Values'!$A$2:$AE$252,28,FALSE)))","v":6.5},742.5,742.5,742.5,771,0,249.9,249.9,0,{"$f":"IF(ISNA(VLOOKUP($DC140,'Audit Values'!$A$2:$AE$252,2,FALSE)),'Preliminary SO66'!D137,VLOOKUP($DC140,'Audit Values'!$A$2:$AE$252,4,FALSE))","v":121},{"$f":"ROUND((X140/6)*Weightings!$M$6,1)","v":10.1},{"$f":"IF(ISNA(VLOOKUP($DC140,'Audit Values'!$A$2:$AE$252,2,FALSE)),'Preliminary SO66'!F137,VLOOKUP($DC140,'Audit Values'!$A$2:$AE$252,6,FALSE))","v":1.6},{"$f":"ROUND((Z140/6)*Weightings!$M$7,1)","v":0.1},{"$f":"IF(ISNA(VLOOKUP($DC140,'Audit Values'!$A$2:$AE$252,2,FALSE)),'Preliminary SO66'!H137,VLOOKUP($DC140,'Audit Values'!$A$2:$AE$252,9,FALSE))","v":222},{"$f":"ROUND(AB140*Weightings!$M$8,1)","v":101.2},0,0,{"$f":"AE140*Weightings!$M$9","v":0},{"$f":"IF(ISNA(VLOOKUP($DC140,'Audit Values'!$A$2:$AE$252,2,FALSE)),'Preliminary SO66'!L137,VLOOKUP($DC140,'Audit Values'!$A$2:$AE$252,12,FALSE))","v":0},{"$f":"ROUND(AG140*Weightings!$M$10,1)","v":0},{"$f":"IF(ISNA(VLOOKUP($DC140,'Audit Values'!$A$2:$AE$252,2,FALSE)),'Preliminary SO66'!O137,VLOOKUP($DC140,'Audit Values'!$A$2:$AE$252,15,FALSE))","v":503},107.9,{"$f":"CG140/Weightings!$M$5","v":0},{"$f":"CH140/Weightings!$M$5","v":0},{"$f":"CL140/Weightings!$M$5","v":0},0,{"$f":"IF(ISNA(VLOOKUP($DC140,'Audit Values'!$A$2:$AE$252,2,FALSE)),'Preliminary SO66'!X137,VLOOKUP($DC140,'Audit Values'!$A$2:$AE$252,24,FALSE))","v":0},1023023,{"$f":"AP140/Weightings!$M$5","v":265.60000000000002},1240.2,1505.8,1505.8,0,{"$f":"IF(ISNA(VLOOKUP($DC140,'Audit Values'!$A$2:$AC$299,2,FALSE)),\"\",IF(AND(Weightings!H140>0,VLOOKUP($DC140,'Audit Values'!$A$2:$AC$299,29,FALSE)<Weightings!H140),Weightings!H140,VLOOKUP($DC140,'Audit Values'!$A$2:$AC$299,29,FALSE)))","v":9},{"$f":"IF(ISNA(VLOOKUP($DC140,'Audit Values'!$A$2:$AD$299,2,FALSE)),\"\",VLOOKUP($DC140,'Audit Values'!$A$2:$AD$299,30,FALSE))","v":"A"},{"$f":"IF(Weightings!G140=\"\",\"\",IF(Weightings!I140=\"Pending\",\"PX\",\"R\"))","v":""},{"$f":"AR140*Weightings!$M$5+AU140","v":4777250},{"$f":"AT140*Weightings!$M$5+AU140","v":5800342},{"$f":"IF(Weightings!G140>0,Weightings!G140,'Preliminary SO66'!AB137)","v":7275402},627612,379778,17097,6250915,5800342,null,{"$f":"Weightings!E140","v":0},{"$f":"Weightings!F140","v":0},0,5800342,{"$f":"MAX(ROUND(((AR140-AN140-AO140)*Weightings!$M$12)+'2016legmax.xls'!AP140,0),ROUND((('2016legmax.xls'!AR140-'2016legmax.xls'!AN140-'2016legmax.xls'!AO140)*Weightings!$M$12)+Weightings!B140,0))","v":6591521},0.3,1977456,2024282,1977456,0.3,0,false,0,0,0,true,582.86249999999995,0.32416499999999998,249.9,0,153.1,3.29,{"$f":"IF(ROUND((Weightings!$P$5*CC140^Weightings!$P$6*Weightings!$P$8 ),2)<Weightings!$P$7,Weightings!$P$7,ROUND((Weightings!$P$5*CC140^Weightings!$P$6*Weightings!$P$8 ),2))","v":826.84},{"$f":"ROUND(CD140/Weightings!$M$5,4)","v":0.2147},108,0,0,0,0,{"$f":"AS140*Weightings!$M$5*CJ140","v":0},0,0.28799999999999998,5,0,0,0,{"$f":"IF(ISNA(VLOOKUP($DC140,'Audit Values'!$A$2:$AE$252,2,FALSE)),'Preliminary SO66'!T137,VLOOKUP($DC140,'Audit Values'!$A$2:$AE$252,20,FALSE))","v":0},{"$f":"IF(ISNA(VLOOKUP($DC140,'Audit Values'!$A$2:$AE$252,21,FALSE)),'Preliminary SO66'!U137,VLOOKUP($DC140,'Audit Values'!$A$2:$AE$252,21,FALSE))","v":0},0,0,null,null,null,null,null,null,null,"D0343"]
[344,"Linn","Pleasanton ",365.2,0,365.2,353,0,353,327.5,{"$f":"IF(ISNA(VLOOKUP($DC141,'Audit Values'!$A$2:$AE$252,2,FALSE)),'Preliminary SO66'!B138,VLOOKUP($DC141,'Audit Values'!$A$2:$AE$252,31,FALSE))","v":327.5},353,{"$f":"IF(ISNA(VLOOKUP($DC141,'Audit Values'!$A$2:$AE$252,2,FALSE)),'Preliminary SO66'!Z138,VLOOKUP($DC141,'Audit Values'!$A$2:$AE$252,26,FALSE))","v":0},353,{"$f":"IF(ISNA(VLOOKUP($DC141,'Audit Values'!$A$2:$AE$252,2,FALSE)),'Preliminary SO66'!C138,IF(VLOOKUP($DC141,'Audit Values'!$A$2:$AE$252,28,FALSE)=\"\",VLOOKUP($DC141,'Audit Values'!$A$2:$AE$252,3,FALSE),VLOOKUP($DC141,'Audit Values'!$A$2:$AE$252,28,FALSE)))","v":5.5},333,333,333,358.5,0,166.5,166.5,0,{"$f":"IF(ISNA(VLOOKUP($DC141,'Audit Values'!$A$2:$AE$252,2,FALSE)),'Preliminary SO66'!D138,VLOOKUP($DC141,'Audit Values'!$A$2:$AE$252,4,FALSE))","v":66.599999999999994},{"$f":"ROUND((X141/6)*Weightings!$M$6,1)","v":5.6},{"$f":"IF(ISNA(VLOOKUP($DC141,'Audit Values'!$A$2:$AE$252,2,FALSE)),'Preliminary SO66'!F138,VLOOKUP($DC141,'Audit Values'!$A$2:$AE$252,6,FALSE))","v":0},{"$f":"ROUND((Z141/6)*Weightings!$M$7,1)","v":0},{"$f":"IF(ISNA(VLOOKUP($DC141,'Audit Values'!$A$2:$AE$252,2,FALSE)),'Preliminary SO66'!H138,VLOOKUP($DC141,'Audit Values'!$A$2:$AE$252,9,FALSE))","v":172},{"$f":"ROUND(AB141*Weightings!$M$8,1)","v":78.400000000000006},15.7,0,{"$f":"AE141*Weightings!$M$9","v":0},{"$f":"IF(ISNA(VLOOKUP($DC141,'Audit Values'!$A$2:$AE$252,2,FALSE)),'Preliminary SO66'!L138,VLOOKUP($DC141,'Audit Values'!$A$2:$AE$252,12,FALSE))","v":0},{"$f":"ROUND(AG141*Weightings!$M$10,1)","v":0},{"$f":"IF(ISNA(VLOOKUP($DC141,'Audit Values'!$A$2:$AE$252,2,FALSE)),'Preliminary SO66'!O138,VLOOKUP($DC141,'Audit Values'!$A$2:$AE$252,15,FALSE))","v":60},18.600000000000001,{"$f":"CG141/Weightings!$M$5","v":0},{"$f":"CH141/Weightings!$M$5","v":0},{"$f":"CL141/Weightings!$M$5","v":0},0,{"$f":"IF(ISNA(VLOOKUP($DC141,'Audit Values'!$A$2:$AE$252,2,FALSE)),'Preliminary SO66'!X138,VLOOKUP($DC141,'Audit Values'!$A$2:$AE$252,24,FALSE))","v":0},285187,{"$f":"AP141/Weightings!$M$5","v":74},643.29999999999995,717.3,717.3,0,{"$f":"IF(ISNA(VLOOKUP($DC141,'Audit Values'!$A$2:$AC$299,2,FALSE)),\"\",IF(AND(Weightings!H141>0,VLOOKUP($DC141,'Audit Values'!$A$2:$AC$299,29,FALSE)<Weightings!H141),Weightings!H141,VLOOKUP($DC141,'Audit Values'!$A$2:$AC$299,29,FALSE)))","v":2},{"$f":"IF(ISNA(VLOOKUP($DC141,'Audit Values'!$A$2:$AD$299,2,FALSE)),\"\",VLOOKUP($DC141,'Audit Values'!$A$2:$AD$299,30,FALSE))","v":"A"},{"$f":"IF(Weightings!G141=\"\",\"\",IF(Weightings!I141=\"Pending\",\"PX\",\"R\"))","v":""},{"$f":"AR141*Weightings!$M$5+AU141","v":2477992},{"$f":"AT141*Weightings!$M$5+AU141","v":2763040},{"$f":"IF(Weightings!G141>0,Weightings!G141,'Preliminary SO66'!AB138)","v":3983313},670853,207681,21711,3083068,2763040,null,{"$f":"Weightings!E141","v":0},{"$f":"Weightings!F141","v":-8962},-8962,2754078,{"$f":"MAX(ROUND(((AR141-AN141-AO141)*Weightings!$M$12)+'2016legmax.xls'!AP141,0),ROUND((('2016legmax.xls'!AR141-'2016legmax.xls'!AN141-'2016legmax.xls'!AO141)*Weightings!$M$12)+Weightings!B141,0))","v":3173604},0.3,952081,987719,952081,0.3,0,false,0,0,0,true,72.393799999999999,0.46431099999999997,166.5,0,92.5,0.65,{"$f":"IF(ROUND((Weightings!$P$5*CC141^Weightings!$P$6*Weightings!$P$8 ),2)<Weightings!$P$7,Weightings!$P$7,ROUND((Weightings!$P$5*CC141^Weightings!$P$6*Weightings!$P$8 ),2))","v":1193.26},{"$f":"ROUND(CD141/Weightings!$M$5,4)","v":0.30980000000000002},18.600000000000001,0,0,0,0,{"$f":"AS141*Weightings!$M$5*CJ141","v":0},0,0.48,3.9,0,0,15.7,{"$f":"IF(ISNA(VLOOKUP($DC141,'Audit Values'!$A$2:$AE$252,2,FALSE)),'Preliminary SO66'!T138,VLOOKUP($DC141,'Audit Values'!$A$2:$AE$252,20,FALSE))","v":0},{"$f":"IF(ISNA(VLOOKUP($DC141,'Audit Values'!$A$2:$AE$252,21,FALSE)),'Preliminary SO66'!U138,VLOOKUP($DC141,'Audit Values'!$A$2:$AE$252,21,FALSE))","v":0},0,0,null,null,null,null,null,null,null,"D0344"]
[345,"Shawnee","Seaman ",3686.5,0,3686.5,3728.2,0,3728.2,3639.5,{"$f":"IF(ISNA(VLOOKUP($DC142,'Audit Values'!$A$2:$AE$252,2,FALSE)),'Preliminary SO66'!B139,VLOOKUP($DC142,'Audit Values'!$A$2:$AE$252,31,FALSE))","v":3619},3728.2,{"$f":"IF(ISNA(VLOOKUP($DC142,'Audit Values'!$A$2:$AE$252,2,FALSE)),'Preliminary SO66'!Z139,VLOOKUP($DC142,'Audit Values'!$A$2:$AE$252,26,FALSE))","v":0},3728.2,{"$f":"IF(ISNA(VLOOKUP($DC142,'Audit Values'!$A$2:$AE$252,2,FALSE)),'Preliminary SO66'!C139,IF(VLOOKUP($DC142,'Audit Values'!$A$2:$AE$252,28,FALSE)=\"\",VLOOKUP($DC142,'Audit Values'!$A$2:$AE$252,3,FALSE),VLOOKUP($DC142,'Audit Values'!$A$2:$AE$252,28,FALSE)))","v":15},3634,3654.5,3654.5,3743.2,20.5,131.19999999999999,0,131.19999999999999,{"$f":"IF(ISNA(VLOOKUP($DC142,'Audit Values'!$A$2:$AE$252,2,FALSE)),'Preliminary SO66'!D139,VLOOKUP($DC142,'Audit Values'!$A$2:$AE$252,4,FALSE))","v":773.3},{"$f":"ROUND((X142/6)*Weightings!$M$6,1)","v":64.400000000000006},{"$f":"IF(ISNA(VLOOKUP($DC142,'Audit Values'!$A$2:$AE$252,2,FALSE)),'Preliminary SO66'!F139,VLOOKUP($DC142,'Audit Values'!$A$2:$AE$252,6,FALSE))","v":56},{"$f":"ROUND((Z142/6)*Weightings!$M$7,1)","v":3.7},{"$f":"IF(ISNA(VLOOKUP($DC142,'Audit Values'!$A$2:$AE$252,2,FALSE)),'Preliminary SO66'!H139,VLOOKUP($DC142,'Audit Values'!$A$2:$AE$252,9,FALSE))","v":1120},{"$f":"ROUND(AB142*Weightings!$M$8,1)","v":510.7},0,0,{"$f":"AE142*Weightings!$M$9","v":0},{"$f":"IF(ISNA(VLOOKUP($DC142,'Audit Values'!$A$2:$AE$252,2,FALSE)),'Preliminary SO66'!L139,VLOOKUP($DC142,'Audit Values'!$A$2:$AE$252,12,FALSE))","v":540},{"$f":"ROUND(AG142*Weightings!$M$10,1)","v":135},{"$f":"IF(ISNA(VLOOKUP($DC142,'Audit Values'!$A$2:$AE$252,2,FALSE)),'Preliminary SO66'!O139,VLOOKUP($DC142,'Audit Values'!$A$2:$AE$252,15,FALSE))","v":1710},250.3,{"$f":"CG142/Weightings!$M$5","v":0},{"$f":"CH142/Weightings!$M$5","v":0},{"$f":"CL142/Weightings!$M$5","v":0},21.5,{"$f":"IF(ISNA(VLOOKUP($DC142,'Audit Values'!$A$2:$AE$252,2,FALSE)),'Preliminary SO66'!X139,VLOOKUP($DC142,'Audit Values'!$A$2:$AE$252,24,FALSE))","v":0},3797324,{"$f":"AP142/Weightings!$M$5","v":985.8},4860,5845.8,5845.8,0,{"$f":"IF(ISNA(VLOOKUP($DC142,'Audit Values'!$A$2:$AC$299,2,FALSE)),\"\",IF(AND(Weightings!H142>0,VLOOKUP($DC142,'Audit Values'!$A$2:$AC$299,29,FALSE)<Weightings!H142),Weightings!H142,VLOOKUP($DC142,'Audit Values'!$A$2:$AC$299,29,FALSE)))","v":4},{"$f":"IF(ISNA(VLOOKUP($DC142,'Audit Values'!$A$2:$AD$299,2,FALSE)),\"\",VLOOKUP($DC142,'Audit Values'!$A$2:$AD$299,30,FALSE))","v":"A"},{"$f":"IF(Weightings!G142=\"\",\"\",IF(Weightings!I142=\"Pending\",\"PX\",\"R\"))","v":""},{"$f":"AR142*Weightings!$M$5+AU142","v":18720720},{"$f":"AT142*Weightings!$M$5+AU142","v":22518022},{"$f":"IF(Weightings!G142>0,Weightings!G142,'Preliminary SO66'!AB139)","v":29207434},3301150,2042214,286818,23577252,22518022,null,{"$f":"Weightings!E142","v":0},{"$f":"Weightings!F142","v":0},0,22518022,{"$f":"MAX(ROUND(((AR142-AN142-AO142)*Weightings!$M$12)+'2016legmax.xls'!AP142,0),ROUND((('2016legmax.xls'!AR142-'2016legmax.xls'!AN142-'2016legmax.xls'!AO142)*Weightings!$M$12)+Weightings!B142,0))","v":25522189},0.3,7656657,7475889,7475889,0.29289999999999999,0,false,0,0,0,false,0,0,0,131.19999999999999,84,20.36,{"$f":"IF(ROUND((Weightings!$P$5*CC142^Weightings!$P$6*Weightings!$P$8 ),2)<Weightings!$P$7,Weightings!$P$7,ROUND((Weightings!$P$5*CC142^Weightings!$P$6*Weightings!$P$8 ),2))","v":564},{"$f":"ROUND(CD142/Weightings!$M$5,4)","v":0.1464},250.3,0,0,0,0,{"$f":"AS142*Weightings!$M$5*CJ142","v":0},0,0.29899999999999999,44.6,0,0,0,{"$f":"IF(ISNA(VLOOKUP($DC142,'Audit Values'!$A$2:$AE$252,2,FALSE)),'Preliminary SO66'!T139,VLOOKUP($DC142,'Audit Values'!$A$2:$AE$252,20,FALSE))","v":0},{"$f":"IF(ISNA(VLOOKUP($DC142,'Audit Values'!$A$2:$AE$252,21,FALSE)),'Preliminary SO66'!U139,VLOOKUP($DC142,'Audit Values'!$A$2:$AE$252,21,FALSE))","v":1.5},19,20.5,null,null,null,null,null,null,null,"D0345"]
[346,"Linn","Jayhawk ",504.4,0,504.4,503.5,0,503.5,533.4,{"$f":"IF(ISNA(VLOOKUP($DC143,'Audit Values'!$A$2:$AE$252,2,FALSE)),'Preliminary SO66'!B140,VLOOKUP($DC143,'Audit Values'!$A$2:$AE$252,31,FALSE))","v":530.5},530.5,{"$f":"IF(ISNA(VLOOKUP($DC143,'Audit Values'!$A$2:$AE$252,2,FALSE)),'Preliminary SO66'!Z140,VLOOKUP($DC143,'Audit Values'!$A$2:$AE$252,26,FALSE))","v":0},530.5,{"$f":"IF(ISNA(VLOOKUP($DC143,'Audit Values'!$A$2:$AE$252,2,FALSE)),'Preliminary SO66'!C140,IF(VLOOKUP($DC143,'Audit Values'!$A$2:$AE$252,28,FALSE)=\"\",VLOOKUP($DC143,'Audit Values'!$A$2:$AE$252,3,FALSE),VLOOKUP($DC143,'Audit Values'!$A$2:$AE$252,28,FALSE)))","v":8.5},539,541.9,541.9,539,2.9,217.2,217.2,0,{"$f":"IF(ISNA(VLOOKUP($DC143,'Audit Values'!$A$2:$AE$252,2,FALSE)),'Preliminary SO66'!D140,VLOOKUP($DC143,'Audit Values'!$A$2:$AE$252,4,FALSE))","v":179.1},{"$f":"ROUND((X143/6)*Weightings!$M$6,1)","v":14.9},{"$f":"IF(ISNA(VLOOKUP($DC143,'Audit Values'!$A$2:$AE$252,2,FALSE)),'Preliminary SO66'!F140,VLOOKUP($DC143,'Audit Values'!$A$2:$AE$252,6,FALSE))","v":1},{"$f":"ROUND((Z143/6)*Weightings!$M$7,1)","v":0.1},{"$f":"IF(ISNA(VLOOKUP($DC143,'Audit Values'!$A$2:$AE$252,2,FALSE)),'Preliminary SO66'!H140,VLOOKUP($DC143,'Audit Values'!$A$2:$AE$252,9,FALSE))","v":280},{"$f":"ROUND(AB143*Weightings!$M$8,1)","v":127.7},29.4,0,{"$f":"AE143*Weightings!$M$9","v":0},{"$f":"IF(ISNA(VLOOKUP($DC143,'Audit Values'!$A$2:$AE$252,2,FALSE)),'Preliminary SO66'!L140,VLOOKUP($DC143,'Audit Values'!$A$2:$AE$252,12,FALSE))","v":281.60000000000002},{"$f":"ROUND(AG143*Weightings!$M$10,1)","v":70.400000000000006},{"$f":"IF(ISNA(VLOOKUP($DC143,'Audit Values'!$A$2:$AE$252,2,FALSE)),'Preliminary SO66'!O140,VLOOKUP($DC143,'Audit Values'!$A$2:$AE$252,15,FALSE))","v":335},92,{"$f":"CG143/Weightings!$M$5","v":0},{"$f":"CH143/Weightings!$M$5","v":0},{"$f":"CL143/Weightings!$M$5","v":0},3,{"$f":"IF(ISNA(VLOOKUP($DC143,'Audit Values'!$A$2:$AE$252,2,FALSE)),'Preliminary SO66'!X140,VLOOKUP($DC143,'Audit Values'!$A$2:$AE$252,24,FALSE))","v":0},467876,{"$f":"AP143/Weightings!$M$5","v":121.5},1093.7,1215.2,1215.2,0,{"$f":"IF(ISNA(VLOOKUP($DC143,'Audit Values'!$A$2:$AC$299,2,FALSE)),\"\",IF(AND(Weightings!H143>0,VLOOKUP($DC143,'Audit Values'!$A$2:$AC$299,29,FALSE)<Weightings!H143),Weightings!H143,VLOOKUP($DC143,'Audit Values'!$A$2:$AC$299,29,FALSE)))","v":5},{"$f":"IF(ISNA(VLOOKUP($DC143,'Audit Values'!$A$2:$AD$299,2,FALSE)),\"\",VLOOKUP($DC143,'Audit Values'!$A$2:$AD$299,30,FALSE))","v":"A"},{"$f":"IF(Weightings!G143=\"\",\"\",IF(Weightings!I143=\"Pending\",\"PX\",\"R\"))","v":""},{"$f":"AR143*Weightings!$M$5+AU143","v":4212932},{"$f":"AT143*Weightings!$M$5+AU143","v":4680950},{"$f":"IF(Weightings!G143>0,Weightings!G143,'Preliminary SO66'!AB140)","v":5570089},654947,268895,27030,4619217,4680950,null,{"$f":"Weightings!E143","v":0},{"$f":"Weightings!F143","v":0},0,4680950,{"$f":"MAX(ROUND(((AR143-AN143-AO143)*Weightings!$M$12)+'2016legmax.xls'!AP143,0),ROUND((('2016legmax.xls'!AR143-'2016legmax.xls'!AN143-'2016legmax.xls'!AO143)*Weightings!$M$12)+Weightings!B143,0))","v":5384272},0.3,1615282,1534596,1534596,0.28499999999999998,0,false,0,0,0,true,295.76249999999999,0.40298600000000001,217.2,0,302,1.1100000000000001,{"$f":"IF(ROUND((Weightings!$P$5*CC143^Weightings!$P$6*Weightings!$P$8 ),2)<Weightings!$P$7,Weightings!$P$7,ROUND((Weightings!$P$5*CC143^Weightings!$P$6*Weightings!$P$8 ),2))","v":1057.21},{"$f":"ROUND(CD143/Weightings!$M$5,4)","v":0.27450000000000002},92,0,0,0,0,{"$f":"AS143*Weightings!$M$5*CJ143","v":0},0,0.51900000000000002,1.8,29.4,0,0,{"$f":"IF(ISNA(VLOOKUP($DC143,'Audit Values'!$A$2:$AE$252,2,FALSE)),'Preliminary SO66'!T140,VLOOKUP($DC143,'Audit Values'!$A$2:$AE$252,20,FALSE))","v":2},{"$f":"IF(ISNA(VLOOKUP($DC143,'Audit Values'!$A$2:$AE$252,21,FALSE)),'Preliminary SO66'!U140,VLOOKUP($DC143,'Audit Values'!$A$2:$AE$252,21,FALSE))","v":0.9},0,2.9,null,null,null,null,null,null,null,"D0346"]
[347,"Edwards","Kinsley-Offerle ",351.5,0,351.5,329,0,329,319,{"$f":"IF(ISNA(VLOOKUP($DC144,'Audit Values'!$A$2:$AE$252,2,FALSE)),'Preliminary SO66'!B141,VLOOKUP($DC144,'Audit Values'!$A$2:$AE$252,31,FALSE))","v":319},333.2,{"$f":"IF(ISNA(VLOOKUP($DC144,'Audit Values'!$A$2:$AE$252,2,FALSE)),'Preliminary SO66'!Z141,VLOOKUP($DC144,'Audit Values'!$A$2:$AE$252,26,FALSE))","v":0},333.2,{"$f":"IF(ISNA(VLOOKUP($DC144,'Audit Values'!$A$2:$AE$252,2,FALSE)),'Preliminary SO66'!C141,IF(VLOOKUP($DC144,'Audit Values'!$A$2:$AE$252,28,FALSE)=\"\",VLOOKUP($DC144,'Audit Values'!$A$2:$AE$252,3,FALSE),VLOOKUP($DC144,'Audit Values'!$A$2:$AE$252,28,FALSE)))","v":5.5},324.5,324.5,324.5,338.7,0,159.5,159.5,0,{"$f":"IF(ISNA(VLOOKUP($DC144,'Audit Values'!$A$2:$AE$252,2,FALSE)),'Preliminary SO66'!D141,VLOOKUP($DC144,'Audit Values'!$A$2:$AE$252,4,FALSE))","v":159.4},{"$f":"ROUND((X144/6)*Weightings!$M$6,1)","v":13.3},{"$f":"IF(ISNA(VLOOKUP($DC144,'Audit Values'!$A$2:$AE$252,2,FALSE)),'Preliminary SO66'!F141,VLOOKUP($DC144,'Audit Values'!$A$2:$AE$252,6,FALSE))","v":306.60000000000002},{"$f":"ROUND((Z144/6)*Weightings!$M$7,1)","v":20.2},{"$f":"IF(ISNA(VLOOKUP($DC144,'Audit Values'!$A$2:$AE$252,2,FALSE)),'Preliminary SO66'!H141,VLOOKUP($DC144,'Audit Values'!$A$2:$AE$252,9,FALSE))","v":145},{"$f":"ROUND(AB144*Weightings!$M$8,1)","v":66.099999999999994},7.9,0,{"$f":"AE144*Weightings!$M$9","v":0},{"$f":"IF(ISNA(VLOOKUP($DC144,'Audit Values'!$A$2:$AE$252,2,FALSE)),'Preliminary SO66'!L141,VLOOKUP($DC144,'Audit Values'!$A$2:$AE$252,12,FALSE))","v":84.6},{"$f":"ROUND(AG144*Weightings!$M$10,1)","v":21.2},{"$f":"IF(ISNA(VLOOKUP($DC144,'Audit Values'!$A$2:$AE$252,2,FALSE)),'Preliminary SO66'!O141,VLOOKUP($DC144,'Audit Values'!$A$2:$AE$252,15,FALSE))","v":163.5},54.2,{"$f":"CG144/Weightings!$M$5","v":0},{"$f":"CH144/Weightings!$M$5","v":0},{"$f":"CL144/Weightings!$M$5","v":0},0,{"$f":"IF(ISNA(VLOOKUP($DC144,'Audit Values'!$A$2:$AE$252,2,FALSE)),'Preliminary SO66'!X141,VLOOKUP($DC144,'Audit Values'!$A$2:$AE$252,24,FALSE))","v":0},366226,{"$f":"AP144/Weightings!$M$5","v":95.1},681.1,776.2,776.2,0,{"$f":"IF(ISNA(VLOOKUP($DC144,'Audit Values'!$A$2:$AC$299,2,FALSE)),\"\",IF(AND(Weightings!H144>0,VLOOKUP($DC144,'Audit Values'!$A$2:$AC$299,29,FALSE)<Weightings!H144),Weightings!H144,VLOOKUP($DC144,'Audit Values'!$A$2:$AC$299,29,FALSE)))","v":10},{"$f":"IF(ISNA(VLOOKUP($DC144,'Audit Values'!$A$2:$AD$299,2,FALSE)),\"\",VLOOKUP($DC144,'Audit Values'!$A$2:$AD$299,30,FALSE))","v":"A"},{"$f":"IF(Weightings!G144=\"\",\"\",IF(Weightings!I144=\"Pending\",\"PX\",\"R\"))","v":""},{"$f":"AR144*Weightings!$M$5+AU144","v":2623597},{"$f":"AT144*Weightings!$M$5+AU144","v":2989922},{"$f":"IF(Weightings!G144>0,Weightings!G144,'Preliminary SO66'!AB141)","v":3778560},294692,190296,0,3293572,2989922,null,{"$f":"Weightings!E144","v":0},{"$f":"Weightings!F144","v":0},0,2989922,{"$f":"MAX(ROUND(((AR144-AN144-AO144)*Weightings!$M$12)+'2016legmax.xls'!AP144,0),ROUND((('2016legmax.xls'!AR144-'2016legmax.xls'!AN144-'2016legmax.xls'!AO144)*Weightings!$M$12)+Weightings!B144,0))","v":3446918},0.3,1034075,1032998,1032998,0.29970000000000002,0,false,0,0,0,true,47.891300000000001,0.47103800000000001,159.5,0,340,0.48,{"$f":"IF(ROUND((Weightings!$P$5*CC144^Weightings!$P$6*Weightings!$P$8 ),2)<Weightings!$P$7,Weightings!$P$7,ROUND((Weightings!$P$5*CC144^Weightings!$P$6*Weightings!$P$8 ),2))","v":1277.97},{"$f":"ROUND(CD144/Weightings!$M$5,4)","v":0.33179999999999998},54.2,0,0,0,0,{"$f":"AS144*Weightings!$M$5*CJ144","v":0},0,0.42799999999999999,1,0,0,7.9,{"$f":"IF(ISNA(VLOOKUP($DC144,'Audit Values'!$A$2:$AE$252,2,FALSE)),'Preliminary SO66'!T141,VLOOKUP($DC144,'Audit Values'!$A$2:$AE$252,20,FALSE))","v":0},{"$f":"IF(ISNA(VLOOKUP($DC144,'Audit Values'!$A$2:$AE$252,21,FALSE)),'Preliminary SO66'!U141,VLOOKUP($DC144,'Audit Values'!$A$2:$AE$252,21,FALSE))","v":0},0,0,null,null,null,null,null,null,null,"D0347"]
[348,"Douglas","Baldwin City ",1326,0,1326,1316.7,0,1316.7,1298.2,{"$f":"IF(ISNA(VLOOKUP($DC145,'Audit Values'!$A$2:$AE$252,2,FALSE)),'Preliminary SO66'!B142,VLOOKUP($DC145,'Audit Values'!$A$2:$AE$252,31,FALSE))","v":1298.2},1316.7,{"$f":"IF(ISNA(VLOOKUP($DC145,'Audit Values'!$A$2:$AE$252,2,FALSE)),'Preliminary SO66'!Z142,VLOOKUP($DC145,'Audit Values'!$A$2:$AE$252,26,FALSE))","v":0},1316.7,{"$f":"IF(ISNA(VLOOKUP($DC145,'Audit Values'!$A$2:$AE$252,2,FALSE)),'Preliminary SO66'!C142,IF(VLOOKUP($DC145,'Audit Values'!$A$2:$AE$252,28,FALSE)=\"\",VLOOKUP($DC145,'Audit Values'!$A$2:$AE$252,3,FALSE),VLOOKUP($DC145,'Audit Values'!$A$2:$AE$252,28,FALSE)))","v":15},1313.2,1313.2,1313.2,1331.7,0,178,178,0,{"$f":"IF(ISNA(VLOOKUP($DC145,'Audit Values'!$A$2:$AE$252,2,FALSE)),'Preliminary SO66'!D142,VLOOKUP($DC145,'Audit Values'!$A$2:$AE$252,4,FALSE))","v":238.6},{"$f":"ROUND((X145/6)*Weightings!$M$6,1)","v":19.899999999999999},{"$f":"IF(ISNA(VLOOKUP($DC145,'Audit Values'!$A$2:$AE$252,2,FALSE)),'Preliminary SO66'!F142,VLOOKUP($DC145,'Audit Values'!$A$2:$AE$252,6,FALSE))","v":4},{"$f":"ROUND((Z145/6)*Weightings!$M$7,1)","v":0.3},{"$f":"IF(ISNA(VLOOKUP($DC145,'Audit Values'!$A$2:$AE$252,2,FALSE)),'Preliminary SO66'!H142,VLOOKUP($DC145,'Audit Values'!$A$2:$AE$252,9,FALSE))","v":357},{"$f":"ROUND(AB145*Weightings!$M$8,1)","v":162.80000000000001},0,0,{"$f":"AE145*Weightings!$M$9","v":0},{"$f":"IF(ISNA(VLOOKUP($DC145,'Audit Values'!$A$2:$AE$252,2,FALSE)),'Preliminary SO66'!L142,VLOOKUP($DC145,'Audit Values'!$A$2:$AE$252,12,FALSE))","v":0},{"$f":"ROUND(AG145*Weightings!$M$10,1)","v":0},{"$f":"IF(ISNA(VLOOKUP($DC145,'Audit Values'!$A$2:$AE$252,2,FALSE)),'Preliminary SO66'!O142,VLOOKUP($DC145,'Audit Values'!$A$2:$AE$252,15,FALSE))","v":490.5},103.6,{"$f":"CG145/Weightings!$M$5","v":0},{"$f":"CH145/Weightings!$M$5","v":0},{"$f":"CL145/Weightings!$M$5","v":0},0,{"$f":"IF(ISNA(VLOOKUP($DC145,'Audit Values'!$A$2:$AE$252,2,FALSE)),'Preliminary SO66'!X142,VLOOKUP($DC145,'Audit Values'!$A$2:$AE$252,24,FALSE))","v":0},1359646,{"$f":"AP145/Weightings!$M$5","v":353},1796.3,2149.3000000000002,2149.3000000000002,0,{"$f":"IF(ISNA(VLOOKUP($DC145,'Audit Values'!$A$2:$AC$299,2,FALSE)),\"\",IF(AND(Weightings!H145>0,VLOOKUP($DC145,'Audit Values'!$A$2:$AC$299,29,FALSE)<Weightings!H145),Weightings!H145,VLOOKUP($DC145,'Audit Values'!$A$2:$AC$299,29,FALSE)))","v":6},{"$f":"IF(ISNA(VLOOKUP($DC145,'Audit Values'!$A$2:$AD$299,2,FALSE)),\"\",VLOOKUP($DC145,'Audit Values'!$A$2:$AD$299,30,FALSE))","v":"A"},{"$f":"IF(Weightings!G145=\"\",\"\",IF(Weightings!I145=\"Pending\",\"PX\",\"R\"))","v":""},{"$f":"AR145*Weightings!$M$5+AU145","v":6919348},{"$f":"AT145*Weightings!$M$5+AU145","v":8279104},{"$f":"IF(Weightings!G145>0,Weightings!G145,'Preliminary SO66'!AB142)","v":10697302},1347814,558392,121985,8669111,8279104,null,{"$f":"Weightings!E145","v":0},{"$f":"Weightings!F145","v":0},0,8279104,{"$f":"MAX(ROUND(((AR145-AN145-AO145)*Weightings!$M$12)+'2016legmax.xls'!AP145,0),ROUND((('2016legmax.xls'!AR145-'2016legmax.xls'!AN145-'2016legmax.xls'!AO145)*Weightings!$M$12)+Weightings!B145,0))","v":9425033},0.3,2827510,2824943,2824943,0.29970000000000002,0,false,0,0,0,true,1276.7288000000001,0.13366800000000001,178,0,139,3.53,{"$f":"IF(ROUND((Weightings!$P$5*CC145^Weightings!$P$6*Weightings!$P$8 ),2)<Weightings!$P$7,Weightings!$P$7,ROUND((Weightings!$P$5*CC145^Weightings!$P$6*Weightings!$P$8 ),2))","v":813.77},{"$f":"ROUND(CD145/Weightings!$M$5,4)","v":0.21129999999999999},103.6,0,0,0,1.0800000000000001E-2,{"$f":"AS145*Weightings!$M$5*CJ145","v":89414},0,0.26800000000000002,9.6,0,0,0,{"$f":"IF(ISNA(VLOOKUP($DC145,'Audit Values'!$A$2:$AE$252,2,FALSE)),'Preliminary SO66'!T142,VLOOKUP($DC145,'Audit Values'!$A$2:$AE$252,20,FALSE))","v":0},{"$f":"IF(ISNA(VLOOKUP($DC145,'Audit Values'!$A$2:$AE$252,21,FALSE)),'Preliminary SO66'!U142,VLOOKUP($DC145,'Audit Values'!$A$2:$AE$252,21,FALSE))","v":0},0,0,null,null,null,null,null,null,null,"D0348"]
[349,"Stafford","Stafford ",269.5,0,269.5,262.89999999999998,0,262.89999999999998,243.4,{"$f":"IF(ISNA(VLOOKUP($DC146,'Audit Values'!$A$2:$AE$252,2,FALSE)),'Preliminary SO66'!B143,VLOOKUP($DC146,'Audit Values'!$A$2:$AE$252,31,FALSE))","v":243.4},262.89999999999998,{"$f":"IF(ISNA(VLOOKUP($DC146,'Audit Values'!$A$2:$AE$252,2,FALSE)),'Preliminary SO66'!Z143,VLOOKUP($DC146,'Audit Values'!$A$2:$AE$252,26,FALSE))","v":0},262.89999999999998,{"$f":"IF(ISNA(VLOOKUP($DC146,'Audit Values'!$A$2:$AE$252,2,FALSE)),'Preliminary SO66'!C143,IF(VLOOKUP($DC146,'Audit Values'!$A$2:$AE$252,28,FALSE)=\"\",VLOOKUP($DC146,'Audit Values'!$A$2:$AE$252,3,FALSE),VLOOKUP($DC146,'Audit Values'!$A$2:$AE$252,28,FALSE)))","v":0},243.4,243.4,243.4,262.89999999999998,0,153.1,153.1,0,{"$f":"IF(ISNA(VLOOKUP($DC146,'Audit Values'!$A$2:$AE$252,2,FALSE)),'Preliminary SO66'!D143,VLOOKUP($DC146,'Audit Values'!$A$2:$AE$252,4,FALSE))","v":153.30000000000001},{"$f":"ROUND((X146/6)*Weightings!$M$6,1)","v":12.8},{"$f":"IF(ISNA(VLOOKUP($DC146,'Audit Values'!$A$2:$AE$252,2,FALSE)),'Preliminary SO66'!F143,VLOOKUP($DC146,'Audit Values'!$A$2:$AE$252,6,FALSE))","v":46.6},{"$f":"ROUND((Z146/6)*Weightings!$M$7,1)","v":3.1},{"$f":"IF(ISNA(VLOOKUP($DC146,'Audit Values'!$A$2:$AE$252,2,FALSE)),'Preliminary SO66'!H143,VLOOKUP($DC146,'Audit Values'!$A$2:$AE$252,9,FALSE))","v":111},{"$f":"ROUND(AB146*Weightings!$M$8,1)","v":50.6},5.6,0,{"$f":"AE146*Weightings!$M$9","v":0},{"$f":"IF(ISNA(VLOOKUP($DC146,'Audit Values'!$A$2:$AE$252,2,FALSE)),'Preliminary SO66'!L143,VLOOKUP($DC146,'Audit Values'!$A$2:$AE$252,12,FALSE))","v":0},{"$f":"ROUND(AG146*Weightings!$M$10,1)","v":0},{"$f":"IF(ISNA(VLOOKUP($DC146,'Audit Values'!$A$2:$AE$252,2,FALSE)),'Preliminary SO66'!O143,VLOOKUP($DC146,'Audit Values'!$A$2:$AE$252,15,FALSE))","v":20.5},10.199999999999999,{"$f":"CG146/Weightings!$M$5","v":0},{"$f":"CH146/Weightings!$M$5","v":0},{"$f":"CL146/Weightings!$M$5","v":0},0,{"$f":"IF(ISNA(VLOOKUP($DC146,'Audit Values'!$A$2:$AE$252,2,FALSE)),'Preliminary SO66'!X143,VLOOKUP($DC146,'Audit Values'!$A$2:$AE$252,24,FALSE))","v":0},305855,{"$f":"AP146/Weightings!$M$5","v":79.400000000000006},498.3,577.70000000000005,577.70000000000005,72925,{"$f":"IF(ISNA(VLOOKUP($DC146,'Audit Values'!$A$2:$AC$299,2,FALSE)),\"\",IF(AND(Weightings!H146>0,VLOOKUP($DC146,'Audit Values'!$A$2:$AC$299,29,FALSE)<Weightings!H146),Weightings!H146,VLOOKUP($DC146,'Audit Values'!$A$2:$AC$299,29,FALSE)))","v":2},{"$f":"IF(ISNA(VLOOKUP($DC146,'Audit Values'!$A$2:$AD$299,2,FALSE)),\"\",VLOOKUP($DC146,'Audit Values'!$A$2:$AD$299,30,FALSE))","v":"A"},{"$f":"IF(Weightings!G146=\"\",\"\",IF(Weightings!I146=\"Pending\",\"PX\",\"R\"))","v":""},{"$f":"AR146*Weightings!$M$5+AU146","v":1992377},{"$f":"AT146*Weightings!$M$5+AU146","v":2298225},{"$f":"IF(Weightings!G146>0,Weightings!G146,'Preliminary SO66'!AB143)","v":2633817},232290,140850,3406,2257271,2298225,null,{"$f":"Weightings!E146","v":0},{"$f":"Weightings!F146","v":0},0,2298225,{"$f":"MAX(ROUND(((AR146-AN146-AO146)*Weightings!$M$12)+'2016legmax.xls'!AP146,0),ROUND((('2016legmax.xls'!AR146-'2016legmax.xls'!AN146-'2016legmax.xls'!AO146)*Weightings!$M$12)+Weightings!B146,0))","v":2543222},0.3,762967,740990,740990,0.29139999999999999,0,true,1572.8,0.58252800000000005,153.1,false,0,0,0,0,242,0.08,{"$f":"IF(ROUND((Weightings!$P$5*CC146^Weightings!$P$6*Weightings!$P$8 ),2)<Weightings!$P$7,Weightings!$P$7,ROUND((Weightings!$P$5*CC146^Weightings!$P$6*Weightings!$P$8 ),2))","v":1916.65},{"$f":"ROUND(CD146/Weightings!$M$5,4)","v":0.49759999999999999},10.199999999999999,0,0,0,0,{"$f":"AS146*Weightings!$M$5*CJ146","v":0},0,0.42199999999999999,1.1000000000000001,0,0,5.6,{"$f":"IF(ISNA(VLOOKUP($DC146,'Audit Values'!$A$2:$AE$252,2,FALSE)),'Preliminary SO66'!T143,VLOOKUP($DC146,'Audit Values'!$A$2:$AE$252,20,FALSE))","v":0},{"$f":"IF(ISNA(VLOOKUP($DC146,'Audit Values'!$A$2:$AE$252,21,FALSE)),'Preliminary SO66'!U143,VLOOKUP($DC146,'Audit Values'!$A$2:$AE$252,21,FALSE))","v":0},0,0,null,null,null,null,null,null,null,"D0349"]
[350,"Stafford","St John-Hudson ",331,0,{"$f":"D147+E147","v":331},345,0,345,327.39999999999998,{"$f":"IF(ISNA(VLOOKUP($DC147,'Audit Values'!$A$2:$AE$252,2,FALSE)),'Preliminary SO66'!B144,VLOOKUP($DC147,'Audit Values'!$A$2:$AE$252,31,FALSE))","v":327.39999999999998},345,{"$f":"IF(ISNA(VLOOKUP($DC147,'Audit Values'!$A$2:$AE$252,2,FALSE)),'Preliminary SO66'!Z144,VLOOKUP($DC147,'Audit Values'!$A$2:$AE$252,26,FALSE))","v":0},345,{"$f":"IF(ISNA(VLOOKUP($DC147,'Audit Values'!$A$2:$AE$252,2,FALSE)),'Preliminary SO66'!C144,IF(VLOOKUP($DC147,'Audit Values'!$A$2:$AE$252,28,FALSE)=\"\",VLOOKUP($DC147,'Audit Values'!$A$2:$AE$252,3,FALSE),VLOOKUP($DC147,'Audit Values'!$A$2:$AE$252,28,FALSE)))","v":0},327.39999999999998,327.39999999999998,327.39999999999998,345,0,161.80000000000001,161.80000000000001,0,{"$f":"IF(ISNA(VLOOKUP($DC147,'Audit Values'!$A$2:$AE$252,2,FALSE)),'Preliminary SO66'!D144,VLOOKUP($DC147,'Audit Values'!$A$2:$AE$252,4,FALSE))","v":139.30000000000001},{"$f":"ROUND((X147/6)*Weightings!$M$6,1)","v":11.6},{"$f":"IF(ISNA(VLOOKUP($DC147,'Audit Values'!$A$2:$AE$252,2,FALSE)),'Preliminary SO66'!F144,VLOOKUP($DC147,'Audit Values'!$A$2:$AE$252,6,FALSE))","v":151.80000000000001},{"$f":"ROUND((Z147/6)*Weightings!$M$7,1)","v":10},{"$f":"IF(ISNA(VLOOKUP($DC147,'Audit Values'!$A$2:$AE$252,2,FALSE)),'Preliminary SO66'!H144,VLOOKUP($DC147,'Audit Values'!$A$2:$AE$252,9,FALSE))","v":133},{"$f":"ROUND(AB147*Weightings!$M$8,1)","v":60.6},3.4,0,{"$f":"AE147*Weightings!$M$9","v":0},{"$f":"IF(ISNA(VLOOKUP($DC147,'Audit Values'!$A$2:$AE$252,2,FALSE)),'Preliminary SO66'!L144,VLOOKUP($DC147,'Audit Values'!$A$2:$AE$252,12,FALSE))","v":0},{"$f":"ROUND(AG147*Weightings!$M$10,1)","v":0},{"$f":"IF(ISNA(VLOOKUP($DC147,'Audit Values'!$A$2:$AE$252,2,FALSE)),'Preliminary SO66'!O144,VLOOKUP($DC147,'Audit Values'!$A$2:$AE$252,15,FALSE))","v":50},21.3,{"$f":"CG147/Weightings!$M$5","v":0},{"$f":"CH147/Weightings!$M$5","v":0},{"$f":"CL147/Weightings!$M$5","v":0},0,{"$f":"IF(ISNA(VLOOKUP($DC147,'Audit Values'!$A$2:$AE$252,2,FALSE)),'Preliminary SO66'!X144,VLOOKUP($DC147,'Audit Values'!$A$2:$AE$252,24,FALSE))","v":0},419592,{"$f":"AP147/Weightings!$M$5","v":108.9},613.70000000000005,722.6,722.6,0,{"$f":"IF(ISNA(VLOOKUP($DC147,'Audit Values'!$A$2:$AC$299,2,FALSE)),\"\",IF(AND(Weightings!H147>0,VLOOKUP($DC147,'Audit Values'!$A$2:$AC$299,29,FALSE)<Weightings!H147),Weightings!H147,VLOOKUP($DC147,'Audit Values'!$A$2:$AC$299,29,FALSE)))","v":14},{"$f":"IF(ISNA(VLOOKUP($DC147,'Audit Values'!$A$2:$AD$299,2,FALSE)),\"\",VLOOKUP($DC147,'Audit Values'!$A$2:$AD$299,30,FALSE))","v":"A"},{"$f":"IF(Weightings!G147=\"\",\"\",IF(Weightings!I147=\"Pending\",\"PX\",\"R\"))","v":""},{"$f":"AR147*Weightings!$M$5+AU147","v":2363972},{"$f":"AT147*Weightings!$M$5+AU147","v":2783455},{"$f":"IF(Weightings!G147>0,Weightings!G147,'Preliminary SO66'!AB144)","v":3052926},0,181268,0,2871658,2783455,null,{"$f":"Weightings!E147","v":0},{"$f":"Weightings!F147","v":0},0,2783455,{"$f":"MAX(ROUND(((AR147-AN147-AO147)*Weightings!$M$12)+'2016legmax.xls'!AP147,0),ROUND((('2016legmax.xls'!AR147-'2016legmax.xls'!AN147-'2016legmax.xls'!AO147)*Weightings!$M$12)+Weightings!B147,0))","v":3175105},0.31,984283,981774,981774,0.30919999999999997,0,false,0,0,0,true,55.6875,0.46889799999999998,161.80000000000001,0,308.3,0.16,{"$f":"IF(ROUND((Weightings!$P$5*CC147^Weightings!$P$6*Weightings!$P$8 ),2)<Weightings!$P$7,Weightings!$P$7,ROUND((Weightings!$P$5*CC147^Weightings!$P$6*Weightings!$P$8 ),2))","v":1638.5},{"$f":"ROUND(CD147/Weightings!$M$5,4)","v":0.4254},21.3,0,0,0,0,{"$f":"AS147*Weightings!$M$5*CJ147","v":0},0,0.38600000000000001,1.1000000000000001,0,0,3.4,{"$f":"IF(ISNA(VLOOKUP($DC147,'Audit Values'!$A$2:$AE$252,2,FALSE)),'Preliminary SO66'!T144,VLOOKUP($DC147,'Audit Values'!$A$2:$AE$252,20,FALSE))","v":0},{"$f":"IF(ISNA(VLOOKUP($DC147,'Audit Values'!$A$2:$AE$252,21,FALSE)),'Preliminary SO66'!U144,VLOOKUP($DC147,'Audit Values'!$A$2:$AE$252,21,FALSE))","v":0},0,0,null,null,null,null,null,null,null,"D0350"]
[351,"Stafford","Macksville ",261.2,0,261.2,235.9,0,235.9,212.5,{"$f":"IF(ISNA(VLOOKUP($DC148,'Audit Values'!$A$2:$AE$252,2,FALSE)),'Preliminary SO66'!B145,VLOOKUP($DC148,'Audit Values'!$A$2:$AE$252,31,FALSE))","v":212.5},236.5,{"$f":"IF(ISNA(VLOOKUP($DC148,'Audit Values'!$A$2:$AE$252,2,FALSE)),'Preliminary SO66'!Z145,VLOOKUP($DC148,'Audit Values'!$A$2:$AE$252,26,FALSE))","v":0},236.5,{"$f":"IF(ISNA(VLOOKUP($DC148,'Audit Values'!$A$2:$AE$252,2,FALSE)),'Preliminary SO66'!C145,IF(VLOOKUP($DC148,'Audit Values'!$A$2:$AE$252,28,FALSE)=\"\",VLOOKUP($DC148,'Audit Values'!$A$2:$AE$252,3,FALSE),VLOOKUP($DC148,'Audit Values'!$A$2:$AE$252,28,FALSE)))","v":2.5},215,215,215,239,0,154.4,154.4,0,{"$f":"IF(ISNA(VLOOKUP($DC148,'Audit Values'!$A$2:$AE$252,2,FALSE)),'Preliminary SO66'!D145,VLOOKUP($DC148,'Audit Values'!$A$2:$AE$252,4,FALSE))","v":18.8},{"$f":"ROUND((X148/6)*Weightings!$M$6,1)","v":1.6},{"$f":"IF(ISNA(VLOOKUP($DC148,'Audit Values'!$A$2:$AE$252,2,FALSE)),'Preliminary SO66'!F145,VLOOKUP($DC148,'Audit Values'!$A$2:$AE$252,6,FALSE))","v":302.8},{"$f":"ROUND((Z148/6)*Weightings!$M$7,1)","v":19.899999999999999},{"$f":"IF(ISNA(VLOOKUP($DC148,'Audit Values'!$A$2:$AE$252,2,FALSE)),'Preliminary SO66'!H145,VLOOKUP($DC148,'Audit Values'!$A$2:$AE$252,9,FALSE))","v":93},{"$f":"ROUND(AB148*Weightings!$M$8,1)","v":42.4},2.5,0,{"$f":"AE148*Weightings!$M$9","v":0},{"$f":"IF(ISNA(VLOOKUP($DC148,'Audit Values'!$A$2:$AE$252,2,FALSE)),'Preliminary SO66'!L145,VLOOKUP($DC148,'Audit Values'!$A$2:$AE$252,12,FALSE))","v":0},{"$f":"ROUND(AG148*Weightings!$M$10,1)","v":0},{"$f":"IF(ISNA(VLOOKUP($DC148,'Audit Values'!$A$2:$AE$252,2,FALSE)),'Preliminary SO66'!O145,VLOOKUP($DC148,'Audit Values'!$A$2:$AE$252,15,FALSE))","v":64},26.5,{"$f":"CG148/Weightings!$M$5","v":0},{"$f":"CH148/Weightings!$M$5","v":0},{"$f":"CL148/Weightings!$M$5","v":0},0,{"$f":"IF(ISNA(VLOOKUP($DC148,'Audit Values'!$A$2:$AE$252,2,FALSE)),'Preliminary SO66'!X145,VLOOKUP($DC148,'Audit Values'!$A$2:$AE$252,24,FALSE))","v":0},306375,{"$f":"AP148/Weightings!$M$5","v":79.5},486.3,565.79999999999995,565.79999999999995,0,{"$f":"IF(ISNA(VLOOKUP($DC148,'Audit Values'!$A$2:$AC$299,2,FALSE)),\"\",IF(AND(Weightings!H148>0,VLOOKUP($DC148,'Audit Values'!$A$2:$AC$299,29,FALSE)<Weightings!H148),Weightings!H148,VLOOKUP($DC148,'Audit Values'!$A$2:$AC$299,29,FALSE)))","v":15},{"$f":"IF(ISNA(VLOOKUP($DC148,'Audit Values'!$A$2:$AD$299,2,FALSE)),\"\",VLOOKUP($DC148,'Audit Values'!$A$2:$AD$299,30,FALSE))","v":"A"},{"$f":"IF(Weightings!G148=\"\",\"\",IF(Weightings!I148=\"Pending\",\"PX\",\"R\"))","v":""},{"$f":"AR148*Weightings!$M$5+AU148","v":1873228},{"$f":"AT148*Weightings!$M$5+AU148","v":2179462},{"$f":"IF(Weightings!G148>0,Weightings!G148,'Preliminary SO66'!AB145)","v":2610945},0,164823,0,2446122,2179462,null,{"$f":"Weightings!E148","v":0},{"$f":"Weightings!F148","v":0},0,2179462,{"$f":"MAX(ROUND(((AR148-AN148-AO148)*Weightings!$M$12)+'2016legmax.xls'!AP148,0),ROUND((('2016legmax.xls'!AR148-'2016legmax.xls'!AN148-'2016legmax.xls'!AO148)*Weightings!$M$12)+Weightings!B148,0))","v":2491822},0.3,747547,803447,747547,0.3,0,true,1342.0450000000001,0.64588000000000001,154.4,false,0,0,0,0,360,0.18,{"$f":"IF(ROUND((Weightings!$P$5*CC148^Weightings!$P$6*Weightings!$P$8 ),2)<Weightings!$P$7,Weightings!$P$7,ROUND((Weightings!$P$5*CC148^Weightings!$P$6*Weightings!$P$8 ),2))","v":1595.42},{"$f":"ROUND(CD148/Weightings!$M$5,4)","v":0.41420000000000001},26.5,0,0,0,0,{"$f":"AS148*Weightings!$M$5*CJ148","v":0},0,0.38900000000000001,0.7,0,0,2.5,{"$f":"IF(ISNA(VLOOKUP($DC148,'Audit Values'!$A$2:$AE$252,2,FALSE)),'Preliminary SO66'!T145,VLOOKUP($DC148,'Audit Values'!$A$2:$AE$252,20,FALSE))","v":0},{"$f":"IF(ISNA(VLOOKUP($DC148,'Audit Values'!$A$2:$AE$252,21,FALSE)),'Preliminary SO66'!U145,VLOOKUP($DC148,'Audit Values'!$A$2:$AE$252,21,FALSE))","v":0},0,0,null,null,null,null,null,null,null,"D0351"]
[352,"Sherman","Goodland ",1032.3,0,1032.3,1041.5,0,1041.5,901.8,{"$f":"IF(ISNA(VLOOKUP($DC149,'Audit Values'!$A$2:$AE$252,2,FALSE)),'Preliminary SO66'!B146,VLOOKUP($DC149,'Audit Values'!$A$2:$AE$252,31,FALSE))","v":879.7},1041.5,{"$f":"IF(ISNA(VLOOKUP($DC149,'Audit Values'!$A$2:$AE$252,2,FALSE)),'Preliminary SO66'!Z146,VLOOKUP($DC149,'Audit Values'!$A$2:$AE$252,26,FALSE))","v":0},1041.5,{"$f":"IF(ISNA(VLOOKUP($DC149,'Audit Values'!$A$2:$AE$252,2,FALSE)),'Preliminary SO66'!C146,IF(VLOOKUP($DC149,'Audit Values'!$A$2:$AE$252,28,FALSE)=\"\",VLOOKUP($DC149,'Audit Values'!$A$2:$AE$252,3,FALSE),VLOOKUP($DC149,'Audit Values'!$A$2:$AE$252,28,FALSE)))","v":0},879.7,901.8,901.8,1041.5,22.1,241.9,241.9,0,{"$f":"IF(ISNA(VLOOKUP($DC149,'Audit Values'!$A$2:$AE$252,2,FALSE)),'Preliminary SO66'!D146,VLOOKUP($DC149,'Audit Values'!$A$2:$AE$252,4,FALSE))","v":225.9},{"$f":"ROUND((X149/6)*Weightings!$M$6,1)","v":18.8},{"$f":"IF(ISNA(VLOOKUP($DC149,'Audit Values'!$A$2:$AE$252,2,FALSE)),'Preliminary SO66'!F146,VLOOKUP($DC149,'Audit Values'!$A$2:$AE$252,6,FALSE))","v":372.2},{"$f":"ROUND((Z149/6)*Weightings!$M$7,1)","v":24.5},{"$f":"IF(ISNA(VLOOKUP($DC149,'Audit Values'!$A$2:$AE$252,2,FALSE)),'Preliminary SO66'!H146,VLOOKUP($DC149,'Audit Values'!$A$2:$AE$252,9,FALSE))","v":350},{"$f":"ROUND(AB149*Weightings!$M$8,1)","v":159.6},0,0,{"$f":"AE149*Weightings!$M$9","v":0},{"$f":"IF(ISNA(VLOOKUP($DC149,'Audit Values'!$A$2:$AE$252,2,FALSE)),'Preliminary SO66'!L146,VLOOKUP($DC149,'Audit Values'!$A$2:$AE$252,12,FALSE))","v":98.3},{"$f":"ROUND(AG149*Weightings!$M$10,1)","v":24.6},{"$f":"IF(ISNA(VLOOKUP($DC149,'Audit Values'!$A$2:$AE$252,2,FALSE)),'Preliminary SO66'!O146,VLOOKUP($DC149,'Audit Values'!$A$2:$AE$252,15,FALSE))","v":145},61.7,{"$f":"CG149/Weightings!$M$5","v":0},{"$f":"CH149/Weightings!$M$5","v":0},{"$f":"CL149/Weightings!$M$5","v":0},23.2,{"$f":"IF(ISNA(VLOOKUP($DC149,'Audit Values'!$A$2:$AE$252,2,FALSE)),'Preliminary SO66'!X146,VLOOKUP($DC149,'Audit Values'!$A$2:$AE$252,24,FALSE))","v":1},936407,{"$f":"AP149/Weightings!$M$5","v":243.1},1596.8,1839.9,1839.9,0,{"$f":"IF(ISNA(VLOOKUP($DC149,'Audit Values'!$A$2:$AC$299,2,FALSE)),\"\",IF(AND(Weightings!H149>0,VLOOKUP($DC149,'Audit Values'!$A$2:$AC$299,29,FALSE)<Weightings!H149),Weightings!H149,VLOOKUP($DC149,'Audit Values'!$A$2:$AC$299,29,FALSE)))","v":14},{"$f":"IF(ISNA(VLOOKUP($DC149,'Audit Values'!$A$2:$AD$299,2,FALSE)),\"\",VLOOKUP($DC149,'Audit Values'!$A$2:$AD$299,30,FALSE))","v":"A"},{"$f":"IF(Weightings!G149=\"\",\"\",IF(Weightings!I149=\"Pending\",\"PX\",\"R\"))","v":""},{"$f":"AR149*Weightings!$M$5+AU149","v":6150874},{"$f":"AT149*Weightings!$M$5+AU149","v":7087295},{"$f":"IF(Weightings!G149>0,Weightings!G149,'Preliminary SO66'!AB146)","v":8783752},849982,485686,34887,7413197,7087295,null,{"$f":"Weightings!E149","v":0},{"$f":"Weightings!F149","v":0},0,7087295,{"$f":"MAX(ROUND(((AR149-AN149-AO149)*Weightings!$M$12)+'2016legmax.xls'!AP149,0),ROUND((('2016legmax.xls'!AR149-'2016legmax.xls'!AN149-'2016legmax.xls'!AO149)*Weightings!$M$12)+Weightings!B149,0))","v":7997381},0.3,2399214,2408048,2399214,0.3,0,false,0,0,0,true,917.60630000000003,0.232263,241.9,0,914.2,0.16,{"$f":"IF(ROUND((Weightings!$P$5*CC149^Weightings!$P$6*Weightings!$P$8 ),2)<Weightings!$P$7,Weightings!$P$7,ROUND((Weightings!$P$5*CC149^Weightings!$P$6*Weightings!$P$8 ),2))","v":1638.5},{"$f":"ROUND(CD149/Weightings!$M$5,4)","v":0.4254},61.7,0,0,0,0,{"$f":"AS149*Weightings!$M$5*CJ149","v":0},0,0.33600000000000002,1.1000000000000001,0,0,0,{"$f":"IF(ISNA(VLOOKUP($DC149,'Audit Values'!$A$2:$AE$252,2,FALSE)),'Preliminary SO66'!T146,VLOOKUP($DC149,'Audit Values'!$A$2:$AE$252,20,FALSE))","v":5},{"$f":"IF(ISNA(VLOOKUP($DC149,'Audit Values'!$A$2:$AE$252,21,FALSE)),'Preliminary SO66'!U146,VLOOKUP($DC149,'Audit Values'!$A$2:$AE$252,21,FALSE))","v":4.0999999999999996},13,22.1,null,null,null,null,null,null,null,"D0352"]
[353,"Sumner","Wellington ",1515.5,0,1515.5,1551.5,0,1551.5,1534.5,{"$f":"IF(ISNA(VLOOKUP($DC150,'Audit Values'!$A$2:$AE$252,2,FALSE)),'Preliminary SO66'!B147,VLOOKUP($DC150,'Audit Values'!$A$2:$AE$252,31,FALSE))","v":1534.5},1551.5,{"$f":"IF(ISNA(VLOOKUP($DC150,'Audit Values'!$A$2:$AE$252,2,FALSE)),'Preliminary SO66'!Z147,VLOOKUP($DC150,'Audit Values'!$A$2:$AE$252,26,FALSE))","v":0},1551.5,{"$f":"IF(ISNA(VLOOKUP($DC150,'Audit Values'!$A$2:$AE$252,2,FALSE)),'Preliminary SO66'!C147,IF(VLOOKUP($DC150,'Audit Values'!$A$2:$AE$252,28,FALSE)=\"\",VLOOKUP($DC150,'Audit Values'!$A$2:$AE$252,3,FALSE),VLOOKUP($DC150,'Audit Values'!$A$2:$AE$252,28,FALSE)))","v":3.5},1538,1538,1538,1555,0,89.9,89.9,0,{"$f":"IF(ISNA(VLOOKUP($DC150,'Audit Values'!$A$2:$AE$252,2,FALSE)),'Preliminary SO66'!D147,VLOOKUP($DC150,'Audit Values'!$A$2:$AE$252,4,FALSE))","v":426.4},{"$f":"ROUND((X150/6)*Weightings!$M$6,1)","v":35.5},{"$f":"IF(ISNA(VLOOKUP($DC150,'Audit Values'!$A$2:$AE$252,2,FALSE)),'Preliminary SO66'!F147,VLOOKUP($DC150,'Audit Values'!$A$2:$AE$252,6,FALSE))","v":7.3},{"$f":"ROUND((Z150/6)*Weightings!$M$7,1)","v":0.5},{"$f":"IF(ISNA(VLOOKUP($DC150,'Audit Values'!$A$2:$AE$252,2,FALSE)),'Preliminary SO66'!H147,VLOOKUP($DC150,'Audit Values'!$A$2:$AE$252,9,FALSE))","v":743},{"$f":"ROUND(AB150*Weightings!$M$8,1)","v":338.8},66.599999999999994,0,{"$f":"AE150*Weightings!$M$9","v":0},{"$f":"IF(ISNA(VLOOKUP($DC150,'Audit Values'!$A$2:$AE$252,2,FALSE)),'Preliminary SO66'!L147,VLOOKUP($DC150,'Audit Values'!$A$2:$AE$252,12,FALSE))","v":0},{"$f":"ROUND(AG150*Weightings!$M$10,1)","v":0},{"$f":"IF(ISNA(VLOOKUP($DC150,'Audit Values'!$A$2:$AE$252,2,FALSE)),'Preliminary SO66'!O147,VLOOKUP($DC150,'Audit Values'!$A$2:$AE$252,15,FALSE))","v":181},53.6,{"$f":"CG150/Weightings!$M$5","v":0},{"$f":"CH150/Weightings!$M$5","v":0},{"$f":"CL150/Weightings!$M$5","v":0},0,{"$f":"IF(ISNA(VLOOKUP($DC150,'Audit Values'!$A$2:$AE$252,2,FALSE)),'Preliminary SO66'!X147,VLOOKUP($DC150,'Audit Values'!$A$2:$AE$252,24,FALSE))","v":0},2104469,{"$f":"AP150/Weightings!$M$5","v":546.29999999999995},2139.9,2686.2,2686.2,0,{"$f":"IF(ISNA(VLOOKUP($DC150,'Audit Values'!$A$2:$AC$299,2,FALSE)),\"\",IF(AND(Weightings!H150>0,VLOOKUP($DC150,'Audit Values'!$A$2:$AC$299,29,FALSE)<Weightings!H150),Weightings!H150,VLOOKUP($DC150,'Audit Values'!$A$2:$AC$299,29,FALSE)))","v":2},{"$f":"IF(ISNA(VLOOKUP($DC150,'Audit Values'!$A$2:$AD$299,2,FALSE)),\"\",VLOOKUP($DC150,'Audit Values'!$A$2:$AD$299,30,FALSE))","v":"A"},{"$f":"IF(Weightings!G150=\"\",\"\",IF(Weightings!I150=\"Pending\",\"PX\",\"R\"))","v":""},{"$f":"AR150*Weightings!$M$5+AU150","v":8242895},{"$f":"AT150*Weightings!$M$5+AU150","v":10347242},{"$f":"IF(Weightings!G150>0,Weightings!G150,'Preliminary SO66'!AB147)","v":13870620},2238469,795028,122041,10715082,10347242,null,{"$f":"Weightings!E150","v":0},{"$f":"Weightings!F150","v":0},0,10347242,{"$f":"MAX(ROUND(((AR150-AN150-AO150)*Weightings!$M$12)+'2016legmax.xls'!AP150,0),ROUND((('2016legmax.xls'!AR150-'2016legmax.xls'!AN150-'2016legmax.xls'!AO150)*Weightings!$M$12)+Weightings!B150,0))","v":11712620},0.3,3513786,3471792,3471792,0.2964,0,false,0,0,0,true,1553.0625,5.7801999999999999E-2,89.9,0,228.5,0.79,{"$f":"IF(ROUND((Weightings!$P$5*CC150^Weightings!$P$6*Weightings!$P$8 ),2)<Weightings!$P$7,Weightings!$P$7,ROUND((Weightings!$P$5*CC150^Weightings!$P$6*Weightings!$P$8 ),2))","v":1141.75},{"$f":"ROUND(CD150/Weightings!$M$5,4)","v":0.2964},53.6,0,0,0,0,{"$f":"AS150*Weightings!$M$5*CJ150","v":0},0,0.47799999999999998,6.8,0,0,66.599999999999994,{"$f":"IF(ISNA(VLOOKUP($DC150,'Audit Values'!$A$2:$AE$252,2,FALSE)),'Preliminary SO66'!T147,VLOOKUP($DC150,'Audit Values'!$A$2:$AE$252,20,FALSE))","v":0},{"$f":"IF(ISNA(VLOOKUP($DC150,'Audit Values'!$A$2:$AE$252,21,FALSE)),'Preliminary SO66'!U147,VLOOKUP($DC150,'Audit Values'!$A$2:$AE$252,21,FALSE))","v":0},0,0,null,null,null,null,null,null,null,"D0353"]
[355,"Barton","Ellinwood Public Schools ",409.2,0,409.2,414.2,0,414.2,424.3,{"$f":"IF(ISNA(VLOOKUP($DC151,'Audit Values'!$A$2:$AE$252,2,FALSE)),'Preliminary SO66'!B148,VLOOKUP($DC151,'Audit Values'!$A$2:$AE$252,31,FALSE))","v":424.3},424.3,{"$f":"IF(ISNA(VLOOKUP($DC151,'Audit Values'!$A$2:$AE$252,2,FALSE)),'Preliminary SO66'!Z148,VLOOKUP($DC151,'Audit Values'!$A$2:$AE$252,26,FALSE))","v":0},424.3,{"$f":"IF(ISNA(VLOOKUP($DC151,'Audit Values'!$A$2:$AE$252,2,FALSE)),'Preliminary SO66'!C148,IF(VLOOKUP($DC151,'Audit Values'!$A$2:$AE$252,28,FALSE)=\"\",VLOOKUP($DC151,'Audit Values'!$A$2:$AE$252,3,FALSE),VLOOKUP($DC151,'Audit Values'!$A$2:$AE$252,28,FALSE)))","v":0},424.3,424.3,424.3,424.3,0,187.5,187.5,0,{"$f":"IF(ISNA(VLOOKUP($DC151,'Audit Values'!$A$2:$AE$252,2,FALSE)),'Preliminary SO66'!D148,VLOOKUP($DC151,'Audit Values'!$A$2:$AE$252,4,FALSE))","v":135.9},{"$f":"ROUND((X151/6)*Weightings!$M$6,1)","v":11.3},{"$f":"IF(ISNA(VLOOKUP($DC151,'Audit Values'!$A$2:$AE$252,2,FALSE)),'Preliminary SO66'!F148,VLOOKUP($DC151,'Audit Values'!$A$2:$AE$252,6,FALSE))","v":0},{"$f":"ROUND((Z151/6)*Weightings!$M$7,1)","v":0},{"$f":"IF(ISNA(VLOOKUP($DC151,'Audit Values'!$A$2:$AE$252,2,FALSE)),'Preliminary SO66'!H148,VLOOKUP($DC151,'Audit Values'!$A$2:$AE$252,9,FALSE))","v":177},{"$f":"ROUND(AB151*Weightings!$M$8,1)","v":80.7},8.3000000000000007,0,{"$f":"AE151*Weightings!$M$9","v":0},{"$f":"IF(ISNA(VLOOKUP($DC151,'Audit Values'!$A$2:$AE$252,2,FALSE)),'Preliminary SO66'!L148,VLOOKUP($DC151,'Audit Values'!$A$2:$AE$252,12,FALSE))","v":0},{"$f":"ROUND(AG151*Weightings!$M$10,1)","v":0},{"$f":"IF(ISNA(VLOOKUP($DC151,'Audit Values'!$A$2:$AE$252,2,FALSE)),'Preliminary SO66'!O148,VLOOKUP($DC151,'Audit Values'!$A$2:$AE$252,15,FALSE))","v":68.599999999999994},23.1,{"$f":"CG151/Weightings!$M$5","v":0},{"$f":"CH151/Weightings!$M$5","v":0},{"$f":"CL151/Weightings!$M$5","v":0},0,{"$f":"IF(ISNA(VLOOKUP($DC151,'Audit Values'!$A$2:$AE$252,2,FALSE)),'Preliminary SO66'!X148,VLOOKUP($DC151,'Audit Values'!$A$2:$AE$252,24,FALSE))","v":1},474174,{"$f":"AP151/Weightings!$M$5","v":123.1},736.2,859.3,859.3,0,{"$f":"IF(ISNA(VLOOKUP($DC151,'Audit Values'!$A$2:$AC$299,2,FALSE)),\"\",IF(AND(Weightings!H151>0,VLOOKUP($DC151,'Audit Values'!$A$2:$AC$299,29,FALSE)<Weightings!H151),Weightings!H151,VLOOKUP($DC151,'Audit Values'!$A$2:$AC$299,29,FALSE)))","v":10},{"$f":"IF(ISNA(VLOOKUP($DC151,'Audit Values'!$A$2:$AD$299,2,FALSE)),\"\",VLOOKUP($DC151,'Audit Values'!$A$2:$AD$299,30,FALSE))","v":"A"},{"$f":"IF(Weightings!G151=\"\",\"\",IF(Weightings!I151=\"Pending\",\"PX\",\"R\"))","v":""},{"$f":"AR151*Weightings!$M$5+AU151","v":2835842},{"$f":"AT151*Weightings!$M$5+AU151","v":3310024},{"$f":"IF(Weightings!G151>0,Weightings!G151,'Preliminary SO66'!AB148)","v":3798668},70631,246029,0,3482008,3310024,null,{"$f":"Weightings!E151","v":0},{"$f":"Weightings!F151","v":0},0,3310024,{"$f":"MAX(ROUND(((AR151-AN151-AO151)*Weightings!$M$12)+'2016legmax.xls'!AP151,0),ROUND((('2016legmax.xls'!AR151-'2016legmax.xls'!AN151-'2016legmax.xls'!AO151)*Weightings!$M$12)+Weightings!B151,0))","v":3775222},0.3,1132567,1091193,1091193,0.28899999999999998,0,false,0,0,0,true,153.82130000000001,0.44195499999999999,187.5,0,154,0.45,{"$f":"IF(ROUND((Weightings!$P$5*CC151^Weightings!$P$6*Weightings!$P$8 ),2)<Weightings!$P$7,Weightings!$P$7,ROUND((Weightings!$P$5*CC151^Weightings!$P$6*Weightings!$P$8 ),2))","v":1296.76},{"$f":"ROUND(CD151/Weightings!$M$5,4)","v":0.33660000000000001},23.1,0,0,0,0,{"$f":"AS151*Weightings!$M$5*CJ151","v":0},0,0.41699999999999998,2.8,0,0,8.3000000000000007,{"$f":"IF(ISNA(VLOOKUP($DC151,'Audit Values'!$A$2:$AE$252,2,FALSE)),'Preliminary SO66'!T148,VLOOKUP($DC151,'Audit Values'!$A$2:$AE$252,20,FALSE))","v":0},{"$f":"IF(ISNA(VLOOKUP($DC151,'Audit Values'!$A$2:$AE$252,21,FALSE)),'Preliminary SO66'!U148,VLOOKUP($DC151,'Audit Values'!$A$2:$AE$252,21,FALSE))","v":0},0,0,null,null,null,null,null,null,null,"D0355"]
[356,"Sumner","Conway Springs ",492.3,0,492.3,480.5,0,480.5,470.3,{"$f":"IF(ISNA(VLOOKUP($DC152,'Audit Values'!$A$2:$AE$252,2,FALSE)),'Preliminary SO66'!B149,VLOOKUP($DC152,'Audit Values'!$A$2:$AE$252,31,FALSE))","v":470.3},481,{"$f":"IF(ISNA(VLOOKUP($DC152,'Audit Values'!$A$2:$AE$252,2,FALSE)),'Preliminary SO66'!Z149,VLOOKUP($DC152,'Audit Values'!$A$2:$AE$252,26,FALSE))","v":0},481,{"$f":"IF(ISNA(VLOOKUP($DC152,'Audit Values'!$A$2:$AE$252,2,FALSE)),'Preliminary SO66'!C149,IF(VLOOKUP($DC152,'Audit Values'!$A$2:$AE$252,28,FALSE)=\"\",VLOOKUP($DC152,'Audit Values'!$A$2:$AE$252,3,FALSE),VLOOKUP($DC152,'Audit Values'!$A$2:$AE$252,28,FALSE)))","v":0},470.3,470.3,470.3,481,0,203.3,203.3,0,{"$f":"IF(ISNA(VLOOKUP($DC152,'Audit Values'!$A$2:$AE$252,2,FALSE)),'Preliminary SO66'!D149,VLOOKUP($DC152,'Audit Values'!$A$2:$AE$252,4,FALSE))","v":135.80000000000001},{"$f":"ROUND((X152/6)*Weightings!$M$6,1)","v":11.3},{"$f":"IF(ISNA(VLOOKUP($DC152,'Audit Values'!$A$2:$AE$252,2,FALSE)),'Preliminary SO66'!F149,VLOOKUP($DC152,'Audit Values'!$A$2:$AE$252,6,FALSE))","v":0},{"$f":"ROUND((Z152/6)*Weightings!$M$7,1)","v":0},{"$f":"IF(ISNA(VLOOKUP($DC152,'Audit Values'!$A$2:$AE$252,2,FALSE)),'Preliminary SO66'!H149,VLOOKUP($DC152,'Audit Values'!$A$2:$AE$252,9,FALSE))","v":140},{"$f":"ROUND(AB152*Weightings!$M$8,1)","v":63.8},0,0,{"$f":"AE152*Weightings!$M$9","v":0},{"$f":"IF(ISNA(VLOOKUP($DC152,'Audit Values'!$A$2:$AE$252,2,FALSE)),'Preliminary SO66'!L149,VLOOKUP($DC152,'Audit Values'!$A$2:$AE$252,12,FALSE))","v":0},{"$f":"ROUND(AG152*Weightings!$M$10,1)","v":0},{"$f":"IF(ISNA(VLOOKUP($DC152,'Audit Values'!$A$2:$AE$252,2,FALSE)),'Preliminary SO66'!O149,VLOOKUP($DC152,'Audit Values'!$A$2:$AE$252,15,FALSE))","v":160.4},45,{"$f":"CG152/Weightings!$M$5","v":0},{"$f":"CH152/Weightings!$M$5","v":0},{"$f":"CL152/Weightings!$M$5","v":0},0,{"$f":"IF(ISNA(VLOOKUP($DC152,'Audit Values'!$A$2:$AE$252,2,FALSE)),'Preliminary SO66'!X149,VLOOKUP($DC152,'Audit Values'!$A$2:$AE$252,24,FALSE))","v":0},465879,{"$f":"AP152/Weightings!$M$5","v":120.9},804.4,925.3,925.3,0,{"$f":"IF(ISNA(VLOOKUP($DC152,'Audit Values'!$A$2:$AC$299,2,FALSE)),\"\",IF(AND(Weightings!H152>0,VLOOKUP($DC152,'Audit Values'!$A$2:$AC$299,29,FALSE)<Weightings!H152),Weightings!H152,VLOOKUP($DC152,'Audit Values'!$A$2:$AC$299,29,FALSE)))","v":5},{"$f":"IF(ISNA(VLOOKUP($DC152,'Audit Values'!$A$2:$AD$299,2,FALSE)),\"\",VLOOKUP($DC152,'Audit Values'!$A$2:$AD$299,30,FALSE))","v":"A"},{"$f":"IF(Weightings!G152=\"\",\"\",IF(Weightings!I152=\"Pending\",\"PX\",\"R\"))","v":""},{"$f":"AR152*Weightings!$M$5+AU152","v":3098549},{"$f":"AT152*Weightings!$M$5+AU152","v":3564256},{"$f":"IF(Weightings!G152>0,Weightings!G152,'Preliminary SO66'!AB149)","v":4878536},789805,256421,37436,3794874,3564256,null,{"$f":"Weightings!E152","v":0},{"$f":"Weightings!F152","v":0},0,3564256,{"$f":"MAX(ROUND(((AR152-AN152-AO152)*Weightings!$M$12)+'2016legmax.xls'!AP152,0),ROUND((('2016legmax.xls'!AR152-'2016legmax.xls'!AN152-'2016legmax.xls'!AO152)*Weightings!$M$12)+Weightings!B152,0))","v":4123038},0.3,1236911,1248630,1236911,0.3,0,false,0,0,0,true,223.98750000000001,0.42269200000000001,203.3,0,158.19999999999999,1.01,{"$f":"IF(ROUND((Weightings!$P$5*CC152^Weightings!$P$6*Weightings!$P$8 ),2)<Weightings!$P$7,Weightings!$P$7,ROUND((Weightings!$P$5*CC152^Weightings!$P$6*Weightings!$P$8 ),2))","v":1080.03},{"$f":"ROUND(CD152/Weightings!$M$5,4)","v":0.28039999999999998},45,0,0,0,0,{"$f":"AS152*Weightings!$M$5*CJ152","v":0},0,0.29099999999999998,3,0,0,0,{"$f":"IF(ISNA(VLOOKUP($DC152,'Audit Values'!$A$2:$AE$252,2,FALSE)),'Preliminary SO66'!T149,VLOOKUP($DC152,'Audit Values'!$A$2:$AE$252,20,FALSE))","v":0},{"$f":"IF(ISNA(VLOOKUP($DC152,'Audit Values'!$A$2:$AE$252,21,FALSE)),'Preliminary SO66'!U149,VLOOKUP($DC152,'Audit Values'!$A$2:$AE$252,21,FALSE))","v":0},0,0,null,null,null,null,null,null,null,"D0356"]
[357,"Sumner","Belle Plaine ",582.5,0,582.5,592.29999999999995,0,592.29999999999995,603.29999999999995,{"$f":"IF(ISNA(VLOOKUP($DC153,'Audit Values'!$A$2:$AE$286,2,FALSE)),'Preliminary SO66'!B150,VLOOKUP($DC153,'Audit Values'!$A$2:$AE$286,31,FALSE))","v":574.5},592.29999999999995,{"$f":"IF(ISNA(VLOOKUP($DC153,'Audit Values'!$A$2:$AE$286,2,FALSE)),'Preliminary SO66'!Z150,VLOOKUP($DC153,'Audit Values'!$A$2:$AE$286,26,FALSE))","v":0},592.29999999999995,{"$f":"IF(ISNA(VLOOKUP($DC153,'Audit Values'!$A$2:$AE$286,2,FALSE)),'Preliminary SO66'!C150,IF(VLOOKUP($DC153,'Audit Values'!$A$2:$AE$286,28,FALSE)=\"\",VLOOKUP($DC153,'Audit Values'!$A$2:$AE$286,3,FALSE),VLOOKUP($DC153,'Audit Values'!$A$2:$AE$286,28,FALSE)))","v":7.5},582,610.79999999999995,610.79999999999995,599.79999999999995,28.8,229.3,229.3,0,{"$f":"IF(ISNA(VLOOKUP($DC153,'Audit Values'!$A$2:$AE$252,2,FALSE)),'Preliminary SO66'!D150,VLOOKUP($DC153,'Audit Values'!$A$2:$AE$252,4,FALSE))","v":82},{"$f":"ROUND((X153/6)*Weightings!$M$6,1)","v":6.8},{"$f":"IF(ISNA(VLOOKUP($DC153,'Audit Values'!$A$2:$AE$252,2,FALSE)),'Preliminary SO66'!F150,VLOOKUP($DC153,'Audit Values'!$A$2:$AE$252,6,FALSE))","v":0},{"$f":"ROUND((Z153/6)*Weightings!$M$7,1)","v":0},{"$f":"IF(ISNA(VLOOKUP($DC153,'Audit Values'!$A$2:$AE$299,2,FALSE)),'Preliminary SO66'!H150,VLOOKUP($DC153,'Audit Values'!$A$2:$AE$299,9,FALSE))","v":105},{"$f":"ROUND(AB153*Weightings!$M$8,1)","v":47.9},0,0,{"$f":"AE153*Weightings!$M$9","v":0},{"$f":"IF(ISNA(VLOOKUP($DC153,'Audit Values'!$A$2:$AE$252,2,FALSE)),'Preliminary SO66'!L150,VLOOKUP($DC153,'Audit Values'!$A$2:$AE$252,12,FALSE))","v":0},{"$f":"ROUND(AG153*Weightings!$M$10,1)","v":0},{"$f":"IF(ISNA(VLOOKUP($DC153,'Audit Values'!$A$2:$AE$299,2,FALSE)),'Preliminary SO66'!O150,VLOOKUP($DC153,'Audit Values'!$A$2:$AE$299,15,FALSE))","v":192.5},44.9,{"$f":"CG153/Weightings!$M$5","v":0},{"$f":"CH153/Weightings!$M$5","v":0},{"$f":"CL153/Weightings!$M$5","v":0},30.2,{"$f":"IF(ISNA(VLOOKUP($DC153,'Audit Values'!$A$2:$AE$252,2,FALSE)),'Preliminary SO66'!X150,VLOOKUP($DC153,'Audit Values'!$A$2:$AE$252,24,FALSE))","v":0},752622,{"$f":"AP153/Weightings!$M$5","v":195.4},958.9,1154.3,1154.3,0,{"$f":"IF(ISNA(VLOOKUP($DC153,'Audit Values'!$A$2:$AC$299,2,FALSE)),\"\",IF(AND(Weightings!H153>0,VLOOKUP($DC153,'Audit Values'!$A$2:$AC$299,29,FALSE)<Weightings!H153),Weightings!H153,VLOOKUP($DC153,'Audit Values'!$A$2:$AC$299,29,FALSE)))","v":18},{"$f":"IF(ISNA(VLOOKUP($DC153,'Audit Values'!$A$2:$AD$299,2,FALSE)),\"\",VLOOKUP($DC153,'Audit Values'!$A$2:$AD$299,30,FALSE))","v":"A"},{"$f":"IF(Weightings!G153=\"\",\"\",IF(Weightings!I153=\"Pending\",\"PX\",\"R\"))","v":""},{"$f":"AR153*Weightings!$M$5+AU153","v":3693683},{"$f":"AT153*Weightings!$M$5+AU153","v":4446364},{"$f":"IF(Weightings!G153>0,Weightings!G153,'Preliminary SO66'!AB150)","v":6337020},1077565,317659,71308,4870488,4446364,null,{"$f":"Weightings!E153","v":0},{"$f":"Weightings!F153","v":0},0,4446364,{"$f":"MAX(ROUND(((AR153-AN153-AO153)*Weightings!$M$12)+'2016legmax.xls'!AP153,0),ROUND((('2016legmax.xls'!AR153-'2016legmax.xls'!AN153-'2016legmax.xls'!AO153)*Weightings!$M$12)+Weightings!B153,0))","v":5115516},0.3,1534655,1588804,1534655,0.3,0,false,0,0,0,true,371.0025,0.38233,229.3,0,84,2.29,{"$f":"IF(ROUND((Weightings!$P$5*CC153^Weightings!$P$6*Weightings!$P$8 ),2)<Weightings!$P$7,Weightings!$P$7,ROUND((Weightings!$P$5*CC153^Weightings!$P$6*Weightings!$P$8 ),2))","v":897.46},{"$f":"ROUND(CD153/Weightings!$M$5,4)","v":0.23300000000000001},44.9,0,0,0,0,{"$f":"AS153*Weightings!$M$5*CJ153","v":0},0,0.17499999999999999,7.1,0,0,0,{"$f":"IF(ISNA(VLOOKUP($DC153,'Audit Values'!$A$2:$AE$252,2,FALSE)),'Preliminary SO66'!T150,VLOOKUP($DC153,'Audit Values'!$A$2:$AE$252,20,FALSE))","v":1},{"$f":"IF(ISNA(VLOOKUP($DC153,'Audit Values'!$A$2:$AE$252,21,FALSE)),'Preliminary SO66'!U150,VLOOKUP($DC153,'Audit Values'!$A$2:$AE$252,21,FALSE))","v":0},27.8,28.8,null,null,null,null,null,null,null,"D0357"]
[358,"Sumner","Oxford ",315.2,0,315.2,315.60000000000002,0,315.60000000000002,420.9,{"$f":"IF(ISNA(VLOOKUP($DC154,'Audit Values'!$A$2:$AE$252,2,FALSE)),'Preliminary SO66'!B151,VLOOKUP($DC154,'Audit Values'!$A$2:$AE$252,31,FALSE))","v":287},315.60000000000002,{"$f":"IF(ISNA(VLOOKUP($DC154,'Audit Values'!$A$2:$AE$252,2,FALSE)),'Preliminary SO66'!Z151,VLOOKUP($DC154,'Audit Values'!$A$2:$AE$252,26,FALSE))","v":0},315.60000000000002,{"$f":"IF(ISNA(VLOOKUP($DC154,'Audit Values'!$A$2:$AE$252,2,FALSE)),'Preliminary SO66'!C151,IF(VLOOKUP($DC154,'Audit Values'!$A$2:$AE$252,28,FALSE)=\"\",VLOOKUP($DC154,'Audit Values'!$A$2:$AE$252,3,FALSE),VLOOKUP($DC154,'Audit Values'!$A$2:$AE$252,28,FALSE)))","v":2.5},289.5,423.4,423.4,318.10000000000002,133.9,152.1,152.1,0,{"$f":"IF(ISNA(VLOOKUP($DC154,'Audit Values'!$A$2:$AE$252,2,FALSE)),'Preliminary SO66'!D151,VLOOKUP($DC154,'Audit Values'!$A$2:$AE$252,4,FALSE))","v":75.400000000000006},{"$f":"ROUND((X154/6)*Weightings!$M$6,1)","v":6.3},{"$f":"IF(ISNA(VLOOKUP($DC154,'Audit Values'!$A$2:$AE$252,2,FALSE)),'Preliminary SO66'!F151,VLOOKUP($DC154,'Audit Values'!$A$2:$AE$252,6,FALSE))","v":0},{"$f":"ROUND((Z154/6)*Weightings!$M$7,1)","v":0},{"$f":"IF(ISNA(VLOOKUP($DC154,'Audit Values'!$A$2:$AE$252,2,FALSE)),'Preliminary SO66'!H151,VLOOKUP($DC154,'Audit Values'!$A$2:$AE$252,9,FALSE))","v":115},{"$f":"ROUND(AB154*Weightings!$M$8,1)","v":52.4},1,0,{"$f":"AE154*Weightings!$M$9","v":0},{"$f":"IF(ISNA(VLOOKUP($DC154,'Audit Values'!$A$2:$AE$252,2,FALSE)),'Preliminary SO66'!L151,VLOOKUP($DC154,'Audit Values'!$A$2:$AE$252,12,FALSE))","v":0},{"$f":"ROUND(AG154*Weightings!$M$10,1)","v":0},{"$f":"IF(ISNA(VLOOKUP($DC154,'Audit Values'!$A$2:$AE$252,2,FALSE)),'Preliminary SO66'!O151,VLOOKUP($DC154,'Audit Values'!$A$2:$AE$252,15,FALSE))","v":111},32.6,{"$f":"CG154/Weightings!$M$5","v":0},{"$f":"CH154/Weightings!$M$5","v":0},{"$f":"CL154/Weightings!$M$5","v":0},140.6,{"$f":"IF(ISNA(VLOOKUP($DC154,'Audit Values'!$A$2:$AE$252,2,FALSE)),'Preliminary SO66'!X151,VLOOKUP($DC154,'Audit Values'!$A$2:$AE$252,24,FALSE))","v":0},426352,{"$f":"AP154/Weightings!$M$5","v":110.7},703.1,813.8,813.8,0,{"$f":"IF(ISNA(VLOOKUP($DC154,'Audit Values'!$A$2:$AC$299,2,FALSE)),\"\",IF(AND(Weightings!H154>0,VLOOKUP($DC154,'Audit Values'!$A$2:$AC$299,29,FALSE)<Weightings!H154),Weightings!H154,VLOOKUP($DC154,'Audit Values'!$A$2:$AC$299,29,FALSE)))","v":12},{"$f":"IF(ISNA(VLOOKUP($DC154,'Audit Values'!$A$2:$AD$299,2,FALSE)),\"\",VLOOKUP($DC154,'Audit Values'!$A$2:$AD$299,30,FALSE))","v":"A"},{"$f":"IF(Weightings!G154=\"\",\"\",IF(Weightings!I154=\"Pending\",\"PX\",\"R\"))","v":""},{"$f":"AR154*Weightings!$M$5+AU154","v":2708341},{"$f":"AT154*Weightings!$M$5+AU154","v":3134758},{"$f":"IF(Weightings!G154>0,Weightings!G154,'Preliminary SO66'!AB151)","v":3998962},483501,179609,32924,3302928,3134758,null,{"$f":"Weightings!E154","v":0},{"$f":"Weightings!F154","v":0},0,3134758,{"$f":"MAX(ROUND(((AR154-AN154-AO154)*Weightings!$M$12)+'2016legmax.xls'!AP154,0),ROUND((('2016legmax.xls'!AR154-'2016legmax.xls'!AN154-'2016legmax.xls'!AO154)*Weightings!$M$12)+Weightings!B154,0))","v":3015501},0.3,904650,925000,904650,0.3,0,false,0,0,0,true,22.398800000000001,0.47803699999999999,152.1,0,136,0.82,{"$f":"IF(ROUND((Weightings!$P$5*CC154^Weightings!$P$6*Weightings!$P$8 ),2)<Weightings!$P$7,Weightings!$P$7,ROUND((Weightings!$P$5*CC154^Weightings!$P$6*Weightings!$P$8 ),2))","v":1132.1600000000001},{"$f":"ROUND(CD154/Weightings!$M$5,4)","v":0.29389999999999999},32.6,0,0,0,0,{"$f":"AS154*Weightings!$M$5*CJ154","v":0},0,0.36199999999999999,2.2999999999999998,0,0,1,{"$f":"IF(ISNA(VLOOKUP($DC154,'Audit Values'!$A$2:$AE$252,2,FALSE)),'Preliminary SO66'!T151,VLOOKUP($DC154,'Audit Values'!$A$2:$AE$252,20,FALSE))","v":38},{"$f":"IF(ISNA(VLOOKUP($DC154,'Audit Values'!$A$2:$AE$252,21,FALSE)),'Preliminary SO66'!U151,VLOOKUP($DC154,'Audit Values'!$A$2:$AE$252,21,FALSE))","v":8.9},87,133.9,null,null,null,null,null,null,null,"D0358"]
[359,"Sumner","Argonia Public Schools ",160,0,160,163.9,0,163.9,155,{"$f":"IF(ISNA(VLOOKUP($DC155,'Audit Values'!$A$2:$AE$252,2,FALSE)),'Preliminary SO66'!B152,VLOOKUP($DC155,'Audit Values'!$A$2:$AE$252,31,FALSE))","v":155},163.9,{"$f":"IF(ISNA(VLOOKUP($DC155,'Audit Values'!$A$2:$AE$252,2,FALSE)),'Preliminary SO66'!Z152,VLOOKUP($DC155,'Audit Values'!$A$2:$AE$252,26,FALSE))","v":0},163.9,{"$f":"IF(ISNA(VLOOKUP($DC155,'Audit Values'!$A$2:$AE$252,2,FALSE)),'Preliminary SO66'!C152,IF(VLOOKUP($DC155,'Audit Values'!$A$2:$AE$252,28,FALSE)=\"\",VLOOKUP($DC155,'Audit Values'!$A$2:$AE$252,3,FALSE),VLOOKUP($DC155,'Audit Values'!$A$2:$AE$252,28,FALSE)))","v":2},157,157,157,165.9,0,139.30000000000001,139.30000000000001,0,{"$f":"IF(ISNA(VLOOKUP($DC155,'Audit Values'!$A$2:$AE$252,2,FALSE)),'Preliminary SO66'!D152,VLOOKUP($DC155,'Audit Values'!$A$2:$AE$252,4,FALSE))","v":67.8},{"$f":"ROUND((X155/6)*Weightings!$M$6,1)","v":5.7},{"$f":"IF(ISNA(VLOOKUP($DC155,'Audit Values'!$A$2:$AE$252,2,FALSE)),'Preliminary SO66'!F152,VLOOKUP($DC155,'Audit Values'!$A$2:$AE$252,6,FALSE))","v":0},{"$f":"ROUND((Z155/6)*Weightings!$M$7,1)","v":0},{"$f":"IF(ISNA(VLOOKUP($DC155,'Audit Values'!$A$2:$AE$252,2,FALSE)),'Preliminary SO66'!H152,VLOOKUP($DC155,'Audit Values'!$A$2:$AE$252,9,FALSE))","v":54},{"$f":"ROUND(AB155*Weightings!$M$8,1)","v":24.6},0,0,{"$f":"AE155*Weightings!$M$9","v":0},{"$f":"IF(ISNA(VLOOKUP($DC155,'Audit Values'!$A$2:$AE$252,2,FALSE)),'Preliminary SO66'!L152,VLOOKUP($DC155,'Audit Values'!$A$2:$AE$252,12,FALSE))","v":0},{"$f":"ROUND(AG155*Weightings!$M$10,1)","v":0},{"$f":"IF(ISNA(VLOOKUP($DC155,'Audit Values'!$A$2:$AE$252,2,FALSE)),'Preliminary SO66'!O152,VLOOKUP($DC155,'Audit Values'!$A$2:$AE$252,15,FALSE))","v":47.5},18,{"$f":"CG155/Weightings!$M$5","v":0},{"$f":"CH155/Weightings!$M$5","v":0},{"$f":"CL155/Weightings!$M$5","v":0},0,{"$f":"IF(ISNA(VLOOKUP($DC155,'Audit Values'!$A$2:$AE$252,2,FALSE)),'Preliminary SO66'!X152,VLOOKUP($DC155,'Audit Values'!$A$2:$AE$252,24,FALSE))","v":0},215139,{"$f":"AP155/Weightings!$M$5","v":55.9},353.5,409.4,409.4,0,{"$f":"IF(ISNA(VLOOKUP($DC155,'Audit Values'!$A$2:$AC$299,2,FALSE)),\"\",IF(AND(Weightings!H155>0,VLOOKUP($DC155,'Audit Values'!$A$2:$AC$299,29,FALSE)<Weightings!H155),Weightings!H155,VLOOKUP($DC155,'Audit Values'!$A$2:$AC$299,29,FALSE)))","v":16},{"$f":"IF(ISNA(VLOOKUP($DC155,'Audit Values'!$A$2:$AD$299,2,FALSE)),\"\",VLOOKUP($DC155,'Audit Values'!$A$2:$AD$299,30,FALSE))","v":"A"},{"$f":"IF(Weightings!G155=\"\",\"\",IF(Weightings!I155=\"Pending\",\"PX\",\"R\"))","v":""},{"$f":"AR155*Weightings!$M$5+AU155","v":1361682},{"$f":"AT155*Weightings!$M$5+AU155","v":1577009},{"$f":"IF(Weightings!G155>0,Weightings!G155,'Preliminary SO66'!AB152)","v":1846737},93494,105986,0,1647257,1577009,null,{"$f":"Weightings!E155","v":0},{"$f":"Weightings!F155","v":0},0,1577009,{"$f":"MAX(ROUND(((AR155-AN155-AO155)*Weightings!$M$12)+'2016legmax.xls'!AP155,0),ROUND((('2016legmax.xls'!AR155-'2016legmax.xls'!AN155-'2016legmax.xls'!AO155)*Weightings!$M$12)+Weightings!B155,0))","v":1829982},0.3,548995,510140,510140,0.27879999999999999,0,true,636.26499999999999,0.83964799999999995,139.30000000000001,false,0,0,0,0,174,0.27,{"$f":"IF(ROUND((Weightings!$P$5*CC155^Weightings!$P$6*Weightings!$P$8 ),2)<Weightings!$P$7,Weightings!$P$7,ROUND((Weightings!$P$5*CC155^Weightings!$P$6*Weightings!$P$8 ),2))","v":1455.6},{"$f":"ROUND(CD155/Weightings!$M$5,4)","v":0.37790000000000001},18,0,0,0,0,{"$f":"AS155*Weightings!$M$5*CJ155","v":0},0,0.32500000000000001,1,0,0,0,{"$f":"IF(ISNA(VLOOKUP($DC155,'Audit Values'!$A$2:$AE$252,2,FALSE)),'Preliminary SO66'!T152,VLOOKUP($DC155,'Audit Values'!$A$2:$AE$252,20,FALSE))","v":0},{"$f":"IF(ISNA(VLOOKUP($DC155,'Audit Values'!$A$2:$AE$252,21,FALSE)),'Preliminary SO66'!U152,VLOOKUP($DC155,'Audit Values'!$A$2:$AE$252,21,FALSE))","v":0},0,0,null,null,null,null,null,null,null,"D0359"]
[360,"Sumner","Caldwell ",240.5,0,240.5,243.5,0,243.5,230,{"$f":"IF(ISNA(VLOOKUP($DC156,'Audit Values'!$A$2:$AE$252,2,FALSE)),'Preliminary SO66'!B153,VLOOKUP($DC156,'Audit Values'!$A$2:$AE$252,31,FALSE))","v":222},243.5,{"$f":"IF(ISNA(VLOOKUP($DC156,'Audit Values'!$A$2:$AE$252,2,FALSE)),'Preliminary SO66'!Z153,VLOOKUP($DC156,'Audit Values'!$A$2:$AE$252,26,FALSE))","v":0},243.5,{"$f":"IF(ISNA(VLOOKUP($DC156,'Audit Values'!$A$2:$AE$252,2,FALSE)),'Preliminary SO66'!C153,IF(VLOOKUP($DC156,'Audit Values'!$A$2:$AE$252,28,FALSE)=\"\",VLOOKUP($DC156,'Audit Values'!$A$2:$AE$252,3,FALSE),VLOOKUP($DC156,'Audit Values'!$A$2:$AE$252,28,FALSE)))","v":4},226,234,234,247.5,8,154.30000000000001,154.30000000000001,0,{"$f":"IF(ISNA(VLOOKUP($DC156,'Audit Values'!$A$2:$AE$252,2,FALSE)),'Preliminary SO66'!D153,VLOOKUP($DC156,'Audit Values'!$A$2:$AE$252,4,FALSE))","v":72.099999999999994},{"$f":"ROUND((X156/6)*Weightings!$M$6,1)","v":6},{"$f":"IF(ISNA(VLOOKUP($DC156,'Audit Values'!$A$2:$AE$252,2,FALSE)),'Preliminary SO66'!F153,VLOOKUP($DC156,'Audit Values'!$A$2:$AE$252,6,FALSE))","v":0},{"$f":"ROUND((Z156/6)*Weightings!$M$7,1)","v":0},{"$f":"IF(ISNA(VLOOKUP($DC156,'Audit Values'!$A$2:$AE$252,2,FALSE)),'Preliminary SO66'!H153,VLOOKUP($DC156,'Audit Values'!$A$2:$AE$252,9,FALSE))","v":102},{"$f":"ROUND(AB156*Weightings!$M$8,1)","v":46.5},4.4000000000000004,0,{"$f":"AE156*Weightings!$M$9","v":0},{"$f":"IF(ISNA(VLOOKUP($DC156,'Audit Values'!$A$2:$AE$252,2,FALSE)),'Preliminary SO66'!L153,VLOOKUP($DC156,'Audit Values'!$A$2:$AE$252,12,FALSE))","v":0},{"$f":"ROUND(AG156*Weightings!$M$10,1)","v":0},{"$f":"IF(ISNA(VLOOKUP($DC156,'Audit Values'!$A$2:$AE$252,2,FALSE)),'Preliminary SO66'!O153,VLOOKUP($DC156,'Audit Values'!$A$2:$AE$252,15,FALSE))","v":42},16.600000000000001,{"$f":"CG156/Weightings!$M$5","v":0},{"$f":"CH156/Weightings!$M$5","v":0},{"$f":"CL156/Weightings!$M$5","v":0},8.4,{"$f":"IF(ISNA(VLOOKUP($DC156,'Audit Values'!$A$2:$AE$252,2,FALSE)),'Preliminary SO66'!X153,VLOOKUP($DC156,'Audit Values'!$A$2:$AE$252,24,FALSE))","v":1},296405,{"$f":"AP156/Weightings!$M$5","v":76.900000000000006},484.7,561.6,561.6,0,{"$f":"IF(ISNA(VLOOKUP($DC156,'Audit Values'!$A$2:$AC$299,2,FALSE)),\"\",IF(AND(Weightings!H156>0,VLOOKUP($DC156,'Audit Values'!$A$2:$AC$299,29,FALSE)<Weightings!H156),Weightings!H156,VLOOKUP($DC156,'Audit Values'!$A$2:$AC$299,29,FALSE)))","v":9},{"$f":"IF(ISNA(VLOOKUP($DC156,'Audit Values'!$A$2:$AD$299,2,FALSE)),\"\",VLOOKUP($DC156,'Audit Values'!$A$2:$AD$299,30,FALSE))","v":"A"},{"$f":"IF(Weightings!G156=\"\",\"\",IF(Weightings!I156=\"Pending\",\"PX\",\"R\"))","v":""},{"$f":"AR156*Weightings!$M$5+AU156","v":1867064},{"$f":"AT156*Weightings!$M$5+AU156","v":2163283},{"$f":"IF(Weightings!G156>0,Weightings!G156,'Preliminary SO66'!AB153)","v":2705457},318536,136987,21437,2228497,2163283,null,{"$f":"Weightings!E156","v":0},{"$f":"Weightings!F156","v":0},0,2163283,{"$f":"MAX(ROUND(((AR156-AN156-AO156)*Weightings!$M$12)+'2016legmax.xls'!AP156,0),ROUND((('2016legmax.xls'!AR156-'2016legmax.xls'!AN156-'2016legmax.xls'!AO156)*Weightings!$M$12)+Weightings!B156,0))","v":2452071},0.33,809183,772000,772000,0.31480000000000002,0,true,1424.1130000000001,0.62334900000000004,154.30000000000001,false,0,0,0,0,194,0.22,{"$f":"IF(ROUND((Weightings!$P$5*CC156^Weightings!$P$6*Weightings!$P$8 ),2)<Weightings!$P$7,Weightings!$P$7,ROUND((Weightings!$P$5*CC156^Weightings!$P$6*Weightings!$P$8 ),2))","v":1524.62},{"$f":"ROUND(CD156/Weightings!$M$5,4)","v":0.39579999999999999},16.600000000000001,0,0,0,0,{"$f":"AS156*Weightings!$M$5*CJ156","v":0},0,0.41199999999999998,1.3,0,0,4.4000000000000004,{"$f":"IF(ISNA(VLOOKUP($DC156,'Audit Values'!$A$2:$AE$252,2,FALSE)),'Preliminary SO66'!T153,VLOOKUP($DC156,'Audit Values'!$A$2:$AE$252,20,FALSE))","v":2},{"$f":"IF(ISNA(VLOOKUP($DC156,'Audit Values'!$A$2:$AE$252,21,FALSE)),'Preliminary SO66'!U153,VLOOKUP($DC156,'Audit Values'!$A$2:$AE$252,21,FALSE))","v":0},6,8,null,null,null,null,null,null,null,"D0360"]
[361,"Harper","Anthony-Harper ",828.7,0,828.7,839.8,0,839.8,806.5,{"$f":"IF(ISNA(VLOOKUP($DC157,'Audit Values'!$A$2:$AE$269,2,FALSE)),'Preliminary SO66'!B154,VLOOKUP($DC157,'Audit Values'!$A$2:$AE$269,31,FALSE))","v":788.5},839.8,{"$f":"IF(ISNA(VLOOKUP($DC157,'Audit Values'!$A$2:$AE$252,2,FALSE)),'Preliminary SO66'!Z154,VLOOKUP($DC157,'Audit Values'!$A$2:$AE$252,26,FALSE))","v":0},839.8,{"$f":"IF(ISNA(VLOOKUP($DC157,'Audit Values'!$A$2:$AE$269,2,FALSE)),'Preliminary SO66'!C154,IF(VLOOKUP($DC157,'Audit Values'!$A$2:$AE$269,28,FALSE)=\"\",VLOOKUP($DC157,'Audit Values'!$A$2:$AE$269,3,FALSE),VLOOKUP($DC157,'Audit Values'!$A$2:$AE$269,28,FALSE)))","v":9},797.5,815.5,815.5,848.8,18,252.7,252.7,0,{"$f":"IF(ISNA(VLOOKUP($DC157,'Audit Values'!$A$2:$AE$252,2,FALSE)),'Preliminary SO66'!D154,VLOOKUP($DC157,'Audit Values'!$A$2:$AE$252,4,FALSE))","v":86.6},{"$f":"ROUND((X157/6)*Weightings!$M$6,1)","v":7.2},{"$f":"IF(ISNA(VLOOKUP($DC157,'Audit Values'!$A$2:$AE$252,2,FALSE)),'Preliminary SO66'!F154,VLOOKUP($DC157,'Audit Values'!$A$2:$AE$252,6,FALSE))","v":95},{"$f":"ROUND((Z157/6)*Weightings!$M$7,1)","v":6.3},{"$f":"IF(ISNA(VLOOKUP($DC157,'Audit Values'!$A$2:$AE$252,2,FALSE)),'Preliminary SO66'!H154,VLOOKUP($DC157,'Audit Values'!$A$2:$AE$252,9,FALSE))","v":439},{"$f":"ROUND(AB157*Weightings!$M$8,1)","v":200.2},46.1,0,{"$f":"AE157*Weightings!$M$9","v":0},{"$f":"IF(ISNA(VLOOKUP($DC157,'Audit Values'!$A$2:$AE$252,2,FALSE)),'Preliminary SO66'!L154,VLOOKUP($DC157,'Audit Values'!$A$2:$AE$252,12,FALSE))","v":0},{"$f":"ROUND(AG157*Weightings!$M$10,1)","v":0},{"$f":"IF(ISNA(VLOOKUP($DC157,'Audit Values'!$A$2:$AE$269,2,FALSE)),'Preliminary SO66'!O154,VLOOKUP($DC157,'Audit Values'!$A$2:$AE$269,15,FALSE))","v":340},108.5,{"$f":"CG157/Weightings!$M$5","v":0},{"$f":"CH157/Weightings!$M$5","v":0},{"$f":"CL157/Weightings!$M$5","v":0},18.899999999999999,{"$f":"IF(ISNA(VLOOKUP($DC157,'Audit Values'!$A$2:$AE$252,2,FALSE)),'Preliminary SO66'!X154,VLOOKUP($DC157,'Audit Values'!$A$2:$AE$252,24,FALSE))","v":0},1099340,{"$f":"AP157/Weightings!$M$5","v":285.39999999999998},1488.7,1774.1,1774.1,0,{"$f":"IF(ISNA(VLOOKUP($DC157,'Audit Values'!$A$2:$AC$299,2,FALSE)),\"\",IF(AND(Weightings!H157>0,VLOOKUP($DC157,'Audit Values'!$A$2:$AC$299,29,FALSE)<Weightings!H157),Weightings!H157,VLOOKUP($DC157,'Audit Values'!$A$2:$AC$299,29,FALSE)))","v":17},{"$f":"IF(ISNA(VLOOKUP($DC157,'Audit Values'!$A$2:$AD$299,2,FALSE)),\"\",VLOOKUP($DC157,'Audit Values'!$A$2:$AD$299,30,FALSE))","v":"A"},{"$f":"IF(Weightings!G157=\"\",\"\",IF(Weightings!I157=\"Pending\",\"PX\",\"R\"))","v":""},{"$f":"AR157*Weightings!$M$5+AU157","v":5734472},{"$f":"AT157*Weightings!$M$5+AU157","v":6833833},{"$f":"IF(Weightings!G157>0,Weightings!G157,'Preliminary SO66'!AB154)","v":6978382},79661,431012,0,6467709,6833833,null,{"$f":"Weightings!E157","v":0},{"$f":"Weightings!F157","v":0},0,6833833,{"$f":"MAX(ROUND(((AR157-AN157-AO157)*Weightings!$M$12)+'2016legmax.xls'!AP157,0),ROUND((('2016legmax.xls'!AR157-'2016legmax.xls'!AN157-'2016legmax.xls'!AO157)*Weightings!$M$12)+Weightings!B157,0))","v":7698742},0.29370000000000002,2261121,2254448,2254448,0.2928,0,false,0,0,0,true,679.14,0.297732,252.7,0,597.5,0.56999999999999995,{"$f":"IF(ROUND((Weightings!$P$5*CC157^Weightings!$P$6*Weightings!$P$8 ),2)<Weightings!$P$7,Weightings!$P$7,ROUND((Weightings!$P$5*CC157^Weightings!$P$6*Weightings!$P$8 ),2))","v":1229.24},{"$f":"ROUND(CD157/Weightings!$M$5,4)","v":0.31909999999999999},108.5,0,0,0,0,{"$f":"AS157*Weightings!$M$5*CJ157","v":0},0,0.51700000000000002,1.4,46.1,0,0,{"$f":"IF(ISNA(VLOOKUP($DC157,'Audit Values'!$A$2:$AE$252,2,FALSE)),'Preliminary SO66'!T154,VLOOKUP($DC157,'Audit Values'!$A$2:$AE$252,20,FALSE))","v":0},{"$f":"IF(ISNA(VLOOKUP($DC157,'Audit Values'!$A$2:$AE$252,21,FALSE)),'Preliminary SO66'!U154,VLOOKUP($DC157,'Audit Values'!$A$2:$AE$252,21,FALSE))","v":0},18,18,null,null,null,null,null,null,null,"D0361"]
[362,"Linn","Prairie View ",909.3,0,909.3,864.6,0,864.6,852.1,{"$f":"IF(ISNA(VLOOKUP($DC158,'Audit Values'!$A$2:$AE$252,2,FALSE)),'Preliminary SO66'!B155,VLOOKUP($DC158,'Audit Values'!$A$2:$AE$252,31,FALSE))","v":852.1},875.3,{"$f":"IF(ISNA(VLOOKUP($DC158,'Audit Values'!$A$2:$AE$252,2,FALSE)),'Preliminary SO66'!Z155,VLOOKUP($DC158,'Audit Values'!$A$2:$AE$252,26,FALSE))","v":0},875.3,{"$f":"IF(ISNA(VLOOKUP($DC158,'Audit Values'!$A$2:$AE$252,2,FALSE)),'Preliminary SO66'!C155,IF(VLOOKUP($DC158,'Audit Values'!$A$2:$AE$252,28,FALSE)=\"\",VLOOKUP($DC158,'Audit Values'!$A$2:$AE$252,3,FALSE),VLOOKUP($DC158,'Audit Values'!$A$2:$AE$252,28,FALSE)))","v":0},852.1,852.1,852.1,875.3,0,252.7,252.7,0,{"$f":"IF(ISNA(VLOOKUP($DC158,'Audit Values'!$A$2:$AE$252,2,FALSE)),'Preliminary SO66'!D155,VLOOKUP($DC158,'Audit Values'!$A$2:$AE$252,4,FALSE))","v":200.1},{"$f":"ROUND((X158/6)*Weightings!$M$6,1)","v":16.7},{"$f":"IF(ISNA(VLOOKUP($DC158,'Audit Values'!$A$2:$AE$252,2,FALSE)),'Preliminary SO66'!F155,VLOOKUP($DC158,'Audit Values'!$A$2:$AE$252,6,FALSE))","v":6.4},{"$f":"ROUND((Z158/6)*Weightings!$M$7,1)","v":0.4},{"$f":"IF(ISNA(VLOOKUP($DC158,'Audit Values'!$A$2:$AE$252,2,FALSE)),'Preliminary SO66'!H155,VLOOKUP($DC158,'Audit Values'!$A$2:$AE$252,9,FALSE))","v":346},{"$f":"ROUND(AB158*Weightings!$M$8,1)","v":157.80000000000001},10.9,0,{"$f":"AE158*Weightings!$M$9","v":0},{"$f":"IF(ISNA(VLOOKUP($DC158,'Audit Values'!$A$2:$AE$252,2,FALSE)),'Preliminary SO66'!L155,VLOOKUP($DC158,'Audit Values'!$A$2:$AE$252,12,FALSE))","v":93.8},{"$f":"ROUND(AG158*Weightings!$M$10,1)","v":23.5},{"$f":"IF(ISNA(VLOOKUP($DC158,'Audit Values'!$A$2:$AE$252,2,FALSE)),'Preliminary SO66'!O155,VLOOKUP($DC158,'Audit Values'!$A$2:$AE$252,15,FALSE))","v":642.5},154.19999999999999,{"$f":"CG158/Weightings!$M$5","v":0},{"$f":"CH158/Weightings!$M$5","v":0},{"$f":"CL158/Weightings!$M$5","v":0},0,{"$f":"IF(ISNA(VLOOKUP($DC158,'Audit Values'!$A$2:$AE$252,2,FALSE)),'Preliminary SO66'!X155,VLOOKUP($DC158,'Audit Values'!$A$2:$AE$252,24,FALSE))","v":0},1221718,{"$f":"AP158/Weightings!$M$5","v":317.2},1491.5,1808.7,1808.7,0,{"$f":"IF(ISNA(VLOOKUP($DC158,'Audit Values'!$A$2:$AC$299,2,FALSE)),\"\",IF(AND(Weightings!H158>0,VLOOKUP($DC158,'Audit Values'!$A$2:$AC$299,29,FALSE)<Weightings!H158),Weightings!H158,VLOOKUP($DC158,'Audit Values'!$A$2:$AC$299,29,FALSE)))","v":6},{"$f":"IF(ISNA(VLOOKUP($DC158,'Audit Values'!$A$2:$AD$299,2,FALSE)),\"\",VLOOKUP($DC158,'Audit Values'!$A$2:$AD$299,30,FALSE))","v":"A"},{"$f":"IF(Weightings!G158=\"\",\"\",IF(Weightings!I158=\"Pending\",\"PX\",\"R\"))","v":""},{"$f":"AR158*Weightings!$M$5+AU158","v":5745258},{"$f":"AT158*Weightings!$M$5+AU158","v":6967112},{"$f":"IF(Weightings!G158>0,Weightings!G158,'Preliminary SO66'!AB155)","v":8195719},0,547584,0,7648135,6967112,null,{"$f":"Weightings!E158","v":0},{"$f":"Weightings!F158","v":0},0,6967112,{"$f":"MAX(ROUND(((AR158-AN158-AO158)*Weightings!$M$12)+'2016legmax.xls'!AP158,0),ROUND((('2016legmax.xls'!AR158-'2016legmax.xls'!AN158-'2016legmax.xls'!AO158)*Weightings!$M$12)+Weightings!B158,0))","v":8109480},0.3,2432844,2459649,2432844,0.3,0,false,0,0,0,true,711.93380000000002,0.28872900000000001,252.7,0,320,2.0099999999999998,{"$f":"IF(ROUND((Weightings!$P$5*CC158^Weightings!$P$6*Weightings!$P$8 ),2)<Weightings!$P$7,Weightings!$P$7,ROUND((Weightings!$P$5*CC158^Weightings!$P$6*Weightings!$P$8 ),2))","v":924.33},{"$f":"ROUND(CD158/Weightings!$M$5,4)","v":0.24},154.19999999999999,0,0,0,0,{"$f":"AS158*Weightings!$M$5*CJ158","v":0},0,0.39500000000000002,2.7,0,0,10.9,{"$f":"IF(ISNA(VLOOKUP($DC158,'Audit Values'!$A$2:$AE$252,2,FALSE)),'Preliminary SO66'!T155,VLOOKUP($DC158,'Audit Values'!$A$2:$AE$252,20,FALSE))","v":0},{"$f":"IF(ISNA(VLOOKUP($DC158,'Audit Values'!$A$2:$AE$252,21,FALSE)),'Preliminary SO66'!U155,VLOOKUP($DC158,'Audit Values'!$A$2:$AE$252,21,FALSE))","v":0},0,0,null,null,null,null,null,null,null,"D0362"]
[363,"Finney","Holcomb ",913.4,0,913.4,937.3,0,937.3,970.3,{"$f":"IF(ISNA(VLOOKUP($DC159,'Audit Values'!$A$2:$AE$269,2,FALSE)),'Preliminary SO66'!B156,VLOOKUP($DC159,'Audit Values'!$A$2:$AE$269,31,FALSE))","v":946.5},946.5,{"$f":"IF(ISNA(VLOOKUP($DC159,'Audit Values'!$A$2:$AE$252,2,FALSE)),'Preliminary SO66'!Z156,VLOOKUP($DC159,'Audit Values'!$A$2:$AE$252,26,FALSE))","v":0},946.5,{"$f":"IF(ISNA(VLOOKUP($DC159,'Audit Values'!$A$2:$AE$269,2,FALSE)),'Preliminary SO66'!C156,IF(VLOOKUP($DC159,'Audit Values'!$A$2:$AE$269,28,FALSE)=\"\",VLOOKUP($DC159,'Audit Values'!$A$2:$AE$269,3,FALSE),VLOOKUP($DC159,'Audit Values'!$A$2:$AE$269,28,FALSE)))","v":12},958.5,982.3,982.3,958.5,23.8,249.7,249.7,0,{"$f":"IF(ISNA(VLOOKUP($DC159,'Audit Values'!$A$2:$AE$252,2,FALSE)),'Preliminary SO66'!D156,VLOOKUP($DC159,'Audit Values'!$A$2:$AE$252,4,FALSE))","v":147},{"$f":"ROUND((X159/6)*Weightings!$M$6,1)","v":12.3},{"$f":"IF(ISNA(VLOOKUP($DC159,'Audit Values'!$A$2:$AE$269,2,FALSE)),'Preliminary SO66'!F156,VLOOKUP($DC159,'Audit Values'!$A$2:$AE$269,6,FALSE))","v":669.5},{"$f":"ROUND((Z159/6)*Weightings!$M$7,1)","v":44.1},{"$f":"IF(ISNA(VLOOKUP($DC159,'Audit Values'!$A$2:$AE$252,2,FALSE)),'Preliminary SO66'!H156,VLOOKUP($DC159,'Audit Values'!$A$2:$AE$252,9,FALSE))","v":467},{"$f":"ROUND(AB159*Weightings!$M$8,1)","v":213},44.8,0,{"$f":"AE159*Weightings!$M$9","v":0},{"$f":"IF(ISNA(VLOOKUP($DC159,'Audit Values'!$A$2:$AE$252,2,FALSE)),'Preliminary SO66'!L156,VLOOKUP($DC159,'Audit Values'!$A$2:$AE$252,12,FALSE))","v":0},{"$f":"ROUND(AG159*Weightings!$M$10,1)","v":0},{"$f":"IF(ISNA(VLOOKUP($DC159,'Audit Values'!$A$2:$AE$269,2,FALSE)),'Preliminary SO66'!O156,VLOOKUP($DC159,'Audit Values'!$A$2:$AE$269,15,FALSE))","v":96},32.799999999999997,{"$f":"CG159/Weightings!$M$5","v":0},{"$f":"CH159/Weightings!$M$5","v":0},{"$f":"CL159/Weightings!$M$5","v":0},25,{"$f":"IF(ISNA(VLOOKUP($DC159,'Audit Values'!$A$2:$AE$252,2,FALSE)),'Preliminary SO66'!X156,VLOOKUP($DC159,'Audit Values'!$A$2:$AE$252,24,FALSE))","v":0},497963,{"$f":"AP159/Weightings!$M$5","v":129.30000000000001},1580.2,1709.5,1709.5,0,{"$f":"IF(ISNA(VLOOKUP($DC159,'Audit Values'!$A$2:$AC$299,2,FALSE)),\"\",IF(AND(Weightings!H159>0,VLOOKUP($DC159,'Audit Values'!$A$2:$AC$299,29,FALSE)<Weightings!H159),Weightings!H159,VLOOKUP($DC159,'Audit Values'!$A$2:$AC$299,29,FALSE)))","v":17},{"$f":"IF(ISNA(VLOOKUP($DC159,'Audit Values'!$A$2:$AD$299,2,FALSE)),\"\",VLOOKUP($DC159,'Audit Values'!$A$2:$AD$299,30,FALSE))","v":"A"},{"$f":"IF(Weightings!G159=\"\",\"\",IF(Weightings!I159=\"Pending\",\"PX\",\"R\"))","v":""},{"$f":"AR159*Weightings!$M$5+AU159","v":6086930},{"$f":"AT159*Weightings!$M$5+AU159","v":6584994},{"$f":"IF(Weightings!G159>0,Weightings!G159,'Preliminary SO66'!AB156)","v":7160331},0,478548,0,6681783,6584994,null,{"$f":"Weightings!E159","v":0},{"$f":"Weightings!F159","v":0},0,6584994,{"$f":"MAX(ROUND(((AR159-AN159-AO159)*Weightings!$M$12)+'2016legmax.xls'!AP159,0),ROUND((('2016legmax.xls'!AR159-'2016legmax.xls'!AN159-'2016legmax.xls'!AO159)*Weightings!$M$12)+Weightings!B159,0))","v":7512773},0.3,2253832,2150000,2150000,0.28620000000000001,0,false,0,0,0,true,814.89380000000006,0.26046200000000003,249.7,0,231,0.42,{"$f":"IF(ROUND((Weightings!$P$5*CC159^Weightings!$P$6*Weightings!$P$8 ),2)<Weightings!$P$7,Weightings!$P$7,ROUND((Weightings!$P$5*CC159^Weightings!$P$6*Weightings!$P$8 ),2))","v":1317.16},{"$f":"ROUND(CD159/Weightings!$M$5,4)","v":0.34189999999999998},32.799999999999997,0,0,0,0,{"$f":"AS159*Weightings!$M$5*CJ159","v":0},0,0.48699999999999999,4.0999999999999996,0,0,44.8,{"$f":"IF(ISNA(VLOOKUP($DC159,'Audit Values'!$A$2:$AE$269,2,FALSE)),'Preliminary SO66'!T156,VLOOKUP($DC159,'Audit Values'!$A$2:$AE$269,20,FALSE))","v":0},{"$f":"IF(ISNA(VLOOKUP($DC159,'Audit Values'!$A$2:$AE$269,21,FALSE)),'Preliminary SO66'!U156,VLOOKUP($DC159,'Audit Values'!$A$2:$AE$269,21,FALSE))","v":1.8},22,23.8,null,null,null,null,null,null,null,"D0363"]
[364,"Marshall","Marysville ",683.7,0,683.7,701.8,0,701.8,689.5,{"$f":"IF(ISNA(VLOOKUP($DC160,'Audit Values'!$A$2:$AE$252,2,FALSE)),'Preliminary SO66'!B157,VLOOKUP($DC160,'Audit Values'!$A$2:$AE$252,31,FALSE))","v":689.5},701.8,{"$f":"IF(ISNA(VLOOKUP($DC160,'Audit Values'!$A$2:$AE$252,2,FALSE)),'Preliminary SO66'!Z157,VLOOKUP($DC160,'Audit Values'!$A$2:$AE$252,26,FALSE))","v":0},701.8,{"$f":"IF(ISNA(VLOOKUP($DC160,'Audit Values'!$A$2:$AE$252,2,FALSE)),'Preliminary SO66'!C157,IF(VLOOKUP($DC160,'Audit Values'!$A$2:$AE$252,28,FALSE)=\"\",VLOOKUP($DC160,'Audit Values'!$A$2:$AE$252,3,FALSE),VLOOKUP($DC160,'Audit Values'!$A$2:$AE$252,28,FALSE)))","v":4},693.5,693.5,693.5,705.8,0,244.4,244.4,0,{"$f":"IF(ISNA(VLOOKUP($DC160,'Audit Values'!$A$2:$AE$252,2,FALSE)),'Preliminary SO66'!D157,VLOOKUP($DC160,'Audit Values'!$A$2:$AE$252,4,FALSE))","v":315.39999999999998},{"$f":"ROUND((X160/6)*Weightings!$M$6,1)","v":26.3},{"$f":"IF(ISNA(VLOOKUP($DC160,'Audit Values'!$A$2:$AE$252,2,FALSE)),'Preliminary SO66'!F157,VLOOKUP($DC160,'Audit Values'!$A$2:$AE$252,6,FALSE))","v":0},{"$f":"ROUND((Z160/6)*Weightings!$M$7,1)","v":0},{"$f":"IF(ISNA(VLOOKUP($DC160,'Audit Values'!$A$2:$AE$252,2,FALSE)),'Preliminary SO66'!H157,VLOOKUP($DC160,'Audit Values'!$A$2:$AE$252,9,FALSE))","v":223},{"$f":"ROUND(AB160*Weightings!$M$8,1)","v":101.7},0,0,{"$f":"AE160*Weightings!$M$9","v":0},{"$f":"IF(ISNA(VLOOKUP($DC160,'Audit Values'!$A$2:$AE$252,2,FALSE)),'Preliminary SO66'!L157,VLOOKUP($DC160,'Audit Values'!$A$2:$AE$252,12,FALSE))","v":0},{"$f":"ROUND(AG160*Weightings!$M$10,1)","v":0},{"$f":"IF(ISNA(VLOOKUP($DC160,'Audit Values'!$A$2:$AE$252,2,FALSE)),'Preliminary SO66'!O157,VLOOKUP($DC160,'Audit Values'!$A$2:$AE$252,15,FALSE))","v":203.7},63.6,{"$f":"CG160/Weightings!$M$5","v":0},{"$f":"CH160/Weightings!$M$5","v":0},{"$f":"CL160/Weightings!$M$5","v":0},0,{"$f":"IF(ISNA(VLOOKUP($DC160,'Audit Values'!$A$2:$AE$252,2,FALSE)),'Preliminary SO66'!X157,VLOOKUP($DC160,'Audit Values'!$A$2:$AE$252,24,FALSE))","v":0},594924,{"$f":"AP160/Weightings!$M$5","v":154.4},1141.8,1296.2,1296.2,10000,{"$f":"IF(ISNA(VLOOKUP($DC160,'Audit Values'!$A$2:$AC$299,2,FALSE)),\"\",IF(AND(Weightings!H160>0,VLOOKUP($DC160,'Audit Values'!$A$2:$AC$299,29,FALSE)<Weightings!H160),Weightings!H160,VLOOKUP($DC160,'Audit Values'!$A$2:$AC$299,29,FALSE)))","v":2},{"$f":"IF(ISNA(VLOOKUP($DC160,'Audit Values'!$A$2:$AD$299,2,FALSE)),\"\",VLOOKUP($DC160,'Audit Values'!$A$2:$AD$299,30,FALSE))","v":"A"},{"$f":"IF(Weightings!G160=\"\",\"\",IF(Weightings!I160=\"Pending\",\"PX\",\"R\"))","v":""},{"$f":"AR160*Weightings!$M$5+AU160","v":4408214},{"$f":"AT160*Weightings!$M$5+AU160","v":5002962},{"$f":"IF(Weightings!G160>0,Weightings!G160,'Preliminary SO66'!AB157)","v":5947721},172213,468882,0,5306626,5002962,null,{"$f":"Weightings!E160","v":0},{"$f":"Weightings!F160","v":0},0,5002962,{"$f":"MAX(ROUND(((AR160-AN160-AO160)*Weightings!$M$12)+'2016legmax.xls'!AP160,0),ROUND((('2016legmax.xls'!AR160-'2016legmax.xls'!AN160-'2016legmax.xls'!AO160)*Weightings!$M$12)+Weightings!B160,0))","v":5990233},0.3,1797070,1803805,1797070,0.3,0,false,0,0,0,true,502.17750000000001,0.34631600000000001,244.4,0,325,0.63,{"$f":"IF(ROUND((Weightings!$P$5*CC160^Weightings!$P$6*Weightings!$P$8 ),2)<Weightings!$P$7,Weightings!$P$7,ROUND((Weightings!$P$5*CC160^Weightings!$P$6*Weightings!$P$8 ),2))","v":1201.72},{"$f":"ROUND(CD160/Weightings!$M$5,4)","v":0.312},63.6,0,0,0,0,{"$f":"AS160*Weightings!$M$5*CJ160","v":0},0,0.316,2.2000000000000002,0,0,0,{"$f":"IF(ISNA(VLOOKUP($DC160,'Audit Values'!$A$2:$AE$252,2,FALSE)),'Preliminary SO66'!T157,VLOOKUP($DC160,'Audit Values'!$A$2:$AE$252,20,FALSE))","v":0},{"$f":"IF(ISNA(VLOOKUP($DC160,'Audit Values'!$A$2:$AE$252,21,FALSE)),'Preliminary SO66'!U157,VLOOKUP($DC160,'Audit Values'!$A$2:$AE$252,21,FALSE))","v":0},0,0,null,null,null,null,null,null,null,"D0364"]
[365,"Anderson","Garnett ",1070.5999999999999,0,1070.5999999999999,1022,0,1022,988,{"$f":"IF(ISNA(VLOOKUP($DC161,'Audit Values'!$A$2:$AE$252,2,FALSE)),'Preliminary SO66'!B158,VLOOKUP($DC161,'Audit Values'!$A$2:$AE$252,31,FALSE))","v":988},1026.9000000000001,{"$f":"IF(ISNA(VLOOKUP($DC161,'Audit Values'!$A$2:$AE$252,2,FALSE)),'Preliminary SO66'!Z158,VLOOKUP($DC161,'Audit Values'!$A$2:$AE$252,26,FALSE))","v":0},1026.9000000000001,{"$f":"IF(ISNA(VLOOKUP($DC161,'Audit Values'!$A$2:$AE$252,2,FALSE)),'Preliminary SO66'!C158,IF(VLOOKUP($DC161,'Audit Values'!$A$2:$AE$252,28,FALSE)=\"\",VLOOKUP($DC161,'Audit Values'!$A$2:$AE$252,3,FALSE),VLOOKUP($DC161,'Audit Values'!$A$2:$AE$252,28,FALSE)))","v":0},988,988,988,1026.9000000000001,0,243.6,243.6,0,{"$f":"IF(ISNA(VLOOKUP($DC161,'Audit Values'!$A$2:$AE$252,2,FALSE)),'Preliminary SO66'!D158,VLOOKUP($DC161,'Audit Values'!$A$2:$AE$252,4,FALSE))","v":200.6},{"$f":"ROUND((X161/6)*Weightings!$M$6,1)","v":16.7},{"$f":"IF(ISNA(VLOOKUP($DC161,'Audit Values'!$A$2:$AE$252,2,FALSE)),'Preliminary SO66'!F158,VLOOKUP($DC161,'Audit Values'!$A$2:$AE$252,6,FALSE))","v":0},{"$f":"ROUND((Z161/6)*Weightings!$M$7,1)","v":0},{"$f":"IF(ISNA(VLOOKUP($DC161,'Audit Values'!$A$2:$AE$252,2,FALSE)),'Preliminary SO66'!H158,VLOOKUP($DC161,'Audit Values'!$A$2:$AE$252,9,FALSE))","v":365},{"$f":"ROUND(AB161*Weightings!$M$8,1)","v":166.4},1.3,0,{"$f":"AE161*Weightings!$M$9","v":0},{"$f":"IF(ISNA(VLOOKUP($DC161,'Audit Values'!$A$2:$AE$252,2,FALSE)),'Preliminary SO66'!L158,VLOOKUP($DC161,'Audit Values'!$A$2:$AE$252,12,FALSE))","v":0},{"$f":"ROUND(AG161*Weightings!$M$10,1)","v":0},{"$f":"IF(ISNA(VLOOKUP($DC161,'Audit Values'!$A$2:$AE$252,2,FALSE)),'Preliminary SO66'!O158,VLOOKUP($DC161,'Audit Values'!$A$2:$AE$252,15,FALSE))","v":355},104.1,{"$f":"CG161/Weightings!$M$5","v":0},{"$f":"CH161/Weightings!$M$5","v":0},{"$f":"CL161/Weightings!$M$5","v":0},0,{"$f":"IF(ISNA(VLOOKUP($DC161,'Audit Values'!$A$2:$AE$252,2,FALSE)),'Preliminary SO66'!X158,VLOOKUP($DC161,'Audit Values'!$A$2:$AE$252,24,FALSE))","v":0},912331,{"$f":"AP161/Weightings!$M$5","v":236.8},1559,1795.8,1795.8,0,{"$f":"IF(ISNA(VLOOKUP($DC161,'Audit Values'!$A$2:$AC$299,2,FALSE)),\"\",IF(AND(Weightings!H161>0,VLOOKUP($DC161,'Audit Values'!$A$2:$AC$299,29,FALSE)<Weightings!H161),Weightings!H161,VLOOKUP($DC161,'Audit Values'!$A$2:$AC$299,29,FALSE)))","v":3},{"$f":"IF(ISNA(VLOOKUP($DC161,'Audit Values'!$A$2:$AD$299,2,FALSE)),\"\",VLOOKUP($DC161,'Audit Values'!$A$2:$AD$299,30,FALSE))","v":"A"},{"$f":"IF(Weightings!G161=\"\",\"\",IF(Weightings!I161=\"Pending\",\"PX\",\"R\"))","v":""},{"$f":"AR161*Weightings!$M$5+AU161","v":6005268},{"$f":"AT161*Weightings!$M$5+AU161","v":6917422},{"$f":"IF(Weightings!G161>0,Weightings!G161,'Preliminary SO66'!AB158)","v":9062160},1090944,516389,69526,7385301,6917422,null,{"$f":"Weightings!E161","v":0},{"$f":"Weightings!F161","v":0},0,6917422,{"$f":"MAX(ROUND(((AR161-AN161-AO161)*Weightings!$M$12)+'2016legmax.xls'!AP161,0),ROUND((('2016legmax.xls'!AR161-'2016legmax.xls'!AN161-'2016legmax.xls'!AO161)*Weightings!$M$12)+Weightings!B161,0))","v":7918894},0.3,2375668,2484409,2375668,0.3,0,false,0,0,0,true,899.53880000000004,0.23722299999999999,243.6,0,430,0.83,{"$f":"IF(ROUND((Weightings!$P$5*CC161^Weightings!$P$6*Weightings!$P$8 ),2)<Weightings!$P$7,Weightings!$P$7,ROUND((Weightings!$P$5*CC161^Weightings!$P$6*Weightings!$P$8 ),2))","v":1129.06},{"$f":"ROUND(CD161/Weightings!$M$5,4)","v":0.29310000000000003},104.1,0,0,0,0,{"$f":"AS161*Weightings!$M$5*CJ161","v":0},0,0.35499999999999998,2.4,0,0,1.3,{"$f":"IF(ISNA(VLOOKUP($DC161,'Audit Values'!$A$2:$AE$252,2,FALSE)),'Preliminary SO66'!T158,VLOOKUP($DC161,'Audit Values'!$A$2:$AE$252,20,FALSE))","v":0},{"$f":"IF(ISNA(VLOOKUP($DC161,'Audit Values'!$A$2:$AE$252,21,FALSE)),'Preliminary SO66'!U158,VLOOKUP($DC161,'Audit Values'!$A$2:$AE$252,21,FALSE))","v":0},0,0,null,null,null,null,null,null,null,"D0365"]
[366,"Woodson","Woodson ",437.5,0,437.5,425.6,0,425.6,421.5,{"$f":"IF(ISNA(VLOOKUP($DC162,'Audit Values'!$A$2:$AE$269,2,FALSE)),'Preliminary SO66'!B159,VLOOKUP($DC162,'Audit Values'!$A$2:$AE$269,31,FALSE))","v":421.5},428.2,{"$f":"IF(ISNA(VLOOKUP($DC162,'Audit Values'!$A$2:$AE$252,2,FALSE)),'Preliminary SO66'!Z159,VLOOKUP($DC162,'Audit Values'!$A$2:$AE$252,26,FALSE))","v":0},428.2,{"$f":"IF(ISNA(VLOOKUP($DC162,'Audit Values'!$A$2:$AE$269,2,FALSE)),'Preliminary SO66'!C159,IF(VLOOKUP($DC162,'Audit Values'!$A$2:$AE$269,28,FALSE)=\"\",VLOOKUP($DC162,'Audit Values'!$A$2:$AE$269,3,FALSE),VLOOKUP($DC162,'Audit Values'!$A$2:$AE$269,28,FALSE)))","v":8},429.5,429.5,429.5,436.2,0,191,191,0,{"$f":"IF(ISNA(VLOOKUP($DC162,'Audit Values'!$A$2:$AE$269,2,FALSE)),'Preliminary SO66'!D159,VLOOKUP($DC162,'Audit Values'!$A$2:$AE$269,4,FALSE))","v":55.8},{"$f":"ROUND((X162/6)*Weightings!$M$6,1)","v":4.7},{"$f":"IF(ISNA(VLOOKUP($DC162,'Audit Values'!$A$2:$AE$252,2,FALSE)),'Preliminary SO66'!F159,VLOOKUP($DC162,'Audit Values'!$A$2:$AE$252,6,FALSE))","v":0},{"$f":"ROUND((Z162/6)*Weightings!$M$7,1)","v":0},{"$f":"IF(ISNA(VLOOKUP($DC162,'Audit Values'!$A$2:$AE$269,2,FALSE)),'Preliminary SO66'!H159,VLOOKUP($DC162,'Audit Values'!$A$2:$AE$269,9,FALSE))","v":225},{"$f":"ROUND(AB162*Weightings!$M$8,1)","v":102.6},23.6,0,{"$f":"AE162*Weightings!$M$9","v":0},{"$f":"IF(ISNA(VLOOKUP($DC162,'Audit Values'!$A$2:$AE$252,2,FALSE)),'Preliminary SO66'!L159,VLOOKUP($DC162,'Audit Values'!$A$2:$AE$252,12,FALSE))","v":0},{"$f":"ROUND(AG162*Weightings!$M$10,1)","v":0},{"$f":"IF(ISNA(VLOOKUP($DC162,'Audit Values'!$A$2:$AE$269,2,FALSE)),'Preliminary SO66'!O159,VLOOKUP($DC162,'Audit Values'!$A$2:$AE$269,15,FALSE))","v":161},56.3,{"$f":"CG162/Weightings!$M$5","v":0},{"$f":"CH162/Weightings!$M$5","v":0},{"$f":"CL162/Weightings!$M$5","v":0},0,{"$f":"IF(ISNA(VLOOKUP($DC162,'Audit Values'!$A$2:$AE$252,2,FALSE)),'Preliminary SO66'!X159,VLOOKUP($DC162,'Audit Values'!$A$2:$AE$252,24,FALSE))","v":0},516729,{"$f":"AP162/Weightings!$M$5","v":134.1},814.4,948.5,948.5,0,{"$f":"IF(ISNA(VLOOKUP($DC162,'Audit Values'!$A$2:$AC$299,2,FALSE)),\"\",IF(AND(Weightings!H162>0,VLOOKUP($DC162,'Audit Values'!$A$2:$AC$299,29,FALSE)<Weightings!H162),Weightings!H162,VLOOKUP($DC162,'Audit Values'!$A$2:$AC$299,29,FALSE)))","v":17},{"$f":"IF(ISNA(VLOOKUP($DC162,'Audit Values'!$A$2:$AD$299,2,FALSE)),\"\",VLOOKUP($DC162,'Audit Values'!$A$2:$AD$299,30,FALSE))","v":"A"},{"$f":"IF(Weightings!G162=\"\",\"\",IF(Weightings!I162=\"Pending\",\"PX\",\"R\"))","v":""},{"$f":"AR162*Weightings!$M$5+AU162","v":3137069},{"$f":"AT162*Weightings!$M$5+AU162","v":3653622},{"$f":"IF(Weightings!G162>0,Weightings!G162,'Preliminary SO66'!AB159)","v":4491284},420995,239857,15344,3815088,3653622,null,{"$f":"Weightings!E162","v":0},{"$f":"Weightings!F162","v":0},0,3653622,{"$f":"MAX(ROUND(((AR162-AN162-AO162)*Weightings!$M$12)+'2016legmax.xls'!AP162,0),ROUND((('2016legmax.xls'!AR162-'2016legmax.xls'!AN162-'2016legmax.xls'!AO162)*Weightings!$M$12)+Weightings!B162,0))","v":4206710},0.3,1262013,1261137,1261137,0.29980000000000001,0,false,0,0,0,true,168.54750000000001,0.437913,191,0,422,0.38,{"$f":"IF(ROUND((Weightings!$P$5*CC162^Weightings!$P$6*Weightings!$P$8 ),2)<Weightings!$P$7,Weightings!$P$7,ROUND((Weightings!$P$5*CC162^Weightings!$P$6*Weightings!$P$8 ),2))","v":1347.32},{"$f":"ROUND(CD162/Weightings!$M$5,4)","v":0.3498},56.3,0,0,0,0,{"$f":"AS162*Weightings!$M$5*CJ162","v":0},0,0.51600000000000001,1,23.6,0,0,{"$f":"IF(ISNA(VLOOKUP($DC162,'Audit Values'!$A$2:$AE$252,2,FALSE)),'Preliminary SO66'!T159,VLOOKUP($DC162,'Audit Values'!$A$2:$AE$252,20,FALSE))","v":0},{"$f":"IF(ISNA(VLOOKUP($DC162,'Audit Values'!$A$2:$AE$252,21,FALSE)),'Preliminary SO66'!U159,VLOOKUP($DC162,'Audit Values'!$A$2:$AE$252,21,FALSE))","v":0},0,0,null,null,null,null,null,null,null,"D0366"]
[367,"Miami","Osawatomie ",1131,0,1131,1159.5,0,1159.5,1119,{"$f":"IF(ISNA(VLOOKUP($DC163,'Audit Values'!$A$2:$AE$252,2,FALSE)),'Preliminary SO66'!B160,VLOOKUP($DC163,'Audit Values'!$A$2:$AE$252,31,FALSE))","v":1119},1159.5,{"$f":"IF(ISNA(VLOOKUP($DC163,'Audit Values'!$A$2:$AE$252,2,FALSE)),'Preliminary SO66'!Z160,VLOOKUP($DC163,'Audit Values'!$A$2:$AE$252,26,FALSE))","v":0},1159.5,{"$f":"IF(ISNA(VLOOKUP($DC163,'Audit Values'!$A$2:$AE$252,2,FALSE)),'Preliminary SO66'!C160,IF(VLOOKUP($DC163,'Audit Values'!$A$2:$AE$252,28,FALSE)=\"\",VLOOKUP($DC163,'Audit Values'!$A$2:$AE$252,3,FALSE),VLOOKUP($DC163,'Audit Values'!$A$2:$AE$252,28,FALSE)))","v":6.5},1125.5,1125.5,1125.5,1166,0,221.5,221.5,0,{"$f":"IF(ISNA(VLOOKUP($DC163,'Audit Values'!$A$2:$AE$252,2,FALSE)),'Preliminary SO66'!D160,VLOOKUP($DC163,'Audit Values'!$A$2:$AE$252,4,FALSE))","v":246.1},{"$f":"ROUND((X163/6)*Weightings!$M$6,1)","v":20.5},{"$f":"IF(ISNA(VLOOKUP($DC163,'Audit Values'!$A$2:$AE$252,2,FALSE)),'Preliminary SO66'!F160,VLOOKUP($DC163,'Audit Values'!$A$2:$AE$252,6,FALSE))","v":0},{"$f":"ROUND((Z163/6)*Weightings!$M$7,1)","v":0},{"$f":"IF(ISNA(VLOOKUP($DC163,'Audit Values'!$A$2:$AE$252,2,FALSE)),'Preliminary SO66'!H160,VLOOKUP($DC163,'Audit Values'!$A$2:$AE$252,9,FALSE))","v":631},{"$f":"ROUND(AB163*Weightings!$M$8,1)","v":287.7},66.3,0,{"$f":"AE163*Weightings!$M$9","v":0},{"$f":"IF(ISNA(VLOOKUP($DC163,'Audit Values'!$A$2:$AE$252,2,FALSE)),'Preliminary SO66'!L160,VLOOKUP($DC163,'Audit Values'!$A$2:$AE$252,12,FALSE))","v":38},{"$f":"ROUND(AG163*Weightings!$M$10,1)","v":9.5},{"$f":"IF(ISNA(VLOOKUP($DC163,'Audit Values'!$A$2:$AE$252,2,FALSE)),'Preliminary SO66'!O160,VLOOKUP($DC163,'Audit Values'!$A$2:$AE$252,15,FALSE))","v":206},49.5,{"$f":"CG163/Weightings!$M$5","v":0},{"$f":"CH163/Weightings!$M$5","v":0},{"$f":"CL163/Weightings!$M$5","v":0},0,{"$f":"IF(ISNA(VLOOKUP($DC163,'Audit Values'!$A$2:$AE$252,2,FALSE)),'Preliminary SO66'!X160,VLOOKUP($DC163,'Audit Values'!$A$2:$AE$252,24,FALSE))","v":0},1805011,{"$f":"AP163/Weightings!$M$5","v":468.6},1821,2289.6,2289.6,0,{"$f":"IF(ISNA(VLOOKUP($DC163,'Audit Values'!$A$2:$AC$299,2,FALSE)),\"\",IF(AND(Weightings!H163>0,VLOOKUP($DC163,'Audit Values'!$A$2:$AC$299,29,FALSE)<Weightings!H163),Weightings!H163,VLOOKUP($DC163,'Audit Values'!$A$2:$AC$299,29,FALSE)))","v":3},{"$f":"IF(ISNA(VLOOKUP($DC163,'Audit Values'!$A$2:$AD$299,2,FALSE)),\"\",VLOOKUP($DC163,'Audit Values'!$A$2:$AD$299,30,FALSE))","v":"A"},{"$f":"IF(Weightings!G163=\"\",\"\",IF(Weightings!I163=\"Pending\",\"PX\",\"R\"))","v":""},{"$f":"AR163*Weightings!$M$5+AU163","v":7014492},{"$f":"AT163*Weightings!$M$5+AU163","v":8819539},{"$f":"IF(Weightings!G163>0,Weightings!G163,'Preliminary SO66'!AB160)","v":11982484},1961727,584504,133156,9303097,8819539,null,{"$f":"Weightings!E163","v":0},{"$f":"Weightings!F163","v":0},0,8819539,{"$f":"MAX(ROUND(((AR163-AN163-AO163)*Weightings!$M$12)+'2016legmax.xls'!AP163,0),ROUND((('2016legmax.xls'!AR163-'2016legmax.xls'!AN163-'2016legmax.xls'!AO163)*Weightings!$M$12)+Weightings!B163,0))","v":9981301},0.3,2994390,3027917,2994390,0.3,0,false,0,0,0,true,1071.675,0.18996399999999999,221.5,0,103,2,{"$f":"IF(ROUND((Weightings!$P$5*CC163^Weightings!$P$6*Weightings!$P$8 ),2)<Weightings!$P$7,Weightings!$P$7,ROUND((Weightings!$P$5*CC163^Weightings!$P$6*Weightings!$P$8 ),2))","v":925.38},{"$f":"ROUND(CD163/Weightings!$M$5,4)","v":0.2402},49.5,0,0,0,0,{"$f":"AS163*Weightings!$M$5*CJ163","v":0},0,0.54100000000000004,11.3,66.3,0,0,{"$f":"IF(ISNA(VLOOKUP($DC163,'Audit Values'!$A$2:$AE$252,2,FALSE)),'Preliminary SO66'!T160,VLOOKUP($DC163,'Audit Values'!$A$2:$AE$252,20,FALSE))","v":0},{"$f":"IF(ISNA(VLOOKUP($DC163,'Audit Values'!$A$2:$AE$252,21,FALSE)),'Preliminary SO66'!U160,VLOOKUP($DC163,'Audit Values'!$A$2:$AE$252,21,FALSE))","v":0},0,0,null,null,null,null,null,null,null,"D0367"]
[368,"Miami","Paola ",1919,0,1919,1931,0,1931,1936.1,{"$f":"IF(ISNA(VLOOKUP($DC164,'Audit Values'!$A$2:$AE$252,2,FALSE)),'Preliminary SO66'!B161,VLOOKUP($DC164,'Audit Values'!$A$2:$AE$252,31,FALSE))","v":1936.1},1936.1,{"$f":"IF(ISNA(VLOOKUP($DC164,'Audit Values'!$A$2:$AE$252,2,FALSE)),'Preliminary SO66'!Z161,VLOOKUP($DC164,'Audit Values'!$A$2:$AE$252,26,FALSE))","v":0},1936.1,{"$f":"IF(ISNA(VLOOKUP($DC164,'Audit Values'!$A$2:$AE$252,2,FALSE)),'Preliminary SO66'!C161,IF(VLOOKUP($DC164,'Audit Values'!$A$2:$AE$252,28,FALSE)=\"\",VLOOKUP($DC164,'Audit Values'!$A$2:$AE$252,3,FALSE),VLOOKUP($DC164,'Audit Values'!$A$2:$AE$252,28,FALSE)))","v":0},1936.1,1936.1,1936.1,1936.1,0,67.8,0,67.8,{"$f":"IF(ISNA(VLOOKUP($DC164,'Audit Values'!$A$2:$AE$252,2,FALSE)),'Preliminary SO66'!D161,VLOOKUP($DC164,'Audit Values'!$A$2:$AE$252,4,FALSE))","v":421.4},{"$f":"ROUND((X164/6)*Weightings!$M$6,1)","v":35.1},{"$f":"IF(ISNA(VLOOKUP($DC164,'Audit Values'!$A$2:$AE$252,2,FALSE)),'Preliminary SO66'!F161,VLOOKUP($DC164,'Audit Values'!$A$2:$AE$252,6,FALSE))","v":13.6},{"$f":"ROUND((Z164/6)*Weightings!$M$7,1)","v":0.9},{"$f":"IF(ISNA(VLOOKUP($DC164,'Audit Values'!$A$2:$AE$252,2,FALSE)),'Preliminary SO66'!H161,VLOOKUP($DC164,'Audit Values'!$A$2:$AE$252,9,FALSE))","v":548},{"$f":"ROUND(AB164*Weightings!$M$8,1)","v":249.9},0,0,{"$f":"AE164*Weightings!$M$9","v":0},{"$f":"IF(ISNA(VLOOKUP($DC164,'Audit Values'!$A$2:$AE$252,2,FALSE)),'Preliminary SO66'!L161,VLOOKUP($DC164,'Audit Values'!$A$2:$AE$252,12,FALSE))","v":0},{"$f":"ROUND(AG164*Weightings!$M$10,1)","v":0},{"$f":"IF(ISNA(VLOOKUP($DC164,'Audit Values'!$A$2:$AE$252,2,FALSE)),'Preliminary SO66'!O161,VLOOKUP($DC164,'Audit Values'!$A$2:$AE$252,15,FALSE))","v":816.1},166.9,{"$f":"CG164/Weightings!$M$5","v":0},{"$f":"CH164/Weightings!$M$5","v":0},{"$f":"CL164/Weightings!$M$5","v":0},0,{"$f":"IF(ISNA(VLOOKUP($DC164,'Audit Values'!$A$2:$AE$252,2,FALSE)),'Preliminary SO66'!X161,VLOOKUP($DC164,'Audit Values'!$A$2:$AE$252,24,FALSE))","v":1},1867478,{"$f":"AP164/Weightings!$M$5","v":484.8},2457.6999999999998,2942.5,2942.5,0,{"$f":"IF(ISNA(VLOOKUP($DC164,'Audit Values'!$A$2:$AC$299,2,FALSE)),\"\",IF(AND(Weightings!H164>0,VLOOKUP($DC164,'Audit Values'!$A$2:$AC$299,29,FALSE)<Weightings!H164),Weightings!H164,VLOOKUP($DC164,'Audit Values'!$A$2:$AC$299,29,FALSE)))","v":7},{"$f":"IF(ISNA(VLOOKUP($DC164,'Audit Values'!$A$2:$AD$299,2,FALSE)),\"\",VLOOKUP($DC164,'Audit Values'!$A$2:$AD$299,30,FALSE))","v":"A"},{"$f":"IF(Weightings!G164=\"\",\"\",IF(Weightings!I164=\"Pending\",\"PX\",\"R\"))","v":""},{"$f":"AR164*Weightings!$M$5+AU164","v":9467060},{"$f":"AT164*Weightings!$M$5+AU164","v":11334510},{"$f":"IF(Weightings!G164>0,Weightings!G164,'Preliminary SO66'!AB161)","v":15657287},1370766,1704543,92603,12489375,11334510,null,{"$f":"Weightings!E164","v":0},{"$f":"Weightings!F164","v":0},0,11334510,{"$f":"MAX(ROUND(((AR164-AN164-AO164)*Weightings!$M$12)+'2016legmax.xls'!AP164,0),ROUND((('2016legmax.xls'!AR164-'2016legmax.xls'!AN164-'2016legmax.xls'!AO164)*Weightings!$M$12)+Weightings!B164,0))","v":12898061},0.33,4256360,4307408,4256360,0.33,0,false,0,0,0,false,0,0,0,67.8,200,4.08,{"$f":"IF(ROUND((Weightings!$P$5*CC164^Weightings!$P$6*Weightings!$P$8 ),2)<Weightings!$P$7,Weightings!$P$7,ROUND((Weightings!$P$5*CC164^Weightings!$P$6*Weightings!$P$8 ),2))","v":787.55},{"$f":"ROUND(CD164/Weightings!$M$5,4)","v":0.20449999999999999},166.9,0,0,0,2.3E-3,{"$f":"AS164*Weightings!$M$5*CJ164","v":26069},0,0.28299999999999997,9.6999999999999993,0,0,0,{"$f":"IF(ISNA(VLOOKUP($DC164,'Audit Values'!$A$2:$AE$252,2,FALSE)),'Preliminary SO66'!T161,VLOOKUP($DC164,'Audit Values'!$A$2:$AE$252,20,FALSE))","v":0},{"$f":"IF(ISNA(VLOOKUP($DC164,'Audit Values'!$A$2:$AE$252,21,FALSE)),'Preliminary SO66'!U161,VLOOKUP($DC164,'Audit Values'!$A$2:$AE$252,21,FALSE))","v":0},0,0,null,null,null,null,null,null,null,"D0368"]
[369,"Harvey","Burrton ",230,0,230,220.5,0,220.5,237,{"$f":"IF(ISNA(VLOOKUP($DC165,'Audit Values'!$A$2:$AE$252,2,FALSE)),'Preliminary SO66'!B162,VLOOKUP($DC165,'Audit Values'!$A$2:$AE$252,31,FALSE))","v":237},237,{"$f":"IF(ISNA(VLOOKUP($DC165,'Audit Values'!$A$2:$AE$252,2,FALSE)),'Preliminary SO66'!Z162,VLOOKUP($DC165,'Audit Values'!$A$2:$AE$252,26,FALSE))","v":0},237,{"$f":"IF(ISNA(VLOOKUP($DC165,'Audit Values'!$A$2:$AE$252,2,FALSE)),'Preliminary SO66'!C162,IF(VLOOKUP($DC165,'Audit Values'!$A$2:$AE$252,28,FALSE)=\"\",VLOOKUP($DC165,'Audit Values'!$A$2:$AE$252,3,FALSE),VLOOKUP($DC165,'Audit Values'!$A$2:$AE$252,28,FALSE)))","v":4.5},241.5,241.5,241.5,241.5,0,154.4,154.4,0,{"$f":"IF(ISNA(VLOOKUP($DC165,'Audit Values'!$A$2:$AE$252,2,FALSE)),'Preliminary SO66'!D162,VLOOKUP($DC165,'Audit Values'!$A$2:$AE$252,4,FALSE))","v":68.7},{"$f":"ROUND((X165/6)*Weightings!$M$6,1)","v":5.7},{"$f":"IF(ISNA(VLOOKUP($DC165,'Audit Values'!$A$2:$AE$252,2,FALSE)),'Preliminary SO66'!F162,VLOOKUP($DC165,'Audit Values'!$A$2:$AE$252,6,FALSE))","v":1.7},{"$f":"ROUND((Z165/6)*Weightings!$M$7,1)","v":0.1},{"$f":"IF(ISNA(VLOOKUP($DC165,'Audit Values'!$A$2:$AE$252,2,FALSE)),'Preliminary SO66'!H162,VLOOKUP($DC165,'Audit Values'!$A$2:$AE$252,9,FALSE))","v":126},{"$f":"ROUND(AB165*Weightings!$M$8,1)","v":57.5},13.2,0,{"$f":"AE165*Weightings!$M$9","v":0},{"$f":"IF(ISNA(VLOOKUP($DC165,'Audit Values'!$A$2:$AE$252,2,FALSE)),'Preliminary SO66'!L162,VLOOKUP($DC165,'Audit Values'!$A$2:$AE$252,12,FALSE))","v":0},{"$f":"ROUND(AG165*Weightings!$M$10,1)","v":0},{"$f":"IF(ISNA(VLOOKUP($DC165,'Audit Values'!$A$2:$AE$252,2,FALSE)),'Preliminary SO66'!O162,VLOOKUP($DC165,'Audit Values'!$A$2:$AE$252,15,FALSE))","v":40},13.7,{"$f":"CG165/Weightings!$M$5","v":0},{"$f":"CH165/Weightings!$M$5","v":0},{"$f":"CL165/Weightings!$M$5","v":0},0,{"$f":"IF(ISNA(VLOOKUP($DC165,'Audit Values'!$A$2:$AE$252,2,FALSE)),'Preliminary SO66'!X162,VLOOKUP($DC165,'Audit Values'!$A$2:$AE$252,24,FALSE))","v":0},229783,{"$f":"AP165/Weightings!$M$5","v":59.7},486.1,545.79999999999995,545.79999999999995,0,{"$f":"IF(ISNA(VLOOKUP($DC165,'Audit Values'!$A$2:$AC$299,2,FALSE)),\"\",IF(AND(Weightings!H165>0,VLOOKUP($DC165,'Audit Values'!$A$2:$AC$299,29,FALSE)<Weightings!H165),Weightings!H165,VLOOKUP($DC165,'Audit Values'!$A$2:$AC$299,29,FALSE)))","v":6},{"$f":"IF(ISNA(VLOOKUP($DC165,'Audit Values'!$A$2:$AD$299,2,FALSE)),\"\",VLOOKUP($DC165,'Audit Values'!$A$2:$AD$299,30,FALSE))","v":"A"},{"$f":"IF(Weightings!G165=\"\",\"\",IF(Weightings!I165=\"Pending\",\"PX\",\"R\"))","v":""},{"$f":"AR165*Weightings!$M$5+AU165","v":1872457},{"$f":"AT165*Weightings!$M$5+AU165","v":2102422},{"$f":"IF(Weightings!G165>0,Weightings!G165,'Preliminary SO66'!AB162)","v":2433635},162944,149752,0,2120939,2102422,null,{"$f":"Weightings!E165","v":0},{"$f":"Weightings!F165","v":0},0,2102422,{"$f":"MAX(ROUND(((AR165-AN165-AO165)*Weightings!$M$12)+'2016legmax.xls'!AP165,0),ROUND((('2016legmax.xls'!AR165-'2016legmax.xls'!AN165-'2016legmax.xls'!AO165)*Weightings!$M$12)+Weightings!B165,0))","v":2412372},0.3,723712,696502,696502,0.28870000000000001,0,true,1366.183,0.63925399999999999,154.4,false,0,0,0,0,95,0.42,{"$f":"IF(ROUND((Weightings!$P$5*CC165^Weightings!$P$6*Weightings!$P$8 ),2)<Weightings!$P$7,Weightings!$P$7,ROUND((Weightings!$P$5*CC165^Weightings!$P$6*Weightings!$P$8 ),2))","v":1317.16},{"$f":"ROUND(CD165/Weightings!$M$5,4)","v":0.34189999999999998},13.7,0,0,0,0,{"$f":"AS165*Weightings!$M$5*CJ165","v":0},0,0.52200000000000002,2.5,13.2,0,0,{"$f":"IF(ISNA(VLOOKUP($DC165,'Audit Values'!$A$2:$AE$252,2,FALSE)),'Preliminary SO66'!T162,VLOOKUP($DC165,'Audit Values'!$A$2:$AE$252,20,FALSE))","v":0},{"$f":"IF(ISNA(VLOOKUP($DC165,'Audit Values'!$A$2:$AE$252,21,FALSE)),'Preliminary SO66'!U162,VLOOKUP($DC165,'Audit Values'!$A$2:$AE$252,21,FALSE))","v":0},0,0,null,null,null,null,null,null,null,"D0369",14652]
[371,"Gray","Montezuma ",233.4,0,233.4,238.8,0,238.8,247.5,{"$f":"IF(ISNA(VLOOKUP($DC166,'Audit Values'!$A$2:$AE$286,2,FALSE)),'Preliminary SO66'!B163,VLOOKUP($DC166,'Audit Values'!$A$2:$AE$286,31,FALSE))","v":206.5},238.8,{"$f":"IF(ISNA(VLOOKUP($DC166,'Audit Values'!$A$2:$AE$252,2,FALSE)),'Preliminary SO66'!Z163,VLOOKUP($DC166,'Audit Values'!$A$2:$AE$252,26,FALSE))","v":0},238.8,{"$f":"IF(ISNA(VLOOKUP($DC166,'Audit Values'!$A$2:$AE$286,2,FALSE)),'Preliminary SO66'!C163,IF(VLOOKUP($DC166,'Audit Values'!$A$2:$AE$286,28,FALSE)=\"\",VLOOKUP($DC166,'Audit Values'!$A$2:$AE$286,3,FALSE),VLOOKUP($DC166,'Audit Values'!$A$2:$AE$286,28,FALSE)))","v":3.5},210,251,251,242.3,41,154.4,154.4,0,{"$f":"IF(ISNA(VLOOKUP($DC166,'Audit Values'!$A$2:$AE$252,2,FALSE)),'Preliminary SO66'!D163,VLOOKUP($DC166,'Audit Values'!$A$2:$AE$252,4,FALSE))","v":52.9},{"$f":"ROUND((X166/6)*Weightings!$M$6,1)","v":4.4000000000000004},{"$f":"IF(ISNA(VLOOKUP($DC166,'Audit Values'!$A$2:$AE$252,2,FALSE)),'Preliminary SO66'!F163,VLOOKUP($DC166,'Audit Values'!$A$2:$AE$252,6,FALSE))","v":260.3},{"$f":"ROUND((Z166/6)*Weightings!$M$7,1)","v":17.100000000000001},{"$f":"IF(ISNA(VLOOKUP($DC166,'Audit Values'!$A$2:$AE$252,2,FALSE)),'Preliminary SO66'!H163,VLOOKUP($DC166,'Audit Values'!$A$2:$AE$252,9,FALSE))","v":65},{"$f":"ROUND(AB166*Weightings!$M$8,1)","v":29.6},0,0,{"$f":"AE166*Weightings!$M$9","v":0},{"$f":"IF(ISNA(VLOOKUP($DC166,'Audit Values'!$A$2:$AE$252,2,FALSE)),'Preliminary SO66'!L163,VLOOKUP($DC166,'Audit Values'!$A$2:$AE$252,12,FALSE))","v":0},{"$f":"ROUND(AG166*Weightings!$M$10,1)","v":0},{"$f":"IF(ISNA(VLOOKUP($DC166,'Audit Values'!$A$2:$AE$252,2,FALSE)),'Preliminary SO66'!O163,VLOOKUP($DC166,'Audit Values'!$A$2:$AE$252,15,FALSE))","v":91},30.6,{"$f":"CG166/Weightings!$M$5","v":0},{"$f":"CH166/Weightings!$M$5","v":0},{"$f":"CL166/Weightings!$M$5","v":0},43.1,{"$f":"IF(ISNA(VLOOKUP($DC166,'Audit Values'!$A$2:$AE$252,2,FALSE)),'Preliminary SO66'!X163,VLOOKUP($DC166,'Audit Values'!$A$2:$AE$252,24,FALSE))","v":0},141108,{"$f":"AP166/Weightings!$M$5","v":36.6},521.5,558.1,558.1,0,{"$f":"IF(ISNA(VLOOKUP($DC166,'Audit Values'!$A$2:$AC$299,2,FALSE)),\"\",IF(AND(Weightings!H166>0,VLOOKUP($DC166,'Audit Values'!$A$2:$AC$299,29,FALSE)<Weightings!H166),Weightings!H166,VLOOKUP($DC166,'Audit Values'!$A$2:$AC$299,29,FALSE)))","v":18},{"$f":"IF(ISNA(VLOOKUP($DC166,'Audit Values'!$A$2:$AD$299,2,FALSE)),\"\",VLOOKUP($DC166,'Audit Values'!$A$2:$AD$299,30,FALSE))","v":"A"},{"$f":"IF(Weightings!G166=\"\",\"\",IF(Weightings!I166=\"Pending\",\"PX\",\"R\"))","v":""},{"$f":"AR166*Weightings!$M$5+AU166","v":2008818},{"$f":"AT166*Weightings!$M$5+AU166","v":2149801},{"$f":"IF(Weightings!G166>0,Weightings!G166,'Preliminary SO66'!AB163)","v":2498811},202948,144962,1765,2149136,2149801,null,{"$f":"Weightings!E166","v":0},{"$f":"Weightings!F166","v":0},0,2149801,{"$f":"MAX(ROUND(((AR166-AN166-AO166)*Weightings!$M$12)+'2016legmax.xls'!AP166,0),ROUND((('2016legmax.xls'!AR166-'2016legmax.xls'!AN166-'2016legmax.xls'!AO166)*Weightings!$M$12)+Weightings!B166,0))","v":2305300},0.3,691590,691455,691455,0.2999,0,true,1373.9069999999999,0.63713299999999995,154.4,false,0,0,0,0,200.8,0.45,{"$f":"IF(ROUND((Weightings!$P$5*CC166^Weightings!$P$6*Weightings!$P$8 ),2)<Weightings!$P$7,Weightings!$P$7,ROUND((Weightings!$P$5*CC166^Weightings!$P$6*Weightings!$P$8 ),2))","v":1296.76},{"$f":"ROUND(CD166/Weightings!$M$5,4)","v":0.33660000000000001},30.6,0,0,0,0,{"$f":"AS166*Weightings!$M$5*CJ166","v":0},0,0.26800000000000002,1.2,0,0,0,{"$f":"IF(ISNA(VLOOKUP($DC166,'Audit Values'!$A$2:$AE$286,2,FALSE)),'Preliminary SO66'!T163,VLOOKUP($DC166,'Audit Values'!$A$2:$AE$286,20,FALSE))","v":10},{"$f":"IF(ISNA(VLOOKUP($DC166,'Audit Values'!$A$2:$AE$286,21,FALSE)),'Preliminary SO66'!U163,VLOOKUP($DC166,'Audit Values'!$A$2:$AE$286,21,FALSE))","v":0},31,41,null,null,null,null,null,null,null,"D0371"]
[372,"Shawnee","Silver Lake ",685.7,0,685.7,681,0,681,657,{"$f":"IF(ISNA(VLOOKUP($DC167,'Audit Values'!$A$2:$AE$269,2,FALSE)),'Preliminary SO66'!B164,VLOOKUP($DC167,'Audit Values'!$A$2:$AE$269,31,FALSE))","v":656},681,{"$f":"IF(ISNA(VLOOKUP($DC167,'Audit Values'!$A$2:$AE$252,2,FALSE)),'Preliminary SO66'!Z164,VLOOKUP($DC167,'Audit Values'!$A$2:$AE$252,26,FALSE))","v":0},681,{"$f":"IF(ISNA(VLOOKUP($DC167,'Audit Values'!$A$2:$AE$252,2,FALSE)),'Preliminary SO66'!C164,IF(VLOOKUP($DC167,'Audit Values'!$A$2:$AE$252,28,FALSE)=\"\",VLOOKUP($DC167,'Audit Values'!$A$2:$AE$252,3,FALSE),VLOOKUP($DC167,'Audit Values'!$A$2:$AE$252,28,FALSE)))","v":7},663,664,664,688,1,242.4,242.4,0,{"$f":"IF(ISNA(VLOOKUP($DC167,'Audit Values'!$A$2:$AE$252,2,FALSE)),'Preliminary SO66'!D164,VLOOKUP($DC167,'Audit Values'!$A$2:$AE$252,4,FALSE))","v":88.7},{"$f":"ROUND((X167/6)*Weightings!$M$6,1)","v":7.4},{"$f":"IF(ISNA(VLOOKUP($DC167,'Audit Values'!$A$2:$AE$252,2,FALSE)),'Preliminary SO66'!F164,VLOOKUP($DC167,'Audit Values'!$A$2:$AE$252,6,FALSE))","v":1.3},{"$f":"ROUND((Z167/6)*Weightings!$M$7,1)","v":0.1},{"$f":"IF(ISNA(VLOOKUP($DC167,'Audit Values'!$A$2:$AE$269,2,FALSE)),'Preliminary SO66'!H164,VLOOKUP($DC167,'Audit Values'!$A$2:$AE$269,9,FALSE))","v":104},{"$f":"ROUND(AB167*Weightings!$M$8,1)","v":47.4},0,0,{"$f":"AE167*Weightings!$M$9","v":0},{"$f":"IF(ISNA(VLOOKUP($DC167,'Audit Values'!$A$2:$AE$252,2,FALSE)),'Preliminary SO66'!L164,VLOOKUP($DC167,'Audit Values'!$A$2:$AE$252,12,FALSE))","v":0},{"$f":"ROUND(AG167*Weightings!$M$10,1)","v":0},{"$f":"IF(ISNA(VLOOKUP($DC167,'Audit Values'!$A$2:$AE$252,2,FALSE)),'Preliminary SO66'!O164,VLOOKUP($DC167,'Audit Values'!$A$2:$AE$252,15,FALSE))","v":293},63.6,{"$f":"CG167/Weightings!$M$5","v":0},{"$f":"CH167/Weightings!$M$5","v":0},{"$f":"CL167/Weightings!$M$5","v":0},1.1000000000000001,{"$f":"IF(ISNA(VLOOKUP($DC167,'Audit Values'!$A$2:$AE$252,2,FALSE)),'Preliminary SO66'!X164,VLOOKUP($DC167,'Audit Values'!$A$2:$AE$252,24,FALSE))","v":0},551013,{"$f":"AP167/Weightings!$M$5","v":143},1050,1193,1193,0,{"$f":"IF(ISNA(VLOOKUP($DC167,'Audit Values'!$A$2:$AC$299,2,FALSE)),\"\",IF(AND(Weightings!H167>0,VLOOKUP($DC167,'Audit Values'!$A$2:$AC$299,29,FALSE)<Weightings!H167),Weightings!H167,VLOOKUP($DC167,'Audit Values'!$A$2:$AC$299,29,FALSE)))","v":16},{"$f":"IF(ISNA(VLOOKUP($DC167,'Audit Values'!$A$2:$AD$299,2,FALSE)),\"\",VLOOKUP($DC167,'Audit Values'!$A$2:$AD$299,30,FALSE))","v":"A"},{"$f":"IF(Weightings!G167=\"\",\"\",IF(Weightings!I167=\"Pending\",\"PX\",\"R\"))","v":""},{"$f":"AR167*Weightings!$M$5+AU167","v":4044600},{"$f":"AT167*Weightings!$M$5+AU167","v":4595436},{"$f":"IF(Weightings!G167>0,Weightings!G167,'Preliminary SO66'!AB164)","v":6287367},944864,394649,80824,4867030,4595436,null,{"$f":"Weightings!E167","v":0},{"$f":"Weightings!F167","v":0},0,4595436,{"$f":"MAX(ROUND(((AR167-AN167-AO167)*Weightings!$M$12)+'2016legmax.xls'!AP167,0),ROUND((('2016legmax.xls'!AR167-'2016legmax.xls'!AN167-'2016legmax.xls'!AO167)*Weightings!$M$12)+Weightings!B167,0))","v":5329782},0.3,1598935,1592469,1592469,0.29880000000000001,0,false,0,0,0,true,480.15,0.35236400000000001,242.4,0,94,3.12,{"$f":"IF(ROUND((Weightings!$P$5*CC167^Weightings!$P$6*Weightings!$P$8 ),2)<Weightings!$P$7,Weightings!$P$7,ROUND((Weightings!$P$5*CC167^Weightings!$P$6*Weightings!$P$8 ),2))","v":836.82},{"$f":"ROUND(CD167/Weightings!$M$5,4)","v":0.2172},63.6,0,0,0,0,{"$f":"AS167*Weightings!$M$5*CJ167","v":0},0,0.151,7.3,0,0,0,{"$f":"IF(ISNA(VLOOKUP($DC167,'Audit Values'!$A$2:$AE$269,2,FALSE)),'Preliminary SO66'!T164,VLOOKUP($DC167,'Audit Values'!$A$2:$AE$269,20,FALSE))","v":0},{"$f":"IF(ISNA(VLOOKUP($DC167,'Audit Values'!$A$2:$AE$269,21,FALSE)),'Preliminary SO66'!U164,VLOOKUP($DC167,'Audit Values'!$A$2:$AE$269,21,FALSE))","v":0},1,1,null,null,null,null,null,null,null,"D0372"]
[373,"Harvey","Newton ",3345.4,0,3345.4,3329.1,0,3329.1,3299.8,{"$f":"IF(ISNA(VLOOKUP($DC168,'Audit Values'!$A$2:$AE$299,2,FALSE)),'Preliminary SO66'!B165,VLOOKUP($DC168,'Audit Values'!$A$2:$AE$299,31,FALSE))","v":3289.3},3329.1,{"$f":"IF(ISNA(VLOOKUP($DC168,'Audit Values'!$A$2:$AE$252,2,FALSE)),'Preliminary SO66'!Z165,VLOOKUP($DC168,'Audit Values'!$A$2:$AE$252,26,FALSE))","v":0},3329.1,{"$f":"IF(ISNA(VLOOKUP($DC168,'Audit Values'!$A$2:$AE$286,2,FALSE)),'Preliminary SO66'!C165,IF(VLOOKUP($DC168,'Audit Values'!$A$2:$AE$286,28,FALSE)=\"\",VLOOKUP($DC168,'Audit Values'!$A$2:$AE$286,3,FALSE),VLOOKUP($DC168,'Audit Values'!$A$2:$AE$286,28,FALSE)))","v":28},3317.3,3327.8,3327.8,3357.1,10.5,117.6,0,117.6,{"$f":"IF(ISNA(VLOOKUP($DC168,'Audit Values'!$A$2:$AE$299,2,FALSE)),'Preliminary SO66'!D165,VLOOKUP($DC168,'Audit Values'!$A$2:$AE$299,4,FALSE))","v":732.5},{"$f":"ROUND((X168/6)*Weightings!$M$6,1)","v":61},{"$f":"IF(ISNA(VLOOKUP($DC168,'Audit Values'!$A$2:$AE$252,2,FALSE)),'Preliminary SO66'!F165,VLOOKUP($DC168,'Audit Values'!$A$2:$AE$252,6,FALSE))","v":515.4},{"$f":"ROUND((Z168/6)*Weightings!$M$7,1)","v":33.9},{"$f":"IF(ISNA(VLOOKUP($DC168,'Audit Values'!$A$2:$AE$299,2,FALSE)),'Preliminary SO66'!H165,VLOOKUP($DC168,'Audit Values'!$A$2:$AE$299,9,FALSE))","v":1569},{"$f":"ROUND(AB168*Weightings!$M$8,1)","v":715.5},128.5,0,{"$f":"AE168*Weightings!$M$9","v":0},{"$f":"IF(ISNA(VLOOKUP($DC168,'Audit Values'!$A$2:$AE$252,2,FALSE)),'Preliminary SO66'!L165,VLOOKUP($DC168,'Audit Values'!$A$2:$AE$252,12,FALSE))","v":0},{"$f":"ROUND(AG168*Weightings!$M$10,1)","v":0},{"$f":"IF(ISNA(VLOOKUP($DC168,'Audit Values'!$A$2:$AE$252,2,FALSE)),'Preliminary SO66'!O165,VLOOKUP($DC168,'Audit Values'!$A$2:$AE$252,15,FALSE))","v":347},78.599999999999994,{"$f":"CG168/Weightings!$M$5","v":0},{"$f":"CH168/Weightings!$M$5","v":0},{"$f":"CL168/Weightings!$M$5","v":0},11,{"$f":"IF(ISNA(VLOOKUP($DC168,'Audit Values'!$A$2:$AE$252,2,FALSE)),'Preliminary SO66'!X165,VLOOKUP($DC168,'Audit Values'!$A$2:$AE$252,24,FALSE))","v":0},2802391,{"$f":"AP168/Weightings!$M$5","v":727.5},4503.2,5230.7,5230.7,11678,{"$f":"IF(ISNA(VLOOKUP($DC168,'Audit Values'!$A$2:$AC$299,2,FALSE)),\"\",IF(AND(Weightings!H168>0,VLOOKUP($DC168,'Audit Values'!$A$2:$AC$299,29,FALSE)<Weightings!H168),Weightings!H168,VLOOKUP($DC168,'Audit Values'!$A$2:$AC$299,29,FALSE)))","v":18},{"$f":"IF(ISNA(VLOOKUP($DC168,'Audit Values'!$A$2:$AD$299,2,FALSE)),\"\",VLOOKUP($DC168,'Audit Values'!$A$2:$AD$299,30,FALSE))","v":"A"},{"$f":"IF(Weightings!G168=\"\",\"\",IF(Weightings!I168=\"Pending\",\"PX\",\"R\"))","v":""},{"$f":"AR168*Weightings!$M$5+AU168","v":17358004},{"$f":"AT168*Weightings!$M$5+AU168","v":20160334},{"$f":"IF(Weightings!G168>0,Weightings!G168,'Preliminary SO66'!AB165)","v":27812879},4245802,2021333,406877,21138867,20160334,null,{"$f":"Weightings!E168","v":0},{"$f":"Weightings!F168","v":0},0,20160334,{"$f":"MAX(ROUND(((AR168-AN168-AO168)*Weightings!$M$12)+'2016legmax.xls'!AP168,0),ROUND((('2016legmax.xls'!AR168-'2016legmax.xls'!AN168-'2016legmax.xls'!AO168)*Weightings!$M$12)+Weightings!B168,0))","v":23200751},0.3,6960225,6911599,6911599,0.2979,0,false,0,0,0,false,0,0,0,117.6,133.5,2.6,{"$f":"IF(ROUND((Weightings!$P$5*CC168^Weightings!$P$6*Weightings!$P$8 ),2)<Weightings!$P$7,Weightings!$P$7,ROUND((Weightings!$P$5*CC168^Weightings!$P$6*Weightings!$P$8 ),2))","v":872.05},{"$f":"ROUND(CD168/Weightings!$M$5,4)","v":0.22639999999999999},78.599999999999994,0,0,0,0,{"$f":"AS168*Weightings!$M$5*CJ168","v":0},0,0.46700000000000003,25.1,0,0,128.5,{"$f":"IF(ISNA(VLOOKUP($DC168,'Audit Values'!$A$2:$AE$299,2,FALSE)),'Preliminary SO66'!T165,VLOOKUP($DC168,'Audit Values'!$A$2:$AE$299,20,FALSE))","v":4},{"$f":"IF(ISNA(VLOOKUP($DC168,'Audit Values'!$A$2:$AE$299,21,FALSE)),'Preliminary SO66'!U165,VLOOKUP($DC168,'Audit Values'!$A$2:$AE$299,21,FALSE))","v":5.5},1,10.5,null,null,null,null,null,null,null,"D0373"]
[374,"Haskell","Sublette ",443.5,0,443.5,476.4,0,476.4,432.7,{"$f":"IF(ISNA(VLOOKUP($DC169,'Audit Values'!$A$2:$AE$252,2,FALSE)),'Preliminary SO66'!B166,VLOOKUP($DC169,'Audit Values'!$A$2:$AE$252,31,FALSE))","v":432.7},476.4,{"$f":"IF(ISNA(VLOOKUP($DC169,'Audit Values'!$A$2:$AE$252,2,FALSE)),'Preliminary SO66'!Z166,VLOOKUP($DC169,'Audit Values'!$A$2:$AE$252,26,FALSE))","v":0},476.4,{"$f":"IF(ISNA(VLOOKUP($DC169,'Audit Values'!$A$2:$AE$252,2,FALSE)),'Preliminary SO66'!C166,IF(VLOOKUP($DC169,'Audit Values'!$A$2:$AE$252,28,FALSE)=\"\",VLOOKUP($DC169,'Audit Values'!$A$2:$AE$252,3,FALSE),VLOOKUP($DC169,'Audit Values'!$A$2:$AE$252,28,FALSE)))","v":8},440.7,440.7,440.7,484.4,0,204.2,204.2,0,{"$f":"IF(ISNA(VLOOKUP($DC169,'Audit Values'!$A$2:$AE$252,2,FALSE)),'Preliminary SO66'!D166,VLOOKUP($DC169,'Audit Values'!$A$2:$AE$252,4,FALSE))","v":14},{"$f":"ROUND((X169/6)*Weightings!$M$6,1)","v":1.2},{"$f":"IF(ISNA(VLOOKUP($DC169,'Audit Values'!$A$2:$AE$252,2,FALSE)),'Preliminary SO66'!F166,VLOOKUP($DC169,'Audit Values'!$A$2:$AE$252,6,FALSE))","v":860.6},{"$f":"ROUND((Z169/6)*Weightings!$M$7,1)","v":56.7},{"$f":"IF(ISNA(VLOOKUP($DC169,'Audit Values'!$A$2:$AE$252,2,FALSE)),'Preliminary SO66'!H166,VLOOKUP($DC169,'Audit Values'!$A$2:$AE$252,9,FALSE))","v":252},{"$f":"ROUND(AB169*Weightings!$M$8,1)","v":114.9},26.5,0,{"$f":"AE169*Weightings!$M$9","v":0},{"$f":"IF(ISNA(VLOOKUP($DC169,'Audit Values'!$A$2:$AE$252,2,FALSE)),'Preliminary SO66'!L166,VLOOKUP($DC169,'Audit Values'!$A$2:$AE$252,12,FALSE))","v":0},{"$f":"ROUND(AG169*Weightings!$M$10,1)","v":0},{"$f":"IF(ISNA(VLOOKUP($DC169,'Audit Values'!$A$2:$AE$252,2,FALSE)),'Preliminary SO66'!O166,VLOOKUP($DC169,'Audit Values'!$A$2:$AE$252,15,FALSE))","v":88},33.799999999999997,{"$f":"CG169/Weightings!$M$5","v":0},{"$f":"CH169/Weightings!$M$5","v":0},{"$f":"CL169/Weightings!$M$5","v":0},0,{"$f":"IF(ISNA(VLOOKUP($DC169,'Audit Values'!$A$2:$AE$252,2,FALSE)),'Preliminary SO66'!X166,VLOOKUP($DC169,'Audit Values'!$A$2:$AE$252,24,FALSE))","v":0},262404,{"$f":"AP169/Weightings!$M$5","v":68.099999999999994},921.7,989.8,989.8,0,{"$f":"IF(ISNA(VLOOKUP($DC169,'Audit Values'!$A$2:$AC$299,2,FALSE)),\"\",IF(AND(Weightings!H169>0,VLOOKUP($DC169,'Audit Values'!$A$2:$AC$299,29,FALSE)<Weightings!H169),Weightings!H169,VLOOKUP($DC169,'Audit Values'!$A$2:$AC$299,29,FALSE)))","v":10},{"$f":"IF(ISNA(VLOOKUP($DC169,'Audit Values'!$A$2:$AD$299,2,FALSE)),\"\",VLOOKUP($DC169,'Audit Values'!$A$2:$AD$299,30,FALSE))","v":"A"},{"$f":"IF(Weightings!G169=\"\",\"\",IF(Weightings!I169=\"Pending\",\"PX\",\"R\"))","v":""},{"$f":"AR169*Weightings!$M$5+AU169","v":3550388},{"$f":"AT169*Weightings!$M$5+AU169","v":3812710},{"$f":"IF(Weightings!G169>0,Weightings!G169,'Preliminary SO66'!AB166)","v":4627900},0,309839,0,4318061,3812710,null,{"$f":"Weightings!E169","v":0},{"$f":"Weightings!F169","v":0},0,3812710,{"$f":"MAX(ROUND(((AR169-AN169-AO169)*Weightings!$M$12)+'2016legmax.xls'!AP169,0),ROUND((('2016legmax.xls'!AR169-'2016legmax.xls'!AN169-'2016legmax.xls'!AO169)*Weightings!$M$12)+Weightings!B169,0))","v":4449475},0.3,1334843,1352892,1334843,0.3,0,false,0,0,0,true,228.19499999999999,0.421537,204.2,0,355.5,0.25,{"$f":"IF(ROUND((Weightings!$P$5*CC169^Weightings!$P$6*Weightings!$P$8 ),2)<Weightings!$P$7,Weightings!$P$7,ROUND((Weightings!$P$5*CC169^Weightings!$P$6*Weightings!$P$8 ),2))","v":1481.17},{"$f":"ROUND(CD169/Weightings!$M$5,4)","v":0.38450000000000001},33.799999999999997,0,0,0,0,{"$f":"AS169*Weightings!$M$5*CJ169","v":0},0,0.52,1.4,26.5,0,0,{"$f":"IF(ISNA(VLOOKUP($DC169,'Audit Values'!$A$2:$AE$252,2,FALSE)),'Preliminary SO66'!T166,VLOOKUP($DC169,'Audit Values'!$A$2:$AE$252,20,FALSE))","v":0},{"$f":"IF(ISNA(VLOOKUP($DC169,'Audit Values'!$A$2:$AE$252,21,FALSE)),'Preliminary SO66'!U166,VLOOKUP($DC169,'Audit Values'!$A$2:$AE$252,21,FALSE))","v":0},0,0,null,null,null,null,null,null,null,"D0374"]
[375,"Butler","Circle ",1804.3,0,1804.3,1854.8,0,1854.8,1921.3,{"$f":"IF(ISNA(VLOOKUP($DC170,'Audit Values'!$A$2:$AE$252,2,FALSE)),'Preliminary SO66'!B167,VLOOKUP($DC170,'Audit Values'!$A$2:$AE$252,31,FALSE))","v":1860.8},1860.8,{"$f":"IF(ISNA(VLOOKUP($DC170,'Audit Values'!$A$2:$AE$252,2,FALSE)),'Preliminary SO66'!Z167,VLOOKUP($DC170,'Audit Values'!$A$2:$AE$252,26,FALSE))","v":0},1860.8,{"$f":"IF(ISNA(VLOOKUP($DC170,'Audit Values'!$A$2:$AE$252,2,FALSE)),'Preliminary SO66'!C167,IF(VLOOKUP($DC170,'Audit Values'!$A$2:$AE$252,28,FALSE)=\"\",VLOOKUP($DC170,'Audit Values'!$A$2:$AE$252,3,FALSE),VLOOKUP($DC170,'Audit Values'!$A$2:$AE$252,28,FALSE)))","v":0},1860.8,1921.3,1921.3,1860.8,60.5,65.2,0,65.2,{"$f":"IF(ISNA(VLOOKUP($DC170,'Audit Values'!$A$2:$AE$252,2,FALSE)),'Preliminary SO66'!D167,VLOOKUP($DC170,'Audit Values'!$A$2:$AE$252,4,FALSE))","v":586.9},{"$f":"ROUND((X170/6)*Weightings!$M$6,1)","v":48.9},{"$f":"IF(ISNA(VLOOKUP($DC170,'Audit Values'!$A$2:$AE$252,2,FALSE)),'Preliminary SO66'!F167,VLOOKUP($DC170,'Audit Values'!$A$2:$AE$252,6,FALSE))","v":6.8},{"$f":"ROUND((Z170/6)*Weightings!$M$7,1)","v":0.4},{"$f":"IF(ISNA(VLOOKUP($DC170,'Audit Values'!$A$2:$AE$252,2,FALSE)),'Preliminary SO66'!H167,VLOOKUP($DC170,'Audit Values'!$A$2:$AE$252,9,FALSE))","v":390},{"$f":"ROUND(AB170*Weightings!$M$8,1)","v":177.8},0,0,{"$f":"AE170*Weightings!$M$9","v":0},{"$f":"IF(ISNA(VLOOKUP($DC170,'Audit Values'!$A$2:$AE$252,2,FALSE)),'Preliminary SO66'!L167,VLOOKUP($DC170,'Audit Values'!$A$2:$AE$252,12,FALSE))","v":567.20000000000005},{"$f":"ROUND(AG170*Weightings!$M$10,1)","v":141.80000000000001},{"$f":"IF(ISNA(VLOOKUP($DC170,'Audit Values'!$A$2:$AE$252,2,FALSE)),'Preliminary SO66'!O167,VLOOKUP($DC170,'Audit Values'!$A$2:$AE$252,15,FALSE))","v":718},146.6,{"$f":"CG170/Weightings!$M$5","v":0},{"$f":"CH170/Weightings!$M$5","v":0},{"$f":"CL170/Weightings!$M$5","v":0},63.5,{"$f":"IF(ISNA(VLOOKUP($DC170,'Audit Values'!$A$2:$AE$252,2,FALSE)),'Preliminary SO66'!X167,VLOOKUP($DC170,'Audit Values'!$A$2:$AE$252,24,FALSE))","v":0},1456715,{"$f":"AP170/Weightings!$M$5","v":378.2},2505,2883.2,2883.2,0,{"$f":"IF(ISNA(VLOOKUP($DC170,'Audit Values'!$A$2:$AC$299,2,FALSE)),\"\",IF(AND(Weightings!H170>0,VLOOKUP($DC170,'Audit Values'!$A$2:$AC$299,29,FALSE)<Weightings!H170),Weightings!H170,VLOOKUP($DC170,'Audit Values'!$A$2:$AC$299,29,FALSE)))","v":7},{"$f":"IF(ISNA(VLOOKUP($DC170,'Audit Values'!$A$2:$AD$299,2,FALSE)),\"\",VLOOKUP($DC170,'Audit Values'!$A$2:$AD$299,30,FALSE))","v":"A"},{"$f":"IF(Weightings!G170=\"\",\"\",IF(Weightings!I170=\"Pending\",\"PX\",\"R\"))","v":""},{"$f":"AR170*Weightings!$M$5+AU170","v":9649260},{"$f":"AT170*Weightings!$M$5+AU170","v":11106086},{"$f":"IF(Weightings!G170>0,Weightings!G170,'Preliminary SO66'!AB167)","v":12797457},467378,854703,0,11475376,11106086,null,{"$f":"Weightings!E170","v":0},{"$f":"Weightings!F170","v":0},0,11106086,{"$f":"MAX(ROUND(((AR170-AN170-AO170)*Weightings!$M$12)+'2016legmax.xls'!AP170,0),ROUND((('2016legmax.xls'!AR170-'2016legmax.xls'!AN170-'2016legmax.xls'!AO170)*Weightings!$M$12)+Weightings!B170,0))","v":12419050},0.3,3725715,3556907,3556907,0.28639999999999999,0,false,0,0,0,false,0,0,0,65.2,175,4.0999999999999996,{"$f":"IF(ROUND((Weightings!$P$5*CC170^Weightings!$P$6*Weightings!$P$8 ),2)<Weightings!$P$7,Weightings!$P$7,ROUND((Weightings!$P$5*CC170^Weightings!$P$6*Weightings!$P$8 ),2))","v":786.68},{"$f":"ROUND(CD170/Weightings!$M$5,4)","v":0.20419999999999999},146.6,0,0,0,0,{"$f":"AS170*Weightings!$M$5*CJ170","v":0},0,0.21,10.6,0,0,0,{"$f":"IF(ISNA(VLOOKUP($DC170,'Audit Values'!$A$2:$AE$252,2,FALSE)),'Preliminary SO66'!T167,VLOOKUP($DC170,'Audit Values'!$A$2:$AE$252,20,FALSE))","v":16},{"$f":"IF(ISNA(VLOOKUP($DC170,'Audit Values'!$A$2:$AE$252,21,FALSE)),'Preliminary SO66'!U167,VLOOKUP($DC170,'Audit Values'!$A$2:$AE$252,21,FALSE))","v":4.5},40,60.5,null,null,null,null,null,null,null,"D0375"]
[376,"Rice","Sterling ",495.4,0,495.4,514.4,0,514.4,505.2,{"$f":"IF(ISNA(VLOOKUP($DC171,'Audit Values'!$A$2:$AE$252,2,FALSE)),'Preliminary SO66'!B168,VLOOKUP($DC171,'Audit Values'!$A$2:$AE$252,31,FALSE))","v":505.2},514.4,{"$f":"IF(ISNA(VLOOKUP($DC171,'Audit Values'!$A$2:$AE$252,2,FALSE)),'Preliminary SO66'!Z168,VLOOKUP($DC171,'Audit Values'!$A$2:$AE$252,26,FALSE))","v":0},514.4,{"$f":"IF(ISNA(VLOOKUP($DC171,'Audit Values'!$A$2:$AE$252,2,FALSE)),'Preliminary SO66'!C168,IF(VLOOKUP($DC171,'Audit Values'!$A$2:$AE$252,28,FALSE)=\"\",VLOOKUP($DC171,'Audit Values'!$A$2:$AE$252,3,FALSE),VLOOKUP($DC171,'Audit Values'!$A$2:$AE$252,28,FALSE)))","v":4},509.2,509.2,509.2,518.4,0,212.5,212.5,0,{"$f":"IF(ISNA(VLOOKUP($DC171,'Audit Values'!$A$2:$AE$252,2,FALSE)),'Preliminary SO66'!D168,VLOOKUP($DC171,'Audit Values'!$A$2:$AE$252,4,FALSE))","v":244.4},{"$f":"ROUND((X171/6)*Weightings!$M$6,1)","v":20.399999999999999},{"$f":"IF(ISNA(VLOOKUP($DC171,'Audit Values'!$A$2:$AE$252,2,FALSE)),'Preliminary SO66'!F168,VLOOKUP($DC171,'Audit Values'!$A$2:$AE$252,6,FALSE))","v":7.6},{"$f":"ROUND((Z171/6)*Weightings!$M$7,1)","v":0.5},{"$f":"IF(ISNA(VLOOKUP($DC171,'Audit Values'!$A$2:$AE$252,2,FALSE)),'Preliminary SO66'!H168,VLOOKUP($DC171,'Audit Values'!$A$2:$AE$252,9,FALSE))","v":166},{"$f":"ROUND(AB171*Weightings!$M$8,1)","v":75.7},0,0,{"$f":"AE171*Weightings!$M$9","v":0},{"$f":"IF(ISNA(VLOOKUP($DC171,'Audit Values'!$A$2:$AE$252,2,FALSE)),'Preliminary SO66'!L168,VLOOKUP($DC171,'Audit Values'!$A$2:$AE$252,12,FALSE))","v":0},{"$f":"ROUND(AG171*Weightings!$M$10,1)","v":0},{"$f":"IF(ISNA(VLOOKUP($DC171,'Audit Values'!$A$2:$AE$252,2,FALSE)),'Preliminary SO66'!O168,VLOOKUP($DC171,'Audit Values'!$A$2:$AE$252,15,FALSE))","v":125},37.1,{"$f":"CG171/Weightings!$M$5","v":0},{"$f":"CH171/Weightings!$M$5","v":0},{"$f":"CL171/Weightings!$M$5","v":0},0,{"$f":"IF(ISNA(VLOOKUP($DC171,'Audit Values'!$A$2:$AE$252,2,FALSE)),'Preliminary SO66'!X168,VLOOKUP($DC171,'Audit Values'!$A$2:$AE$252,24,FALSE))","v":0},617355,{"$f":"AP171/Weightings!$M$5","v":160.30000000000001},864.6,1024.9000000000001,1024.9000000000001,0,{"$f":"IF(ISNA(VLOOKUP($DC171,'Audit Values'!$A$2:$AC$299,2,FALSE)),\"\",IF(AND(Weightings!H171>0,VLOOKUP($DC171,'Audit Values'!$A$2:$AC$299,29,FALSE)<Weightings!H171),Weightings!H171,VLOOKUP($DC171,'Audit Values'!$A$2:$AC$299,29,FALSE)))","v":13},{"$f":"IF(ISNA(VLOOKUP($DC171,'Audit Values'!$A$2:$AD$299,2,FALSE)),\"\",VLOOKUP($DC171,'Audit Values'!$A$2:$AD$299,30,FALSE))","v":"A"},{"$f":"IF(Weightings!G171=\"\",\"\",IF(Weightings!I171=\"Pending\",\"PX\",\"R\"))","v":""},{"$f":"AR171*Weightings!$M$5+AU171","v":3330439},{"$f":"AT171*Weightings!$M$5+AU171","v":3947915},{"$f":"IF(Weightings!G171>0,Weightings!G171,'Preliminary SO66'!AB168)","v":5152685},722010,281427,49063,4100185,3947915,null,{"$f":"Weightings!E171","v":0},{"$f":"Weightings!F171","v":0},0,3947915,{"$f":"MAX(ROUND(((AR171-AN171-AO171)*Weightings!$M$12)+'2016legmax.xls'!AP171,0),ROUND((('2016legmax.xls'!AR171-'2016legmax.xls'!AN171-'2016legmax.xls'!AO171)*Weightings!$M$12)+Weightings!B171,0))","v":4499409},0.3,1349823,1337550,1337550,0.29730000000000001,0,false,0,0,0,true,270.27,0.40998499999999999,212.5,0,158,0.79,{"$f":"IF(ROUND((Weightings!$P$5*CC171^Weightings!$P$6*Weightings!$P$8 ),2)<Weightings!$P$7,Weightings!$P$7,ROUND((Weightings!$P$5*CC171^Weightings!$P$6*Weightings!$P$8 ),2))","v":1141.75},{"$f":"ROUND(CD171/Weightings!$M$5,4)","v":0.2964},37.1,0,0,0,0,{"$f":"AS171*Weightings!$M$5*CJ171","v":0},0,0.32,3.3,0,0,0,{"$f":"IF(ISNA(VLOOKUP($DC171,'Audit Values'!$A$2:$AE$252,2,FALSE)),'Preliminary SO66'!T168,VLOOKUP($DC171,'Audit Values'!$A$2:$AE$252,20,FALSE))","v":0},{"$f":"IF(ISNA(VLOOKUP($DC171,'Audit Values'!$A$2:$AE$252,21,FALSE)),'Preliminary SO66'!U168,VLOOKUP($DC171,'Audit Values'!$A$2:$AE$252,21,FALSE))","v":0},0,0,null,null,null,null,null,null,null,"D0376"]
[377,"Atchison","Atchison Co Comm Schools ",580,0,580,574,0,574,554.4,{"$f":"IF(ISNA(VLOOKUP($DC172,'Audit Values'!$A$2:$AE$252,2,FALSE)),'Preliminary SO66'!B169,VLOOKUP($DC172,'Audit Values'!$A$2:$AE$252,31,FALSE))","v":550},574,{"$f":"IF(ISNA(VLOOKUP($DC172,'Audit Values'!$A$2:$AE$252,2,FALSE)),'Preliminary SO66'!Z169,VLOOKUP($DC172,'Audit Values'!$A$2:$AE$252,26,FALSE))","v":0},574,{"$f":"IF(ISNA(VLOOKUP($DC172,'Audit Values'!$A$2:$AE$252,2,FALSE)),'Preliminary SO66'!C169,IF(VLOOKUP($DC172,'Audit Values'!$A$2:$AE$252,28,FALSE)=\"\",VLOOKUP($DC172,'Audit Values'!$A$2:$AE$252,3,FALSE),VLOOKUP($DC172,'Audit Values'!$A$2:$AE$252,28,FALSE)))","v":2.5},552.5,556.9,556.9,576.5,4.4000000000000004,225,225,0,{"$f":"IF(ISNA(VLOOKUP($DC172,'Audit Values'!$A$2:$AE$252,2,FALSE)),'Preliminary SO66'!D169,VLOOKUP($DC172,'Audit Values'!$A$2:$AE$252,4,FALSE))","v":100.1},{"$f":"ROUND((X172/6)*Weightings!$M$6,1)","v":8.3000000000000007},{"$f":"IF(ISNA(VLOOKUP($DC172,'Audit Values'!$A$2:$AE$252,2,FALSE)),'Preliminary SO66'!F169,VLOOKUP($DC172,'Audit Values'!$A$2:$AE$252,6,FALSE))","v":0},{"$f":"ROUND((Z172/6)*Weightings!$M$7,1)","v":0},{"$f":"IF(ISNA(VLOOKUP($DC172,'Audit Values'!$A$2:$AE$252,2,FALSE)),'Preliminary SO66'!H169,VLOOKUP($DC172,'Audit Values'!$A$2:$AE$252,9,FALSE))","v":253},{"$f":"ROUND(AB172*Weightings!$M$8,1)","v":115.4},15.8,0,{"$f":"AE172*Weightings!$M$9","v":0},{"$f":"IF(ISNA(VLOOKUP($DC172,'Audit Values'!$A$2:$AE$252,2,FALSE)),'Preliminary SO66'!L169,VLOOKUP($DC172,'Audit Values'!$A$2:$AE$252,12,FALSE))","v":0},{"$f":"ROUND(AG172*Weightings!$M$10,1)","v":0},{"$f":"IF(ISNA(VLOOKUP($DC172,'Audit Values'!$A$2:$AE$252,2,FALSE)),'Preliminary SO66'!O169,VLOOKUP($DC172,'Audit Values'!$A$2:$AE$252,15,FALSE))","v":354},99.3,{"$f":"CG172/Weightings!$M$5","v":0},{"$f":"CH172/Weightings!$M$5","v":0},{"$f":"CL172/Weightings!$M$5","v":0},4.5999999999999996,{"$f":"IF(ISNA(VLOOKUP($DC172,'Audit Values'!$A$2:$AE$252,2,FALSE)),'Preliminary SO66'!X169,VLOOKUP($DC172,'Audit Values'!$A$2:$AE$252,24,FALSE))","v":0},807668,{"$f":"AP172/Weightings!$M$5","v":209.7},1044.9000000000001,1254.5999999999999,1254.5999999999999,0,{"$f":"IF(ISNA(VLOOKUP($DC172,'Audit Values'!$A$2:$AC$299,2,FALSE)),\"\",IF(AND(Weightings!H172>0,VLOOKUP($DC172,'Audit Values'!$A$2:$AC$299,29,FALSE)<Weightings!H172),Weightings!H172,VLOOKUP($DC172,'Audit Values'!$A$2:$AC$299,29,FALSE)))","v":18},{"$f":"IF(ISNA(VLOOKUP($DC172,'Audit Values'!$A$2:$AD$299,2,FALSE)),\"\",VLOOKUP($DC172,'Audit Values'!$A$2:$AD$299,30,FALSE))","v":"A"},{"$f":"IF(Weightings!G172=\"\",\"\",IF(Weightings!I172=\"Pending\",\"PX\",\"R\"))","v":"R"},{"$f":"AR172*Weightings!$M$5+AU172","v":4024955},{"$f":"AT172*Weightings!$M$5+AU172","v":4832719},{"$f":"IF(Weightings!G172>0,Weightings!G172,'Preliminary SO66'!AB169)","v":5813215},464230,295486,0,5053499,4832719,null,{"$f":"Weightings!E172","v":0},{"$f":"Weightings!F172","v":0},0,4832719,{"$f":"MAX(ROUND(((AR172-AN172-AO172)*Weightings!$M$12)+'2016legmax.xls'!AP172,0),ROUND((('2016legmax.xls'!AR172-'2016legmax.xls'!AN172-'2016legmax.xls'!AO172)*Weightings!$M$12)+Weightings!B172,0))","v":5541599},0.3,1662480,1687938,1662480,0.3,0,false,0,0,0,true,342.16879999999998,0.39024599999999998,225,0,350,1.01,{"$f":"IF(ROUND((Weightings!$P$5*CC172^Weightings!$P$6*Weightings!$P$8 ),2)<Weightings!$P$7,Weightings!$P$7,ROUND((Weightings!$P$5*CC172^Weightings!$P$6*Weightings!$P$8 ),2))","v":1080.03},{"$f":"ROUND(CD172/Weightings!$M$5,4)","v":0.28039999999999998},99.3,0,0,0,0,{"$f":"AS172*Weightings!$M$5*CJ172","v":0},0,0.439,1.6,0,0,15.8,{"$f":"IF(ISNA(VLOOKUP($DC172,'Audit Values'!$A$2:$AE$252,2,FALSE)),'Preliminary SO66'!T169,VLOOKUP($DC172,'Audit Values'!$A$2:$AE$252,20,FALSE))","v":2},{"$f":"IF(ISNA(VLOOKUP($DC172,'Audit Values'!$A$2:$AE$252,21,FALSE)),'Preliminary SO66'!U169,VLOOKUP($DC172,'Audit Values'!$A$2:$AE$252,21,FALSE))","v":2.4},0,4.4000000000000004,null,null,null,null,null,null,null,"D0377"]
[378,"Riley","Riley County ",685.8,0,685.8,656.5,0,656.5,669.4,{"$f":"IF(ISNA(VLOOKUP($DC173,'Audit Values'!$A$2:$AE$252,2,FALSE)),'Preliminary SO66'!B170,VLOOKUP($DC173,'Audit Values'!$A$2:$AE$252,31,FALSE))","v":669.4},670.6,{"$f":"IF(ISNA(VLOOKUP($DC173,'Audit Values'!$A$2:$AE$252,2,FALSE)),'Preliminary SO66'!Z170,VLOOKUP($DC173,'Audit Values'!$A$2:$AE$252,26,FALSE))","v":0},670.6,{"$f":"IF(ISNA(VLOOKUP($DC173,'Audit Values'!$A$2:$AE$252,2,FALSE)),'Preliminary SO66'!C170,IF(VLOOKUP($DC173,'Audit Values'!$A$2:$AE$252,28,FALSE)=\"\",VLOOKUP($DC173,'Audit Values'!$A$2:$AE$252,3,FALSE),VLOOKUP($DC173,'Audit Values'!$A$2:$AE$252,28,FALSE)))","v":0},669.4,669.4,669.4,670.6,0,240.3,240.3,0,{"$f":"IF(ISNA(VLOOKUP($DC173,'Audit Values'!$A$2:$AE$252,2,FALSE)),'Preliminary SO66'!D170,VLOOKUP($DC173,'Audit Values'!$A$2:$AE$252,4,FALSE))","v":172.3},{"$f":"ROUND((X173/6)*Weightings!$M$6,1)","v":14.4},{"$f":"IF(ISNA(VLOOKUP($DC173,'Audit Values'!$A$2:$AE$252,2,FALSE)),'Preliminary SO66'!F170,VLOOKUP($DC173,'Audit Values'!$A$2:$AE$252,6,FALSE))","v":0},{"$f":"ROUND((Z173/6)*Weightings!$M$7,1)","v":0},{"$f":"IF(ISNA(VLOOKUP($DC173,'Audit Values'!$A$2:$AE$252,2,FALSE)),'Preliminary SO66'!H170,VLOOKUP($DC173,'Audit Values'!$A$2:$AE$252,9,FALSE))","v":153},{"$f":"ROUND(AB173*Weightings!$M$8,1)","v":69.8},0,0,{"$f":"AE173*Weightings!$M$9","v":0},{"$f":"IF(ISNA(VLOOKUP($DC173,'Audit Values'!$A$2:$AE$252,2,FALSE)),'Preliminary SO66'!L170,VLOOKUP($DC173,'Audit Values'!$A$2:$AE$252,12,FALSE))","v":0},{"$f":"ROUND(AG173*Weightings!$M$10,1)","v":0},{"$f":"IF(ISNA(VLOOKUP($DC173,'Audit Values'!$A$2:$AE$252,2,FALSE)),'Preliminary SO66'!O170,VLOOKUP($DC173,'Audit Values'!$A$2:$AE$252,15,FALSE))","v":418},94.6,{"$f":"CG173/Weightings!$M$5","v":0},{"$f":"CH173/Weightings!$M$5","v":0},{"$f":"CL173/Weightings!$M$5","v":0},0,{"$f":"IF(ISNA(VLOOKUP($DC173,'Audit Values'!$A$2:$AE$252,2,FALSE)),'Preliminary SO66'!X170,VLOOKUP($DC173,'Audit Values'!$A$2:$AE$252,24,FALSE))","v":0},704933,{"$f":"AP173/Weightings!$M$5","v":183},1089.7,1272.7,1272.7,0,{"$f":"IF(ISNA(VLOOKUP($DC173,'Audit Values'!$A$2:$AC$299,2,FALSE)),\"\",IF(AND(Weightings!H173>0,VLOOKUP($DC173,'Audit Values'!$A$2:$AC$299,29,FALSE)<Weightings!H173),Weightings!H173,VLOOKUP($DC173,'Audit Values'!$A$2:$AC$299,29,FALSE)))","v":4},{"$f":"IF(ISNA(VLOOKUP($DC173,'Audit Values'!$A$2:$AD$299,2,FALSE)),\"\",VLOOKUP($DC173,'Audit Values'!$A$2:$AD$299,30,FALSE))","v":"A"},{"$f":"IF(Weightings!G173=\"\",\"\",IF(Weightings!I173=\"Pending\",\"PX\",\"R\"))","v":""},{"$f":"AR173*Weightings!$M$5+AU173","v":4197524},{"$f":"AT173*Weightings!$M$5+AU173","v":4902440},{"$f":"IF(Weightings!G173>0,Weightings!G173,'Preliminary SO66'!AB170)","v":6289057},772699,269930,60973,5185455,4902440,null,{"$f":"Weightings!E173","v":0},{"$f":"Weightings!F173","v":0},0,4902440,{"$f":"MAX(ROUND(((AR173-AN173-AO173)*Weightings!$M$12)+'2016legmax.xls'!AP173,0),ROUND((('2016legmax.xls'!AR173-'2016legmax.xls'!AN173-'2016legmax.xls'!AO173)*Weightings!$M$12)+Weightings!B173,0))","v":5597686},0.3,1679306,1679444,1679306,0.3,0,false,0,0,0,true,458.61750000000001,0.35827500000000001,240.3,0,160,2.61,{"$f":"IF(ROUND((Weightings!$P$5*CC173^Weightings!$P$6*Weightings!$P$8 ),2)<Weightings!$P$7,Weightings!$P$7,ROUND((Weightings!$P$5*CC173^Weightings!$P$6*Weightings!$P$8 ),2))","v":871.3},{"$f":"ROUND(CD173/Weightings!$M$5,4)","v":0.22620000000000001},94.6,0,0,0,0,{"$f":"AS173*Weightings!$M$5*CJ173","v":0},0,0.22800000000000001,4.2,0,0,0,{"$f":"IF(ISNA(VLOOKUP($DC173,'Audit Values'!$A$2:$AE$252,2,FALSE)),'Preliminary SO66'!T170,VLOOKUP($DC173,'Audit Values'!$A$2:$AE$252,20,FALSE))","v":0},{"$f":"IF(ISNA(VLOOKUP($DC173,'Audit Values'!$A$2:$AE$252,21,FALSE)),'Preliminary SO66'!U170,VLOOKUP($DC173,'Audit Values'!$A$2:$AE$252,21,FALSE))","v":0},0,0,null,null,null,null,null,null,null,"D0378"]
[379,"Clay","Clay Center ",1346.3,0,1346.3,1327.4,0,1327.4,1324.1,{"$f":"IF(ISNA(VLOOKUP($DC174,'Audit Values'!$A$2:$AE$286,2,FALSE)),'Preliminary SO66'!B171,VLOOKUP($DC174,'Audit Values'!$A$2:$AE$286,31,FALSE))","v":1312.1},1328.6,{"$f":"IF(ISNA(VLOOKUP($DC174,'Audit Values'!$A$2:$AE$286,2,FALSE)),'Preliminary SO66'!Z171,VLOOKUP($DC174,'Audit Values'!$A$2:$AE$286,26,FALSE))","v":0},1328.6,{"$f":"IF(ISNA(VLOOKUP($DC174,'Audit Values'!$A$2:$AE$252,2,FALSE)),'Preliminary SO66'!C171,IF(VLOOKUP($DC174,'Audit Values'!$A$2:$AE$252,28,FALSE)=\"\",VLOOKUP($DC174,'Audit Values'!$A$2:$AE$252,3,FALSE),VLOOKUP($DC174,'Audit Values'!$A$2:$AE$252,28,FALSE)))","v":0},1312.1,1324.1,1324.1,1328.6,12,179,179,0,{"$f":"IF(ISNA(VLOOKUP($DC174,'Audit Values'!$A$2:$AE$252,2,FALSE)),'Preliminary SO66'!D171,VLOOKUP($DC174,'Audit Values'!$A$2:$AE$252,4,FALSE))","v":439.6},{"$f":"ROUND((X174/6)*Weightings!$M$6,1)","v":36.6},{"$f":"IF(ISNA(VLOOKUP($DC174,'Audit Values'!$A$2:$AE$252,2,FALSE)),'Preliminary SO66'!F171,VLOOKUP($DC174,'Audit Values'!$A$2:$AE$252,6,FALSE))","v":15.9},{"$f":"ROUND((Z174/6)*Weightings!$M$7,1)","v":1},{"$f":"IF(ISNA(VLOOKUP($DC174,'Audit Values'!$A$2:$AE$286,2,FALSE)),'Preliminary SO66'!H171,VLOOKUP($DC174,'Audit Values'!$A$2:$AE$286,9,FALSE))","v":410},{"$f":"ROUND(AB174*Weightings!$M$8,1)","v":187},0,0,{"$f":"AE174*Weightings!$M$9","v":0},{"$f":"IF(ISNA(VLOOKUP($DC174,'Audit Values'!$A$2:$AE$252,2,FALSE)),'Preliminary SO66'!L171,VLOOKUP($DC174,'Audit Values'!$A$2:$AE$252,12,FALSE))","v":0},{"$f":"ROUND(AG174*Weightings!$M$10,1)","v":0},{"$f":"IF(ISNA(VLOOKUP($DC174,'Audit Values'!$A$2:$AE$252,2,FALSE)),'Preliminary SO66'!O171,VLOOKUP($DC174,'Audit Values'!$A$2:$AE$252,15,FALSE))","v":405},125.9,{"$f":"CG174/Weightings!$M$5","v":0},{"$f":"CH174/Weightings!$M$5","v":0},{"$f":"CL174/Weightings!$M$5","v":0},12.6,{"$f":"IF(ISNA(VLOOKUP($DC174,'Audit Values'!$A$2:$AE$252,2,FALSE)),'Preliminary SO66'!X171,VLOOKUP($DC174,'Audit Values'!$A$2:$AE$252,24,FALSE))","v":0},1214769,{"$f":"AP174/Weightings!$M$5","v":315.39999999999998},1870.7,2186.1,2186.1,0,{"$f":"IF(ISNA(VLOOKUP($DC174,'Audit Values'!$A$2:$AC$299,2,FALSE)),\"\",IF(AND(Weightings!H174>0,VLOOKUP($DC174,'Audit Values'!$A$2:$AC$299,29,FALSE)<Weightings!H174),Weightings!H174,VLOOKUP($DC174,'Audit Values'!$A$2:$AC$299,29,FALSE)))","v":18},{"$f":"IF(ISNA(VLOOKUP($DC174,'Audit Values'!$A$2:$AD$299,2,FALSE)),\"\",VLOOKUP($DC174,'Audit Values'!$A$2:$AD$299,30,FALSE))","v":"A"},{"$f":"IF(Weightings!G174=\"\",\"\",IF(Weightings!I174=\"Pending\",\"PX\",\"R\"))","v":""},{"$f":"AR174*Weightings!$M$5+AU174","v":7205936},{"$f":"AT174*Weightings!$M$5+AU174","v":8420857},{"$f":"IF(Weightings!G174>0,Weightings!G174,'Preliminary SO66'!AB171)","v":11437444},1394177,873772,89511,9079984,8420857,null,{"$f":"Weightings!E174","v":0},{"$f":"Weightings!F174","v":0},0,8420857,{"$f":"MAX(ROUND(((AR174-AN174-AO174)*Weightings!$M$12)+'2016legmax.xls'!AP174,0),ROUND((('2016legmax.xls'!AR174-'2016legmax.xls'!AN174-'2016legmax.xls'!AO174)*Weightings!$M$12)+Weightings!B174,0))","v":9557638},0.3,2867291,2880460,2867291,0.3,0,false,0,0,0,true,1272.8924999999999,0.13472100000000001,179,0,632.5,0.64,{"$f":"IF(ROUND((Weightings!$P$5*CC174^Weightings!$P$6*Weightings!$P$8 ),2)<Weightings!$P$7,Weightings!$P$7,ROUND((Weightings!$P$5*CC174^Weightings!$P$6*Weightings!$P$8 ),2))","v":1197.45},{"$f":"ROUND(CD174/Weightings!$M$5,4)","v":0.31090000000000001},125.9,0,0,0,0,{"$f":"AS174*Weightings!$M$5*CJ174","v":0},0,0.309,2.1,0,0,0,{"$f":"IF(ISNA(VLOOKUP($DC174,'Audit Values'!$A$2:$AE$286,2,FALSE)),'Preliminary SO66'!T171,VLOOKUP($DC174,'Audit Values'!$A$2:$AE$286,20,FALSE))","v":7},{"$f":"IF(ISNA(VLOOKUP($DC174,'Audit Values'!$A$2:$AE$286,21,FALSE)),'Preliminary SO66'!U171,VLOOKUP($DC174,'Audit Values'!$A$2:$AE$286,21,FALSE))","v":3},2,12,null,null,null,null,null,null,null,"D0379"]
[380,"Marshall","Vermillion ",515.5,0,515.5,509,0,509,521,{"$f":"IF(ISNA(VLOOKUP($DC175,'Audit Values'!$A$2:$AE$252,2,FALSE)),'Preliminary SO66'!B172,VLOOKUP($DC175,'Audit Values'!$A$2:$AE$252,31,FALSE))","v":521},521,{"$f":"IF(ISNA(VLOOKUP($DC175,'Audit Values'!$A$2:$AE$252,2,FALSE)),'Preliminary SO66'!Z172,VLOOKUP($DC175,'Audit Values'!$A$2:$AE$252,26,FALSE))","v":0},521,{"$f":"IF(ISNA(VLOOKUP($DC175,'Audit Values'!$A$2:$AE$252,2,FALSE)),'Preliminary SO66'!C172,IF(VLOOKUP($DC175,'Audit Values'!$A$2:$AE$252,28,FALSE)=\"\",VLOOKUP($DC175,'Audit Values'!$A$2:$AE$252,3,FALSE),VLOOKUP($DC175,'Audit Values'!$A$2:$AE$252,28,FALSE)))","v":9},530,530,530,530,0,215.2,215.2,0,{"$f":"IF(ISNA(VLOOKUP($DC175,'Audit Values'!$A$2:$AE$252,2,FALSE)),'Preliminary SO66'!D172,VLOOKUP($DC175,'Audit Values'!$A$2:$AE$252,4,FALSE))","v":118.6},{"$f":"ROUND((X175/6)*Weightings!$M$6,1)","v":9.9},{"$f":"IF(ISNA(VLOOKUP($DC175,'Audit Values'!$A$2:$AE$252,2,FALSE)),'Preliminary SO66'!F172,VLOOKUP($DC175,'Audit Values'!$A$2:$AE$252,6,FALSE))","v":0},{"$f":"ROUND((Z175/6)*Weightings!$M$7,1)","v":0},{"$f":"IF(ISNA(VLOOKUP($DC175,'Audit Values'!$A$2:$AE$252,2,FALSE)),'Preliminary SO66'!H172,VLOOKUP($DC175,'Audit Values'!$A$2:$AE$252,9,FALSE))","v":110},{"$f":"ROUND(AB175*Weightings!$M$8,1)","v":50.2},0,0,{"$f":"AE175*Weightings!$M$9","v":0},{"$f":"IF(ISNA(VLOOKUP($DC175,'Audit Values'!$A$2:$AE$252,2,FALSE)),'Preliminary SO66'!L172,VLOOKUP($DC175,'Audit Values'!$A$2:$AE$252,12,FALSE))","v":0},{"$f":"ROUND(AG175*Weightings!$M$10,1)","v":0},{"$f":"IF(ISNA(VLOOKUP($DC175,'Audit Values'!$A$2:$AE$252,2,FALSE)),'Preliminary SO66'!O172,VLOOKUP($DC175,'Audit Values'!$A$2:$AE$252,15,FALSE))","v":287},87.2,{"$f":"CG175/Weightings!$M$5","v":0},{"$f":"CH175/Weightings!$M$5","v":0},{"$f":"CL175/Weightings!$M$5","v":0},0,{"$f":"IF(ISNA(VLOOKUP($DC175,'Audit Values'!$A$2:$AE$252,2,FALSE)),'Preliminary SO66'!X172,VLOOKUP($DC175,'Audit Values'!$A$2:$AE$252,24,FALSE))","v":0},291608,{"$f":"AP175/Weightings!$M$5","v":75.7},892.5,968.2,968.2,100000,{"$f":"IF(ISNA(VLOOKUP($DC175,'Audit Values'!$A$2:$AC$299,2,FALSE)),\"\",IF(AND(Weightings!H175>0,VLOOKUP($DC175,'Audit Values'!$A$2:$AC$299,29,FALSE)<Weightings!H175),Weightings!H175,VLOOKUP($DC175,'Audit Values'!$A$2:$AC$299,29,FALSE)))","v":14},{"$f":"IF(ISNA(VLOOKUP($DC175,'Audit Values'!$A$2:$AD$299,2,FALSE)),\"\",VLOOKUP($DC175,'Audit Values'!$A$2:$AD$299,30,FALSE))","v":"A"},{"$f":"IF(Weightings!G175=\"\",\"\",IF(Weightings!I175=\"Pending\",\"PX\",\"R\"))","v":""},{"$f":"AR175*Weightings!$M$5+AU175","v":3537910},{"$f":"AT175*Weightings!$M$5+AU175","v":3829506},{"$f":"IF(Weightings!G175>0,Weightings!G175,'Preliminary SO66'!AB172)","v":4955582},635988,267404,54102,3998088,3829506,null,{"$f":"Weightings!E175","v":0},{"$f":"Weightings!F175","v":0},0,3829506,{"$f":"MAX(ROUND(((AR175-AN175-AO175)*Weightings!$M$12)+'2016legmax.xls'!AP175,0),ROUND((('2016legmax.xls'!AR175-'2016legmax.xls'!AN175-'2016legmax.xls'!AO175)*Weightings!$M$12)+Weightings!B175,0))","v":4388692},0.3,1316608,1314991,1314991,0.29959999999999998,0,false,0,0,0,true,284.625,0.40604400000000002,215.2,0,402,0.71,{"$f":"IF(ROUND((Weightings!$P$5*CC175^Weightings!$P$6*Weightings!$P$8 ),2)<Weightings!$P$7,Weightings!$P$7,ROUND((Weightings!$P$5*CC175^Weightings!$P$6*Weightings!$P$8 ),2))","v":1169.6600000000001},{"$f":"ROUND(CD175/Weightings!$M$5,4)","v":0.30370000000000003},87.2,0,0,0,0,{"$f":"AS175*Weightings!$M$5*CJ175","v":0},0,0.20799999999999999,1.3,0,0,0,{"$f":"IF(ISNA(VLOOKUP($DC175,'Audit Values'!$A$2:$AE$252,2,FALSE)),'Preliminary SO66'!T172,VLOOKUP($DC175,'Audit Values'!$A$2:$AE$252,20,FALSE))","v":0},{"$f":"IF(ISNA(VLOOKUP($DC175,'Audit Values'!$A$2:$AE$252,21,FALSE)),'Preliminary SO66'!U172,VLOOKUP($DC175,'Audit Values'!$A$2:$AE$252,21,FALSE))","v":0},0,0,null,null,null,null,null,null,null,"D0380"]
[381,"Ford","Spearville ",339.5,0,339.5,338.5,0,338.5,341.5,{"$f":"IF(ISNA(VLOOKUP($DC176,'Audit Values'!$A$2:$AE$252,2,FALSE)),'Preliminary SO66'!B173,VLOOKUP($DC176,'Audit Values'!$A$2:$AE$252,31,FALSE))","v":341.5},341.5,{"$f":"IF(ISNA(VLOOKUP($DC176,'Audit Values'!$A$2:$AE$252,2,FALSE)),'Preliminary SO66'!Z173,VLOOKUP($DC176,'Audit Values'!$A$2:$AE$252,26,FALSE))","v":0},341.5,{"$f":"IF(ISNA(VLOOKUP($DC176,'Audit Values'!$A$2:$AE$252,2,FALSE)),'Preliminary SO66'!C173,IF(VLOOKUP($DC176,'Audit Values'!$A$2:$AE$252,28,FALSE)=\"\",VLOOKUP($DC176,'Audit Values'!$A$2:$AE$252,3,FALSE),VLOOKUP($DC176,'Audit Values'!$A$2:$AE$252,28,FALSE)))","v":0},341.5,341.5,341.5,341.5,0,160.5,160.5,0,{"$f":"IF(ISNA(VLOOKUP($DC176,'Audit Values'!$A$2:$AE$252,2,FALSE)),'Preliminary SO66'!D173,VLOOKUP($DC176,'Audit Values'!$A$2:$AE$252,4,FALSE))","v":121.7},{"$f":"ROUND((X176/6)*Weightings!$M$6,1)","v":10.1},{"$f":"IF(ISNA(VLOOKUP($DC176,'Audit Values'!$A$2:$AE$252,2,FALSE)),'Preliminary SO66'!F173,VLOOKUP($DC176,'Audit Values'!$A$2:$AE$252,6,FALSE))","v":14.8},{"$f":"ROUND((Z176/6)*Weightings!$M$7,1)","v":1},{"$f":"IF(ISNA(VLOOKUP($DC176,'Audit Values'!$A$2:$AE$252,2,FALSE)),'Preliminary SO66'!H173,VLOOKUP($DC176,'Audit Values'!$A$2:$AE$252,9,FALSE))","v":93},{"$f":"ROUND(AB176*Weightings!$M$8,1)","v":42.4},0,0,{"$f":"AE176*Weightings!$M$9","v":0},{"$f":"IF(ISNA(VLOOKUP($DC176,'Audit Values'!$A$2:$AE$252,2,FALSE)),'Preliminary SO66'!L173,VLOOKUP($DC176,'Audit Values'!$A$2:$AE$252,12,FALSE))","v":16.899999999999999},{"$f":"ROUND(AG176*Weightings!$M$10,1)","v":4.2},{"$f":"IF(ISNA(VLOOKUP($DC176,'Audit Values'!$A$2:$AE$252,2,FALSE)),'Preliminary SO66'!O173,VLOOKUP($DC176,'Audit Values'!$A$2:$AE$252,15,FALSE))","v":54},19.899999999999999,{"$f":"CG176/Weightings!$M$5","v":0},{"$f":"CH176/Weightings!$M$5","v":0},{"$f":"CL176/Weightings!$M$5","v":0},0,{"$f":"IF(ISNA(VLOOKUP($DC176,'Audit Values'!$A$2:$AE$252,2,FALSE)),'Preliminary SO66'!X173,VLOOKUP($DC176,'Audit Values'!$A$2:$AE$252,24,FALSE))","v":0},253437,{"$f":"AP176/Weightings!$M$5","v":65.8},579.6,645.4,645.4,0,{"$f":"IF(ISNA(VLOOKUP($DC176,'Audit Values'!$A$2:$AC$299,2,FALSE)),\"\",IF(AND(Weightings!H176>0,VLOOKUP($DC176,'Audit Values'!$A$2:$AC$299,29,FALSE)<Weightings!H176),Weightings!H176,VLOOKUP($DC176,'Audit Values'!$A$2:$AC$299,29,FALSE)))","v":10},{"$f":"IF(ISNA(VLOOKUP($DC176,'Audit Values'!$A$2:$AD$299,2,FALSE)),\"\",VLOOKUP($DC176,'Audit Values'!$A$2:$AD$299,30,FALSE))","v":"A"},{"$f":"IF(Weightings!G176=\"\",\"\",IF(Weightings!I176=\"Pending\",\"PX\",\"R\"))","v":""},{"$f":"AR176*Weightings!$M$5+AU176","v":2232619},{"$f":"AT176*Weightings!$M$5+AU176","v":2486081},{"$f":"IF(Weightings!G176>0,Weightings!G176,'Preliminary SO66'!AB173)","v":3100817},359761,159781,0,2581275,2486081,null,{"$f":"Weightings!E176","v":0},{"$f":"Weightings!F176","v":0},0,2486081,{"$f":"MAX(ROUND(((AR176-AN176-AO176)*Weightings!$M$12)+'2016legmax.xls'!AP176,0),ROUND((('2016legmax.xls'!AR176-'2016legmax.xls'!AN176-'2016legmax.xls'!AO176)*Weightings!$M$12)+Weightings!B176,0))","v":2896530},0.3,868959,884315,868959,0.3,0,false,0,0,0,true,51.356299999999997,0.47008699999999998,160.5,0,182,0.3,{"$f":"IF(ROUND((Weightings!$P$5*CC176^Weightings!$P$6*Weightings!$P$8 ),2)<Weightings!$P$7,Weightings!$P$7,ROUND((Weightings!$P$5*CC176^Weightings!$P$6*Weightings!$P$8 ),2))","v":1421.32},{"$f":"ROUND(CD176/Weightings!$M$5,4)","v":0.36899999999999999},19.899999999999999,0,0,0,0,{"$f":"AS176*Weightings!$M$5*CJ176","v":0},0,0.27200000000000002,1.9,0,0,0,{"$f":"IF(ISNA(VLOOKUP($DC176,'Audit Values'!$A$2:$AE$252,2,FALSE)),'Preliminary SO66'!T173,VLOOKUP($DC176,'Audit Values'!$A$2:$AE$252,20,FALSE))","v":0},{"$f":"IF(ISNA(VLOOKUP($DC176,'Audit Values'!$A$2:$AE$252,21,FALSE)),'Preliminary SO66'!U173,VLOOKUP($DC176,'Audit Values'!$A$2:$AE$252,21,FALSE))","v":0},0,0,null,null,null,null,null,null,null,"D0381"]
[382,"Pratt","Pratt ",1163.2,0,1163.2,1160.7,0,1160.7,1144.8,{"$f":"IF(ISNA(VLOOKUP($DC177,'Audit Values'!$A$2:$AE$300,2,FALSE)),'Preliminary SO66'!B174,VLOOKUP($DC177,'Audit Values'!$A$2:$AE$300,31,FALSE))","v":1033.9000000000001},1160.7,{"$f":"IF(ISNA(VLOOKUP($DC177,'Audit Values'!$A$2:$AE$300,2,FALSE)),'Preliminary SO66'!Z174,VLOOKUP($DC177,'Audit Values'!$A$2:$AE$300,26,FALSE))","v":0},1160.7,{"$f":"IF(ISNA(VLOOKUP($DC177,'Audit Values'!$A$2:$AE$3002,2,FALSE)),'Preliminary SO66'!C174,IF(VLOOKUP($DC177,'Audit Values'!$A$2:$AE$300,28,FALSE)=\"\",VLOOKUP($DC177,'Audit Values'!$A$2:$AE$300,3,FALSE),VLOOKUP($DC177,'Audit Values'!$A$2:$AE$300,28,FALSE)))","v":10},1043.9000000000001,1154.8,1154.8,1170.7,110.9,220.5,220.5,0,{"$f":"IF(ISNA(VLOOKUP($DC177,'Audit Values'!$A$2:$AE$300,2,FALSE)),'Preliminary SO66'!D174,VLOOKUP($DC177,'Audit Values'!$A$2:$AE$300,4,FALSE))","v":320.7},{"$f":"ROUND((X177/6)*Weightings!$M$6,1)","v":26.7},{"$f":"IF(ISNA(VLOOKUP($DC177,'Audit Values'!$A$2:$AE$300,2,FALSE)),'Preliminary SO66'!F174,VLOOKUP($DC177,'Audit Values'!$A$2:$AE$300,6,FALSE))","v":315.60000000000002},{"$f":"ROUND((Z177/6)*Weightings!$M$7,1)","v":20.8},{"$f":"IF(ISNA(VLOOKUP($DC177,'Audit Values'!$A$2:$AE$300,2,FALSE)),'Preliminary SO66'!H174,VLOOKUP($DC177,'Audit Values'!$A$2:$AE$300,9,FALSE))","v":477},{"$f":"ROUND(AB177*Weightings!$M$8,1)","v":217.5},19,0,{"$f":"AE177*Weightings!$M$9","v":0},{"$f":"IF(ISNA(VLOOKUP($DC177,'Audit Values'!$A$2:$AE$300,2,FALSE)),'Preliminary SO66'!L174,VLOOKUP($DC177,'Audit Values'!$A$2:$AE$300,12,FALSE))","v":0},{"$f":"ROUND(AG177*Weightings!$M$10,1)","v":0},{"$f":"IF(ISNA(VLOOKUP($DC177,'Audit Values'!$A$2:$AE$300,2,FALSE)),'Preliminary SO66'!O174,VLOOKUP($DC177,'Audit Values'!$A$2:$AE$300,15,FALSE))","v":136},44.5,{"$f":"CG177/Weightings!$M$5","v":0},{"$f":"CH177/Weightings!$M$5","v":0},{"$f":"CL177/Weightings!$M$5","v":0},116.4,{"$f":"IF(ISNA(VLOOKUP($DC177,'Audit Values'!$A$2:$AE$300,2,FALSE)),'Preliminary SO66'!X174,VLOOKUP($DC177,'Audit Values'!$A$2:$AE$300,24,FALSE))","v":0},1188750,{"$f":"AP177/Weightings!$M$5","v":308.60000000000002},1836.1,2144.6999999999998,2144.6999999999998,0,{"$f":"IF(ISNA(VLOOKUP($DC177,'Audit Values'!$A$2:$AC$299,2,FALSE)),\"\",IF(AND(Weightings!H177>0,VLOOKUP($DC177,'Audit Values'!$A$2:$AC$299,29,FALSE)<Weightings!H177),Weightings!H177,VLOOKUP($DC177,'Audit Values'!$A$2:$AC$299,29,FALSE)))","v":20},{"$f":"IF(ISNA(VLOOKUP($DC177,'Audit Values'!$A$2:$AD$299,2,FALSE)),\"\",VLOOKUP($DC177,'Audit Values'!$A$2:$AD$299,30,FALSE))","v":"A"},{"$f":"IF(Weightings!G177=\"\",\"\",IF(Weightings!I177=\"Pending\",\"PX\",\"R\"))","v":""},{"$f":"AR177*Weightings!$M$5+AU177","v":7072657},{"$f":"AT177*Weightings!$M$5+AU177","v":8261384},{"$f":"IF(Weightings!G177>0,Weightings!G177,'Preliminary SO66'!AB174)","v":10514679},862111,504563,29334,9118671,8261384,null,{"$f":"Weightings!E177","v":0},{"$f":"Weightings!F177","v":0},0,8261384,{"$f":"MAX(ROUND(((AR177-AN177-AO177)*Weightings!$M$12)+'2016legmax.xls'!AP177,0),ROUND((('2016legmax.xls'!AR177-'2016legmax.xls'!AN177-'2016legmax.xls'!AO177)*Weightings!$M$12)+Weightings!B177,0))","v":8910203},0.3,2673061,2610764,2610764,0.29299999999999998,0,false,0,0,0,true,1077.4912999999999,0.18836700000000001,220.5,0,266.5,0.51,{"$f":"IF(ROUND((Weightings!$P$5*CC177^Weightings!$P$6*Weightings!$P$8 ),2)<Weightings!$P$7,Weightings!$P$7,ROUND((Weightings!$P$5*CC177^Weightings!$P$6*Weightings!$P$8 ),2))","v":1260.56},{"$f":"ROUND(CD177/Weightings!$M$5,4)","v":0.32719999999999999},44.5,0,0,0,0,{"$f":"AS177*Weightings!$M$5*CJ177","v":0},0,0.40699999999999997,4.4000000000000004,0,0,19,{"$f":"IF(ISNA(VLOOKUP($DC177,'Audit Values'!$A$2:$AE$300,2,FALSE)),'Preliminary SO66'!T174,VLOOKUP($DC177,'Audit Values'!$A$2:$AE$300,20,FALSE))","v":3},{"$f":"IF(ISNA(VLOOKUP($DC177,'Audit Values'!$A$2:$AE$300,21,FALSE)),'Preliminary SO66'!U174,VLOOKUP($DC177,'Audit Values'!$A$2:$AE$300,21,FALSE))","v":0.9},107,110.9,null,null,null,null,null,null,null,"D0382"]
[383,"Riley","Manhattan-Ogden ",5657.3,68.7,5726,5832.4,93.5,5925.9,5956.6,{"$f":"IF(ISNA(VLOOKUP($DC178,'Audit Values'!$A$2:$AE$252,2,FALSE)),'Preliminary SO66'!B175,VLOOKUP($DC178,'Audit Values'!$A$2:$AE$252,31,FALSE))","v":5808.3},5925.9,{"$f":"IF(ISNA(VLOOKUP($DC178,'Audit Values'!$A$2:$AE$252,2,FALSE)),'Preliminary SO66'!Z175,VLOOKUP($DC178,'Audit Values'!$A$2:$AE$252,26,FALSE))","v":0},5925.9,{"$f":"IF(ISNA(VLOOKUP($DC178,'Audit Values'!$A$2:$AE$252,2,FALSE)),'Preliminary SO66'!C175,IF(VLOOKUP($DC178,'Audit Values'!$A$2:$AE$252,28,FALSE)=\"\",VLOOKUP($DC178,'Audit Values'!$A$2:$AE$252,3,FALSE),VLOOKUP($DC178,'Audit Values'!$A$2:$AE$252,28,FALSE)))","v":20},5828.3,5976.6,5976.6,5945.9,148.30000000000001,208.3,0,208.3,{"$f":"IF(ISNA(VLOOKUP($DC178,'Audit Values'!$A$2:$AE$252,2,FALSE)),'Preliminary SO66'!D175,VLOOKUP($DC178,'Audit Values'!$A$2:$AE$252,4,FALSE))","v":828},{"$f":"ROUND((X178/6)*Weightings!$M$6,1)","v":69},{"$f":"IF(ISNA(VLOOKUP($DC178,'Audit Values'!$A$2:$AE$252,2,FALSE)),'Preliminary SO66'!F175,VLOOKUP($DC178,'Audit Values'!$A$2:$AE$252,6,FALSE))","v":983},{"$f":"ROUND((Z178/6)*Weightings!$M$7,1)","v":64.7},{"$f":"IF(ISNA(VLOOKUP($DC178,'Audit Values'!$A$2:$AE$252,2,FALSE)),'Preliminary SO66'!H175,VLOOKUP($DC178,'Audit Values'!$A$2:$AE$252,9,FALSE))","v":1896},{"$f":"ROUND(AB178*Weightings!$M$8,1)","v":864.6},0,0,{"$f":"AE178*Weightings!$M$9","v":0},{"$f":"IF(ISNA(VLOOKUP($DC178,'Audit Values'!$A$2:$AE$252,2,FALSE)),'Preliminary SO66'!L175,VLOOKUP($DC178,'Audit Values'!$A$2:$AE$252,12,FALSE))","v":0},{"$f":"ROUND(AG178*Weightings!$M$10,1)","v":0},{"$f":"IF(ISNA(VLOOKUP($DC178,'Audit Values'!$A$2:$AE$252,2,FALSE)),'Preliminary SO66'!O175,VLOOKUP($DC178,'Audit Values'!$A$2:$AE$252,15,FALSE))","v":2728},405.4,{"$f":"CG178/Weightings!$M$5","v":0},{"$f":"CH178/Weightings!$M$5","v":0},{"$f":"CL178/Weightings!$M$5","v":0},155.69999999999999,{"$f":"IF(ISNA(VLOOKUP($DC178,'Audit Values'!$A$2:$AE$252,2,FALSE)),'Preliminary SO66'!X175,VLOOKUP($DC178,'Audit Values'!$A$2:$AE$252,24,FALSE))","v":1},6764502,{"$f":"AP178/Weightings!$M$5","v":1756.1},7714.6,9470.7000000000007,9470.7000000000007,400000,{"$f":"IF(ISNA(VLOOKUP($DC178,'Audit Values'!$A$2:$AC$299,2,FALSE)),\"\",IF(AND(Weightings!H178>0,VLOOKUP($DC178,'Audit Values'!$A$2:$AC$299,29,FALSE)<Weightings!H178),Weightings!H178,VLOOKUP($DC178,'Audit Values'!$A$2:$AC$299,29,FALSE)))","v":8},{"$f":"IF(ISNA(VLOOKUP($DC178,'Audit Values'!$A$2:$AD$299,2,FALSE)),\"\",VLOOKUP($DC178,'Audit Values'!$A$2:$AD$299,30,FALSE))","v":"A"},{"$f":"IF(Weightings!G178=\"\",\"\",IF(Weightings!I178=\"Pending\",\"PX\",\"R\"))","v":""},{"$f":"AR178*Weightings!$M$5+AU178","v":30116639},{"$f":"AT178*Weightings!$M$5+AU178","v":36881136},{"$f":"IF(Weightings!G178>0,Weightings!G178,'Preliminary SO66'!AB175)","v":43268562},1522578,3346213,0,38399771,36881136,null,{"$f":"Weightings!E178","v":0},{"$f":"Weightings!F178","v":0},0,36881136,{"$f":"MAX(ROUND(((AR178-AN178-AO178)*Weightings!$M$12)+'2016legmax.xls'!AP178,0),ROUND((('2016legmax.xls'!AR178-'2016legmax.xls'!AN178-'2016legmax.xls'!AO178)*Weightings!$M$12)+Weightings!B178,0))","v":40699473},0.33,13430826,13254291,13254291,0.32569999999999999,0,false,0,0,0,false,0,0,0,208.3,163,16.739999999999998,{"$f":"IF(ROUND((Weightings!$P$5*CC178^Weightings!$P$6*Weightings!$P$8 ),2)<Weightings!$P$7,Weightings!$P$7,ROUND((Weightings!$P$5*CC178^Weightings!$P$6*Weightings!$P$8 ),2))","v":572.26},{"$f":"ROUND(CD178/Weightings!$M$5,4)","v":0.14860000000000001},405.4,0,0,0,0.02,{"$f":"AS178*Weightings!$M$5*CJ178","v":729623},0,0.31900000000000001,36.5,0,0,0,{"$f":"IF(ISNA(VLOOKUP($DC178,'Audit Values'!$A$2:$AE$252,2,FALSE)),'Preliminary SO66'!T175,VLOOKUP($DC178,'Audit Values'!$A$2:$AE$252,20,FALSE))","v":115},{"$f":"IF(ISNA(VLOOKUP($DC178,'Audit Values'!$A$2:$AE$252,21,FALSE)),'Preliminary SO66'!U175,VLOOKUP($DC178,'Audit Values'!$A$2:$AE$252,21,FALSE))","v":29.3},4,148.30000000000001,null,null,null,null,null,null,null,"D0383"]
[384,"Riley","Blue Valley ",178,0,178,178,0,178,184,{"$f":"IF(ISNA(VLOOKUP($DC179,'Audit Values'!$A$2:$AE$252,2,FALSE)),'Preliminary SO66'!B176,VLOOKUP($DC179,'Audit Values'!$A$2:$AE$252,31,FALSE))","v":184},184,{"$f":"IF(ISNA(VLOOKUP($DC179,'Audit Values'!$A$2:$AE$252,2,FALSE)),'Preliminary SO66'!Z176,VLOOKUP($DC179,'Audit Values'!$A$2:$AE$252,26,FALSE))","v":0},184,{"$f":"IF(ISNA(VLOOKUP($DC179,'Audit Values'!$A$2:$AE$252,2,FALSE)),'Preliminary SO66'!C176,IF(VLOOKUP($DC179,'Audit Values'!$A$2:$AE$252,28,FALSE)=\"\",VLOOKUP($DC179,'Audit Values'!$A$2:$AE$252,3,FALSE),VLOOKUP($DC179,'Audit Values'!$A$2:$AE$252,28,FALSE)))","v":3.5},187.5,187.5,187.5,187.5,0,146.69999999999999,146.69999999999999,0,{"$f":"IF(ISNA(VLOOKUP($DC179,'Audit Values'!$A$2:$AE$252,2,FALSE)),'Preliminary SO66'!D176,VLOOKUP($DC179,'Audit Values'!$A$2:$AE$252,4,FALSE))","v":55.5},{"$f":"ROUND((X179/6)*Weightings!$M$6,1)","v":4.5999999999999996},{"$f":"IF(ISNA(VLOOKUP($DC179,'Audit Values'!$A$2:$AE$252,2,FALSE)),'Preliminary SO66'!F176,VLOOKUP($DC179,'Audit Values'!$A$2:$AE$252,6,FALSE))","v":0},{"$f":"ROUND((Z179/6)*Weightings!$M$7,1)","v":0},{"$f":"IF(ISNA(VLOOKUP($DC179,'Audit Values'!$A$2:$AE$252,2,FALSE)),'Preliminary SO66'!H176,VLOOKUP($DC179,'Audit Values'!$A$2:$AE$252,9,FALSE))","v":31},{"$f":"ROUND(AB179*Weightings!$M$8,1)","v":14.1},0,0,{"$f":"AE179*Weightings!$M$9","v":0},{"$f":"IF(ISNA(VLOOKUP($DC179,'Audit Values'!$A$2:$AE$252,2,FALSE)),'Preliminary SO66'!L176,VLOOKUP($DC179,'Audit Values'!$A$2:$AE$252,12,FALSE))","v":0},{"$f":"ROUND(AG179*Weightings!$M$10,1)","v":0},{"$f":"IF(ISNA(VLOOKUP($DC179,'Audit Values'!$A$2:$AE$252,2,FALSE)),'Preliminary SO66'!O176,VLOOKUP($DC179,'Audit Values'!$A$2:$AE$252,15,FALSE))","v":119.5},42.1,{"$f":"CG179/Weightings!$M$5","v":0},{"$f":"CH179/Weightings!$M$5","v":0},{"$f":"CL179/Weightings!$M$5","v":0},0,{"$f":"IF(ISNA(VLOOKUP($DC179,'Audit Values'!$A$2:$AE$252,2,FALSE)),'Preliminary SO66'!X176,VLOOKUP($DC179,'Audit Values'!$A$2:$AE$252,24,FALSE))","v":0},270392,{"$f":"AP179/Weightings!$M$5","v":70.2},395,465.2,465.2,0,{"$f":"IF(ISNA(VLOOKUP($DC179,'Audit Values'!$A$2:$AC$299,2,FALSE)),\"\",IF(AND(Weightings!H179>0,VLOOKUP($DC179,'Audit Values'!$A$2:$AC$299,29,FALSE)<Weightings!H179),Weightings!H179,VLOOKUP($DC179,'Audit Values'!$A$2:$AC$299,29,FALSE)))","v":12},{"$f":"IF(ISNA(VLOOKUP($DC179,'Audit Values'!$A$2:$AD$299,2,FALSE)),\"\",VLOOKUP($DC179,'Audit Values'!$A$2:$AD$299,30,FALSE))","v":"A"},{"$f":"IF(Weightings!G179=\"\",\"\",IF(Weightings!I179=\"Pending\",\"PX\",\"R\"))","v":""},{"$f":"AR179*Weightings!$M$5+AU179","v":1521540},{"$f":"AT179*Weightings!$M$5+AU179","v":1791950},{"$f":"IF(Weightings!G179>0,Weightings!G179,'Preliminary SO66'!AB176)","v":1999954},62338,98081,0,1839535,1791950,null,{"$f":"Weightings!E179","v":0},{"$f":"Weightings!F179","v":0},0,1791950,{"$f":"MAX(ROUND(((AR179-AN179-AO179)*Weightings!$M$12)+'2016legmax.xls'!AP179,0),ROUND((('2016legmax.xls'!AR179-'2016legmax.xls'!AN179-'2016legmax.xls'!AO179)*Weightings!$M$12)+Weightings!B179,0))","v":2059503},0.33,679636,671635,671635,0.3261,0,true,844.81299999999999,0.78239300000000001,146.69999999999999,false,0,0,0,0,319,0.37,{"$f":"IF(ROUND((Weightings!$P$5*CC179^Weightings!$P$6*Weightings!$P$8 ),2)<Weightings!$P$7,Weightings!$P$7,ROUND((Weightings!$P$5*CC179^Weightings!$P$6*Weightings!$P$8 ),2))","v":1355.47},{"$f":"ROUND(CD179/Weightings!$M$5,4)","v":0.35189999999999999},42.1,0,0,0,0,{"$f":"AS179*Weightings!$M$5*CJ179","v":0},0,0.16500000000000001,0.6,0,0,0,{"$f":"IF(ISNA(VLOOKUP($DC179,'Audit Values'!$A$2:$AE$252,2,FALSE)),'Preliminary SO66'!T176,VLOOKUP($DC179,'Audit Values'!$A$2:$AE$252,20,FALSE))","v":0},{"$f":"IF(ISNA(VLOOKUP($DC179,'Audit Values'!$A$2:$AE$252,21,FALSE)),'Preliminary SO66'!U176,VLOOKUP($DC179,'Audit Values'!$A$2:$AE$252,21,FALSE))","v":0},0,0,null,null,null,null,null,null,null,"D0384"]
[385,"Butler","Andover ",4800.2,0,4800.2,4924.5,0,4924.5,5605.8,{"$f":"IF(ISNA(VLOOKUP($DC180,'Audit Values'!$A$2:$AE$269,2,FALSE)),'Preliminary SO66'!B177,VLOOKUP($DC180,'Audit Values'!$A$2:$AE$269,31,FALSE))","v":4940.2},4940.2,{"$f":"IF(ISNA(VLOOKUP($DC180,'Audit Values'!$A$2:$AE$252,2,FALSE)),'Preliminary SO66'!Z177,VLOOKUP($DC180,'Audit Values'!$A$2:$AE$252,26,FALSE))","v":0},4940.2,{"$f":"IF(ISNA(VLOOKUP($DC180,'Audit Values'!$A$2:$AE$252,2,FALSE)),'Preliminary SO66'!C177,IF(VLOOKUP($DC180,'Audit Values'!$A$2:$AE$252,28,FALSE)=\"\",VLOOKUP($DC180,'Audit Values'!$A$2:$AE$252,3,FALSE),VLOOKUP($DC180,'Audit Values'!$A$2:$AE$252,28,FALSE)))","v":22.5},4962.7,5628.3,5628.3,4962.7,665.6,173.9,0,173.9,{"$f":"IF(ISNA(VLOOKUP($DC180,'Audit Values'!$A$2:$AE$252,2,FALSE)),'Preliminary SO66'!D177,VLOOKUP($DC180,'Audit Values'!$A$2:$AE$252,4,FALSE))","v":832.2},{"$f":"ROUND((X180/6)*Weightings!$M$6,1)","v":69.400000000000006},{"$f":"IF(ISNA(VLOOKUP($DC180,'Audit Values'!$A$2:$AE$252,2,FALSE)),'Preliminary SO66'!F177,VLOOKUP($DC180,'Audit Values'!$A$2:$AE$252,6,FALSE))","v":390.6},{"$f":"ROUND((Z180/6)*Weightings!$M$7,1)","v":25.7},{"$f":"IF(ISNA(VLOOKUP($DC180,'Audit Values'!$A$2:$AE$252,2,FALSE)),'Preliminary SO66'!H177,VLOOKUP($DC180,'Audit Values'!$A$2:$AE$252,9,FALSE))","v":652},{"$f":"ROUND(AB180*Weightings!$M$8,1)","v":297.3},0,0,{"$f":"AE180*Weightings!$M$9","v":0},{"$f":"IF(ISNA(VLOOKUP($DC180,'Audit Values'!$A$2:$AE$252,2,FALSE)),'Preliminary SO66'!L177,VLOOKUP($DC180,'Audit Values'!$A$2:$AE$252,12,FALSE))","v":0},{"$f":"ROUND(AG180*Weightings!$M$10,1)","v":0},{"$f":"IF(ISNA(VLOOKUP($DC180,'Audit Values'!$A$2:$AE$252,2,FALSE)),'Preliminary SO66'!O177,VLOOKUP($DC180,'Audit Values'!$A$2:$AE$252,15,FALSE))","v":1579},231.2,{"$f":"CG180/Weightings!$M$5","v":0},{"$f":"CH180/Weightings!$M$5","v":0},{"$f":"CL180/Weightings!$M$5","v":0},698.9,{"$f":"IF(ISNA(VLOOKUP($DC180,'Audit Values'!$A$2:$AE$252,2,FALSE)),'Preliminary SO66'!X177,VLOOKUP($DC180,'Audit Values'!$A$2:$AE$252,24,FALSE))","v":0},4240465,{"$f":"AP180/Weightings!$M$5","v":1100.8},6459.1,7559.9,7559.9,0,{"$f":"IF(ISNA(VLOOKUP($DC180,'Audit Values'!$A$2:$AC$299,2,FALSE)),\"\",IF(AND(Weightings!H180>0,VLOOKUP($DC180,'Audit Values'!$A$2:$AC$299,29,FALSE)<Weightings!H180),Weightings!H180,VLOOKUP($DC180,'Audit Values'!$A$2:$AC$299,29,FALSE)))","v":17},{"$f":"IF(ISNA(VLOOKUP($DC180,'Audit Values'!$A$2:$AD$299,2,FALSE)),\"\",VLOOKUP($DC180,'Audit Values'!$A$2:$AD$299,30,FALSE))","v":"A"},{"$f":"IF(Weightings!G180=\"\",\"\",IF(Weightings!I180=\"Pending\",\"PX\",\"R\"))","v":""},{"$f":"AR180*Weightings!$M$5+AU180","v":24880453},{"$f":"AT180*Weightings!$M$5+AU180","v":29120735},{"$f":"IF(Weightings!G180>0,Weightings!G180,'Preliminary SO66'!AB177)","v":39278481},5432120,2186449,639242,31020670,29120735,null,{"$f":"Weightings!E180","v":0},{"$f":"Weightings!F180","v":0},0,29120735,{"$f":"MAX(ROUND(((AR180-AN180-AO180)*Weightings!$M$12)+'2016legmax.xls'!AP180,0),ROUND((('2016legmax.xls'!AR180-'2016legmax.xls'!AN180-'2016legmax.xls'!AO180)*Weightings!$M$12)+Weightings!B180,0))","v":30103763},0.31,9332167,9253425,9253425,0.30740000000000001,0,false,0,0,0,false,0,0,0,173.9,46.8,33.74,{"$f":"IF(ROUND((Weightings!$P$5*CC180^Weightings!$P$6*Weightings!$P$8 ),2)<Weightings!$P$7,Weightings!$P$7,ROUND((Weightings!$P$5*CC180^Weightings!$P$6*Weightings!$P$8 ),2))","v":564},{"$f":"ROUND(CD180/Weightings!$M$5,4)","v":0.1464},231.2,0,0,0,0.05,{"$f":"AS180*Weightings!$M$5*CJ180","v":1456037},0,0.13100000000000001,106,0,0,0,{"$f":"IF(ISNA(VLOOKUP($DC180,'Audit Values'!$A$2:$AE$269,2,FALSE)),'Preliminary SO66'!T177,VLOOKUP($DC180,'Audit Values'!$A$2:$AE$269,20,FALSE))","v":318},{"$f":"IF(ISNA(VLOOKUP($DC180,'Audit Values'!$A$2:$AE$269,21,FALSE)),'Preliminary SO66'!U177,VLOOKUP($DC180,'Audit Values'!$A$2:$AE$269,21,FALSE))","v":308.2},39.4,665.6,null,null,null,null,null,null,null,"D0385"]
[386,"Greenwood","Madison-Virgil ",240,0,240,225.5,0,225.5,220.5,{"$f":"IF(ISNA(VLOOKUP($DC181,'Audit Values'!$A$2:$AE$252,2,FALSE)),'Preliminary SO66'!B178,VLOOKUP($DC181,'Audit Values'!$A$2:$AE$252,31,FALSE))","v":220.5},228.7,{"$f":"IF(ISNA(VLOOKUP($DC181,'Audit Values'!$A$2:$AE$252,2,FALSE)),'Preliminary SO66'!Z178,VLOOKUP($DC181,'Audit Values'!$A$2:$AE$252,26,FALSE))","v":0},228.7,{"$f":"IF(ISNA(VLOOKUP($DC181,'Audit Values'!$A$2:$AE$252,2,FALSE)),'Preliminary SO66'!C178,IF(VLOOKUP($DC181,'Audit Values'!$A$2:$AE$252,28,FALSE)=\"\",VLOOKUP($DC181,'Audit Values'!$A$2:$AE$252,3,FALSE),VLOOKUP($DC181,'Audit Values'!$A$2:$AE$252,28,FALSE)))","v":1.5},222,222,222,230.2,0,154.1,154.1,0,{"$f":"IF(ISNA(VLOOKUP($DC181,'Audit Values'!$A$2:$AE$252,2,FALSE)),'Preliminary SO66'!D178,VLOOKUP($DC181,'Audit Values'!$A$2:$AE$252,4,FALSE))","v":51},{"$f":"ROUND((X181/6)*Weightings!$M$6,1)","v":4.3},{"$f":"IF(ISNA(VLOOKUP($DC181,'Audit Values'!$A$2:$AE$252,2,FALSE)),'Preliminary SO66'!F178,VLOOKUP($DC181,'Audit Values'!$A$2:$AE$252,6,FALSE))","v":0},{"$f":"ROUND((Z181/6)*Weightings!$M$7,1)","v":0},{"$f":"IF(ISNA(VLOOKUP($DC181,'Audit Values'!$A$2:$AE$252,2,FALSE)),'Preliminary SO66'!H178,VLOOKUP($DC181,'Audit Values'!$A$2:$AE$252,9,FALSE))","v":91},{"$f":"ROUND(AB181*Weightings!$M$8,1)","v":41.5},2.9,0,{"$f":"AE181*Weightings!$M$9","v":0},{"$f":"IF(ISNA(VLOOKUP($DC181,'Audit Values'!$A$2:$AE$252,2,FALSE)),'Preliminary SO66'!L178,VLOOKUP($DC181,'Audit Values'!$A$2:$AE$252,12,FALSE))","v":0},{"$f":"ROUND(AG181*Weightings!$M$10,1)","v":0},{"$f":"IF(ISNA(VLOOKUP($DC181,'Audit Values'!$A$2:$AE$252,2,FALSE)),'Preliminary SO66'!O178,VLOOKUP($DC181,'Audit Values'!$A$2:$AE$252,15,FALSE))","v":64},24.6,{"$f":"CG181/Weightings!$M$5","v":0},{"$f":"CH181/Weightings!$M$5","v":0},{"$f":"CL181/Weightings!$M$5","v":0},0,{"$f":"IF(ISNA(VLOOKUP($DC181,'Audit Values'!$A$2:$AE$252,2,FALSE)),'Preliminary SO66'!X178,VLOOKUP($DC181,'Audit Values'!$A$2:$AE$252,24,FALSE))","v":0},329226,{"$f":"AP181/Weightings!$M$5","v":85.5},457.6,543.1,543.1,0,{"$f":"IF(ISNA(VLOOKUP($DC181,'Audit Values'!$A$2:$AC$299,2,FALSE)),\"\",IF(AND(Weightings!H181>0,VLOOKUP($DC181,'Audit Values'!$A$2:$AC$299,29,FALSE)<Weightings!H181),Weightings!H181,VLOOKUP($DC181,'Audit Values'!$A$2:$AC$299,29,FALSE)))","v":16},{"$f":"IF(ISNA(VLOOKUP($DC181,'Audit Values'!$A$2:$AD$299,2,FALSE)),\"\",VLOOKUP($DC181,'Audit Values'!$A$2:$AD$299,30,FALSE))","v":"A"},{"$f":"IF(Weightings!G181=\"\",\"\",IF(Weightings!I181=\"Pending\",\"PX\",\"R\"))","v":""},{"$f":"AR181*Weightings!$M$5+AU181","v":1762675},{"$f":"AT181*Weightings!$M$5+AU181","v":2092021},{"$f":"IF(Weightings!G181>0,Weightings!G181,'Preliminary SO66'!AB178)","v":2591191},256997,131338,6429,2196427,2092021,null,{"$f":"Weightings!E181","v":0},{"$f":"Weightings!F181","v":0},0,2092021,{"$f":"MAX(ROUND(((AR181-AN181-AO181)*Weightings!$M$12)+'2016legmax.xls'!AP181,0),ROUND((('2016legmax.xls'!AR181-'2016legmax.xls'!AN181-'2016legmax.xls'!AO181)*Weightings!$M$12)+Weightings!B181,0))","v":2383850},0.3,715155,664000,664000,0.27850000000000003,0,true,1257.0809999999999,0.669207,154.1,false,0,0,0,0,253,0.25,{"$f":"IF(ROUND((Weightings!$P$5*CC181^Weightings!$P$6*Weightings!$P$8 ),2)<Weightings!$P$7,Weightings!$P$7,ROUND((Weightings!$P$5*CC181^Weightings!$P$6*Weightings!$P$8 ),2))","v":1481.17},{"$f":"ROUND(CD181/Weightings!$M$5,4)","v":0.38450000000000001},24.6,0,0,0,0,{"$f":"AS181*Weightings!$M$5*CJ181","v":0},0,0.39500000000000002,0.9,0,0,2.9,{"$f":"IF(ISNA(VLOOKUP($DC181,'Audit Values'!$A$2:$AE$252,2,FALSE)),'Preliminary SO66'!T178,VLOOKUP($DC181,'Audit Values'!$A$2:$AE$252,20,FALSE))","v":0},{"$f":"IF(ISNA(VLOOKUP($DC181,'Audit Values'!$A$2:$AE$252,21,FALSE)),'Preliminary SO66'!U178,VLOOKUP($DC181,'Audit Values'!$A$2:$AE$252,21,FALSE))","v":0},0,0,null,null,null,null,null,null,null,"D0386"]
[387,"Wilson","Altoona-Midway ",184.5,0,184.5,204,0,204,177.5,{"$f":"IF(ISNA(VLOOKUP($DC182,'Audit Values'!$A$2:$AE$252,2,FALSE)),'Preliminary SO66'!B179,VLOOKUP($DC182,'Audit Values'!$A$2:$AE$252,31,FALSE))","v":177.5},204,{"$f":"IF(ISNA(VLOOKUP($DC182,'Audit Values'!$A$2:$AE$252,2,FALSE)),'Preliminary SO66'!Z179,VLOOKUP($DC182,'Audit Values'!$A$2:$AE$252,26,FALSE))","v":0},204,{"$f":"IF(ISNA(VLOOKUP($DC182,'Audit Values'!$A$2:$AE$252,2,FALSE)),'Preliminary SO66'!C179,IF(VLOOKUP($DC182,'Audit Values'!$A$2:$AE$252,28,FALSE)=\"\",VLOOKUP($DC182,'Audit Values'!$A$2:$AE$252,3,FALSE),VLOOKUP($DC182,'Audit Values'!$A$2:$AE$252,28,FALSE)))","v":2.5},180,180,180,206.5,0,151.19999999999999,151.19999999999999,0,{"$f":"IF(ISNA(VLOOKUP($DC182,'Audit Values'!$A$2:$AE$252,2,FALSE)),'Preliminary SO66'!D179,VLOOKUP($DC182,'Audit Values'!$A$2:$AE$252,4,FALSE))","v":5.3},{"$f":"ROUND((X182/6)*Weightings!$M$6,1)","v":0.4},{"$f":"IF(ISNA(VLOOKUP($DC182,'Audit Values'!$A$2:$AE$252,2,FALSE)),'Preliminary SO66'!F179,VLOOKUP($DC182,'Audit Values'!$A$2:$AE$252,6,FALSE))","v":0},{"$f":"ROUND((Z182/6)*Weightings!$M$7,1)","v":0},{"$f":"IF(ISNA(VLOOKUP($DC182,'Audit Values'!$A$2:$AE$252,2,FALSE)),'Preliminary SO66'!H179,VLOOKUP($DC182,'Audit Values'!$A$2:$AE$252,9,FALSE))","v":106},{"$f":"ROUND(AB182*Weightings!$M$8,1)","v":48.3},11.1,0,{"$f":"AE182*Weightings!$M$9","v":0},{"$f":"IF(ISNA(VLOOKUP($DC182,'Audit Values'!$A$2:$AE$252,2,FALSE)),'Preliminary SO66'!L179,VLOOKUP($DC182,'Audit Values'!$A$2:$AE$252,12,FALSE))","v":0},{"$f":"ROUND(AG182*Weightings!$M$10,1)","v":0},{"$f":"IF(ISNA(VLOOKUP($DC182,'Audit Values'!$A$2:$AE$252,2,FALSE)),'Preliminary SO66'!O179,VLOOKUP($DC182,'Audit Values'!$A$2:$AE$252,15,FALSE))","v":111},35.299999999999997,{"$f":"CG182/Weightings!$M$5","v":0},{"$f":"CH182/Weightings!$M$5","v":0},{"$f":"CL182/Weightings!$M$5","v":0},0,{"$f":"IF(ISNA(VLOOKUP($DC182,'Audit Values'!$A$2:$AE$252,2,FALSE)),'Preliminary SO66'!X179,VLOOKUP($DC182,'Audit Values'!$A$2:$AE$252,24,FALSE))","v":0},232181,{"$f":"AP182/Weightings!$M$5","v":60.3},452.8,513.1,513.1,0,{"$f":"IF(ISNA(VLOOKUP($DC182,'Audit Values'!$A$2:$AC$299,2,FALSE)),\"\",IF(AND(Weightings!H182>0,VLOOKUP($DC182,'Audit Values'!$A$2:$AC$299,29,FALSE)<Weightings!H182),Weightings!H182,VLOOKUP($DC182,'Audit Values'!$A$2:$AC$299,29,FALSE)))","v":7},{"$f":"IF(ISNA(VLOOKUP($DC182,'Audit Values'!$A$2:$AD$299,2,FALSE)),\"\",VLOOKUP($DC182,'Audit Values'!$A$2:$AD$299,30,FALSE))","v":"A"},{"$f":"IF(Weightings!G182=\"\",\"\",IF(Weightings!I182=\"Pending\",\"PX\",\"R\"))","v":""},{"$f":"AR182*Weightings!$M$5+AU182","v":1744186},{"$f":"AT182*Weightings!$M$5+AU182","v":1976461},{"$f":"IF(Weightings!G182>0,Weightings!G182,'Preliminary SO66'!AB179)","v":2248640},39534,103683,0,2105423,1976461,null,{"$f":"Weightings!E182","v":0},{"$f":"Weightings!F182","v":0},0,1976461,{"$f":"MAX(ROUND(((AR182-AN182-AO182)*Weightings!$M$12)+'2016legmax.xls'!AP182,0),ROUND((('2016legmax.xls'!AR182-'2016legmax.xls'!AN182-'2016legmax.xls'!AO182)*Weightings!$M$12)+Weightings!B182,0))","v":2299238},0.25800000000000001,593203,605830,593203,0.25800000000000001,0,true,1028.258,0.73202900000000004,151.19999999999999,false,0,0,0,0,192,0.57999999999999996,{"$f":"IF(ROUND((Weightings!$P$5*CC182^Weightings!$P$6*Weightings!$P$8 ),2)<Weightings!$P$7,Weightings!$P$7,ROUND((Weightings!$P$5*CC182^Weightings!$P$6*Weightings!$P$8 ),2))","v":1224.4100000000001},{"$f":"ROUND(CD182/Weightings!$M$5,4)","v":0.31790000000000002},35.299999999999997,0,0,0,0,{"$f":"AS182*Weightings!$M$5*CJ182","v":0},0,0.51300000000000001,1.1000000000000001,11.1,0,0,{"$f":"IF(ISNA(VLOOKUP($DC182,'Audit Values'!$A$2:$AE$252,2,FALSE)),'Preliminary SO66'!T179,VLOOKUP($DC182,'Audit Values'!$A$2:$AE$252,20,FALSE))","v":0},{"$f":"IF(ISNA(VLOOKUP($DC182,'Audit Values'!$A$2:$AE$252,21,FALSE)),'Preliminary SO66'!U179,VLOOKUP($DC182,'Audit Values'!$A$2:$AE$252,21,FALSE))","v":0},0,0,null,null,null,null,null,null,null,"D0387"]
[388,"Ellis","Ellis ",412,0,412,411,0,411,419.6,{"$f":"IF(ISNA(VLOOKUP($DC183,'Audit Values'!$A$2:$AE$252,2,FALSE)),'Preliminary SO66'!B180,VLOOKUP($DC183,'Audit Values'!$A$2:$AE$252,31,FALSE))","v":419.6},419.6,{"$f":"IF(ISNA(VLOOKUP($DC183,'Audit Values'!$A$2:$AE$252,2,FALSE)),'Preliminary SO66'!Z180,VLOOKUP($DC183,'Audit Values'!$A$2:$AE$252,26,FALSE))","v":0},419.6,{"$f":"IF(ISNA(VLOOKUP($DC183,'Audit Values'!$A$2:$AE$252,2,FALSE)),'Preliminary SO66'!C180,IF(VLOOKUP($DC183,'Audit Values'!$A$2:$AE$252,28,FALSE)=\"\",VLOOKUP($DC183,'Audit Values'!$A$2:$AE$252,3,FALSE),VLOOKUP($DC183,'Audit Values'!$A$2:$AE$252,28,FALSE)))","v":0},419.6,419.6,419.6,419.6,0,186.1,186.1,0,{"$f":"IF(ISNA(VLOOKUP($DC183,'Audit Values'!$A$2:$AE$252,2,FALSE)),'Preliminary SO66'!D180,VLOOKUP($DC183,'Audit Values'!$A$2:$AE$252,4,FALSE))","v":169.9},{"$f":"ROUND((X183/6)*Weightings!$M$6,1)","v":14.2},{"$f":"IF(ISNA(VLOOKUP($DC183,'Audit Values'!$A$2:$AE$252,2,FALSE)),'Preliminary SO66'!F180,VLOOKUP($DC183,'Audit Values'!$A$2:$AE$252,6,FALSE))","v":0},{"$f":"ROUND((Z183/6)*Weightings!$M$7,1)","v":0},{"$f":"IF(ISNA(VLOOKUP($DC183,'Audit Values'!$A$2:$AE$252,2,FALSE)),'Preliminary SO66'!H180,VLOOKUP($DC183,'Audit Values'!$A$2:$AE$252,9,FALSE))","v":102},{"$f":"ROUND(AB183*Weightings!$M$8,1)","v":46.5},0,0,{"$f":"AE183*Weightings!$M$9","v":0},{"$f":"IF(ISNA(VLOOKUP($DC183,'Audit Values'!$A$2:$AE$252,2,FALSE)),'Preliminary SO66'!L180,VLOOKUP($DC183,'Audit Values'!$A$2:$AE$252,12,FALSE))","v":0},{"$f":"ROUND(AG183*Weightings!$M$10,1)","v":0},{"$f":"IF(ISNA(VLOOKUP($DC183,'Audit Values'!$A$2:$AE$252,2,FALSE)),'Preliminary SO66'!O180,VLOOKUP($DC183,'Audit Values'!$A$2:$AE$252,15,FALSE))","v":37},16.5,{"$f":"CG183/Weightings!$M$5","v":0},{"$f":"CH183/Weightings!$M$5","v":0},{"$f":"CL183/Weightings!$M$5","v":0},0,{"$f":"IF(ISNA(VLOOKUP($DC183,'Audit Values'!$A$2:$AE$252,2,FALSE)),'Preliminary SO66'!X180,VLOOKUP($DC183,'Audit Values'!$A$2:$AE$252,24,FALSE))","v":0},309119,{"$f":"AP183/Weightings!$M$5","v":80.2},682.9,763.1,763.1,0,{"$f":"IF(ISNA(VLOOKUP($DC183,'Audit Values'!$A$2:$AC$299,2,FALSE)),\"\",IF(AND(Weightings!H183>0,VLOOKUP($DC183,'Audit Values'!$A$2:$AC$299,29,FALSE)<Weightings!H183),Weightings!H183,VLOOKUP($DC183,'Audit Values'!$A$2:$AC$299,29,FALSE)))","v":11},{"$f":"IF(ISNA(VLOOKUP($DC183,'Audit Values'!$A$2:$AD$299,2,FALSE)),\"\",VLOOKUP($DC183,'Audit Values'!$A$2:$AD$299,30,FALSE))","v":"A"},{"$f":"IF(Weightings!G183=\"\",\"\",IF(Weightings!I183=\"Pending\",\"PX\",\"R\"))","v":""},{"$f":"AR183*Weightings!$M$5+AU183","v":2630531},{"$f":"AT183*Weightings!$M$5+AU183","v":2939461},{"$f":"IF(Weightings!G183>0,Weightings!G183,'Preliminary SO66'!AB180)","v":3414300},127738,214630,0,3071932,2939461,null,{"$f":"Weightings!E183","v":0},{"$f":"Weightings!F183","v":0},0,2939461,{"$f":"MAX(ROUND(((AR183-AN183-AO183)*Weightings!$M$12)+'2016legmax.xls'!AP183,0),ROUND((('2016legmax.xls'!AR183-'2016legmax.xls'!AN183-'2016legmax.xls'!AO183)*Weightings!$M$12)+Weightings!B183,0))","v":3448703},0.3,1034611,846000,846000,0.24529999999999999,0,false,0,0,0,true,148.005,0.443552,186.1,0,280.5,0.13,{"$f":"IF(ROUND((Weightings!$P$5*CC183^Weightings!$P$6*Weightings!$P$8 ),2)<Weightings!$P$7,Weightings!$P$7,ROUND((Weightings!$P$5*CC183^Weightings!$P$6*Weightings!$P$8 ),2))","v":1717.3},{"$f":"ROUND(CD183/Weightings!$M$5,4)","v":0.44579999999999997},16.5,0,0,0,0,{"$f":"AS183*Weightings!$M$5*CJ183","v":0},0,0.24299999999999999,1.5,0,0,0,{"$f":"IF(ISNA(VLOOKUP($DC183,'Audit Values'!$A$2:$AE$252,2,FALSE)),'Preliminary SO66'!T180,VLOOKUP($DC183,'Audit Values'!$A$2:$AE$252,20,FALSE))","v":0},{"$f":"IF(ISNA(VLOOKUP($DC183,'Audit Values'!$A$2:$AE$252,21,FALSE)),'Preliminary SO66'!U180,VLOOKUP($DC183,'Audit Values'!$A$2:$AE$252,21,FALSE))","v":0},0,0,null,null,null,null,null,null,null,"D0388"]
[389,"Greenwood","Eureka ",628,0,628,621.5,0,621.5,606,{"$f":"IF(ISNA(VLOOKUP($DC184,'Audit Values'!$A$2:$AE$269,2,FALSE)),'Preliminary SO66'!B181,VLOOKUP($DC184,'Audit Values'!$A$2:$AE$269,31,FALSE))","v":606},621.5,{"$f":"IF(ISNA(VLOOKUP($DC184,'Audit Values'!$A$2:$AE$252,2,FALSE)),'Preliminary SO66'!Z181,VLOOKUP($DC184,'Audit Values'!$A$2:$AE$252,26,FALSE))","v":0},621.5,{"$f":"IF(ISNA(VLOOKUP($DC184,'Audit Values'!$A$2:$AE$252,2,FALSE)),'Preliminary SO66'!C181,IF(VLOOKUP($DC184,'Audit Values'!$A$2:$AE$252,28,FALSE)=\"\",VLOOKUP($DC184,'Audit Values'!$A$2:$AE$252,3,FALSE),VLOOKUP($DC184,'Audit Values'!$A$2:$AE$252,28,FALSE)))","v":10.5},616.5,616.5,616.5,632,0,234.7,{"$f":"MAX(BR184,BV184,BZ184)","v":234.7},0,{"$f":"IF(ISNA(VLOOKUP($DC184,'Audit Values'!$A$2:$AE$252,2,FALSE)),'Preliminary SO66'!D181,VLOOKUP($DC184,'Audit Values'!$A$2:$AE$252,4,FALSE))","v":76.3},{"$f":"ROUND((X184/6)*Weightings!$M$6,1)","v":6.4},{"$f":"IF(ISNA(VLOOKUP($DC184,'Audit Values'!$A$2:$AE$252,2,FALSE)),'Preliminary SO66'!F181,VLOOKUP($DC184,'Audit Values'!$A$2:$AE$252,6,FALSE))","v":0},{"$f":"ROUND((Z184/6)*Weightings!$M$7,1)","v":0},{"$f":"IF(ISNA(VLOOKUP($DC184,'Audit Values'!$A$2:$AE$269,2,FALSE)),'Preliminary SO66'!H181,VLOOKUP($DC184,'Audit Values'!$A$2:$AE$269,9,FALSE))","v":339},{"$f":"ROUND(AB184*Weightings!$M$8,1)","v":154.6},35.6,0,{"$f":"AE184*Weightings!$M$9","v":0},{"$f":"IF(ISNA(VLOOKUP($DC184,'Audit Values'!$A$2:$AE$252,2,FALSE)),'Preliminary SO66'!L181,VLOOKUP($DC184,'Audit Values'!$A$2:$AE$252,12,FALSE))","v":0},{"$f":"ROUND(AG184*Weightings!$M$10,1)","v":0},{"$f":"IF(ISNA(VLOOKUP($DC184,'Audit Values'!$A$2:$AE$252,2,FALSE)),'Preliminary SO66'!O181,VLOOKUP($DC184,'Audit Values'!$A$2:$AE$252,15,FALSE))","v":186},67.599999999999994,{"$f":"CG184/Weightings!$M$5","v":0},{"$f":"CH184/Weightings!$M$5","v":0},{"$f":"CL184/Weightings!$M$5","v":0},0,{"$f":"IF(ISNA(VLOOKUP($DC184,'Audit Values'!$A$2:$AE$252,2,FALSE)),'Preliminary SO66'!X181,VLOOKUP($DC184,'Audit Values'!$A$2:$AE$252,24,FALSE))","v":0},532823,{"$f":"AP184/Weightings!$M$5","v":138.30000000000001},1130.9000000000001,1269.2,1269.2,0,{"$f":"IF(ISNA(VLOOKUP($DC184,'Audit Values'!$A$2:$AC$299,2,FALSE)),\"\",IF(AND(Weightings!H184>0,VLOOKUP($DC184,'Audit Values'!$A$2:$AC$299,29,FALSE)<Weightings!H184),Weightings!H184,VLOOKUP($DC184,'Audit Values'!$A$2:$AC$299,29,FALSE)))","v":16},{"$f":"IF(ISNA(VLOOKUP($DC184,'Audit Values'!$A$2:$AD$299,2,FALSE)),\"\",VLOOKUP($DC184,'Audit Values'!$A$2:$AD$299,30,FALSE))","v":"A"},{"$f":"IF(Weightings!G184=\"\",\"\",IF(Weightings!I184=\"Pending\",\"PX\",\"R\"))","v":""},{"$f":"AR184*Weightings!$M$5+AU184","v":4356227},{"$f":"AT184*Weightings!$M$5+AU184","v":4888958},{"$f":"IF(Weightings!G184>0,Weightings!G184,'Preliminary SO66'!AB181)","v":6691172},951011,417134,69331,5253696,4888958,null,{"$f":"Weightings!E184","v":0},{"$f":"Weightings!F184","v":0},0,4888958,{"$f":"MAX(ROUND(((AR184-AN184-AO184)*Weightings!$M$12)+'2016legmax.xls'!AP184,0),ROUND((('2016legmax.xls'!AR184-'2016legmax.xls'!AN184-'2016legmax.xls'!AO184)*Weightings!$M$12)+Weightings!B184,0))","v":5640251},0.3,1692075,1724538,1692075,0.3,0,false,0,0,0,true,410.85,0.37139,234.7,0,580,0.32,{"$f":"IF(ROUND((Weightings!$P$5*CC184^Weightings!$P$6*Weightings!$P$8 ),2)<Weightings!$P$7,Weightings!$P$7,ROUND((Weightings!$P$5*CC184^Weightings!$P$6*Weightings!$P$8 ),2))","v":1400.72},{"$f":"ROUND(CD184/Weightings!$M$5,4)","v":0.36359999999999998},67.599999999999994,0,0,0,0,{"$f":"AS184*Weightings!$M$5*CJ184","v":0},0,0.53600000000000003,1.1000000000000001,35.6,0,0,{"$f":"IF(ISNA(VLOOKUP($DC184,'Audit Values'!$A$2:$AE$252,2,FALSE)),'Preliminary SO66'!T181,VLOOKUP($DC184,'Audit Values'!$A$2:$AE$252,20,FALSE))","v":0},{"$f":"IF(ISNA(VLOOKUP($DC184,'Audit Values'!$A$2:$AE$252,21,FALSE)),'Preliminary SO66'!U181,VLOOKUP($DC184,'Audit Values'!$A$2:$AE$252,21,FALSE))","v":0},0,0,null,null,null,null,null,null,null,"D0389"]
[390,"Greenwood","Hamilton ",82,0,82,86.5,0,86.5,75.5,{"$f":"IF(ISNA(VLOOKUP($DC185,'Audit Values'!$A$2:$AE$252,2,FALSE)),'Preliminary SO66'!B182,VLOOKUP($DC185,'Audit Values'!$A$2:$AE$252,31,FALSE))","v":75.5},86.5,{"$f":"IF(ISNA(VLOOKUP($DC185,'Audit Values'!$A$2:$AE$252,2,FALSE)),'Preliminary SO66'!Z182,VLOOKUP($DC185,'Audit Values'!$A$2:$AE$252,26,FALSE))","v":0},86.5,{"$f":"IF(ISNA(VLOOKUP($DC185,'Audit Values'!$A$2:$AE$252,2,FALSE)),'Preliminary SO66'!C182,IF(VLOOKUP($DC185,'Audit Values'!$A$2:$AE$252,28,FALSE)=\"\",VLOOKUP($DC185,'Audit Values'!$A$2:$AE$252,3,FALSE),VLOOKUP($DC185,'Audit Values'!$A$2:$AE$252,28,FALSE)))","v":1},76.5,76.5,76.5,87.5,0,88.8,88.8,0,{"$f":"IF(ISNA(VLOOKUP($DC185,'Audit Values'!$A$2:$AE$252,2,FALSE)),'Preliminary SO66'!D182,VLOOKUP($DC185,'Audit Values'!$A$2:$AE$252,4,FALSE))","v":0},{"$f":"ROUND((X185/6)*Weightings!$M$6,1)","v":0},{"$f":"IF(ISNA(VLOOKUP($DC185,'Audit Values'!$A$2:$AE$252,2,FALSE)),'Preliminary SO66'!F182,VLOOKUP($DC185,'Audit Values'!$A$2:$AE$252,6,FALSE))","v":0},{"$f":"ROUND((Z185/6)*Weightings!$M$7,1)","v":0},{"$f":"IF(ISNA(VLOOKUP($DC185,'Audit Values'!$A$2:$AE$252,2,FALSE)),'Preliminary SO66'!H182,VLOOKUP($DC185,'Audit Values'!$A$2:$AE$252,9,FALSE))","v":52},{"$f":"ROUND(AB185*Weightings!$M$8,1)","v":23.7},5.5,0,{"$f":"AE185*Weightings!$M$9","v":0},{"$f":"IF(ISNA(VLOOKUP($DC185,'Audit Values'!$A$2:$AE$252,2,FALSE)),'Preliminary SO66'!L182,VLOOKUP($DC185,'Audit Values'!$A$2:$AE$252,12,FALSE))","v":0},{"$f":"ROUND(AG185*Weightings!$M$10,1)","v":0},{"$f":"IF(ISNA(VLOOKUP($DC185,'Audit Values'!$A$2:$AE$252,2,FALSE)),'Preliminary SO66'!O182,VLOOKUP($DC185,'Audit Values'!$A$2:$AE$252,15,FALSE))","v":25},11.4,{"$f":"CG185/Weightings!$M$5","v":0},{"$f":"CH185/Weightings!$M$5","v":0},{"$f":"CL185/Weightings!$M$5","v":0},0,{"$f":"IF(ISNA(VLOOKUP($DC185,'Audit Values'!$A$2:$AE$252,2,FALSE)),'Preliminary SO66'!X182,VLOOKUP($DC185,'Audit Values'!$A$2:$AE$252,24,FALSE))","v":0},140690,{"$f":"AP185/Weightings!$M$5","v":36.5},216.9,253.4,253.4,0,{"$f":"IF(ISNA(VLOOKUP($DC185,'Audit Values'!$A$2:$AC$299,2,FALSE)),\"\",IF(AND(Weightings!H185>0,VLOOKUP($DC185,'Audit Values'!$A$2:$AC$299,29,FALSE)<Weightings!H185),Weightings!H185,VLOOKUP($DC185,'Audit Values'!$A$2:$AC$299,29,FALSE)))","v":16},{"$f":"IF(ISNA(VLOOKUP($DC185,'Audit Values'!$A$2:$AD$299,2,FALSE)),\"\",VLOOKUP($DC185,'Audit Values'!$A$2:$AD$299,30,FALSE))","v":"A"},{"$f":"IF(Weightings!G185=\"\",\"\",IF(Weightings!I185=\"Pending\",\"PX\",\"R\"))","v":""},{"$f":"AR185*Weightings!$M$5+AU185","v":835499},{"$f":"AT185*Weightings!$M$5+AU185","v":976097},{"$f":"IF(Weightings!G185>0,Weightings!G185,'Preliminary SO66'!AB182)","v":1101321},7073,53573,0,1040675,976097,null,{"$f":"Weightings!E185","v":0},{"$f":"Weightings!F185","v":0},0,976097,{"$f":"MAX(ROUND(((AR185-AN185-AO185)*Weightings!$M$12)+'2016legmax.xls'!AP185,0),ROUND((('2016legmax.xls'!AR185-'2016legmax.xls'!AN185-'2016legmax.xls'!AO185)*Weightings!$M$12)+Weightings!B185,0))","v":1114571},0.28060000000000002,{"$f":"BL185*BM185","v":312749},288957,288957,0.25929999999999997,88.8,false,0,0,0,false,0,0,0,0,210,0.12,{"$f":"IF(ROUND((Weightings!$P$5*CC185^Weightings!$P$6*Weightings!$P$8 ),2)<Weightings!$P$7,Weightings!$P$7,ROUND((Weightings!$P$5*CC185^Weightings!$P$6*Weightings!$P$8 ),2))","v":1748.68},{"$f":"ROUND(CD185/Weightings!$M$5,4)","v":0.45400000000000001},11.4,0,0,0,0,{"$f":"AS185*Weightings!$M$5*CJ185","v":0},0,0.59399999999999997,0.4,5.5,0,0,{"$f":"IF(ISNA(VLOOKUP($DC185,'Audit Values'!$A$2:$AE$252,2,FALSE)),'Preliminary SO66'!T182,VLOOKUP($DC185,'Audit Values'!$A$2:$AE$252,20,FALSE))","v":0},{"$f":"IF(ISNA(VLOOKUP($DC185,'Audit Values'!$A$2:$AE$252,21,FALSE)),'Preliminary SO66'!U182,VLOOKUP($DC185,'Audit Values'!$A$2:$AE$252,21,FALSE))","v":0},0,0,null,null,null,null,null,null,null,"D0390"]
[392,"Osborne","Osborne County ",285.60000000000002,0,285.60000000000002,280.10000000000002,0,280.10000000000002,273.60000000000002,{"$f":"IF(ISNA(VLOOKUP($DC186,'Audit Values'!$A$2:$AE$252,2,FALSE)),'Preliminary SO66'!B183,VLOOKUP($DC186,'Audit Values'!$A$2:$AE$252,31,FALSE))","v":273.60000000000002},280.10000000000002,{"$f":"IF(ISNA(VLOOKUP($DC186,'Audit Values'!$A$2:$AE$252,2,FALSE)),'Preliminary SO66'!Z183,VLOOKUP($DC186,'Audit Values'!$A$2:$AE$252,26,FALSE))","v":0},280.10000000000002,{"$f":"IF(ISNA(VLOOKUP($DC186,'Audit Values'!$A$2:$AE$252,2,FALSE)),'Preliminary SO66'!C183,IF(VLOOKUP($DC186,'Audit Values'!$A$2:$AE$252,28,FALSE)=\"\",VLOOKUP($DC186,'Audit Values'!$A$2:$AE$252,3,FALSE),VLOOKUP($DC186,'Audit Values'!$A$2:$AE$252,28,FALSE)))","v":0},273.60000000000002,273.60000000000002,273.60000000000002,280.10000000000002,0,150.4,150.4,0,{"$f":"IF(ISNA(VLOOKUP($DC186,'Audit Values'!$A$2:$AE$252,2,FALSE)),'Preliminary SO66'!D183,VLOOKUP($DC186,'Audit Values'!$A$2:$AE$252,4,FALSE))","v":38.299999999999997},{"$f":"ROUND((X186/6)*Weightings!$M$6,1)","v":3.2},{"$f":"IF(ISNA(VLOOKUP($DC186,'Audit Values'!$A$2:$AE$252,2,FALSE)),'Preliminary SO66'!F183,VLOOKUP($DC186,'Audit Values'!$A$2:$AE$252,6,FALSE))","v":0},{"$f":"ROUND((Z186/6)*Weightings!$M$7,1)","v":0},{"$f":"IF(ISNA(VLOOKUP($DC186,'Audit Values'!$A$2:$AE$252,2,FALSE)),'Preliminary SO66'!H183,VLOOKUP($DC186,'Audit Values'!$A$2:$AE$252,9,FALSE))","v":114},{"$f":"ROUND(AB186*Weightings!$M$8,1)","v":52},4.5,0,{"$f":"AE186*Weightings!$M$9","v":0},{"$f":"IF(ISNA(VLOOKUP($DC186,'Audit Values'!$A$2:$AE$252,2,FALSE)),'Preliminary SO66'!L183,VLOOKUP($DC186,'Audit Values'!$A$2:$AE$252,12,FALSE))","v":0},{"$f":"ROUND(AG186*Weightings!$M$10,1)","v":0},{"$f":"IF(ISNA(VLOOKUP($DC186,'Audit Values'!$A$2:$AE$252,2,FALSE)),'Preliminary SO66'!O183,VLOOKUP($DC186,'Audit Values'!$A$2:$AE$252,15,FALSE))","v":68},30.3,{"$f":"CG186/Weightings!$M$5","v":0},{"$f":"CH186/Weightings!$M$5","v":0},{"$f":"CL186/Weightings!$M$5","v":0},0,{"$f":"IF(ISNA(VLOOKUP($DC186,'Audit Values'!$A$2:$AE$252,2,FALSE)),'Preliminary SO66'!X183,VLOOKUP($DC186,'Audit Values'!$A$2:$AE$252,24,FALSE))","v":0},341892,{"$f":"AP186/Weightings!$M$5","v":88.8},520.5,609.29999999999995,609.29999999999995,0,{"$f":"IF(ISNA(VLOOKUP($DC186,'Audit Values'!$A$2:$AC$299,2,FALSE)),\"\",IF(AND(Weightings!H186>0,VLOOKUP($DC186,'Audit Values'!$A$2:$AC$299,29,FALSE)<Weightings!H186),Weightings!H186,VLOOKUP($DC186,'Audit Values'!$A$2:$AC$299,29,FALSE)))","v":3},{"$f":"IF(ISNA(VLOOKUP($DC186,'Audit Values'!$A$2:$AD$299,2,FALSE)),\"\",VLOOKUP($DC186,'Audit Values'!$A$2:$AD$299,30,FALSE))","v":"A"},{"$f":"IF(Weightings!G186=\"\",\"\",IF(Weightings!I186=\"Pending\",\"PX\",\"R\"))","v":""},{"$f":"AR186*Weightings!$M$5+AU186","v":2004966},{"$f":"AT186*Weightings!$M$5+AU186","v":2347024},{"$f":"IF(Weightings!G186>0,Weightings!G186,'Preliminary SO66'!AB183)","v":2887615},232843,143307,0,2511465,2347024,0,{"$f":"Weightings!E186","v":0},{"$f":"Weightings!F186","v":0},0,2347024,{"$f":"MAX(ROUND(((AR186-AN186-AO186)*Weightings!$M$12)+'2016legmax.xls'!AP186,0),ROUND((('2016legmax.xls'!AR186-'2016legmax.xls'!AN186-'2016legmax.xls'!AO186)*Weightings!$M$12)+Weightings!B186,0))","v":2732933},0.3,819880,845508,819880,0.3,0,true,1738.866,0.53693599999999997,150.4,false,0,0,0,0,511,0.13,{"$f":"IF(ROUND((Weightings!$P$5*CC186^Weightings!$P$6*Weightings!$P$8 ),2)<Weightings!$P$7,Weightings!$P$7,ROUND((Weightings!$P$5*CC186^Weightings!$P$6*Weightings!$P$8 ),2))","v":1717.3},{"$f":"ROUND(CD186/Weightings!$M$5,4)","v":0.44579999999999997},30.3,0,0,0,0,{"$f":"AS186*Weightings!$M$5*CJ186","v":0},0,0.40699999999999997,0.5,0,0,4.5,{"$f":"IF(ISNA(VLOOKUP($DC186,'Audit Values'!$A$2:$AE$252,2,FALSE)),'Preliminary SO66'!T183,VLOOKUP($DC186,'Audit Values'!$A$2:$AE$252,20,FALSE))","v":0},{"$f":"IF(ISNA(VLOOKUP($DC186,'Audit Values'!$A$2:$AE$252,21,FALSE)),'Preliminary SO66'!U183,VLOOKUP($DC186,'Audit Values'!$A$2:$AE$252,21,FALSE))","v":0},0,0,null,null,null,null,null,null,null,"D0392"]
[393,"Dickinson","Solomon ",324.2,0,324.2,307,4,311,302.60000000000002,{"$f":"IF(ISNA(VLOOKUP($DC187,'Audit Values'!$A$2:$AE$252,2,FALSE)),'Preliminary SO66'!B184,VLOOKUP($DC187,'Audit Values'!$A$2:$AE$252,31,FALSE))","v":302.60000000000002},312.60000000000002,{"$f":"IF(ISNA(VLOOKUP($DC187,'Audit Values'!$A$2:$AE$252,2,FALSE)),'Preliminary SO66'!Z184,VLOOKUP($DC187,'Audit Values'!$A$2:$AE$252,26,FALSE))","v":0},312.60000000000002,{"$f":"IF(ISNA(VLOOKUP($DC187,'Audit Values'!$A$2:$AE$252,2,FALSE)),'Preliminary SO66'!C184,IF(VLOOKUP($DC187,'Audit Values'!$A$2:$AE$252,28,FALSE)=\"\",VLOOKUP($DC187,'Audit Values'!$A$2:$AE$252,3,FALSE),VLOOKUP($DC187,'Audit Values'!$A$2:$AE$252,28,FALSE)))","v":0},302.60000000000002,302.60000000000002,302.60000000000002,312.60000000000002,0,150,150,0,{"$f":"IF(ISNA(VLOOKUP($DC187,'Audit Values'!$A$2:$AE$252,2,FALSE)),'Preliminary SO66'!D184,VLOOKUP($DC187,'Audit Values'!$A$2:$AE$252,4,FALSE))","v":161.6},{"$f":"ROUND((X187/6)*Weightings!$M$6,1)","v":13.5},{"$f":"IF(ISNA(VLOOKUP($DC187,'Audit Values'!$A$2:$AE$252,2,FALSE)),'Preliminary SO66'!F184,VLOOKUP($DC187,'Audit Values'!$A$2:$AE$252,6,FALSE))","v":0},{"$f":"ROUND((Z187/6)*Weightings!$M$7,1)","v":0},{"$f":"IF(ISNA(VLOOKUP($DC187,'Audit Values'!$A$2:$AE$252,2,FALSE)),'Preliminary SO66'!H184,VLOOKUP($DC187,'Audit Values'!$A$2:$AE$252,9,FALSE))","v":116},{"$f":"ROUND(AB187*Weightings!$M$8,1)","v":52.9},1.7,0,{"$f":"AE187*Weightings!$M$9","v":0},{"$f":"IF(ISNA(VLOOKUP($DC187,'Audit Values'!$A$2:$AE$252,2,FALSE)),'Preliminary SO66'!L184,VLOOKUP($DC187,'Audit Values'!$A$2:$AE$252,12,FALSE))","v":0},{"$f":"ROUND(AG187*Weightings!$M$10,1)","v":0},{"$f":"IF(ISNA(VLOOKUP($DC187,'Audit Values'!$A$2:$AE$252,2,FALSE)),'Preliminary SO66'!O184,VLOOKUP($DC187,'Audit Values'!$A$2:$AE$252,15,FALSE))","v":83},28.1,{"$f":"CG187/Weightings!$M$5","v":0},{"$f":"CH187/Weightings!$M$5","v":0},{"$f":"CL187/Weightings!$M$5","v":0},0,{"$f":"IF(ISNA(VLOOKUP($DC187,'Audit Values'!$A$2:$AE$252,2,FALSE)),'Preliminary SO66'!X184,VLOOKUP($DC187,'Audit Values'!$A$2:$AE$252,24,FALSE))","v":0},305434,{"$f":"AP187/Weightings!$M$5","v":79.3},558.79999999999995,638.1,638.1,0,{"$f":"IF(ISNA(VLOOKUP($DC187,'Audit Values'!$A$2:$AC$299,2,FALSE)),\"\",IF(AND(Weightings!H187>0,VLOOKUP($DC187,'Audit Values'!$A$2:$AC$299,29,FALSE)<Weightings!H187),Weightings!H187,VLOOKUP($DC187,'Audit Values'!$A$2:$AC$299,29,FALSE)))","v":11},{"$f":"IF(ISNA(VLOOKUP($DC187,'Audit Values'!$A$2:$AD$299,2,FALSE)),\"\",VLOOKUP($DC187,'Audit Values'!$A$2:$AD$299,30,FALSE))","v":"A"},{"$f":"IF(Weightings!G187=\"\",\"\",IF(Weightings!I187=\"Pending\",\"PX\",\"R\"))","v":""},{"$f":"AR187*Weightings!$M$5+AU187","v":2152498},{"$f":"AT187*Weightings!$M$5+AU187","v":2457961},{"$f":"IF(Weightings!G187>0,Weightings!G187,'Preliminary SO66'!AB184)","v":3095427},300756,175300,11826,2607545,2457961,null,{"$f":"Weightings!E187","v":0},{"$f":"Weightings!F187","v":0},0,2457961,{"$f":"MAX(ROUND(((AR187-AN187-AO187)*Weightings!$M$12)+'2016legmax.xls'!AP187,0),ROUND((('2016legmax.xls'!AR187-'2016legmax.xls'!AN187-'2016legmax.xls'!AO187)*Weightings!$M$12)+Weightings!B187,0))","v":2872960},0.3,861888,875358,861888,0.3,0,false,0,0,0,true,15.592499999999999,0.47990500000000003,150,0,187.5,0.44,{"$f":"IF(ROUND((Weightings!$P$5*CC187^Weightings!$P$6*Weightings!$P$8 ),2)<Weightings!$P$7,Weightings!$P$7,ROUND((Weightings!$P$5*CC187^Weightings!$P$6*Weightings!$P$8 ),2))","v":1303.3699999999999},{"$f":"ROUND(CD187/Weightings!$M$5,4)","v":0.33839999999999998},28.1,0,0,0,0,{"$f":"AS187*Weightings!$M$5*CJ187","v":0},0,0.371,1.7,0,0,1.7,{"$f":"IF(ISNA(VLOOKUP($DC187,'Audit Values'!$A$2:$AE$252,2,FALSE)),'Preliminary SO66'!T184,VLOOKUP($DC187,'Audit Values'!$A$2:$AE$252,20,FALSE))","v":0},{"$f":"IF(ISNA(VLOOKUP($DC187,'Audit Values'!$A$2:$AE$252,21,FALSE)),'Preliminary SO66'!U184,VLOOKUP($DC187,'Audit Values'!$A$2:$AE$252,21,FALSE))","v":0},0,0,null,null,null,null,null,null,null,"D0393"]
[394,"Butler","Rose Hill Public Schools ",1583.7,0,1583.7,1562.8,0,1562.8,1578,{"$f":"IF(ISNA(VLOOKUP($DC188,'Audit Values'!$A$2:$AE$286,2,FALSE)),'Preliminary SO66'!B185,VLOOKUP($DC188,'Audit Values'!$A$2:$AE$286,31,FALSE))","v":1520},1562.8,{"$f":"IF(ISNA(VLOOKUP($DC188,'Audit Values'!$A$2:$AE$286,2,FALSE)),'Preliminary SO66'!Z185,VLOOKUP($DC188,'Audit Values'!$A$2:$AE$286,26,FALSE))","v":0},1562.8,{"$f":"IF(ISNA(VLOOKUP($DC188,'Audit Values'!$A$2:$AE$286,2,FALSE)),'Preliminary SO66'!C185,IF(VLOOKUP($DC188,'Audit Values'!$A$2:$AE$286,28,FALSE)=\"\",VLOOKUP($DC188,'Audit Values'!$A$2:$AE$286,3,FALSE),VLOOKUP($DC188,'Audit Values'!$A$2:$AE$286,28,FALSE)))","v":11.5},1531.5,1589.5,1589.5,1574.3,58,80.7,80.7,0,{"$f":"IF(ISNA(VLOOKUP($DC188,'Audit Values'!$A$2:$AE$252,2,FALSE)),'Preliminary SO66'!D185,VLOOKUP($DC188,'Audit Values'!$A$2:$AE$252,4,FALSE))","v":394.4},{"$f":"ROUND((X188/6)*Weightings!$M$6,1)","v":32.9},{"$f":"IF(ISNA(VLOOKUP($DC188,'Audit Values'!$A$2:$AE$252,2,FALSE)),'Preliminary SO66'!F185,VLOOKUP($DC188,'Audit Values'!$A$2:$AE$252,6,FALSE))","v":63.1},{"$f":"ROUND((Z188/6)*Weightings!$M$7,1)","v":4.2},{"$f":"IF(ISNA(VLOOKUP($DC188,'Audit Values'!$A$2:$AE$286,2,FALSE)),'Preliminary SO66'!H185,VLOOKUP($DC188,'Audit Values'!$A$2:$AE$286,9,FALSE))","v":376},{"$f":"ROUND(AB188*Weightings!$M$8,1)","v":171.5},0,0,{"$f":"AE188*Weightings!$M$9","v":0},{"$f":"IF(ISNA(VLOOKUP($DC188,'Audit Values'!$A$2:$AE$252,2,FALSE)),'Preliminary SO66'!L185,VLOOKUP($DC188,'Audit Values'!$A$2:$AE$252,12,FALSE))","v":0},{"$f":"ROUND(AG188*Weightings!$M$10,1)","v":0},{"$f":"IF(ISNA(VLOOKUP($DC188,'Audit Values'!$A$2:$AE$252,2,FALSE)),'Preliminary SO66'!O185,VLOOKUP($DC188,'Audit Values'!$A$2:$AE$252,15,FALSE))","v":593},97.3,{"$f":"CG188/Weightings!$M$5","v":0},{"$f":"CH188/Weightings!$M$5","v":0},{"$f":"CL188/Weightings!$M$5","v":0},60.9,{"$f":"IF(ISNA(VLOOKUP($DC188,'Audit Values'!$A$2:$AE$252,2,FALSE)),'Preliminary SO66'!X185,VLOOKUP($DC188,'Audit Values'!$A$2:$AE$252,24,FALSE))","v":0},1323684,{"$f":"AP188/Weightings!$M$5","v":343.6},2021.8,2365.4,2365.4,0,{"$f":"IF(ISNA(VLOOKUP($DC188,'Audit Values'!$A$2:$AC$299,2,FALSE)),\"\",IF(AND(Weightings!H188>0,VLOOKUP($DC188,'Audit Values'!$A$2:$AC$299,29,FALSE)<Weightings!H188),Weightings!H188,VLOOKUP($DC188,'Audit Values'!$A$2:$AC$299,29,FALSE)))","v":18},{"$f":"IF(ISNA(VLOOKUP($DC188,'Audit Values'!$A$2:$AD$299,2,FALSE)),\"\",VLOOKUP($DC188,'Audit Values'!$A$2:$AD$299,30,FALSE))","v":"A"},{"$f":"IF(Weightings!G188=\"\",\"\",IF(Weightings!I188=\"Pending\",\"PX\",\"R\"))","v":""},{"$f":"AR188*Weightings!$M$5+AU188","v":7787974},{"$f":"AT188*Weightings!$M$5+AU188","v":9111521},{"$f":"IF(Weightings!G188>0,Weightings!G188,'Preliminary SO66'!AB185)","v":12542612},2025917,690041,194297,9632357,9111521,null,{"$f":"Weightings!E188","v":0},{"$f":"Weightings!F188","v":0},0,9111521,{"$f":"MAX(ROUND(((AR188-AN188-AO188)*Weightings!$M$12)+'2016legmax.xls'!AP188,0),ROUND((('2016legmax.xls'!AR188-'2016legmax.xls'!AN188-'2016legmax.xls'!AO188)*Weightings!$M$12)+Weightings!B188,0))","v":10128125},0.33,3342281,3214300,3214300,0.31740000000000002,0,false,0,0,0,true,1576.9463000000001,5.1244999999999999E-2,80.7,0,55,10.78,{"$f":"IF(ROUND((Weightings!$P$5*CC188^Weightings!$P$6*Weightings!$P$8 ),2)<Weightings!$P$7,Weightings!$P$7,ROUND((Weightings!$P$5*CC188^Weightings!$P$6*Weightings!$P$8 ),2))","v":632.16},{"$f":"ROUND(CD188/Weightings!$M$5,4)","v":0.1641},97.3,0,0,0,0,{"$f":"AS188*Weightings!$M$5*CJ188","v":0},0,0.23899999999999999,28.6,0,0,0,{"$f":"IF(ISNA(VLOOKUP($DC188,'Audit Values'!$A$2:$AE$286,2,FALSE)),'Preliminary SO66'!T185,VLOOKUP($DC188,'Audit Values'!$A$2:$AE$286,20,FALSE))","v":23},{"$f":"IF(ISNA(VLOOKUP($DC188,'Audit Values'!$A$2:$AE$286,21,FALSE)),'Preliminary SO66'!U185,VLOOKUP($DC188,'Audit Values'!$A$2:$AE$286,21,FALSE))","v":0},35,58,null,null,null,null,null,null,null,"D0394"]
[395,"Rush","LaCrosse ",272,0,272,291,0,291,282,{"$f":"IF(ISNA(VLOOKUP($DC189,'Audit Values'!$A$2:$AE$252,2,FALSE)),'Preliminary SO66'!B186,VLOOKUP($DC189,'Audit Values'!$A$2:$AE$252,31,FALSE))","v":282},291,{"$f":"IF(ISNA(VLOOKUP($DC189,'Audit Values'!$A$2:$AE$252,2,FALSE)),'Preliminary SO66'!Z186,VLOOKUP($DC189,'Audit Values'!$A$2:$AE$252,26,FALSE))","v":0},291,{"$f":"IF(ISNA(VLOOKUP($DC189,'Audit Values'!$A$2:$AE$252,2,FALSE)),'Preliminary SO66'!C186,IF(VLOOKUP($DC189,'Audit Values'!$A$2:$AE$252,28,FALSE)=\"\",VLOOKUP($DC189,'Audit Values'!$A$2:$AE$252,3,FALSE),VLOOKUP($DC189,'Audit Values'!$A$2:$AE$252,28,FALSE)))","v":0},282,282,282,291,0,147.80000000000001,147.80000000000001,0,{"$f":"IF(ISNA(VLOOKUP($DC189,'Audit Values'!$A$2:$AE$252,2,FALSE)),'Preliminary SO66'!D186,VLOOKUP($DC189,'Audit Values'!$A$2:$AE$252,4,FALSE))","v":115.9},{"$f":"ROUND((X189/6)*Weightings!$M$6,1)","v":9.6999999999999993},{"$f":"IF(ISNA(VLOOKUP($DC189,'Audit Values'!$A$2:$AE$252,2,FALSE)),'Preliminary SO66'!F186,VLOOKUP($DC189,'Audit Values'!$A$2:$AE$252,6,FALSE))","v":0},{"$f":"ROUND((Z189/6)*Weightings!$M$7,1)","v":0},{"$f":"IF(ISNA(VLOOKUP($DC189,'Audit Values'!$A$2:$AE$252,2,FALSE)),'Preliminary SO66'!H186,VLOOKUP($DC189,'Audit Values'!$A$2:$AE$252,9,FALSE))","v":108},{"$f":"ROUND(AB189*Weightings!$M$8,1)","v":49.2},1.6,0,{"$f":"AE189*Weightings!$M$9","v":0},{"$f":"IF(ISNA(VLOOKUP($DC189,'Audit Values'!$A$2:$AE$252,2,FALSE)),'Preliminary SO66'!L186,VLOOKUP($DC189,'Audit Values'!$A$2:$AE$252,12,FALSE))","v":0},{"$f":"ROUND(AG189*Weightings!$M$10,1)","v":0},{"$f":"IF(ISNA(VLOOKUP($DC189,'Audit Values'!$A$2:$AE$252,2,FALSE)),'Preliminary SO66'!O186,VLOOKUP($DC189,'Audit Values'!$A$2:$AE$252,15,FALSE))","v":91},37.200000000000003,{"$f":"CG189/Weightings!$M$5","v":0},{"$f":"CH189/Weightings!$M$5","v":0},{"$f":"CL189/Weightings!$M$5","v":0},0,{"$f":"IF(ISNA(VLOOKUP($DC189,'Audit Values'!$A$2:$AE$252,2,FALSE)),'Preliminary SO66'!X186,VLOOKUP($DC189,'Audit Values'!$A$2:$AE$252,24,FALSE))","v":0},250262,{"$f":"AP189/Weightings!$M$5","v":65},536.5,601.5,601.5,0,{"$f":"IF(ISNA(VLOOKUP($DC189,'Audit Values'!$A$2:$AC$299,2,FALSE)),\"\",IF(AND(Weightings!H189>0,VLOOKUP($DC189,'Audit Values'!$A$2:$AC$299,29,FALSE)<Weightings!H189),Weightings!H189,VLOOKUP($DC189,'Audit Values'!$A$2:$AC$299,29,FALSE)))","v":9},{"$f":"IF(ISNA(VLOOKUP($DC189,'Audit Values'!$A$2:$AD$299,2,FALSE)),\"\",VLOOKUP($DC189,'Audit Values'!$A$2:$AD$299,30,FALSE))","v":"A"},{"$f":"IF(Weightings!G189=\"\",\"\",IF(Weightings!I189=\"Pending\",\"PX\",\"R\"))","v":""},{"$f":"AR189*Weightings!$M$5+AU189","v":2066598},{"$f":"AT189*Weightings!$M$5+AU189","v":2316978},{"$f":"IF(Weightings!G189>0,Weightings!G189,'Preliminary SO66'!AB186)","v":2733414},136560,177517,0,2419337,2316978,null,{"$f":"Weightings!E189","v":0},{"$f":"Weightings!F189","v":0},0,2316978,{"$f":"MAX(ROUND(((AR189-AN189-AO189)*Weightings!$M$12)+'2016legmax.xls'!AP189,0),ROUND((('2016legmax.xls'!AR189-'2016legmax.xls'!AN189-'2016legmax.xls'!AO189)*Weightings!$M$12)+Weightings!B189,0))","v":2774805},0.3,832442,790000,790000,0.28470000000000001,0,true,1844.105,0.50804300000000002,147.80000000000001,false,0,0,0,0,486,0.19,{"$f":"IF(ROUND((Weightings!$P$5*CC189^Weightings!$P$6*Weightings!$P$8 ),2)<Weightings!$P$7,Weightings!$P$7,ROUND((Weightings!$P$5*CC189^Weightings!$P$6*Weightings!$P$8 ),2))","v":1576.03},{"$f":"ROUND(CD189/Weightings!$M$5,4)","v":0.40910000000000002},37.200000000000003,0,0,0,0,{"$f":"AS189*Weightings!$M$5*CJ189","v":0},0,0.371,0.6,0,0,1.6,{"$f":"IF(ISNA(VLOOKUP($DC189,'Audit Values'!$A$2:$AE$252,2,FALSE)),'Preliminary SO66'!T186,VLOOKUP($DC189,'Audit Values'!$A$2:$AE$252,20,FALSE))","v":0},{"$f":"IF(ISNA(VLOOKUP($DC189,'Audit Values'!$A$2:$AE$252,21,FALSE)),'Preliminary SO66'!U186,VLOOKUP($DC189,'Audit Values'!$A$2:$AE$252,21,FALSE))","v":0},0,0,null,null,null,null,null,null,null,"D0395"]
[396,"Butler","Douglass Public Schools ",664.3,0,664.3,654.20000000000005,0,654.20000000000005,679.8,{"$f":"IF(ISNA(VLOOKUP($DC190,'Audit Values'!$A$2:$AE$252,2,FALSE)),'Preliminary SO66'!B187,VLOOKUP($DC190,'Audit Values'!$A$2:$AE$252,31,FALSE))","v":649.1},655.9,{"$f":"IF(ISNA(VLOOKUP($DC190,'Audit Values'!$A$2:$AE$252,2,FALSE)),'Preliminary SO66'!Z187,VLOOKUP($DC190,'Audit Values'!$A$2:$AE$252,26,FALSE))","v":0},655.9,{"$f":"IF(ISNA(VLOOKUP($DC190,'Audit Values'!$A$2:$AE$252,2,FALSE)),'Preliminary SO66'!C187,IF(VLOOKUP($DC190,'Audit Values'!$A$2:$AE$252,28,FALSE)=\"\",VLOOKUP($DC190,'Audit Values'!$A$2:$AE$252,3,FALSE),VLOOKUP($DC190,'Audit Values'!$A$2:$AE$252,28,FALSE)))","v":5},654.1,684.8,684.8,660.9,30.7,239,239,0,{"$f":"IF(ISNA(VLOOKUP($DC190,'Audit Values'!$A$2:$AE$252,2,FALSE)),'Preliminary SO66'!D187,VLOOKUP($DC190,'Audit Values'!$A$2:$AE$252,4,FALSE))","v":288.89999999999998},{"$f":"ROUND((X190/6)*Weightings!$M$6,1)","v":24.1},{"$f":"IF(ISNA(VLOOKUP($DC190,'Audit Values'!$A$2:$AE$252,2,FALSE)),'Preliminary SO66'!F187,VLOOKUP($DC190,'Audit Values'!$A$2:$AE$252,6,FALSE))","v":9.6},{"$f":"ROUND((Z190/6)*Weightings!$M$7,1)","v":0.6},{"$f":"IF(ISNA(VLOOKUP($DC190,'Audit Values'!$A$2:$AE$252,2,FALSE)),'Preliminary SO66'!H187,VLOOKUP($DC190,'Audit Values'!$A$2:$AE$252,9,FALSE))","v":212},{"$f":"ROUND(AB190*Weightings!$M$8,1)","v":96.7},0,0,{"$f":"AE190*Weightings!$M$9","v":0},{"$f":"IF(ISNA(VLOOKUP($DC190,'Audit Values'!$A$2:$AE$252,2,FALSE)),'Preliminary SO66'!L187,VLOOKUP($DC190,'Audit Values'!$A$2:$AE$252,12,FALSE))","v":0},{"$f":"ROUND(AG190*Weightings!$M$10,1)","v":0},{"$f":"IF(ISNA(VLOOKUP($DC190,'Audit Values'!$A$2:$AE$252,2,FALSE)),'Preliminary SO66'!O187,VLOOKUP($DC190,'Audit Values'!$A$2:$AE$252,15,FALSE))","v":198},50.2,{"$f":"CG190/Weightings!$M$5","v":0},{"$f":"CH190/Weightings!$M$5","v":0},{"$f":"CL190/Weightings!$M$5","v":0},32.200000000000003,{"$f":"IF(ISNA(VLOOKUP($DC190,'Audit Values'!$A$2:$AE$252,2,FALSE)),'Preliminary SO66'!X187,VLOOKUP($DC190,'Audit Values'!$A$2:$AE$252,24,FALSE))","v":0},688565,{"$f":"AP190/Weightings!$M$5","v":178.8},1103.7,1282.5,1282.5,0,{"$f":"IF(ISNA(VLOOKUP($DC190,'Audit Values'!$A$2:$AC$299,2,FALSE)),\"\",IF(AND(Weightings!H190>0,VLOOKUP($DC190,'Audit Values'!$A$2:$AC$299,29,FALSE)<Weightings!H190),Weightings!H190,VLOOKUP($DC190,'Audit Values'!$A$2:$AC$299,29,FALSE)))","v":15},{"$f":"IF(ISNA(VLOOKUP($DC190,'Audit Values'!$A$2:$AD$299,2,FALSE)),\"\",VLOOKUP($DC190,'Audit Values'!$A$2:$AD$299,30,FALSE))","v":"A"},{"$f":"IF(Weightings!G190=\"\",\"\",IF(Weightings!I190=\"Pending\",\"PX\",\"R\"))","v":""},{"$f":"AR190*Weightings!$M$5+AU190","v":4251452},{"$f":"AT190*Weightings!$M$5+AU190","v":4940190},{"$f":"IF(Weightings!G190>0,Weightings!G190,'Preliminary SO66'!AB187)","v":6805617},1102834,333554,79368,5289861,4940190,null,{"$f":"Weightings!E190","v":0},{"$f":"Weightings!F190","v":0},0,4940190,{"$f":"MAX(ROUND(((AR190-AN190-AO190)*Weightings!$M$12)+'2016legmax.xls'!AP190,0),ROUND((('2016legmax.xls'!AR190-'2016legmax.xls'!AN190-'2016legmax.xls'!AO190)*Weightings!$M$12)+Weightings!B190,0))","v":5556634},0.33,1833689,1827614,{"$f":"MIN(BN190,BO190)","v":1827614},0.32890000000000003,0,false,0,{"$f":"IF(BS190=TRUE,ROUND(((7337-BT190)/3642.4)-1,6),0)","v":0},0,true,446.61380000000003,{"$f":"IF(BW190=TRUE,ROUND(((5406-BX190)/3642.4)-1,6),0)","v":0.36157099999999998},239,0,125,1.58,{"$f":"IF(ROUND((Weightings!$P$5*CC190^Weightings!$P$6*Weightings!$P$8 ),2)<Weightings!$P$7,Weightings!$P$7,ROUND((Weightings!$P$5*CC190^Weightings!$P$6*Weightings!$P$8 ),2))","v":976.06},{"$f":"ROUND(CD190/Weightings!$M$5,4)","v":0.25340000000000001},50.2,0,0,0,0,{"$f":"AS190*Weightings!$M$5*CJ190","v":0},0,0.32100000000000001,5.3,0,0,0,{"$f":"IF(ISNA(VLOOKUP($DC190,'Audit Values'!$A$2:$AE$252,2,FALSE)),'Preliminary SO66'!T187,VLOOKUP($DC190,'Audit Values'!$A$2:$AE$252,20,FALSE))","v":6},{"$f":"IF(ISNA(VLOOKUP($DC190,'Audit Values'!$A$2:$AE$252,21,FALSE)),'Preliminary SO66'!U187,VLOOKUP($DC190,'Audit Values'!$A$2:$AE$252,21,FALSE))","v":0.7},24,30.7,null,null,null,null,null,null,null,"D0396"]
[397,"Marion","Centre ",226.3,0,226.3,213.5,0,213.5,475.7,{"$f":"IF(ISNA(VLOOKUP($DC191,'Audit Values'!$A$2:$AE$252,2,FALSE)),'Preliminary SO66'!B188,VLOOKUP($DC191,'Audit Values'!$A$2:$AE$252,31,FALSE))","v":209.5},216.4,{"$f":"IF(ISNA(VLOOKUP($DC191,'Audit Values'!$A$2:$AE$252,2,FALSE)),'Preliminary SO66'!Z188,VLOOKUP($DC191,'Audit Values'!$A$2:$AE$252,26,FALSE))","v":0},216.4,{"$f":"IF(ISNA(VLOOKUP($DC191,'Audit Values'!$A$2:$AE$252,2,FALSE)),'Preliminary SO66'!C188,IF(VLOOKUP($DC191,'Audit Values'!$A$2:$AE$252,28,FALSE)=\"\",VLOOKUP($DC191,'Audit Values'!$A$2:$AE$252,3,FALSE),VLOOKUP($DC191,'Audit Values'!$A$2:$AE$252,28,FALSE)))","v":0},209.5,475.7,475.7,216.4,266.2,152.69999999999999,152.69999999999999,0,{"$f":"IF(ISNA(VLOOKUP($DC191,'Audit Values'!$A$2:$AE$252,2,FALSE)),'Preliminary SO66'!D188,VLOOKUP($DC191,'Audit Values'!$A$2:$AE$252,4,FALSE))","v":110.7},{"$f":"ROUND((X191/6)*Weightings!$M$6,1)","v":9.1999999999999993},{"$f":"IF(ISNA(VLOOKUP($DC191,'Audit Values'!$A$2:$AE$252,2,FALSE)),'Preliminary SO66'!F188,VLOOKUP($DC191,'Audit Values'!$A$2:$AE$252,6,FALSE))","v":0},{"$f":"ROUND((Z191/6)*Weightings!$M$7,1)","v":0},{"$f":"IF(ISNA(VLOOKUP($DC191,'Audit Values'!$A$2:$AE$252,2,FALSE)),'Preliminary SO66'!H188,VLOOKUP($DC191,'Audit Values'!$A$2:$AE$252,9,FALSE))","v":65},{"$f":"ROUND(AB191*Weightings!$M$8,1)","v":29.6},{"$f":"MAX(CO191,CP191,CQ191)","v":0},0,{"$f":"AE191*Weightings!$M$9","v":0},{"$f":"IF(ISNA(VLOOKUP($DC191,'Audit Values'!$A$2:$AE$252,2,FALSE)),'Preliminary SO66'!L188,VLOOKUP($DC191,'Audit Values'!$A$2:$AE$252,12,FALSE))","v":0},{"$f":"ROUND(AG191*Weightings!$M$10,1)","v":0},{"$f":"IF(ISNA(VLOOKUP($DC191,'Audit Values'!$A$2:$AE$252,2,FALSE)),'Preliminary SO66'!O188,VLOOKUP($DC191,'Audit Values'!$A$2:$AE$252,15,FALSE))","v":167},57.1,{"$f":"CG191/Weightings!$M$5","v":0},{"$f":"CH191/Weightings!$M$5","v":0},{"$f":"CL191/Weightings!$M$5","v":0},279.5,{"$f":"IF(ISNA(VLOOKUP($DC191,'Audit Values'!$A$2:$AE$252,2,FALSE)),'Preliminary SO66'!X188,VLOOKUP($DC191,'Audit Values'!$A$2:$AE$252,24,FALSE))","v":0},435185,{"$f":"AP191/Weightings!$M$5","v":113},744.5,857.5,857.5,0,{"$f":"IF(ISNA(VLOOKUP($DC191,'Audit Values'!$A$2:$AC$299,2,FALSE)),\"\",IF(AND(Weightings!H191>0,VLOOKUP($DC191,'Audit Values'!$A$2:$AC$299,29,FALSE)<Weightings!H191),Weightings!H191,VLOOKUP($DC191,'Audit Values'!$A$2:$AC$299,29,FALSE)))","v":4},{"$f":"IF(ISNA(VLOOKUP($DC191,'Audit Values'!$A$2:$AD$299,2,FALSE)),\"\",VLOOKUP($DC191,'Audit Values'!$A$2:$AD$299,30,FALSE))","v":"A"},{"$f":"IF(Weightings!G191=\"\",\"\",IF(Weightings!I191=\"Pending\",\"PX\",\"R\"))","v":""},{"$f":"AR191*Weightings!$M$5+AU191","v":2867814},{"$f":"AT191*Weightings!$M$5+AU191","v":3303090},{"$f":"IF(Weightings!G191>0,Weightings!G191,'Preliminary SO66'!AB188)","v":3464475},364370,125768,22682,2951655,3303090,null,{"$f":"Weightings!E191","v":0},{"$f":"Weightings!F191","v":0},0,3303090,{"$f":"MAX(ROUND(((AR191-AN191-AO191)*Weightings!$M$12)+'2016legmax.xls'!AP191,0),ROUND((('2016legmax.xls'!AR191-'2016legmax.xls'!AN191-'2016legmax.xls'!AO191)*Weightings!$M$12)+Weightings!B191,0))","v":2523035},0.3,756911,764141,756911,0.3,0,true,1123.8420000000001,0.70578700000000005,152.69999999999999,false,0,0,0,0,400,0.42,{"$f":"IF(ROUND((Weightings!$P$5*CC191^Weightings!$P$6*Weightings!$P$8 ),2)<Weightings!$P$7,Weightings!$P$7,ROUND((Weightings!$P$5*CC191^Weightings!$P$6*Weightings!$P$8 ),2))","v":1317.16},{"$f":"ROUND(CD191/Weightings!$M$5,4)","v":0.34189999999999998},57.1,0,0,0,0,{"$f":"AS191*Weightings!$M$5*CJ191","v":0},{"$f":"IF(CI191>CK191,CK191,CI191)","v":0},0.3,0.5,0,0,0,{"$f":"IF(ISNA(VLOOKUP($DC191,'Audit Values'!$A$2:$AE$252,2,FALSE)),'Preliminary SO66'!T188,VLOOKUP($DC191,'Audit Values'!$A$2:$AE$252,20,FALSE))","v":56},{"$f":"IF(ISNA(VLOOKUP($DC191,'Audit Values'!$A$2:$AE$252,21,FALSE)),'Preliminary SO66'!U188,VLOOKUP($DC191,'Audit Values'!$A$2:$AE$252,21,FALSE))","v":2.2000000000000002},208,266.2,null,null,null,null,null,null,null,"D0397"]
[398,"Marion","Peabody-Burns ",255.5,0,255.5,246.5,0,246.5,242,{"$f":"IF(ISNA(VLOOKUP($DC192,'Audit Values'!$A$2:$AE$252,2,FALSE)),'Preliminary SO66'!B189,VLOOKUP($DC192,'Audit Values'!$A$2:$AE$252,31,FALSE))","v":239},247,{"$f":"IF(ISNA(VLOOKUP($DC192,'Audit Values'!$A$2:$AE$252,2,FALSE)),'Preliminary SO66'!Z189,VLOOKUP($DC192,'Audit Values'!$A$2:$AE$252,26,FALSE))","v":0},247,{"$f":"IF(ISNA(VLOOKUP($DC192,'Audit Values'!$A$2:$AE$252,2,FALSE)),'Preliminary SO66'!C189,IF(VLOOKUP($DC192,'Audit Values'!$A$2:$AE$252,28,FALSE)=\"\",VLOOKUP($DC192,'Audit Values'!$A$2:$AE$252,3,FALSE),VLOOKUP($DC192,'Audit Values'!$A$2:$AE$252,28,FALSE)))","v":3.5},242.5,245.5,245.5,250.5,3,154.19999999999999,154.19999999999999,0,{"$f":"IF(ISNA(VLOOKUP($DC192,'Audit Values'!$A$2:$AE$252,2,FALSE)),'Preliminary SO66'!D189,VLOOKUP($DC192,'Audit Values'!$A$2:$AE$252,4,FALSE))","v":122.2},{"$f":"ROUND((X192/6)*Weightings!$M$6,1)","v":10.199999999999999},{"$f":"IF(ISNA(VLOOKUP($DC192,'Audit Values'!$A$2:$AE$252,2,FALSE)),'Preliminary SO66'!F189,VLOOKUP($DC192,'Audit Values'!$A$2:$AE$252,6,FALSE))","v":0},{"$f":"ROUND((Z192/6)*Weightings!$M$7,1)","v":0},{"$f":"IF(ISNA(VLOOKUP($DC192,'Audit Values'!$A$2:$AE$252,2,FALSE)),'Preliminary SO66'!H189,VLOOKUP($DC192,'Audit Values'!$A$2:$AE$252,9,FALSE))","v":105},{"$f":"ROUND(AB192*Weightings!$M$8,1)","v":47.9},5.0999999999999996,0,{"$f":"AE192*Weightings!$M$9","v":0},{"$f":"IF(ISNA(VLOOKUP($DC192,'Audit Values'!$A$2:$AE$252,2,FALSE)),'Preliminary SO66'!L189,VLOOKUP($DC192,'Audit Values'!$A$2:$AE$252,12,FALSE))","v":0},{"$f":"ROUND(AG192*Weightings!$M$10,1)","v":0},{"$f":"IF(ISNA(VLOOKUP($DC192,'Audit Values'!$A$2:$AE$252,2,FALSE)),'Preliminary SO66'!O189,VLOOKUP($DC192,'Audit Values'!$A$2:$AE$252,15,FALSE))","v":75},27.3,{"$f":"CG192/Weightings!$M$5","v":0},{"$f":"CH192/Weightings!$M$5","v":0},{"$f":"CL192/Weightings!$M$5","v":0},3.2,{"$f":"IF(ISNA(VLOOKUP($DC192,'Audit Values'!$A$2:$AE$252,2,FALSE)),'Preliminary SO66'!X189,VLOOKUP($DC192,'Audit Values'!$A$2:$AE$252,24,FALSE))","v":0},359832,{"$f":"AP192/Weightings!$M$5","v":93.4},498.4,591.79999999999995,591.79999999999995,0,{"$f":"IF(ISNA(VLOOKUP($DC192,'Audit Values'!$A$2:$AC$299,2,FALSE)),\"\",IF(AND(Weightings!H192>0,VLOOKUP($DC192,'Audit Values'!$A$2:$AC$299,29,FALSE)<Weightings!H192),Weightings!H192,VLOOKUP($DC192,'Audit Values'!$A$2:$AC$299,29,FALSE)))","v":4},{"$f":"IF(ISNA(VLOOKUP($DC192,'Audit Values'!$A$2:$AD$299,2,FALSE)),\"\",VLOOKUP($DC192,'Audit Values'!$A$2:$AD$299,30,FALSE))","v":"A"},{"$f":"IF(Weightings!G192=\"\",\"\",IF(Weightings!I192=\"Pending\",\"PX\",\"R\"))","v":""},{"$f":"AR192*Weightings!$M$5+AU192","v":1919837},{"$f":"AT192*Weightings!$M$5+AU192","v":2279614},{"$f":"IF(Weightings!G192>0,Weightings!G192,'Preliminary SO66'!AB189)","v":2792665},124179,152619,0,2515867,2279614,null,{"$f":"Weightings!E192","v":0},{"$f":"Weightings!F192","v":0},0,2279614,{"$f":"MAX(ROUND(((AR192-AN192-AO192)*Weightings!$M$12)+'2016legmax.xls'!AP192,0),ROUND((('2016legmax.xls'!AR192-'2016legmax.xls'!AN192-'2016legmax.xls'!AO192)*Weightings!$M$12)+Weightings!B192,0))","v":2652939},0.33,875470,906437,875470,0.33,0,true,1453.078,0.61539699999999997,154.19999999999999,false,0,0,0,0,235,0.32,{"$f":"IF(ROUND((Weightings!$P$5*CC192^Weightings!$P$6*Weightings!$P$8 ),2)<Weightings!$P$7,Weightings!$P$7,ROUND((Weightings!$P$5*CC192^Weightings!$P$6*Weightings!$P$8 ),2))","v":1400.72},{"$f":"ROUND(CD192/Weightings!$M$5,4)","v":0.36359999999999998},27.3,0,0,0,0,{"$f":"AS192*Weightings!$M$5*CJ192","v":0},0,0.41899999999999998,1.1000000000000001,0,0,5.0999999999999996,{"$f":"IF(ISNA(VLOOKUP($DC192,'Audit Values'!$A$2:$AE$252,2,FALSE)),'Preliminary SO66'!T189,VLOOKUP($DC192,'Audit Values'!$A$2:$AE$252,20,FALSE))","v":3},{"$f":"IF(ISNA(VLOOKUP($DC192,'Audit Values'!$A$2:$AE$252,21,FALSE)),'Preliminary SO66'!U189,VLOOKUP($DC192,'Audit Values'!$A$2:$AE$252,21,FALSE))","v":0},0,3,null,null,null,null,null,null,null,"D0398"]
[399,"Russell","Paradise ",127.1,0,127.1,116.8,0,116.8,109.7,{"$f":"IF(ISNA(VLOOKUP($DC193,'Audit Values'!$A$2:$AE$252,2,FALSE)),'Preliminary SO66'!B190,VLOOKUP($DC193,'Audit Values'!$A$2:$AE$252,31,FALSE))","v":109.7},117.9,{"$f":"IF(ISNA(VLOOKUP($DC193,'Audit Values'!$A$2:$AE$252,2,FALSE)),'Preliminary SO66'!Z190,VLOOKUP($DC193,'Audit Values'!$A$2:$AE$252,26,FALSE))","v":0},117.9,{"$f":"IF(ISNA(VLOOKUP($DC193,'Audit Values'!$A$2:$AE$252,2,FALSE)),'Preliminary SO66'!C190,IF(VLOOKUP($DC193,'Audit Values'!$A$2:$AE$252,28,FALSE)=\"\",VLOOKUP($DC193,'Audit Values'!$A$2:$AE$252,3,FALSE),VLOOKUP($DC193,'Audit Values'!$A$2:$AE$252,28,FALSE)))","v":3.5},113.2,113.2,113.2,121.4,0,116.3,{"$f":"MAX(BR193,BV193,BZ193)","v":116.3},{"$f":"CA193","v":0},{"$f":"IF(ISNA(VLOOKUP($DC193,'Audit Values'!$A$2:$AE$252,2,FALSE)),'Preliminary SO66'!D190,VLOOKUP($DC193,'Audit Values'!$A$2:$AE$252,4,FALSE))","v":43},{"$f":"ROUND((X193/6)*Weightings!$M$6,1)","v":3.6},{"$f":"IF(ISNA(VLOOKUP($DC193,'Audit Values'!$A$2:$AE$252,2,FALSE)),'Preliminary SO66'!F190,VLOOKUP($DC193,'Audit Values'!$A$2:$AE$252,6,FALSE))","v":4.3},{"$f":"ROUND((Z193/6)*Weightings!$M$7,1)","v":0.3},{"$f":"IF(ISNA(VLOOKUP($DC193,'Audit Values'!$A$2:$AE$252,2,FALSE)),'Preliminary SO66'!H190,VLOOKUP($DC193,'Audit Values'!$A$2:$AE$252,9,FALSE))","v":51},{"$f":"ROUND(AB193*Weightings!$M$8,1)","v":23.3},2.5,0,{"$f":"AE193*Weightings!$M$9","v":0},{"$f":"IF(ISNA(VLOOKUP($DC193,'Audit Values'!$A$2:$AE$252,2,FALSE)),'Preliminary SO66'!L190,VLOOKUP($DC193,'Audit Values'!$A$2:$AE$252,12,FALSE))","v":0},{"$f":"ROUND(AG193*Weightings!$M$10,1)","v":0},{"$f":"IF(ISNA(VLOOKUP($DC193,'Audit Values'!$A$2:$AE$252,2,FALSE)),'Preliminary SO66'!O190,VLOOKUP($DC193,'Audit Values'!$A$2:$AE$252,15,FALSE))","v":35},17.399999999999999,{"$f":"CG193/Weightings!$M$5","v":0},{"$f":"CH193/Weightings!$M$5","v":0},{"$f":"CL193/Weightings!$M$5","v":0},0,{"$f":"IF(ISNA(VLOOKUP($DC193,'Audit Values'!$A$2:$AE$252,2,FALSE)),'Preliminary SO66'!X190,VLOOKUP($DC193,'Audit Values'!$A$2:$AE$252,24,FALSE))","v":0},138660,{"$f":"AP193/Weightings!$M$5","v":36},284.8,320.8,320.8,0,{"$f":"IF(ISNA(VLOOKUP($DC193,'Audit Values'!$A$2:$AC$299,2,FALSE)),\"\",IF(AND(Weightings!H193>0,VLOOKUP($DC193,'Audit Values'!$A$2:$AC$299,29,FALSE)<Weightings!H193),Weightings!H193,VLOOKUP($DC193,'Audit Values'!$A$2:$AC$299,29,FALSE)))","v":14},{"$f":"IF(ISNA(VLOOKUP($DC193,'Audit Values'!$A$2:$AD$299,2,FALSE)),\"\",VLOOKUP($DC193,'Audit Values'!$A$2:$AD$299,30,FALSE))","v":"A"},{"$f":"IF(Weightings!G193=\"\",\"\",IF(Weightings!I193=\"Pending\",\"PX\",\"R\"))","v":""},{"$f":"AR193*Weightings!$M$5+AU193","v":1097050},{"$f":"AT193*Weightings!$M$5+AU193","v":1235722},{"$f":"IF(Weightings!G193>0,Weightings!G193,'Preliminary SO66'!AB190)","v":1414436},0,100572,0,1313864,1235722,null,{"$f":"Weightings!E193","v":0},{"$f":"Weightings!F193","v":0},0,1235722,{"$f":"MAX(ROUND(((AR193-AN193-AO193)*Weightings!$M$12)+'2016legmax.xls'!AP193,0),ROUND((('2016legmax.xls'!AR193-'2016legmax.xls'!AN193-'2016legmax.xls'!AO193)*Weightings!$M$12)+Weightings!B193,0))","v":1452322},0.3,435697,446473,435697,0.3,0,true,206.61699999999999,0.95760599999999996,116.3,false,0,0,0,0,439,0.08,{"$f":"IF(ROUND((Weightings!$P$5*CC193^Weightings!$P$6*Weightings!$P$8 ),2)<Weightings!$P$7,Weightings!$P$7,ROUND((Weightings!$P$5*CC193^Weightings!$P$6*Weightings!$P$8 ),2))","v":1916.65},{"$f":"ROUND(CD193/Weightings!$M$5,4)","v":0.49759999999999999},17.399999999999999,0,0,0,0,{"$f":"AS193*Weightings!$M$5*CJ193","v":0},0,0.42,0.3,0,0,2.5,{"$f":"IF(ISNA(VLOOKUP($DC193,'Audit Values'!$A$2:$AE$252,2,FALSE)),'Preliminary SO66'!T190,VLOOKUP($DC193,'Audit Values'!$A$2:$AE$252,20,FALSE))","v":0},{"$f":"IF(ISNA(VLOOKUP($DC193,'Audit Values'!$A$2:$AE$252,21,FALSE)),'Preliminary SO66'!U190,VLOOKUP($DC193,'Audit Values'!$A$2:$AE$252,21,FALSE))","v":0},0,0,null,null,null,null,null,null,null,"D0399"]
[400,"McPherson","Smoky Valley ",857.2,0,857.2,823.1,0,823.1,1012.6,{"$f":"IF(ISNA(VLOOKUP($DC194,'Audit Values'!$A$2:$AE$252,2,FALSE)),'Preliminary SO66'!B191,VLOOKUP($DC194,'Audit Values'!$A$2:$AE$252,31,FALSE))","v":836.1},838.8,{"$f":"IF(ISNA(VLOOKUP($DC194,'Audit Values'!$A$2:$AE$252,2,FALSE)),'Preliminary SO66'!Z191,VLOOKUP($DC194,'Audit Values'!$A$2:$AE$252,26,FALSE))","v":0},838.8,{"$f":"IF(ISNA(VLOOKUP($DC194,'Audit Values'!$A$2:$AE$252,2,FALSE)),'Preliminary SO66'!C191,IF(VLOOKUP($DC194,'Audit Values'!$A$2:$AE$252,28,FALSE)=\"\",VLOOKUP($DC194,'Audit Values'!$A$2:$AE$252,3,FALSE),VLOOKUP($DC194,'Audit Values'!$A$2:$AE$252,28,FALSE)))","v":11.5},847.6,1024.0999999999999,1024.0999999999999,850.3,176.5,252.7,252.7,0,{"$f":"IF(ISNA(VLOOKUP($DC194,'Audit Values'!$A$2:$AE$252,2,FALSE)),'Preliminary SO66'!D191,VLOOKUP($DC194,'Audit Values'!$A$2:$AE$252,4,FALSE))","v":256.39999999999998},{"$f":"ROUND((X194/6)*Weightings!$M$6,1)","v":21.4},{"$f":"IF(ISNA(VLOOKUP($DC194,'Audit Values'!$A$2:$AE$252,2,FALSE)),'Preliminary SO66'!F191,VLOOKUP($DC194,'Audit Values'!$A$2:$AE$252,6,FALSE))","v":8.3000000000000007},{"$f":"ROUND((Z194/6)*Weightings!$M$7,1)","v":0.5},{"$f":"IF(ISNA(VLOOKUP($DC194,'Audit Values'!$A$2:$AE$252,2,FALSE)),'Preliminary SO66'!H191,VLOOKUP($DC194,'Audit Values'!$A$2:$AE$252,9,FALSE))","v":235},{"$f":"ROUND(AB194*Weightings!$M$8,1)","v":107.2},0,0,{"$f":"AE194*Weightings!$M$9","v":0},{"$f":"IF(ISNA(VLOOKUP($DC194,'Audit Values'!$A$2:$AE$252,2,FALSE)),'Preliminary SO66'!L191,VLOOKUP($DC194,'Audit Values'!$A$2:$AE$252,12,FALSE))","v":0},{"$f":"ROUND(AG194*Weightings!$M$10,1)","v":0},{"$f":"IF(ISNA(VLOOKUP($DC194,'Audit Values'!$A$2:$AE$252,2,FALSE)),'Preliminary SO66'!O191,VLOOKUP($DC194,'Audit Values'!$A$2:$AE$252,15,FALSE))","v":317},93.7,{"$f":"CG194/Weightings!$M$5","v":0},{"$f":"CH194/Weightings!$M$5","v":0},{"$f":"CL194/Weightings!$M$5","v":0},185.3,{"$f":"IF(ISNA(VLOOKUP($DC194,'Audit Values'!$A$2:$AE$252,2,FALSE)),'Preliminary SO66'!X191,VLOOKUP($DC194,'Audit Values'!$A$2:$AE$252,24,FALSE))","v":0},1027321,{"$f":"AP194/Weightings!$M$5","v":266.7},1511.1,1777.8,1777.8,0,{"$f":"IF(ISNA(VLOOKUP($DC194,'Audit Values'!$A$2:$AC$299,2,FALSE)),\"\",IF(AND(Weightings!H194>0,VLOOKUP($DC194,'Audit Values'!$A$2:$AC$299,29,FALSE)<Weightings!H194),Weightings!H194,VLOOKUP($DC194,'Audit Values'!$A$2:$AC$299,29,FALSE)))","v":10},{"$f":"IF(ISNA(VLOOKUP($DC194,'Audit Values'!$A$2:$AD$299,2,FALSE)),\"\",VLOOKUP($DC194,'Audit Values'!$A$2:$AD$299,30,FALSE))","v":"A"},{"$f":"IF(Weightings!G194=\"\",\"\",IF(Weightings!I194=\"Pending\",\"PX\",\"R\"))","v":""},{"$f":"AR194*Weightings!$M$5+AU194","v":5820757},{"$f":"AT194*Weightings!$M$5+AU194","v":6848086},{"$f":"IF(Weightings!G194>0,Weightings!G194,'Preliminary SO66'!AB191)","v":9445438},986531,410420,63201,7985286,6848086,null,{"$f":"Weightings!E194","v":0},{"$f":"Weightings!F194","v":0},0,6848086,{"$f":"MAX(ROUND(((AR194-AN194-AO194)*Weightings!$M$12)+'2016legmax.xls'!AP194,0),ROUND((('2016legmax.xls'!AR194-'2016legmax.xls'!AN194-'2016legmax.xls'!AO194)*Weightings!$M$12)+Weightings!B194,0))","v":6980163},0.33,2303454,2331628,2303454,0.33,0,false,0,0,0,true,680.99630000000002,0.29722300000000001,252.7,0,395.5,0.8,{"$f":"IF(ROUND((Weightings!$P$5*CC194^Weightings!$P$6*Weightings!$P$8 ),2)<Weightings!$P$7,Weightings!$P$7,ROUND((Weightings!$P$5*CC194^Weightings!$P$6*Weightings!$P$8 ),2))","v":1138.51},{"$f":"ROUND(CD194/Weightings!$M$5,4)","v":0.29559999999999997},93.7,0,0,0,0,{"$f":"AS194*Weightings!$M$5*CJ194","v":0},0,0.27600000000000002,2.1,0,0,0,{"$f":"IF(ISNA(VLOOKUP($DC194,'Audit Values'!$A$2:$AE$252,2,FALSE)),'Preliminary SO66'!T191,VLOOKUP($DC194,'Audit Values'!$A$2:$AE$252,20,FALSE))","v":40},{"$f":"IF(ISNA(VLOOKUP($DC194,'Audit Values'!$A$2:$AE$252,21,FALSE)),'Preliminary SO66'!U191,VLOOKUP($DC194,'Audit Values'!$A$2:$AE$252,21,FALSE))","v":123.5},13,176.5,null,null,null,null,null,null,null,"D0400"]
[401,"Rice","Chase-Raymond ",158,0,158,160.5,0,160.5,159,{"$f":"IF(ISNA(VLOOKUP($DC195,'Audit Values'!$A$2:$AE$252,2,FALSE)),'Preliminary SO66'!B192,VLOOKUP($DC195,'Audit Values'!$A$2:$AE$252,31,FALSE))","v":159},160.5,{"$f":"IF(ISNA(VLOOKUP($DC195,'Audit Values'!$A$2:$AE$252,2,FALSE)),'Preliminary SO66'!Z192,VLOOKUP($DC195,'Audit Values'!$A$2:$AE$252,26,FALSE))","v":0},160.5,{"$f":"IF(ISNA(VLOOKUP($DC195,'Audit Values'!$A$2:$AE$252,2,FALSE)),'Preliminary SO66'!C192,IF(VLOOKUP($DC195,'Audit Values'!$A$2:$AE$252,28,FALSE)=\"\",VLOOKUP($DC195,'Audit Values'!$A$2:$AE$252,3,FALSE),VLOOKUP($DC195,'Audit Values'!$A$2:$AE$252,28,FALSE)))","v":4},163,163,163,164.5,0,138.69999999999999,138.69999999999999,0,{"$f":"IF(ISNA(VLOOKUP($DC195,'Audit Values'!$A$2:$AE$252,2,FALSE)),'Preliminary SO66'!D192,VLOOKUP($DC195,'Audit Values'!$A$2:$AE$252,4,FALSE))","v":60.3},{"$f":"ROUND((X195/6)*Weightings!$M$6,1)","v":5},{"$f":"IF(ISNA(VLOOKUP($DC195,'Audit Values'!$A$2:$AE$252,2,FALSE)),'Preliminary SO66'!F192,VLOOKUP($DC195,'Audit Values'!$A$2:$AE$252,6,FALSE))","v":1.5},{"$f":"ROUND((Z195/6)*Weightings!$M$7,1)","v":0.1},{"$f":"IF(ISNA(VLOOKUP($DC195,'Audit Values'!$A$2:$AE$252,2,FALSE)),'Preliminary SO66'!H192,VLOOKUP($DC195,'Audit Values'!$A$2:$AE$252,9,FALSE))","v":112},{"$f":"ROUND(AB195*Weightings!$M$8,1)","v":51.1},11.8,0,{"$f":"AE195*Weightings!$M$9","v":0},{"$f":"IF(ISNA(VLOOKUP($DC195,'Audit Values'!$A$2:$AE$252,2,FALSE)),'Preliminary SO66'!L192,VLOOKUP($DC195,'Audit Values'!$A$2:$AE$252,12,FALSE))","v":0},{"$f":"ROUND(AG195*Weightings!$M$10,1)","v":0},{"$f":"IF(ISNA(VLOOKUP($DC195,'Audit Values'!$A$2:$AE$252,2,FALSE)),'Preliminary SO66'!O192,VLOOKUP($DC195,'Audit Values'!$A$2:$AE$252,15,FALSE))","v":42},16.8,{"$f":"CG195/Weightings!$M$5","v":0},{"$f":"CH195/Weightings!$M$5","v":0},{"$f":"CL195/Weightings!$M$5","v":0},0,{"$f":"IF(ISNA(VLOOKUP($DC195,'Audit Values'!$A$2:$AE$252,2,FALSE)),'Preliminary SO66'!X192,VLOOKUP($DC195,'Audit Values'!$A$2:$AE$252,24,FALSE))","v":0},202986,{"$f":"AP195/Weightings!$M$5","v":52.7},388,440.7,440.7,0,{"$f":"IF(ISNA(VLOOKUP($DC195,'Audit Values'!$A$2:$AC$299,2,FALSE)),\"\",IF(AND(Weightings!H195>0,VLOOKUP($DC195,'Audit Values'!$A$2:$AC$299,29,FALSE)<Weightings!H195),Weightings!H195,VLOOKUP($DC195,'Audit Values'!$A$2:$AC$299,29,FALSE)))","v":11},{"$f":"IF(ISNA(VLOOKUP($DC195,'Audit Values'!$A$2:$AD$299,2,FALSE)),\"\",VLOOKUP($DC195,'Audit Values'!$A$2:$AD$299,30,FALSE))","v":"A"},{"$f":"IF(Weightings!G195=\"\",\"\",IF(Weightings!I195=\"Pending\",\"PX\",\"R\"))","v":""},{"$f":"AR195*Weightings!$M$5+AU195","v":1494576},{"$f":"AT195*Weightings!$M$5+AU195","v":1697576},{"$f":"IF(Weightings!G195>0,Weightings!G195,'Preliminary SO66'!AB192)","v":1832855},0,105279,0,1727576,1697576,null,{"$f":"Weightings!E195","v":0},{"$f":"Weightings!F195","v":0},0,1697576,{"$f":"MAX(ROUND(((AR195-AN195-AO195)*Weightings!$M$12)+'2016legmax.xls'!AP195,0),ROUND((('2016legmax.xls'!AR195-'2016legmax.xls'!AN195-'2016legmax.xls'!AO195)*Weightings!$M$12)+Weightings!B195,0))","v":1945106},0.3,583532,579066,579066,0.29770000000000002,0,true,622.74800000000005,0.84335899999999997,138.69999999999999,false,0,0,0,0,196,0.21,{"$f":"IF(ROUND((Weightings!$P$5*CC195^Weightings!$P$6*Weightings!$P$8 ),2)<Weightings!$P$7,Weightings!$P$7,ROUND((Weightings!$P$5*CC195^Weightings!$P$6*Weightings!$P$8 ),2))","v":1540.75},{"$f":"ROUND(CD195/Weightings!$M$5,4)","v":0.4},16.8,0,0,0,0,{"$f":"AS195*Weightings!$M$5*CJ195","v":0},0,0.68100000000000005,0.8,11.8,0,0,{"$f":"IF(ISNA(VLOOKUP($DC195,'Audit Values'!$A$2:$AE$252,2,FALSE)),'Preliminary SO66'!T192,VLOOKUP($DC195,'Audit Values'!$A$2:$AE$252,20,FALSE))","v":0},{"$f":"IF(ISNA(VLOOKUP($DC195,'Audit Values'!$A$2:$AE$252,21,FALSE)),'Preliminary SO66'!U192,VLOOKUP($DC195,'Audit Values'!$A$2:$AE$252,21,FALSE))","v":0},0,0,null,null,null,null,null,null,null,"D0401"]
[402,"Butler","Augusta ",2160.1999999999998,0,2160.1999999999998,2158.6999999999998,0,2158.6999999999998,2098.9,{"$f":"IF(ISNA(VLOOKUP($DC196,'Audit Values'!$A$2:$AE$252,2,FALSE)),'Preliminary SO66'!B193,VLOOKUP($DC196,'Audit Values'!$A$2:$AE$252,31,FALSE))","v":2077.6999999999998},2158.6999999999998,{"$f":"IF(ISNA(VLOOKUP($DC196,'Audit Values'!$A$2:$AE$252,2,FALSE)),'Preliminary SO66'!Z193,VLOOKUP($DC196,'Audit Values'!$A$2:$AE$252,26,FALSE))","v":0},2158.6999999999998,{"$f":"IF(ISNA(VLOOKUP($DC196,'Audit Values'!$A$2:$AE$252,2,FALSE)),'Preliminary SO66'!C193,IF(VLOOKUP($DC196,'Audit Values'!$A$2:$AE$252,28,FALSE)=\"\",VLOOKUP($DC196,'Audit Values'!$A$2:$AE$252,3,FALSE),VLOOKUP($DC196,'Audit Values'!$A$2:$AE$252,28,FALSE)))","v":15},2092.6999999999998,2113.9,2113.9,2173.6999999999998,21.2,76.2,0,76.2,{"$f":"IF(ISNA(VLOOKUP($DC196,'Audit Values'!$A$2:$AE$299,2,FALSE)),'Preliminary SO66'!D193,VLOOKUP($DC196,'Audit Values'!$A$2:$AE$299,4,FALSE))","v":736.3},{"$f":"ROUND((X196/6)*Weightings!$M$6,1)","v":61.4},{"$f":"IF(ISNA(VLOOKUP($DC196,'Audit Values'!$A$2:$AE$252,2,FALSE)),'Preliminary SO66'!F193,VLOOKUP($DC196,'Audit Values'!$A$2:$AE$252,6,FALSE))","v":46.1},{"$f":"ROUND((Z196/6)*Weightings!$M$7,1)","v":3},{"$f":"IF(ISNA(VLOOKUP($DC196,'Audit Values'!$A$2:$AE$252,2,FALSE)),'Preliminary SO66'!H193,VLOOKUP($DC196,'Audit Values'!$A$2:$AE$252,9,FALSE))","v":771},{"$f":"ROUND(AB196*Weightings!$M$8,1)","v":351.6},2.7,0,{"$f":"AE196*Weightings!$M$9","v":0},{"$f":"IF(ISNA(VLOOKUP($DC196,'Audit Values'!$A$2:$AE$252,2,FALSE)),'Preliminary SO66'!L193,VLOOKUP($DC196,'Audit Values'!$A$2:$AE$252,12,FALSE))","v":0},{"$f":"ROUND(AG196*Weightings!$M$10,1)","v":0},{"$f":"IF(ISNA(VLOOKUP($DC196,'Audit Values'!$A$2:$AE$252,2,FALSE)),'Preliminary SO66'!O193,VLOOKUP($DC196,'Audit Values'!$A$2:$AE$252,15,FALSE))","v":401.1},75.8,{"$f":"CG196/Weightings!$M$5","v":0},{"$f":"CH196/Weightings!$M$5","v":0},{"$f":"CL196/Weightings!$M$5","v":0},22.3,{"$f":"IF(ISNA(VLOOKUP($DC196,'Audit Values'!$A$2:$AE$252,2,FALSE)),'Preliminary SO66'!X193,VLOOKUP($DC196,'Audit Values'!$A$2:$AE$252,24,FALSE))","v":0},1665619,{"$f":"AP196/Weightings!$M$5","v":432.4},2766.7,3199.1,3199.1,0,{"$f":"IF(ISNA(VLOOKUP($DC196,'Audit Values'!$A$2:$AC$299,2,FALSE)),\"\",IF(AND(Weightings!H196>0,VLOOKUP($DC196,'Audit Values'!$A$2:$AC$299,29,FALSE)<Weightings!H196),Weightings!H196,VLOOKUP($DC196,'Audit Values'!$A$2:$AC$299,29,FALSE)))","v":18},{"$f":"IF(ISNA(VLOOKUP($DC196,'Audit Values'!$A$2:$AD$299,2,FALSE)),\"\",VLOOKUP($DC196,'Audit Values'!$A$2:$AD$299,30,FALSE))","v":"A"},{"$f":"IF(Weightings!G196=\"\",\"\",IF(Weightings!I196=\"Pending\",\"PX\",\"R\"))","v":""},{"$f":"AR196*Weightings!$M$5+AU196","v":10657328},{"$f":"AT196*Weightings!$M$5+AU196","v":12322933},{"$f":"IF(Weightings!G196>0,Weightings!G196,'Preliminary SO66'!AB193)","v":16959176},2828686,903675,191825,13034990,12322933,null,{"$f":"Weightings!E196","v":0},{"$f":"Weightings!F196","v":0},0,12322933,{"$f":"MAX(ROUND(((AR196-AN196-AO196)*Weightings!$M$12)+'2016legmax.xls'!AP196,0),ROUND((('2016legmax.xls'!AR196-'2016legmax.xls'!AN196-'2016legmax.xls'!AO196)*Weightings!$M$12)+Weightings!B196,0))","v":13987975},0.3,4196393,4265279,4196393,0.3,0,false,0,0,0,false,0,0,0,76.2,69.5,5.77,{"$f":"IF(ROUND((Weightings!$P$5*CC196^Weightings!$P$6*Weightings!$P$8 ),2)<Weightings!$P$7,Weightings!$P$7,ROUND((Weightings!$P$5*CC196^Weightings!$P$6*Weightings!$P$8 ),2))","v":728.17},{"$f":"ROUND(CD196/Weightings!$M$5,4)","v":0.189},75.8,0,0,0,0,{"$f":"AS196*Weightings!$M$5*CJ196","v":0},0,0.35499999999999998,31.3,0,0,2.7,{"$f":"IF(ISNA(VLOOKUP($DC196,'Audit Values'!$A$2:$AE$252,2,FALSE)),'Preliminary SO66'!T193,VLOOKUP($DC196,'Audit Values'!$A$2:$AE$252,20,FALSE))","v":1},{"$f":"IF(ISNA(VLOOKUP($DC196,'Audit Values'!$A$2:$AE$252,21,FALSE)),'Preliminary SO66'!U193,VLOOKUP($DC196,'Audit Values'!$A$2:$AE$252,21,FALSE))","v":0.6},19.600000000000001,21.2,null,null,null,null,null,null,null,"D0402"]
[403,"Rush","Otis-Bison ",205.5,0,205.5,222.9,0,{"$f":"G197+H197","v":222.9},{"$f":"K197+T197","v":220},{"$f":"IF(ISNA(VLOOKUP($DC197,'Audit Values'!$A$2:$AE$252,2,FALSE)),'Preliminary SO66'!B194,VLOOKUP($DC197,'Audit Values'!$A$2:$AE$252,31,FALSE))","v":214.3},{"$f":"MAX(K197, I197,AVERAGE(F197, I197, K197))","v":222.9},{"$f":"IF(ISNA(VLOOKUP($DC197,'Audit Values'!$A$2:$AE$252,2,FALSE)),'Preliminary SO66'!Z194,VLOOKUP($DC197,'Audit Values'!$A$2:$AE$252,26,FALSE))","v":0},{"$f":"L197+M197","v":222.9},{"$f":"IF(ISNA(VLOOKUP($DC197,'Audit Values'!$A$2:$AE$252,2,FALSE)),'Preliminary SO66'!C194,IF(VLOOKUP($DC197,'Audit Values'!$A$2:$AE$252,28,FALSE)=\"\",VLOOKUP($DC197,'Audit Values'!$A$2:$AE$252,3,FALSE),VLOOKUP($DC197,'Audit Values'!$A$2:$AE$252,28,FALSE)))","v":0},{"$f":"K197+O197","v":214.3},{"$f":"J197+O197","v":220},{"$f":"J197+O197+M197","v":220},{"$f":"L197+M197+O197","v":222.9},5.7,{"$f":"IF(L197>0,MAX(BR197,BV197,BZ197,CA197),0)","v":153.5},153.5,0,{"$f":"IF(ISNA(VLOOKUP($DC197,'Audit Values'!$A$2:$AE$252,2,FALSE)),'Preliminary SO66'!D194,VLOOKUP($DC197,'Audit Values'!$A$2:$AE$252,4,FALSE))","v":0},{"$f":"ROUND((X197/6)*Weightings!$M$6,1)","v":0},{"$f":"IF(ISNA(VLOOKUP($DC197,'Audit Values'!$A$2:$AE$252,2,FALSE)),'Preliminary SO66'!F194,VLOOKUP($DC197,'Audit Values'!$A$2:$AE$252,6,FALSE))","v":0},{"$f":"ROUND((Z197/6)*Weightings!$M$7,1)","v":0},{"$f":"IF(ISNA(VLOOKUP($DC197,'Audit Values'!$A$2:$AE$252,2,FALSE)),'Preliminary SO66'!H194,VLOOKUP($DC197,'Audit Values'!$A$2:$AE$252,9,FALSE))","v":93},{"$f":"ROUND(AB197*Weightings!$M$8,1)","v":42.4},4.4000000000000004,0,{"$f":"AE197*Weightings!$M$9","v":0},{"$f":"IF(ISNA(VLOOKUP($DC197,'Audit Values'!$A$2:$AE$252,2,FALSE)),'Preliminary SO66'!L194,VLOOKUP($DC197,'Audit Values'!$A$2:$AE$252,12,FALSE))","v":0},{"$f":"ROUND(AG197*Weightings!$M$10,1)","v":0},{"$f":"IF(ISNA(VLOOKUP($DC197,'Audit Values'!$A$2:$AE$252,2,FALSE)),'Preliminary SO66'!O194,VLOOKUP($DC197,'Audit Values'!$A$2:$AE$252,15,FALSE))","v":103},{"$f":"CF197","v":38},{"$f":"CG197/Weightings!$M$5","v":0},{"$f":"CH197/Weightings!$M$5","v":0},{"$f":"CL197/Weightings!$M$5","v":0},6,{"$f":"IF(ISNA(VLOOKUP($DC197,'Audit Values'!$A$2:$AE$252,2,FALSE)),'Preliminary SO66'!X194,VLOOKUP($DC197,'Audit Values'!$A$2:$AE$252,24,FALSE))","v":0},300980,{"$f":"AP197/Weightings!$M$5","v":78.099999999999994},{"$f":"SUM(S197+ U197+ Y197+ AA197+ AC197+ AH197+ AJ197+ AK197+ AL197+ AD197+AF197+AM197+AN197+AO197)","v":467.2},{"$f":"SUM(S197+U197+Y197+AA197+AC197+AH197+AJ197+AK197+AL197+AD197+AF197+AQ197+AN197+AO197)","v":545.29999999999995},{"$f":"SUM(S197+U197+Y197+AA197+AC197+AH197+AJ197+AK197+AL197+AQ197+AD197+AF197+AM197+AN197+AO197)","v":545.29999999999995},0,{"$f":"IF(ISNA(VLOOKUP($DC197,'Audit Values'!$A$2:$AC$299,2,FALSE)),\"\",IF(AND(Weightings!H197>0,VLOOKUP($DC197,'Audit Values'!$A$2:$AC$299,29,FALSE)<Weightings!H197),Weightings!H197,VLOOKUP($DC197,'Audit Values'!$A$2:$AC$299,29,FALSE)))","v":11},{"$f":"IF(ISNA(VLOOKUP($DC197,'Audit Values'!$A$2:$AD$299,2,FALSE)),\"\",VLOOKUP($DC197,'Audit Values'!$A$2:$AD$299,30,FALSE))","v":"A"},{"$f":"IF(Weightings!G197=\"\",\"\",IF(Weightings!I197=\"Pending\",\"PX\",\"R\"))","v":""},{"$f":"AR197*Weightings!$M$5+AU197","v":1799654},{"$f":"AT197*Weightings!$M$5+AU197","v":2100496},{"$f":"IF(Weightings!G197>0,Weightings!G197,'Preliminary SO66'!AB194)","v":2410760},0,135452,0,{"$f":"BA197-BB197-BC197-BD197","v":2275308},{"$f":"MIN(AZ197,BA197)","v":2100496},null,{"$f":"Weightings!E197","v":0},{"$f":"Weightings!F197","v":0},{"$f":"SUM(BG197:BI197)","v":0},2100496,{"$f":"MAX(ROUND(((AR197-AN197-AO197)*Weightings!$M$12)+'2016legmax.xls'!AP197,0),ROUND((('2016legmax.xls'!AR197-'2016legmax.xls'!AN197-'2016legmax.xls'!AO197)*Weightings!$M$12)+Weightings!B197,0))","v":2371768},0.3,711530,685444,685444,0.28899999999999998,{"$f":"ROUND(IF(S197<=99.9,(S197*1.014331),0),1)","v":0},{"$f":"AND(S197>99.9,S197<=299.9)","v":true},{"$f":"IF(BS197=TRUE,ROUND((S197-100)*9.655,3),0)","v":1186.5999999999999},0.68855699999999997,{"$f":"ROUND(S197*BU197,1)","v":153.5},{"$f":"AND(S197>299.9,S197<=1621.9)","v":false},{"$f":"IF(BW197=TRUE,ROUND((S197-300)*1.2375,4),0)","v":0},0,{"$f":"ROUND(BY197*S197,1)","v":0},{"$f":"ROUND(IF(S197>=1622,(S197*0.03504),0),1)","v":0},339.5,{"$f":"AI197/CB197","v":0.3},{"$f":"IF(ROUND((Weightings!$P$5*CC197^Weightings!$P$6*Weightings!$P$8 ),2)<Weightings!$P$7,Weightings!$P$7,ROUND((Weightings!$P$5*CC197^Weightings!$P$6*Weightings!$P$8 ),2))","v":1421.32},{"$f":"ROUND(CD197/Weightings!$M$5,4)","v":0.36899999999999999},{"$f":"ROUND(IF(AI197>0,CE197*AI197,0),1)","v":38},0,0,0,0,{"$f":"AS197*Weightings!$M$5*CJ197","v":0},0,{"$f":"ROUND(AB197/S197,3)","v":0.41699999999999998},{"$f":"ROUND(S197/CB197,1)","v":0.7},{"$f":"IF(CM197>=50%,AB197*10.5%,0)","v":0},{"$f":"IF(AND(CM197>=35.1%,CN197>212),AB197*0.105,0)","v":0},{"$f":"IF(AND((CM197-0.35)>0,CM197<0.5),AB197*(CM197-0.35)*0.7,0)","v":4.4000000000000004},{"$f":"IF(ISNA(VLOOKUP($DC197,'Audit Values'!$A$2:$AE$252,2,FALSE)),'Preliminary SO66'!T194,VLOOKUP($DC197,'Audit Values'!$A$2:$AE$252,20,FALSE))","v":5},{"$f":"IF(ISNA(VLOOKUP($DC197,'Audit Values'!$A$2:$AE$252,21,FALSE)),'Preliminary SO66'!U194,VLOOKUP($DC197,'Audit Values'!$A$2:$AE$252,21,FALSE))","v":0.7},0,5.7,null,null,null,null,null,null,null,"D0403"]
[404,"Cherokee","Riverton ",725.7,0,725.7,726.4,0,726.4,709,{"$f":"IF(ISNA(VLOOKUP($DC198,'Audit Values'!$A$2:$AE$252,2,FALSE)),'Preliminary SO66'!B195,VLOOKUP($DC198,'Audit Values'!$A$2:$AE$252,31,FALSE))","v":705},726.4,{"$f":"IF(ISNA(VLOOKUP($DC198,'Audit Values'!$A$2:$AE$252,2,FALSE)),'Preliminary SO66'!Z195,VLOOKUP($DC198,'Audit Values'!$A$2:$AE$252,26,FALSE))","v":0},726.4,{"$f":"IF(ISNA(VLOOKUP($DC198,'Audit Values'!$A$2:$AE$252,2,FALSE)),'Preliminary SO66'!C195,IF(VLOOKUP($DC198,'Audit Values'!$A$2:$AE$252,28,FALSE)=\"\",VLOOKUP($DC198,'Audit Values'!$A$2:$AE$252,3,FALSE),VLOOKUP($DC198,'Audit Values'!$A$2:$AE$252,28,FALSE)))","v":4.5},709.5,713.5,713.5,730.9,{"$f":"CU198","v":4},246.9,246.9,0,{"$f":"IF(ISNA(VLOOKUP($DC198,'Audit Values'!$A$2:$AE$252,2,FALSE)),'Preliminary SO66'!D195,VLOOKUP($DC198,'Audit Values'!$A$2:$AE$252,4,FALSE))","v":324.2},{"$f":"ROUND((X198/6)*Weightings!$M$6,1)","v":27},{"$f":"IF(ISNA(VLOOKUP($DC198,'Audit Values'!$A$2:$AE$252,2,FALSE)),'Preliminary SO66'!F195,VLOOKUP($DC198,'Audit Values'!$A$2:$AE$252,6,FALSE))","v":0},{"$f":"ROUND((Z198/6)*Weightings!$M$7,1)","v":0},{"$f":"IF(ISNA(VLOOKUP($DC198,'Audit Values'!$A$2:$AE$252,2,FALSE)),'Preliminary SO66'!H195,VLOOKUP($DC198,'Audit Values'!$A$2:$AE$252,9,FALSE))","v":308},{"$f":"ROUND(AB198*Weightings!$M$8,1)","v":140.4},15.3,0,{"$f":"AE198*Weightings!$M$9","v":0},{"$f":"IF(ISNA(VLOOKUP($DC198,'Audit Values'!$A$2:$AE$252,2,FALSE)),'Preliminary SO66'!L195,VLOOKUP($DC198,'Audit Values'!$A$2:$AE$252,12,FALSE))","v":0},{"$f":"ROUND(AG198*Weightings!$M$10,1)","v":0},{"$f":"IF(ISNA(VLOOKUP($DC198,'Audit Values'!$A$2:$AE$252,2,FALSE)),'Preliminary SO66'!O195,VLOOKUP($DC198,'Audit Values'!$A$2:$AE$252,15,FALSE))","v":264},53.1,{"$f":"CG198/Weightings!$M$5","v":0},{"$f":"CH198/Weightings!$M$5","v":0},{"$f":"CL198/Weightings!$M$5","v":0},{"$f":"CU198*1.05","v":4.2},{"$f":"IF(ISNA(VLOOKUP($DC198,'Audit Values'!$A$2:$AE$252,2,FALSE)),'Preliminary SO66'!X195,VLOOKUP($DC198,'Audit Values'!$A$2:$AE$252,24,FALSE))","v":0},671522,{"$f":"AP198/Weightings!$M$5","v":174.3},1217.8,1392.1,1392.1,19405,{"$f":"IF(ISNA(VLOOKUP($DC198,'Audit Values'!$A$2:$AC$299,2,FALSE)),\"\",IF(AND(Weightings!H198>0,VLOOKUP($DC198,'Audit Values'!$A$2:$AC$299,29,FALSE)<Weightings!H198),Weightings!H198,VLOOKUP($DC198,'Audit Values'!$A$2:$AC$299,29,FALSE)))","v":2},{"$f":"IF(ISNA(VLOOKUP($DC198,'Audit Values'!$A$2:$AD$299,2,FALSE)),\"\",VLOOKUP($DC198,'Audit Values'!$A$2:$AD$299,30,FALSE))","v":"A"},{"$f":"IF(Weightings!G198=\"\",\"\",IF(Weightings!I198=\"Pending\",\"PX\",\"R\"))","v":""},{"$f":"AR198*Weightings!$M$5+AU198","v":4710371},{"$f":"AT198*Weightings!$M$5+AU198","v":5381774},{"$f":"IF(Weightings!G198>0,Weightings!G198,'Preliminary SO66'!AB195)","v":7336038},1026501,409439,57711,5842387,5381774,null,{"$f":"Weightings!E198","v":0},{"$f":"Weightings!F198","v":0},0,{"$f":"BF198+BJ198","v":5381774},{"$f":"MAX(ROUND(((AR198-AN198-AO198)*Weightings!$M$12)+'2016legmax.xls'!AP198,0),ROUND((('2016legmax.xls'!AR198-'2016legmax.xls'!AN198-'2016legmax.xls'!AO198)*Weightings!$M$12)+Weightings!B198,0))","v":6124067},0.3,1837220,1863621,1837220,{"$f":"BP198/BL198","v":0.3},0,false,0,0,0,true,533.23879999999997,0.33778900000000001,246.9,0,60,4.4000000000000004,{"$f":"IF(ROUND((Weightings!$P$5*CC198^Weightings!$P$6*Weightings!$P$8 ),2)<Weightings!$P$7,Weightings!$P$7,ROUND((Weightings!$P$5*CC198^Weightings!$P$6*Weightings!$P$8 ),2))","v":774.21},{"$f":"ROUND(CD198/Weightings!$M$5,4)","v":0.20100000000000001},53.1,0,0,0,0,{"$f":"AS198*Weightings!$M$5*CJ198","v":0},0,0.42099999999999999,12.2,0,0,15.3,{"$f":"IF(ISNA(VLOOKUP($DC198,'Audit Values'!$A$2:$AE$252,2,FALSE)),'Preliminary SO66'!T195,VLOOKUP($DC198,'Audit Values'!$A$2:$AE$252,20,FALSE))","v":4},{"$f":"IF(ISNA(VLOOKUP($DC198,'Audit Values'!$A$2:$AE$252,21,FALSE)),'Preliminary SO66'!U195,VLOOKUP($DC198,'Audit Values'!$A$2:$AE$252,21,FALSE))","v":0},0,{"$f":"SUM(CR198:CT198)","v":4},null,null,null,null,null,null,null,"D0404"]
[405,"Rice","Lyons ",727.5,0,727.5,753.4,0,753.4,755.8,{"$f":"IF(ISNA(VLOOKUP($DC199,'Audit Values'!$A$2:$AE$252,2,FALSE)),'Preliminary SO66'!B196,VLOOKUP($DC199,'Audit Values'!$A$2:$AE$252,31,FALSE))","v":755.8},755.8,{"$f":"IF(ISNA(VLOOKUP($DC199,'Audit Values'!$A$2:$AE$252,2,FALSE)),'Preliminary SO66'!Z196,VLOOKUP($DC199,'Audit Values'!$A$2:$AE$252,26,FALSE))","v":0},755.8,{"$f":"IF(ISNA(VLOOKUP($DC199,'Audit Values'!$A$2:$AE$252,2,FALSE)),'Preliminary SO66'!C196,IF(VLOOKUP($DC199,'Audit Values'!$A$2:$AE$252,28,FALSE)=\"\",VLOOKUP($DC199,'Audit Values'!$A$2:$AE$252,3,FALSE),VLOOKUP($DC199,'Audit Values'!$A$2:$AE$252,28,FALSE)))","v":19},774.8,774.8,774.8,774.8,0,250.2,250.2,0,{"$f":"IF(ISNA(VLOOKUP($DC199,'Audit Values'!$A$2:$AE$252,2,FALSE)),'Preliminary SO66'!D196,VLOOKUP($DC199,'Audit Values'!$A$2:$AE$252,4,FALSE))","v":222.1},{"$f":"ROUND((X199/6)*Weightings!$M$6,1)","v":18.5},{"$f":"IF(ISNA(VLOOKUP($DC199,'Audit Values'!$A$2:$AE$252,2,FALSE)),'Preliminary SO66'!F196,VLOOKUP($DC199,'Audit Values'!$A$2:$AE$252,6,FALSE))","v":641.70000000000005},{"$f":"ROUND((Z199/6)*Weightings!$M$7,1)","v":42.2},{"$f":"IF(ISNA(VLOOKUP($DC199,'Audit Values'!$A$2:$AE$252,2,FALSE)),'Preliminary SO66'!H196,VLOOKUP($DC199,'Audit Values'!$A$2:$AE$252,9,FALSE))","v":470},{"$f":"ROUND(AB199*Weightings!$M$8,1)","v":214.3},49.4,0,{"$f":"AE199*Weightings!$M$9","v":0},{"$f":"IF(ISNA(VLOOKUP($DC199,'Audit Values'!$A$2:$AE$252,2,FALSE)),'Preliminary SO66'!L196,VLOOKUP($DC199,'Audit Values'!$A$2:$AE$252,12,FALSE))","v":173},{"$f":"ROUND(AG199*Weightings!$M$10,1)","v":43.3},{"$f":"IF(ISNA(VLOOKUP($DC199,'Audit Values'!$A$2:$AE$252,2,FALSE)),'Preliminary SO66'!O196,VLOOKUP($DC199,'Audit Values'!$A$2:$AE$252,15,FALSE))","v":68.5},21.7,{"$f":"CG199/Weightings!$M$5","v":0},{"$f":"CH199/Weightings!$M$5","v":0},{"$f":"CL199/Weightings!$M$5","v":0},0,{"$f":"IF(ISNA(VLOOKUP($DC199,'Audit Values'!$A$2:$AE$252,2,FALSE)),'Preliminary SO66'!X196,VLOOKUP($DC199,'Audit Values'!$A$2:$AE$252,24,FALSE))","v":0},880182,{"$f":"AP199/Weightings!$M$5","v":228.5},1414.4,1642.9,1642.9,8742,{"$f":"IF(ISNA(VLOOKUP($DC199,'Audit Values'!$A$2:$AC$299,2,FALSE)),\"\",IF(AND(Weightings!H199>0,VLOOKUP($DC199,'Audit Values'!$A$2:$AC$299,29,FALSE)<Weightings!H199),Weightings!H199,VLOOKUP($DC199,'Audit Values'!$A$2:$AC$299,29,FALSE)))","v":14},{"$f":"IF(ISNA(VLOOKUP($DC199,'Audit Values'!$A$2:$AD$299,2,FALSE)),\"\",VLOOKUP($DC199,'Audit Values'!$A$2:$AD$299,30,FALSE))","v":"A"},{"$f":"IF(Weightings!G199=\"\",\"\",IF(Weightings!I199=\"Pending\",\"PX\",\"R\"))","v":""},{"$f":"AR199*Weightings!$M$5+AU199","v":5457011},{"$f":"AT199*Weightings!$M$5+AU199","v":6337193},{"$f":"IF(Weightings!G199>0,Weightings!G199,'Preliminary SO66'!AB196)","v":8602441},1039500,656029,39672,6867240,6337193,null,{"$f":"Weightings!E199","v":0},{"$f":"Weightings!F199","v":0},0,6337193,{"$f":"MAX(ROUND(((AR199-AN199-AO199)*Weightings!$M$12)+'2016legmax.xls'!AP199,0),ROUND((('2016legmax.xls'!AR199-'2016legmax.xls'!AN199-'2016legmax.xls'!AO199)*Weightings!$M$12)+Weightings!B199,0))","v":7230838},0.3,2169251,2053522,2053522,0.28399999999999997,0,false,0,0,0,true,587.56500000000005,0.32287399999999999,250.2,0,116,0.59,{"$f":"IF(ROUND((Weightings!$P$5*CC199^Weightings!$P$6*Weightings!$P$8 ),2)<Weightings!$P$7,Weightings!$P$7,ROUND((Weightings!$P$5*CC199^Weightings!$P$6*Weightings!$P$8 ),2))","v":1219.69},{"$f":"ROUND(CD199/Weightings!$M$5,4)","v":0.31659999999999999},21.7,0,0,0,0,{"$f":"AS199*Weightings!$M$5*CJ199","v":0},0,0.60699999999999998,6.7,49.4,0,0,{"$f":"IF(ISNA(VLOOKUP($DC199,'Audit Values'!$A$2:$AE$252,2,FALSE)),'Preliminary SO66'!T196,VLOOKUP($DC199,'Audit Values'!$A$2:$AE$252,20,FALSE))","v":0},{"$f":"IF(ISNA(VLOOKUP($DC199,'Audit Values'!$A$2:$AE$252,21,FALSE)),'Preliminary SO66'!U196,VLOOKUP($DC199,'Audit Values'!$A$2:$AE$252,21,FALSE))","v":0},0,0,null,null,null,null,null,null,null,"D0405"]
[407,"Russell","Russell County ",778.5,0,778.5,762.7,0,762.7,792.5,{"$f":"IF(ISNA(VLOOKUP($DC200,'Audit Values'!$A$2:$AE$252,2,FALSE)),'Preliminary SO66'!B197,VLOOKUP($DC200,'Audit Values'!$A$2:$AE$252,31,FALSE))","v":792.5},792.5,{"$f":"IF(ISNA(VLOOKUP($DC200,'Audit Values'!$A$2:$AE$252,2,FALSE)),'Preliminary SO66'!Z197,VLOOKUP($DC200,'Audit Values'!$A$2:$AE$252,26,FALSE))","v":0},792.5,{"$f":"IF(ISNA(VLOOKUP($DC200,'Audit Values'!$A$2:$AE$252,2,FALSE)),'Preliminary SO66'!C197,IF(VLOOKUP($DC200,'Audit Values'!$A$2:$AE$252,28,FALSE)=\"\",VLOOKUP($DC200,'Audit Values'!$A$2:$AE$252,3,FALSE),VLOOKUP($DC200,'Audit Values'!$A$2:$AE$252,28,FALSE)))","v":0},792.5,792.5,792.5,792.5,0,251.1,251.1,0,{"$f":"IF(ISNA(VLOOKUP($DC200,'Audit Values'!$A$2:$AE$252,2,FALSE)),'Preliminary SO66'!D197,VLOOKUP($DC200,'Audit Values'!$A$2:$AE$252,4,FALSE))","v":107.9},{"$f":"ROUND((X200/6)*Weightings!$M$6,1)","v":9},{"$f":"IF(ISNA(VLOOKUP($DC200,'Audit Values'!$A$2:$AE$252,2,FALSE)),'Preliminary SO66'!F197,VLOOKUP($DC200,'Audit Values'!$A$2:$AE$252,6,FALSE))","v":0},{"$f":"ROUND((Z200/6)*Weightings!$M$7,1)","v":0},{"$f":"IF(ISNA(VLOOKUP($DC200,'Audit Values'!$A$2:$AE$252,2,FALSE)),'Preliminary SO66'!H197,VLOOKUP($DC200,'Audit Values'!$A$2:$AE$252,9,FALSE))","v":332},{"$f":"ROUND(AB200*Weightings!$M$8,1)","v":151.4},16,0,{"$f":"AE200*Weightings!$M$9","v":0},{"$f":"IF(ISNA(VLOOKUP($DC200,'Audit Values'!$A$2:$AE$252,2,FALSE)),'Preliminary SO66'!L197,VLOOKUP($DC200,'Audit Values'!$A$2:$AE$252,12,FALSE))","v":0},{"$f":"ROUND(AG200*Weightings!$M$10,1)","v":0},{"$f":"IF(ISNA(VLOOKUP($DC200,'Audit Values'!$A$2:$AE$252,2,FALSE)),'Preliminary SO66'!O197,VLOOKUP($DC200,'Audit Values'!$A$2:$AE$252,15,FALSE))","v":117},45.4,{"$f":"CG200/Weightings!$M$5","v":0},{"$f":"CH200/Weightings!$M$5","v":0},{"$f":"CL200/Weightings!$M$5","v":0},0,{"$f":"IF(ISNA(VLOOKUP($DC200,'Audit Values'!$A$2:$AE$252,2,FALSE)),'Preliminary SO66'!X197,VLOOKUP($DC200,'Audit Values'!$A$2:$AE$252,24,FALSE))","v":0},730435,{"$f":"AP200/Weightings!$M$5","v":189.6},1265.4000000000001,1455,1455,0,{"$f":"IF(ISNA(VLOOKUP($DC200,'Audit Values'!$A$2:$AC$299,2,FALSE)),\"\",IF(AND(Weightings!H200>0,VLOOKUP($DC200,'Audit Values'!$A$2:$AC$299,29,FALSE)<Weightings!H200),Weightings!H200,VLOOKUP($DC200,'Audit Values'!$A$2:$AC$299,29,FALSE)))","v":9},{"$f":"IF(ISNA(VLOOKUP($DC200,'Audit Values'!$A$2:$AD$299,2,FALSE)),\"\",VLOOKUP($DC200,'Audit Values'!$A$2:$AD$299,30,FALSE))","v":"A"},{"$f":"IF(Weightings!G200=\"\",\"\",IF(Weightings!I200=\"Pending\",\"PX\",\"R\"))","v":""},{"$f":"AR200*Weightings!$M$5+AU200","v":4874321},{"$f":"AT200*Weightings!$M$5+AU200","v":5604660},{"$f":"IF(Weightings!G200>0,Weightings!G200,'Preliminary SO66'!AB197)","v":6255228},16955,455941,0,5782332,5604660,null,{"$f":"Weightings!E200","v":0},{"$f":"Weightings!F200","v":0},0,5604660,{"$f":"MAX(ROUND(((AR200-AN200-AO200)*Weightings!$M$12)+'2016legmax.xls'!AP200,0),ROUND((('2016legmax.xls'!AR200-'2016legmax.xls'!AN200-'2016legmax.xls'!AO200)*Weightings!$M$12)+Weightings!B200,0))","v":6514777},0.33,2149876,2111500,2111500,0.3241,0,false,0,0,0,true,609.46879999999999,0.31685999999999998,251.1,0,489,0.24,{"$f":"IF(ROUND((Weightings!$P$5*CC200^Weightings!$P$6*Weightings!$P$8 ),2)<Weightings!$P$7,Weightings!$P$7,ROUND((Weightings!$P$5*CC200^Weightings!$P$6*Weightings!$P$8 ),2))","v":1494.91},{"$f":"ROUND(CD200/Weightings!$M$5,4)","v":0.3881},45.4,0,0,0,0,{"$f":"AS200*Weightings!$M$5*CJ200","v":0},0,0.41899999999999998,1.6,0,0,16,{"$f":"IF(ISNA(VLOOKUP($DC200,'Audit Values'!$A$2:$AE$252,2,FALSE)),'Preliminary SO66'!T197,VLOOKUP($DC200,'Audit Values'!$A$2:$AE$252,20,FALSE))","v":0},{"$f":"IF(ISNA(VLOOKUP($DC200,'Audit Values'!$A$2:$AE$252,21,FALSE)),'Preliminary SO66'!U197,VLOOKUP($DC200,'Audit Values'!$A$2:$AE$252,21,FALSE))","v":0},0,0,null,null,null,null,null,null,null,"D0407"]
[408,"Marion","Marion-Florence ",500.4,0,500.4,486,0,486,502,{"$f":"IF(ISNA(VLOOKUP($DC201,'Audit Values'!$A$2:$AE$252,2,FALSE)),'Preliminary SO66'!B198,VLOOKUP($DC201,'Audit Values'!$A$2:$AE$252,31,FALSE))","v":498},498,{"$f":"IF(ISNA(VLOOKUP($DC201,'Audit Values'!$A$2:$AE$252,2,FALSE)),'Preliminary SO66'!Z198,VLOOKUP($DC201,'Audit Values'!$A$2:$AE$252,26,FALSE))","v":0},498,{"$f":"IF(ISNA(VLOOKUP($DC201,'Audit Values'!$A$2:$AE$252,2,FALSE)),'Preliminary SO66'!C198,IF(VLOOKUP($DC201,'Audit Values'!$A$2:$AE$252,28,FALSE)=\"\",VLOOKUP($DC201,'Audit Values'!$A$2:$AE$252,3,FALSE),VLOOKUP($DC201,'Audit Values'!$A$2:$AE$252,28,FALSE)))","v":0},498,502,502,498,4,207.6,207.6,0,{"$f":"IF(ISNA(VLOOKUP($DC201,'Audit Values'!$A$2:$AE$252,2,FALSE)),'Preliminary SO66'!D198,VLOOKUP($DC201,'Audit Values'!$A$2:$AE$252,4,FALSE))","v":205.5},{"$f":"ROUND((X201/6)*Weightings!$M$6,1)","v":17.100000000000001},{"$f":"IF(ISNA(VLOOKUP($DC201,'Audit Values'!$A$2:$AE$252,2,FALSE)),'Preliminary SO66'!F198,VLOOKUP($DC201,'Audit Values'!$A$2:$AE$252,6,FALSE))","v":0},{"$f":"ROUND((Z201/6)*Weightings!$M$7,1)","v":0},{"$f":"IF(ISNA(VLOOKUP($DC201,'Audit Values'!$A$2:$AE$252,2,FALSE)),'Preliminary SO66'!H198,VLOOKUP($DC201,'Audit Values'!$A$2:$AE$252,9,FALSE))","v":158},{"$f":"ROUND(AB201*Weightings!$M$8,1)","v":72},0,0,{"$f":"AE201*Weightings!$M$9","v":0},{"$f":"IF(ISNA(VLOOKUP($DC201,'Audit Values'!$A$2:$AE$252,2,FALSE)),'Preliminary SO66'!L198,VLOOKUP($DC201,'Audit Values'!$A$2:$AE$252,12,FALSE))","v":0},{"$f":"ROUND(AG201*Weightings!$M$10,1)","v":0},{"$f":"IF(ISNA(VLOOKUP($DC201,'Audit Values'!$A$2:$AE$252,2,FALSE)),'Preliminary SO66'!O198,VLOOKUP($DC201,'Audit Values'!$A$2:$AE$252,15,FALSE))","v":168},51,{"$f":"CG201/Weightings!$M$5","v":0},{"$f":"CH201/Weightings!$M$5","v":0},{"$f":"CL201/Weightings!$M$5","v":0},4.2,{"$f":"IF(ISNA(VLOOKUP($DC201,'Audit Values'!$A$2:$AE$252,2,FALSE)),'Preliminary SO66'!X198,VLOOKUP($DC201,'Audit Values'!$A$2:$AE$252,24,FALSE))","v":0},663868,{"$f":"AP201/Weightings!$M$5","v":172.3},849.9,1022.2,1022.2,0,{"$f":"IF(ISNA(VLOOKUP($DC201,'Audit Values'!$A$2:$AC$299,2,FALSE)),\"\",IF(AND(Weightings!H201>0,VLOOKUP($DC201,'Audit Values'!$A$2:$AC$299,29,FALSE)<Weightings!H201),Weightings!H201,VLOOKUP($DC201,'Audit Values'!$A$2:$AC$299,29,FALSE)))","v":18},{"$f":"IF(ISNA(VLOOKUP($DC201,'Audit Values'!$A$2:$AD$299,2,FALSE)),\"\",VLOOKUP($DC201,'Audit Values'!$A$2:$AD$299,30,FALSE))","v":"A"},{"$f":"IF(Weightings!G201=\"\",\"\",IF(Weightings!I201=\"Pending\",\"PX\",\"R\"))","v":"R"},{"$f":"AR201*Weightings!$M$5+AU201","v":3273815},{"$f":"AT201*Weightings!$M$5+AU201","v":3937514},{"$f":"IF(Weightings!G201>0,Weightings!G201,'Preliminary SO66'!AB198)","v":5011242},587829,269594,0,4153819,3937514,null,{"$f":"Weightings!E201","v":0},{"$f":"Weightings!F201","v":0},0,3937514,{"$f":"MAX(ROUND(((AR201-AN201-AO201)*Weightings!$M$12)+'2016legmax.xls'!AP201,0),ROUND((('2016legmax.xls'!AR201-'2016legmax.xls'!AN201-'2016legmax.xls'!AO201)*Weightings!$M$12)+Weightings!B201,0))","v":4530455},0.3,1359137,1349977,1349977,0.29799999999999999,0,false,0,0,0,true,245.02500000000001,0.41691600000000001,207.6,0,237,0.71,{"$f":"IF(ROUND((Weightings!$P$5*CC201^Weightings!$P$6*Weightings!$P$8 ),2)<Weightings!$P$7,Weightings!$P$7,ROUND((Weightings!$P$5*CC201^Weightings!$P$6*Weightings!$P$8 ),2))","v":1169.6600000000001},{"$f":"ROUND(CD201/Weightings!$M$5,4)","v":0.30370000000000003},51,0,0,0,0,{"$f":"AS201*Weightings!$M$5*CJ201","v":0},0,0.317,2.1,0,0,0,{"$f":"IF(ISNA(VLOOKUP($DC201,'Audit Values'!$A$2:$AE$252,2,FALSE)),'Preliminary SO66'!T198,VLOOKUP($DC201,'Audit Values'!$A$2:$AE$252,20,FALSE))","v":4},{"$f":"IF(ISNA(VLOOKUP($DC201,'Audit Values'!$A$2:$AE$252,21,FALSE)),'Preliminary SO66'!U198,VLOOKUP($DC201,'Audit Values'!$A$2:$AE$252,21,FALSE))","v":0},0,4,null,null,null,null,null,null,null,"D0408"]
[409,"Atchison","Atchison Public Schools ",1546.4,0,1546.4,1564.5,0,1564.5,1606.3,{"$f":"IF(ISNA(VLOOKUP($DC202,'Audit Values'!$A$2:$AE$252,2,FALSE)),'Preliminary SO66'!B199,VLOOKUP($DC202,'Audit Values'!$A$2:$AE$252,31,FALSE))","v":1606.3},1606.3,{"$f":"IF(ISNA(VLOOKUP($DC202,'Audit Values'!$A$2:$AE$252,2,FALSE)),'Preliminary SO66'!Z199,VLOOKUP($DC202,'Audit Values'!$A$2:$AE$252,26,FALSE))","v":0},1606.3,{"$f":"IF(ISNA(VLOOKUP($DC202,'Audit Values'!$A$2:$AE$252,2,FALSE)),'Preliminary SO66'!C199,IF(VLOOKUP($DC202,'Audit Values'!$A$2:$AE$252,28,FALSE)=\"\",VLOOKUP($DC202,'Audit Values'!$A$2:$AE$252,3,FALSE),VLOOKUP($DC202,'Audit Values'!$A$2:$AE$252,28,FALSE)))","v":19},1625.3,1625.3,1625.3,1625.3,0,57,0,57,{"$f":"IF(ISNA(VLOOKUP($DC202,'Audit Values'!$A$2:$AE$252,2,FALSE)),'Preliminary SO66'!D199,VLOOKUP($DC202,'Audit Values'!$A$2:$AE$252,4,FALSE))","v":146.6},{"$f":"ROUND((X202/6)*Weightings!$M$6,1)","v":12.2},{"$f":"IF(ISNA(VLOOKUP($DC202,'Audit Values'!$A$2:$AE$252,2,FALSE)),'Preliminary SO66'!F199,VLOOKUP($DC202,'Audit Values'!$A$2:$AE$252,6,FALSE))","v":0.8},{"$f":"ROUND((Z202/6)*Weightings!$M$7,1)","v":0.1},{"$f":"IF(ISNA(VLOOKUP($DC202,'Audit Values'!$A$2:$AE$252,2,FALSE)),'Preliminary SO66'!H199,VLOOKUP($DC202,'Audit Values'!$A$2:$AE$252,9,FALSE))","v":965},{"$f":"ROUND(AB202*Weightings!$M$8,1)","v":440},101.3,0,{"$f":"AE202*Weightings!$M$9","v":0},{"$f":"IF(ISNA(VLOOKUP($DC202,'Audit Values'!$A$2:$AE$252,2,FALSE)),'Preliminary SO66'!L199,VLOOKUP($DC202,'Audit Values'!$A$2:$AE$252,12,FALSE))","v":101.1},{"$f":"ROUND(AG202*Weightings!$M$10,1)","v":25.3},{"$f":"IF(ISNA(VLOOKUP($DC202,'Audit Values'!$A$2:$AE$252,2,FALSE)),'Preliminary SO66'!O199,VLOOKUP($DC202,'Audit Values'!$A$2:$AE$252,15,FALSE))","v":221},44.9,{"$f":"CG202/Weightings!$M$5","v":0},{"$f":"CH202/Weightings!$M$5","v":0},{"$f":"CL202/Weightings!$M$5","v":0},0,{"$f":"IF(ISNA(VLOOKUP($DC202,'Audit Values'!$A$2:$AE$252,2,FALSE)),'Preliminary SO66'!X199,VLOOKUP($DC202,'Audit Values'!$A$2:$AE$252,24,FALSE))","v":0},1888829,{"$f":"AP202/Weightings!$M$5","v":490.4},2306.1,2796.5,2796.5,0,{"$f":"IF(ISNA(VLOOKUP($DC202,'Audit Values'!$A$2:$AC$299,2,FALSE)),\"\",IF(AND(Weightings!H202>0,VLOOKUP($DC202,'Audit Values'!$A$2:$AC$299,29,FALSE)<Weightings!H202),Weightings!H202,VLOOKUP($DC202,'Audit Values'!$A$2:$AC$299,29,FALSE)))","v":6},{"$f":"IF(ISNA(VLOOKUP($DC202,'Audit Values'!$A$2:$AD$299,2,FALSE)),\"\",VLOOKUP($DC202,'Audit Values'!$A$2:$AD$299,30,FALSE))","v":"A"},{"$f":"IF(Weightings!G202=\"\",\"\",IF(Weightings!I202=\"Pending\",\"PX\",\"R\"))","v":""},{"$f":"AR202*Weightings!$M$5+AU202","v":8883097},{"$f":"AT202*Weightings!$M$5+AU202","v":10772118},{"$f":"IF(Weightings!G202>0,Weightings!G202,'Preliminary SO66'!AB199)","v":14199851},1959154,957433,82759,11200505,10772118,null,{"$f":"Weightings!E202","v":0},{"$f":"Weightings!F202","v":0},0,10772118,{"$f":"MAX(ROUND(((AR202-AN202-AO202)*Weightings!$M$12)+'2016legmax.xls'!AP202,0),ROUND((('2016legmax.xls'!AR202-'2016legmax.xls'!AN202-'2016legmax.xls'!AO202)*Weightings!$M$12)+Weightings!B202,0))","v":12243218},0.3,3672965,3578462,3578462,0.2923,0,false,0,0,0,false,0,0,0,57,52.7,4.1900000000000004,{"$f":"IF(ROUND((Weightings!$P$5*CC202^Weightings!$P$6*Weightings!$P$8 ),2)<Weightings!$P$7,Weightings!$P$7,ROUND((Weightings!$P$5*CC202^Weightings!$P$6*Weightings!$P$8 ),2))","v":782.82},{"$f":"ROUND(CD202/Weightings!$M$5,4)","v":0.20319999999999999},44.9,0,0,0,0,{"$f":"AS202*Weightings!$M$5*CJ202","v":0},0,0.59399999999999997,30.8,101.3,0,0,{"$f":"IF(ISNA(VLOOKUP($DC202,'Audit Values'!$A$2:$AE$252,2,FALSE)),'Preliminary SO66'!T199,VLOOKUP($DC202,'Audit Values'!$A$2:$AE$252,20,FALSE))","v":0},{"$f":"IF(ISNA(VLOOKUP($DC202,'Audit Values'!$A$2:$AE$252,21,FALSE)),'Preliminary SO66'!U199,VLOOKUP($DC202,'Audit Values'!$A$2:$AE$252,21,FALSE))","v":0},0,0,null,null,null,null,null,null,null,"D0409"]
[410,"Marion","Durham-Hillsboro-Lehigh ",528.1,0,528.1,534.29999999999995,0,534.29999999999995,528.79999999999995,{"$f":"IF(ISNA(VLOOKUP($DC203,'Audit Values'!$A$2:$AE$252,2,FALSE)),'Preliminary SO66'!B200,VLOOKUP($DC203,'Audit Values'!$A$2:$AE$252,31,FALSE))","v":523.4},534.29999999999995,{"$f":"IF(ISNA(VLOOKUP($DC203,'Audit Values'!$A$2:$AE$252,2,FALSE)),'Preliminary SO66'!Z200,VLOOKUP($DC203,'Audit Values'!$A$2:$AE$252,26,FALSE))","v":0},534.29999999999995,{"$f":"IF(ISNA(VLOOKUP($DC203,'Audit Values'!$A$2:$AE$252,2,FALSE)),'Preliminary SO66'!C200,IF(VLOOKUP($DC203,'Audit Values'!$A$2:$AE$252,28,FALSE)=\"\",VLOOKUP($DC203,'Audit Values'!$A$2:$AE$252,3,FALSE),VLOOKUP($DC203,'Audit Values'!$A$2:$AE$252,28,FALSE)))","v":1.5},524.9,530.29999999999995,530.29999999999995,535.79999999999995,5.4,216.5,216.5,0,{"$f":"IF(ISNA(VLOOKUP($DC203,'Audit Values'!$A$2:$AE$252,2,FALSE)),'Preliminary SO66'!D200,VLOOKUP($DC203,'Audit Values'!$A$2:$AE$252,4,FALSE))","v":354.6},{"$f":"ROUND((X203/6)*Weightings!$M$6,1)","v":29.6},{"$f":"IF(ISNA(VLOOKUP($DC203,'Audit Values'!$A$2:$AE$252,2,FALSE)),'Preliminary SO66'!F200,VLOOKUP($DC203,'Audit Values'!$A$2:$AE$252,6,FALSE))","v":2},{"$f":"ROUND((Z203/6)*Weightings!$M$7,1)","v":0.1},{"$f":"IF(ISNA(VLOOKUP($DC203,'Audit Values'!$A$2:$AE$252,2,FALSE)),'Preliminary SO66'!H200,VLOOKUP($DC203,'Audit Values'!$A$2:$AE$252,9,FALSE))","v":138},{"$f":"ROUND(AB203*Weightings!$M$8,1)","v":62.9},0,0,{"$f":"AE203*Weightings!$M$9","v":0},{"$f":"IF(ISNA(VLOOKUP($DC203,'Audit Values'!$A$2:$AE$252,2,FALSE)),'Preliminary SO66'!L200,VLOOKUP($DC203,'Audit Values'!$A$2:$AE$252,12,FALSE))","v":0},{"$f":"ROUND(AG203*Weightings!$M$10,1)","v":0},{"$f":"IF(ISNA(VLOOKUP($DC203,'Audit Values'!$A$2:$AE$252,2,FALSE)),'Preliminary SO66'!O200,VLOOKUP($DC203,'Audit Values'!$A$2:$AE$252,15,FALSE))","v":145},45.2,{"$f":"CG203/Weightings!$M$5","v":0},{"$f":"CH203/Weightings!$M$5","v":0},{"$f":"CL203/Weightings!$M$5","v":0},5.7,{"$f":"IF(ISNA(VLOOKUP($DC203,'Audit Values'!$A$2:$AE$252,2,FALSE)),'Preliminary SO66'!X200,VLOOKUP($DC203,'Audit Values'!$A$2:$AE$252,24,FALSE))","v":0},746318,{"$f":"AP203/Weightings!$M$5","v":193.7},895.8,1089.5,1089.5,0,{"$f":"IF(ISNA(VLOOKUP($DC203,'Audit Values'!$A$2:$AC$299,2,FALSE)),\"\",IF(AND(Weightings!H203>0,VLOOKUP($DC203,'Audit Values'!$A$2:$AC$299,29,FALSE)<Weightings!H203),Weightings!H203,VLOOKUP($DC203,'Audit Values'!$A$2:$AC$299,29,FALSE)))","v":15},{"$f":"IF(ISNA(VLOOKUP($DC203,'Audit Values'!$A$2:$AD$299,2,FALSE)),\"\",VLOOKUP($DC203,'Audit Values'!$A$2:$AD$299,30,FALSE))","v":"A"},{"$f":"IF(Weightings!G203=\"\",\"\",IF(Weightings!I203=\"Pending\",\"PX\",\"R\"))","v":""},{"$f":"AR203*Weightings!$M$5+AU203","v":3450622},{"$f":"AT203*Weightings!$M$5+AU203","v":4196754},{"$f":"IF(Weightings!G203>0,Weightings!G203,'Preliminary SO66'!AB200)","v":5508538},649819,289648,28306,4540765,4196754,null,{"$f":"Weightings!E203","v":0},{"$f":"Weightings!F203","v":0},0,4196754,{"$f":"MAX(ROUND(((AR203-AN203-AO203)*Weightings!$M$12)+'2016legmax.xls'!AP203,0),ROUND((('2016legmax.xls'!AR203-'2016legmax.xls'!AN203-'2016legmax.xls'!AO203)*Weightings!$M$12)+Weightings!B203,0))","v":4782072},0.33,1578084,1564426,1564426,0.3271,0,false,0,0,0,true,291.80250000000001,0.40407399999999999,216.5,0,231.8,0.63,{"$f":"IF(ROUND((Weightings!$P$5*CC203^Weightings!$P$6*Weightings!$P$8 ),2)<Weightings!$P$7,Weightings!$P$7,ROUND((Weightings!$P$5*CC203^Weightings!$P$6*Weightings!$P$8 ),2))","v":1201.72},{"$f":"ROUND(CD203/Weightings!$M$5,4)","v":0.312},45.2,0,0,0,0,{"$f":"AS203*Weightings!$M$5*CJ203","v":0},0,0.25800000000000001,2.2999999999999998,0,0,0,{"$f":"IF(ISNA(VLOOKUP($DC203,'Audit Values'!$A$2:$AE$252,2,FALSE)),'Preliminary SO66'!T200,VLOOKUP($DC203,'Audit Values'!$A$2:$AE$252,20,FALSE))","v":2},{"$f":"IF(ISNA(VLOOKUP($DC203,'Audit Values'!$A$2:$AE$252,21,FALSE)),'Preliminary SO66'!U200,VLOOKUP($DC203,'Audit Values'!$A$2:$AE$252,21,FALSE))","v":0.4},3,5.4,null,null,null,null,null,null,null,"D0410"]
[411,"Marion","Goessel ",273,0,273,276.10000000000002,0,276.10000000000002,266,{"$f":"IF(ISNA(VLOOKUP($DC204,'Audit Values'!$A$2:$AE$252,2,FALSE)),'Preliminary SO66'!B201,VLOOKUP($DC204,'Audit Values'!$A$2:$AE$252,31,FALSE))","v":266},276.10000000000002,{"$f":"IF(ISNA(VLOOKUP($DC204,'Audit Values'!$A$2:$AE$252,2,FALSE)),'Preliminary SO66'!Z201,VLOOKUP($DC204,'Audit Values'!$A$2:$AE$252,26,FALSE))","v":0},276.10000000000002,{"$f":"IF(ISNA(VLOOKUP($DC204,'Audit Values'!$A$2:$AE$252,2,FALSE)),'Preliminary SO66'!C201,IF(VLOOKUP($DC204,'Audit Values'!$A$2:$AE$252,28,FALSE)=\"\",VLOOKUP($DC204,'Audit Values'!$A$2:$AE$252,3,FALSE),VLOOKUP($DC204,'Audit Values'!$A$2:$AE$252,28,FALSE)))","v":0},266,266,266,276.10000000000002,0,151.19999999999999,151.19999999999999,0,{"$f":"IF(ISNA(VLOOKUP($DC204,'Audit Values'!$A$2:$AE$252,2,FALSE)),'Preliminary SO66'!D201,VLOOKUP($DC204,'Audit Values'!$A$2:$AE$252,4,FALSE))","v":103.7},{"$f":"ROUND((X204/6)*Weightings!$M$6,1)","v":8.6},{"$f":"IF(ISNA(VLOOKUP($DC204,'Audit Values'!$A$2:$AE$252,2,FALSE)),'Preliminary SO66'!F201,VLOOKUP($DC204,'Audit Values'!$A$2:$AE$252,6,FALSE))","v":0},{"$f":"ROUND((Z204/6)*Weightings!$M$7,1)","v":0},{"$f":"IF(ISNA(VLOOKUP($DC204,'Audit Values'!$A$2:$AE$252,2,FALSE)),'Preliminary SO66'!H201,VLOOKUP($DC204,'Audit Values'!$A$2:$AE$252,9,FALSE))","v":62},{"$f":"ROUND(AB204*Weightings!$M$8,1)","v":28.3},0,0,{"$f":"AE204*Weightings!$M$9","v":0},{"$f":"IF(ISNA(VLOOKUP($DC204,'Audit Values'!$A$2:$AE$252,2,FALSE)),'Preliminary SO66'!L201,VLOOKUP($DC204,'Audit Values'!$A$2:$AE$252,12,FALSE))","v":26.7},{"$f":"ROUND(AG204*Weightings!$M$10,1)","v":6.7},{"$f":"IF(ISNA(VLOOKUP($DC204,'Audit Values'!$A$2:$AE$252,2,FALSE)),'Preliminary SO66'!O201,VLOOKUP($DC204,'Audit Values'!$A$2:$AE$252,15,FALSE))","v":105.5},30,{"$f":"CG204/Weightings!$M$5","v":0},{"$f":"CH204/Weightings!$M$5","v":0},{"$f":"CL204/Weightings!$M$5","v":0},0,{"$f":"IF(ISNA(VLOOKUP($DC204,'Audit Values'!$A$2:$AE$252,2,FALSE)),'Preliminary SO66'!X201,VLOOKUP($DC204,'Audit Values'!$A$2:$AE$252,24,FALSE))","v":0},381423,{"$f":"AP204/Weightings!$M$5","v":99},500.9,599.9,599.9,0,{"$f":"IF(ISNA(VLOOKUP($DC204,'Audit Values'!$A$2:$AC$299,2,FALSE)),\"\",IF(AND(Weightings!H204>0,VLOOKUP($DC204,'Audit Values'!$A$2:$AC$299,29,FALSE)<Weightings!H204),Weightings!H204,VLOOKUP($DC204,'Audit Values'!$A$2:$AC$299,29,FALSE)))","v":2},{"$f":"IF(ISNA(VLOOKUP($DC204,'Audit Values'!$A$2:$AD$299,2,FALSE)),\"\",VLOOKUP($DC204,'Audit Values'!$A$2:$AD$299,30,FALSE))","v":"A"},{"$f":"IF(Weightings!G204=\"\",\"\",IF(Weightings!I204=\"Pending\",\"PX\",\"R\"))","v":""},{"$f":"AR204*Weightings!$M$5+AU204","v":1929467},{"$f":"AT204*Weightings!$M$5+AU204","v":2310815},{"$f":"IF(Weightings!G204>0,Weightings!G204,'Preliminary SO66'!AB201)","v":3062265},448537,140424,15987,2457317,2310815,null,{"$f":"Weightings!E204","v":0},{"$f":"Weightings!F204","v":0},0,2310815,{"$f":"MAX(ROUND(((AR204-AN204-AO204)*Weightings!$M$12)+'2016legmax.xls'!AP204,0),ROUND((('2016legmax.xls'!AR204-'2016legmax.xls'!AN204-'2016legmax.xls'!AO204)*Weightings!$M$12)+Weightings!B204,0))","v":2630464},0.33,868053,815000,815000,0.30980000000000002,0,true,1700.2460000000001,0.54753799999999997,151.19999999999999,false,0,0,0,0,111.2,0.95,{"$f":"IF(ROUND((Weightings!$P$5*CC204^Weightings!$P$6*Weightings!$P$8 ),2)<Weightings!$P$7,Weightings!$P$7,ROUND((Weightings!$P$5*CC204^Weightings!$P$6*Weightings!$P$8 ),2))","v":1095.0999999999999},{"$f":"ROUND(CD204/Weightings!$M$5,4)","v":0.2843},30,0,0,0,0,{"$f":"AS204*Weightings!$M$5*CJ204","v":0},0,0.22500000000000001,2.5,0,0,0,{"$f":"IF(ISNA(VLOOKUP($DC204,'Audit Values'!$A$2:$AE$252,2,FALSE)),'Preliminary SO66'!T201,VLOOKUP($DC204,'Audit Values'!$A$2:$AE$252,20,FALSE))","v":0},{"$f":"IF(ISNA(VLOOKUP($DC204,'Audit Values'!$A$2:$AE$252,21,FALSE)),'Preliminary SO66'!U201,VLOOKUP($DC204,'Audit Values'!$A$2:$AE$252,21,FALSE))","v":0},0,0,null,null,null,null,null,null,null,"D0411"]
[412,"Sheridan","Hoxie Community Schools ",335.5,0,335.5,339,0,339,355.3,{"$f":"IF(ISNA(VLOOKUP($DC205,'Audit Values'!$A$2:$AE$252,2,FALSE)),'Preliminary SO66'!B202,VLOOKUP($DC205,'Audit Values'!$A$2:$AE$252,31,FALSE))","v":355.3},355.3,{"$f":"IF(ISNA(VLOOKUP($DC205,'Audit Values'!$A$2:$AE$252,2,FALSE)),'Preliminary SO66'!Z202,VLOOKUP($DC205,'Audit Values'!$A$2:$AE$252,26,FALSE))","v":0},355.3,{"$f":"IF(ISNA(VLOOKUP($DC205,'Audit Values'!$A$2:$AE$252,2,FALSE)),'Preliminary SO66'!C202,IF(VLOOKUP($DC205,'Audit Values'!$A$2:$AE$252,28,FALSE)=\"\",VLOOKUP($DC205,'Audit Values'!$A$2:$AE$252,3,FALSE),VLOOKUP($DC205,'Audit Values'!$A$2:$AE$252,28,FALSE)))","v":0},355.3,355.3,355.3,355.3,0,165.4,165.4,0,{"$f":"IF(ISNA(VLOOKUP($DC205,'Audit Values'!$A$2:$AE$252,2,FALSE)),'Preliminary SO66'!D202,VLOOKUP($DC205,'Audit Values'!$A$2:$AE$252,4,FALSE))","v":57.1},{"$f":"ROUND((X205/6)*Weightings!$M$6,1)","v":4.8},{"$f":"IF(ISNA(VLOOKUP($DC205,'Audit Values'!$A$2:$AE$252,2,FALSE)),'Preliminary SO66'!F202,VLOOKUP($DC205,'Audit Values'!$A$2:$AE$252,6,FALSE))","v":0},{"$f":"ROUND((Z205/6)*Weightings!$M$7,1)","v":0},{"$f":"IF(ISNA(VLOOKUP($DC205,'Audit Values'!$A$2:$AE$252,2,FALSE)),'Preliminary SO66'!H202,VLOOKUP($DC205,'Audit Values'!$A$2:$AE$252,9,FALSE))","v":86},{"$f":"ROUND(AB205*Weightings!$M$8,1)","v":39.200000000000003},0,0,{"$f":"AE205*Weightings!$M$9","v":0},{"$f":"IF(ISNA(VLOOKUP($DC205,'Audit Values'!$A$2:$AE$252,2,FALSE)),'Preliminary SO66'!L202,VLOOKUP($DC205,'Audit Values'!$A$2:$AE$252,12,FALSE))","v":0},{"$f":"ROUND(AG205*Weightings!$M$10,1)","v":0},{"$f":"IF(ISNA(VLOOKUP($DC205,'Audit Values'!$A$2:$AE$252,2,FALSE)),'Preliminary SO66'!O202,VLOOKUP($DC205,'Audit Values'!$A$2:$AE$252,15,FALSE))","v":102.5},44.2,{"$f":"CG205/Weightings!$M$5","v":0},{"$f":"CH205/Weightings!$M$5","v":0},{"$f":"CL205/Weightings!$M$5","v":0},0,{"$f":"IF(ISNA(VLOOKUP($DC205,'Audit Values'!$A$2:$AE$252,2,FALSE)),'Preliminary SO66'!X202,VLOOKUP($DC205,'Audit Values'!$A$2:$AE$252,24,FALSE))","v":1},254885,{"$f":"AP205/Weightings!$M$5","v":66.2},609.9,676.1,676.1,0,{"$f":"IF(ISNA(VLOOKUP($DC205,'Audit Values'!$A$2:$AC$299,2,FALSE)),\"\",IF(AND(Weightings!H205>0,VLOOKUP($DC205,'Audit Values'!$A$2:$AC$299,29,FALSE)<Weightings!H205),Weightings!H205,VLOOKUP($DC205,'Audit Values'!$A$2:$AC$299,29,FALSE)))","v":3},{"$f":"IF(ISNA(VLOOKUP($DC205,'Audit Values'!$A$2:$AD$299,2,FALSE)),\"\",VLOOKUP($DC205,'Audit Values'!$A$2:$AD$299,30,FALSE))","v":"A"},{"$f":"IF(Weightings!G205=\"\",\"\",IF(Weightings!I205=\"Pending\",\"PX\",\"R\"))","v":""},{"$f":"AR205*Weightings!$M$5+AU205","v":2349335},{"$f":"AT205*Weightings!$M$5+AU205","v":2604337},{"$f":"IF(Weightings!G205>0,Weightings!G205,'Preliminary SO66'!AB202)","v":2866273},63679,184039,0,2618555,2604337,null,{"$f":"Weightings!E205","v":0},{"$f":"Weightings!F205","v":0},0,2604337,{"$f":"MAX(ROUND(((AR205-AN205-AO205)*Weightings!$M$12)+'2016legmax.xls'!AP205,0),ROUND((('2016legmax.xls'!AR205-'2016legmax.xls'!AN205-'2016legmax.xls'!AO205)*Weightings!$M$12)+Weightings!B205,0))","v":3107649},0.3,932295,887978,887978,0.28570000000000001,0,false,0,0,0,true,68.433800000000005,0.46539799999999998,165.4,0,674,0.15,{"$f":"IF(ROUND((Weightings!$P$5*CC205^Weightings!$P$6*Weightings!$P$8 ),2)<Weightings!$P$7,Weightings!$P$7,ROUND((Weightings!$P$5*CC205^Weightings!$P$6*Weightings!$P$8 ),2))","v":1662.6},{"$f":"ROUND(CD205/Weightings!$M$5,4)","v":0.43159999999999998},44.2,0,0,0,0,{"$f":"AS205*Weightings!$M$5*CJ205","v":0},0,0.24199999999999999,0.5,0,0,0,{"$f":"IF(ISNA(VLOOKUP($DC205,'Audit Values'!$A$2:$AE$252,2,FALSE)),'Preliminary SO66'!T202,VLOOKUP($DC205,'Audit Values'!$A$2:$AE$252,20,FALSE))","v":0},{"$f":"IF(ISNA(VLOOKUP($DC205,'Audit Values'!$A$2:$AE$252,21,FALSE)),'Preliminary SO66'!U202,VLOOKUP($DC205,'Audit Values'!$A$2:$AE$252,21,FALSE))","v":0},0,0,null,null,null,null,null,null,null,"D0412",53754]
[413,"Neosho","Chanute Public Schools ",1790.9,0,1790.9,1750.7,0,1750.7,1744,{"$f":"IF(ISNA(VLOOKUP($DC206,'Audit Values'!$A$2:$AE$252,2,FALSE)),'Preliminary SO66'!B203,VLOOKUP($DC206,'Audit Values'!$A$2:$AE$252,31,FALSE))","v":1733},1758.2,{"$f":"IF(ISNA(VLOOKUP($DC206,'Audit Values'!$A$2:$AE$252,2,FALSE)),'Preliminary SO66'!Z203,VLOOKUP($DC206,'Audit Values'!$A$2:$AE$252,26,FALSE))","v":0},1758.2,{"$f":"IF(ISNA(VLOOKUP($DC206,'Audit Values'!$A$2:$AE$252,2,FALSE)),'Preliminary SO66'!C203,IF(VLOOKUP($DC206,'Audit Values'!$A$2:$AE$252,28,FALSE)=\"\",VLOOKUP($DC206,'Audit Values'!$A$2:$AE$252,3,FALSE),VLOOKUP($DC206,'Audit Values'!$A$2:$AE$252,28,FALSE)))","v":14},1747,1758,1758,1772.2,11,62.1,0,62.1,{"$f":"IF(ISNA(VLOOKUP($DC206,'Audit Values'!$A$2:$AE$252,2,FALSE)),'Preliminary SO66'!D203,VLOOKUP($DC206,'Audit Values'!$A$2:$AE$252,4,FALSE))","v":478.4},{"$f":"ROUND((X206/6)*Weightings!$M$6,1)","v":39.9},{"$f":"IF(ISNA(VLOOKUP($DC206,'Audit Values'!$A$2:$AE$252,2,FALSE)),'Preliminary SO66'!F203,VLOOKUP($DC206,'Audit Values'!$A$2:$AE$252,6,FALSE))","v":129.30000000000001},{"$f":"ROUND((Z206/6)*Weightings!$M$7,1)","v":8.5},{"$f":"IF(ISNA(VLOOKUP($DC206,'Audit Values'!$A$2:$AE$252,2,FALSE)),'Preliminary SO66'!H203,VLOOKUP($DC206,'Audit Values'!$A$2:$AE$252,9,FALSE))","v":944},{"$f":"ROUND(AB206*Weightings!$M$8,1)","v":430.5},99.1,0,{"$f":"AE206*Weightings!$M$9","v":0},{"$f":"IF(ISNA(VLOOKUP($DC206,'Audit Values'!$A$2:$AE$252,2,FALSE)),'Preliminary SO66'!L203,VLOOKUP($DC206,'Audit Values'!$A$2:$AE$252,12,FALSE))","v":0},{"$f":"ROUND(AG206*Weightings!$M$10,1)","v":0},{"$f":"IF(ISNA(VLOOKUP($DC206,'Audit Values'!$A$2:$AE$252,2,FALSE)),'Preliminary SO66'!O203,VLOOKUP($DC206,'Audit Values'!$A$2:$AE$252,15,FALSE))","v":561},112.3,{"$f":"CG206/Weightings!$M$5","v":0},{"$f":"CH206/Weightings!$M$5","v":0},{"$f":"CL206/Weightings!$M$5","v":0},11.6,{"$f":"IF(ISNA(VLOOKUP($DC206,'Audit Values'!$A$2:$AE$252,2,FALSE)),'Preliminary SO66'!X203,VLOOKUP($DC206,'Audit Values'!$A$2:$AE$252,24,FALSE))","v":0},2016822,{"$f":"AP206/Weightings!$M$5","v":523.6},2536.1999999999998,3059.8,3059.8,0,{"$f":"IF(ISNA(VLOOKUP($DC206,'Audit Values'!$A$2:$AC$299,2,FALSE)),\"\",IF(AND(Weightings!H206>0,VLOOKUP($DC206,'Audit Values'!$A$2:$AC$299,29,FALSE)<Weightings!H206),Weightings!H206,VLOOKUP($DC206,'Audit Values'!$A$2:$AC$299,29,FALSE)))","v":4},{"$f":"IF(ISNA(VLOOKUP($DC206,'Audit Values'!$A$2:$AD$299,2,FALSE)),\"\",VLOOKUP($DC206,'Audit Values'!$A$2:$AD$299,30,FALSE))","v":"A"},{"$f":"IF(Weightings!G206=\"\",\"\",IF(Weightings!I206=\"Pending\",\"PX\",\"R\"))","v":""},{"$f":"AR206*Weightings!$M$5+AU206","v":9769442},{"$f":"AT206*Weightings!$M$5+AU206","v":11786350},{"$f":"IF(Weightings!G206>0,Weightings!G206,'Preliminary SO66'!AB203)","v":16153820},2262360,822230,132970,12936260,11786350,null,{"$f":"Weightings!E206","v":0},{"$f":"Weightings!F206","v":0},0,11786350,{"$f":"MAX(ROUND(((AR206-AN206-AO206)*Weightings!$M$12)+'2016legmax.xls'!AP206,0),ROUND((('2016legmax.xls'!AR206-'2016legmax.xls'!AN206-'2016legmax.xls'!AO206)*Weightings!$M$12)+Weightings!B206,0))","v":13472903},0.3,4041871,4090402,4041871,0.3,0,false,0,0,0,false,0,0,0,62.1,125,4.49,{"$f":"IF(ROUND((Weightings!$P$5*CC206^Weightings!$P$6*Weightings!$P$8 ),2)<Weightings!$P$7,Weightings!$P$7,ROUND((Weightings!$P$5*CC206^Weightings!$P$6*Weightings!$P$8 ),2))","v":770.67},{"$f":"ROUND(CD206/Weightings!$M$5,4)","v":0.2001},112.3,0,0,0,0,{"$f":"AS206*Weightings!$M$5*CJ206","v":0},0,0.53300000000000003,14.2,99.1,0,0,{"$f":"IF(ISNA(VLOOKUP($DC206,'Audit Values'!$A$2:$AE$252,2,FALSE)),'Preliminary SO66'!T203,VLOOKUP($DC206,'Audit Values'!$A$2:$AE$252,20,FALSE))","v":3},{"$f":"IF(ISNA(VLOOKUP($DC206,'Audit Values'!$A$2:$AE$252,21,FALSE)),'Preliminary SO66'!U203,VLOOKUP($DC206,'Audit Values'!$A$2:$AE$252,21,FALSE))","v":0},8,11,null,null,null,null,null,null,null,"D0413"]
[415,"Brown","Hiawatha ",813.7,0,813.7,837.2,0,837.2,852,{"$f":"IF(ISNA(VLOOKUP($DC207,'Audit Values'!$A$2:$AE$252,2,FALSE)),'Preliminary SO66'!B204,VLOOKUP($DC207,'Audit Values'!$A$2:$AE$252,31,FALSE))","v":852},852,{"$f":"IF(ISNA(VLOOKUP($DC207,'Audit Values'!$A$2:$AE$252,2,FALSE)),'Preliminary SO66'!Z204,VLOOKUP($DC207,'Audit Values'!$A$2:$AE$252,26,FALSE))","v":0},852,{"$f":"IF(ISNA(VLOOKUP($DC207,'Audit Values'!$A$2:$AE$252,2,FALSE)),'Preliminary SO66'!C204,IF(VLOOKUP($DC207,'Audit Values'!$A$2:$AE$252,28,FALSE)=\"\",VLOOKUP($DC207,'Audit Values'!$A$2:$AE$252,3,FALSE),VLOOKUP($DC207,'Audit Values'!$A$2:$AE$252,28,FALSE)))","v":0},852,852,852,852,0,252.7,252.7,0,{"$f":"IF(ISNA(VLOOKUP($DC207,'Audit Values'!$A$2:$AE$252,2,FALSE)),'Preliminary SO66'!D204,VLOOKUP($DC207,'Audit Values'!$A$2:$AE$252,4,FALSE))","v":209.9},{"$f":"ROUND((X207/6)*Weightings!$M$6,1)","v":17.5},{"$f":"IF(ISNA(VLOOKUP($DC207,'Audit Values'!$A$2:$AE$252,2,FALSE)),'Preliminary SO66'!F204,VLOOKUP($DC207,'Audit Values'!$A$2:$AE$252,6,FALSE))","v":0},{"$f":"ROUND((Z207/6)*Weightings!$M$7,1)","v":0},{"$f":"IF(ISNA(VLOOKUP($DC207,'Audit Values'!$A$2:$AE$252,2,FALSE)),'Preliminary SO66'!H204,VLOOKUP($DC207,'Audit Values'!$A$2:$AE$252,9,FALSE))","v":394},{"$f":"ROUND(AB207*Weightings!$M$8,1)","v":179.7},30.9,0,{"$f":"AE207*Weightings!$M$9","v":0},{"$f":"IF(ISNA(VLOOKUP($DC207,'Audit Values'!$A$2:$AE$252,2,FALSE)),'Preliminary SO66'!L204,VLOOKUP($DC207,'Audit Values'!$A$2:$AE$252,12,FALSE))","v":0},{"$f":"ROUND(AG207*Weightings!$M$10,1)","v":0},{"$f":"IF(ISNA(VLOOKUP($DC207,'Audit Values'!$A$2:$AE$252,2,FALSE)),'Preliminary SO66'!O204,VLOOKUP($DC207,'Audit Values'!$A$2:$AE$252,15,FALSE))","v":257},76.400000000000006,{"$f":"CG207/Weightings!$M$5","v":0},{"$f":"CH207/Weightings!$M$5","v":0},{"$f":"CL207/Weightings!$M$5","v":0},0,{"$f":"IF(ISNA(VLOOKUP($DC207,'Audit Values'!$A$2:$AE$252,2,FALSE)),'Preliminary SO66'!X204,VLOOKUP($DC207,'Audit Values'!$A$2:$AE$252,24,FALSE))","v":3},1041915,{"$f":"AP207/Weightings!$M$5","v":270.5},1412.2,1682.7,1682.7,0,{"$f":"IF(ISNA(VLOOKUP($DC207,'Audit Values'!$A$2:$AC$299,2,FALSE)),\"\",IF(AND(Weightings!H207>0,VLOOKUP($DC207,'Audit Values'!$A$2:$AC$299,29,FALSE)<Weightings!H207),Weightings!H207,VLOOKUP($DC207,'Audit Values'!$A$2:$AC$299,29,FALSE)))","v":15},{"$f":"IF(ISNA(VLOOKUP($DC207,'Audit Values'!$A$2:$AD$299,2,FALSE)),\"\",VLOOKUP($DC207,'Audit Values'!$A$2:$AD$299,30,FALSE))","v":"A"},{"$f":"IF(Weightings!G207=\"\",\"\",IF(Weightings!I207=\"Pending\",\"PX\",\"R\"))","v":""},{"$f":"AR207*Weightings!$M$5+AU207","v":5439794},{"$f":"AT207*Weightings!$M$5+AU207","v":6481760},{"$f":"IF(Weightings!G207>0,Weightings!G207,'Preliminary SO66'!AB204)","v":7259255},195413,432624,0,6631218,6481760,null,{"$f":"Weightings!E207","v":0},{"$f":"Weightings!F207","v":0},0,6481760,{"$f":"MAX(ROUND(((AR207-AN207-AO207)*Weightings!$M$12)+'2016legmax.xls'!AP207,0),ROUND((('2016legmax.xls'!AR207-'2016legmax.xls'!AN207-'2016legmax.xls'!AO207)*Weightings!$M$12)+Weightings!B207,0))","v":7369223},0.3,2210767,2143811,2143811,0.29089999999999999,0,false,0,0,0,true,683.1,0.29664499999999999,252.7,0,331,0.78,{"$f":"IF(ROUND((Weightings!$P$5*CC207^Weightings!$P$6*Weightings!$P$8 ),2)<Weightings!$P$7,Weightings!$P$7,ROUND((Weightings!$P$5*CC207^Weightings!$P$6*Weightings!$P$8 ),2))","v":1145.04},{"$f":"ROUND(CD207/Weightings!$M$5,4)","v":0.29730000000000001},76.400000000000006,0,0,0,0,{"$f":"AS207*Weightings!$M$5*CJ207","v":0},0,0.46200000000000002,2.6,0,0,30.9,{"$f":"IF(ISNA(VLOOKUP($DC207,'Audit Values'!$A$2:$AE$252,2,FALSE)),'Preliminary SO66'!T204,VLOOKUP($DC207,'Audit Values'!$A$2:$AE$252,20,FALSE))","v":0},{"$f":"IF(ISNA(VLOOKUP($DC207,'Audit Values'!$A$2:$AE$252,21,FALSE)),'Preliminary SO66'!U204,VLOOKUP($DC207,'Audit Values'!$A$2:$AE$252,21,FALSE))","v":0},0,0,null,null,null,null,null,null,null,"D0415"]
[416,"Miami","Louisburg ",1691.1,0,1691.1,1661.5,0,1661.5,1672.4,{"$f":"IF(ISNA(VLOOKUP($DC208,'Audit Values'!$A$2:$AE$252,2,FALSE)),'Preliminary SO66'!B205,VLOOKUP($DC208,'Audit Values'!$A$2:$AE$252,31,FALSE))","v":1662.4},1671.7,{"$f":"IF(ISNA(VLOOKUP($DC208,'Audit Values'!$A$2:$AE$252,2,FALSE)),'Preliminary SO66'!Z205,VLOOKUP($DC208,'Audit Values'!$A$2:$AE$252,26,FALSE))","v":0},1671.7,{"$f":"IF(ISNA(VLOOKUP($DC208,'Audit Values'!$A$2:$AE$252,2,FALSE)),'Preliminary SO66'!C205,IF(VLOOKUP($DC208,'Audit Values'!$A$2:$AE$252,28,FALSE)=\"\",VLOOKUP($DC208,'Audit Values'!$A$2:$AE$252,3,FALSE),VLOOKUP($DC208,'Audit Values'!$A$2:$AE$252,28,FALSE)))","v":0},1662.4,1672.4,1672.4,1671.7,10,58.6,0,58.6,{"$f":"IF(ISNA(VLOOKUP($DC208,'Audit Values'!$A$2:$AE$252,2,FALSE)),'Preliminary SO66'!D205,VLOOKUP($DC208,'Audit Values'!$A$2:$AE$252,4,FALSE))","v":411.1},{"$f":"ROUND((X208/6)*Weightings!$M$6,1)","v":34.299999999999997},{"$f":"IF(ISNA(VLOOKUP($DC208,'Audit Values'!$A$2:$AE$252,2,FALSE)),'Preliminary SO66'!F205,VLOOKUP($DC208,'Audit Values'!$A$2:$AE$252,6,FALSE))","v":61},{"$f":"ROUND((Z208/6)*Weightings!$M$7,1)","v":4},{"$f":"IF(ISNA(VLOOKUP($DC208,'Audit Values'!$A$2:$AE$252,2,FALSE)),'Preliminary SO66'!H205,VLOOKUP($DC208,'Audit Values'!$A$2:$AE$252,9,FALSE))","v":352},{"$f":"ROUND(AB208*Weightings!$M$8,1)","v":160.5},0,0,{"$f":"AE208*Weightings!$M$9","v":0},{"$f":"IF(ISNA(VLOOKUP($DC208,'Audit Values'!$A$2:$AE$252,2,FALSE)),'Preliminary SO66'!L205,VLOOKUP($DC208,'Audit Values'!$A$2:$AE$252,12,FALSE))","v":0},{"$f":"ROUND(AG208*Weightings!$M$10,1)","v":0},{"$f":"IF(ISNA(VLOOKUP($DC208,'Audit Values'!$A$2:$AE$252,2,FALSE)),'Preliminary SO66'!O205,VLOOKUP($DC208,'Audit Values'!$A$2:$AE$252,15,FALSE))","v":689},138.4,{"$f":"CG208/Weightings!$M$5","v":0},{"$f":"CH208/Weightings!$M$5","v":0},{"$f":"CL208/Weightings!$M$5","v":0},10.5,{"$f":"IF(ISNA(VLOOKUP($DC208,'Audit Values'!$A$2:$AE$252,2,FALSE)),'Preliminary SO66'!X205,VLOOKUP($DC208,'Audit Values'!$A$2:$AE$252,24,FALSE))","v":0},1407135,{"$f":"AP208/Weightings!$M$5","v":365.3},2078,2443.3000000000002,2443.3000000000002,0,{"$f":"IF(ISNA(VLOOKUP($DC208,'Audit Values'!$A$2:$AC$299,2,FALSE)),\"\",IF(AND(Weightings!H208>0,VLOOKUP($DC208,'Audit Values'!$A$2:$AC$299,29,FALSE)<Weightings!H208),Weightings!H208,VLOOKUP($DC208,'Audit Values'!$A$2:$AC$299,29,FALSE)))","v":13},{"$f":"IF(ISNA(VLOOKUP($DC208,'Audit Values'!$A$2:$AD$299,2,FALSE)),\"\",VLOOKUP($DC208,'Audit Values'!$A$2:$AD$299,30,FALSE))","v":"A"},{"$f":"IF(Weightings!G208=\"\",\"\",IF(Weightings!I208=\"Pending\",\"PX\",\"R\"))","v":""},{"$f":"AR208*Weightings!$M$5+AU208","v":8004456},{"$f":"AT208*Weightings!$M$5+AU208","v":9411592},{"$f":"IF(Weightings!G208>0,Weightings!G208,'Preliminary SO66'!AB205)","v":11837765},1255432,642788,88257,9851288,9411592,null,{"$f":"Weightings!E208","v":0},{"$f":"Weightings!F208","v":0},0,9411592,{"$f":"MAX(ROUND(((AR208-AN208-AO208)*Weightings!$M$12)+'2016legmax.xls'!AP208,0),ROUND((('2016legmax.xls'!AR208-'2016legmax.xls'!AN208-'2016legmax.xls'!AO208)*Weightings!$M$12)+Weightings!B208,0))","v":10690210},0.33,3527769,3528496,3527769,0.33,0,false,0,0,0,false,0,0,0,58.6,156,4.42,{"$f":"IF(ROUND((Weightings!$P$5*CC208^Weightings!$P$6*Weightings!$P$8 ),2)<Weightings!$P$7,Weightings!$P$7,ROUND((Weightings!$P$5*CC208^Weightings!$P$6*Weightings!$P$8 ),2))","v":773.42},{"$f":"ROUND(CD208/Weightings!$M$5,4)","v":0.20080000000000001},138.4,0,0,0,2.4799999999999999E-2,{"$f":"AS208*Weightings!$M$5*CJ208","v":233407},0,0.21099999999999999,10.7,0,0,0,{"$f":"IF(ISNA(VLOOKUP($DC208,'Audit Values'!$A$2:$AE$252,2,FALSE)),'Preliminary SO66'!T205,VLOOKUP($DC208,'Audit Values'!$A$2:$AE$252,20,FALSE))","v":7},{"$f":"IF(ISNA(VLOOKUP($DC208,'Audit Values'!$A$2:$AE$252,21,FALSE)),'Preliminary SO66'!U205,VLOOKUP($DC208,'Audit Values'!$A$2:$AE$252,21,FALSE))","v":0},3,10,null,null,null,null,null,null,null,"D0416"]
[417,"Morris","Morris County ",701,0,701,703.3,0,703.3,708.7,{"$f":"IF(ISNA(VLOOKUP($DC209,'Audit Values'!$A$2:$AE$252,2,FALSE)),'Preliminary SO66'!B206,VLOOKUP($DC209,'Audit Values'!$A$2:$AE$252,31,FALSE))","v":708.7},708.7,{"$f":"IF(ISNA(VLOOKUP($DC209,'Audit Values'!$A$2:$AE$252,2,FALSE)),'Preliminary SO66'!Z206,VLOOKUP($DC209,'Audit Values'!$A$2:$AE$252,26,FALSE))","v":0},708.7,{"$f":"IF(ISNA(VLOOKUP($DC209,'Audit Values'!$A$2:$AE$252,2,FALSE)),'Preliminary SO66'!C206,IF(VLOOKUP($DC209,'Audit Values'!$A$2:$AE$252,28,FALSE)=\"\",VLOOKUP($DC209,'Audit Values'!$A$2:$AE$252,3,FALSE),VLOOKUP($DC209,'Audit Values'!$A$2:$AE$252,28,FALSE)))","v":7.5},716.2,716.2,716.2,716.2,0,245.5,245.5,0,{"$f":"IF(ISNA(VLOOKUP($DC209,'Audit Values'!$A$2:$AE$252,2,FALSE)),'Preliminary SO66'!D206,VLOOKUP($DC209,'Audit Values'!$A$2:$AE$252,4,FALSE))","v":234.3},{"$f":"ROUND((X209/6)*Weightings!$M$6,1)","v":19.5},{"$f":"IF(ISNA(VLOOKUP($DC209,'Audit Values'!$A$2:$AE$252,2,FALSE)),'Preliminary SO66'!F206,VLOOKUP($DC209,'Audit Values'!$A$2:$AE$252,6,FALSE))","v":48.6},{"$f":"ROUND((Z209/6)*Weightings!$M$7,1)","v":3.2},{"$f":"IF(ISNA(VLOOKUP($DC209,'Audit Values'!$A$2:$AE$252,2,FALSE)),'Preliminary SO66'!H206,VLOOKUP($DC209,'Audit Values'!$A$2:$AE$252,9,FALSE))","v":249},{"$f":"ROUND(AB209*Weightings!$M$8,1)","v":113.5},0,0,{"$f":"AE209*Weightings!$M$9","v":0},{"$f":"IF(ISNA(VLOOKUP($DC209,'Audit Values'!$A$2:$AE$252,2,FALSE)),'Preliminary SO66'!L206,VLOOKUP($DC209,'Audit Values'!$A$2:$AE$252,12,FALSE))","v":0},{"$f":"ROUND(AG209*Weightings!$M$10,1)","v":0},{"$f":"IF(ISNA(VLOOKUP($DC209,'Audit Values'!$A$2:$AE$252,2,FALSE)),'Preliminary SO66'!O206,VLOOKUP($DC209,'Audit Values'!$A$2:$AE$252,15,FALSE))","v":258},85.6,{"$f":"CG209/Weightings!$M$5","v":0},{"$f":"CH209/Weightings!$M$5","v":0},{"$f":"CL209/Weightings!$M$5","v":0},0,{"$f":"IF(ISNA(VLOOKUP($DC209,'Audit Values'!$A$2:$AE$252,2,FALSE)),'Preliminary SO66'!X206,VLOOKUP($DC209,'Audit Values'!$A$2:$AE$252,24,FALSE))","v":0},604195,{"$f":"AP209/Weightings!$M$5","v":156.9},1183.5,1340.4,1340.4,0,{"$f":"IF(ISNA(VLOOKUP($DC209,'Audit Values'!$A$2:$AC$299,2,FALSE)),\"\",IF(AND(Weightings!H209>0,VLOOKUP($DC209,'Audit Values'!$A$2:$AC$299,29,FALSE)<Weightings!H209),Weightings!H209,VLOOKUP($DC209,'Audit Values'!$A$2:$AC$299,29,FALSE)))","v":9},{"$f":"IF(ISNA(VLOOKUP($DC209,'Audit Values'!$A$2:$AD$299,2,FALSE)),\"\",VLOOKUP($DC209,'Audit Values'!$A$2:$AD$299,30,FALSE))","v":"A"},{"$f":"IF(Weightings!G209=\"\",\"\",IF(Weightings!I209=\"Pending\",\"PX\",\"R\"))","v":""},{"$f":"AR209*Weightings!$M$5+AU209","v":4558842},{"$f":"AT209*Weightings!$M$5+AU209","v":5163221},{"$f":"IF(Weightings!G209>0,Weightings!G209,'Preliminary SO66'!AB206)","v":6004179},445989,361819,0,5196371,5163221,null,{"$f":"Weightings!E209","v":0},{"$f":"Weightings!F209","v":0},0,5163221,{"$f":"MAX(ROUND(((AR209-AN209-AO209)*Weightings!$M$12)+'2016legmax.xls'!AP209,0),ROUND((('2016legmax.xls'!AR209-'2016legmax.xls'!AN209-'2016legmax.xls'!AO209)*Weightings!$M$12)+Weightings!B209,0))","v":5986488},0.3,1795946,1782072,1782072,0.29770000000000002,0,false,0,0,0,true,515.04750000000001,0.342783,245.5,0,537,0.48,{"$f":"IF(ROUND((Weightings!$P$5*CC209^Weightings!$P$6*Weightings!$P$8 ),2)<Weightings!$P$7,Weightings!$P$7,ROUND((Weightings!$P$5*CC209^Weightings!$P$6*Weightings!$P$8 ),2))","v":1277.97},{"$f":"ROUND(CD209/Weightings!$M$5,4)","v":0.33179999999999998},85.6,0,0,0,0,{"$f":"AS209*Weightings!$M$5*CJ209","v":0},0,0.34799999999999998,1.3,0,0,0,{"$f":"IF(ISNA(VLOOKUP($DC209,'Audit Values'!$A$2:$AE$252,2,FALSE)),'Preliminary SO66'!T206,VLOOKUP($DC209,'Audit Values'!$A$2:$AE$252,20,FALSE))","v":0},{"$f":"IF(ISNA(VLOOKUP($DC209,'Audit Values'!$A$2:$AE$252,21,FALSE)),'Preliminary SO66'!U206,VLOOKUP($DC209,'Audit Values'!$A$2:$AE$252,21,FALSE))","v":0},0,0,null,null,null,null,null,null,null,"D0417"]
[418,"McPherson","McPherson ",2225.9,0,2225.9,2267.8000000000002,0,2267.8000000000002,2287.4,{"$f":"IF(ISNA(VLOOKUP($DC210,'Audit Values'!$A$2:$AE$286,2,FALSE)),'Preliminary SO66'!B207,VLOOKUP($DC210,'Audit Values'!$A$2:$AE$286,31,FALSE))","v":2287.4},2287.4,{"$f":"IF(ISNA(VLOOKUP($DC210,'Audit Values'!$A$2:$AE$286,2,FALSE)),'Preliminary SO66'!Z207,VLOOKUP($DC210,'Audit Values'!$A$2:$AE$286,26,FALSE))","v":0},2287.4,{"$f":"IF(ISNA(VLOOKUP($DC210,'Audit Values'!$A$2:$AE$252,2,FALSE)),'Preliminary SO66'!C207,IF(VLOOKUP($DC210,'Audit Values'!$A$2:$AE$252,28,FALSE)=\"\",VLOOKUP($DC210,'Audit Values'!$A$2:$AE$252,3,FALSE),VLOOKUP($DC210,'Audit Values'!$A$2:$AE$252,28,FALSE)))","v":9},2296.4,2296.4,2296.4,2296.4,0,80.5,0,80.5,{"$f":"IF(ISNA(VLOOKUP($DC210,'Audit Values'!$A$2:$AE$252,2,FALSE)),'Preliminary SO66'!D207,VLOOKUP($DC210,'Audit Values'!$A$2:$AE$252,4,FALSE))","v":609.20000000000005},{"$f":"ROUND((X210/6)*Weightings!$M$6,1)","v":50.8},{"$f":"IF(ISNA(VLOOKUP($DC210,'Audit Values'!$A$2:$AE$252,2,FALSE)),'Preliminary SO66'!F207,VLOOKUP($DC210,'Audit Values'!$A$2:$AE$252,6,FALSE))","v":78.400000000000006},{"$f":"ROUND((Z210/6)*Weightings!$M$7,1)","v":5.2},{"$f":"IF(ISNA(VLOOKUP($DC210,'Audit Values'!$A$2:$AE$299,2,FALSE)),'Preliminary SO66'!H207,VLOOKUP($DC210,'Audit Values'!$A$2:$AE$299,9,FALSE))","v":724},{"$f":"ROUND(AB210*Weightings!$M$8,1)","v":330.1},0,0,{"$f":"AE210*Weightings!$M$9","v":0},{"$f":"IF(ISNA(VLOOKUP($DC210,'Audit Values'!$A$2:$AE$252,2,FALSE)),'Preliminary SO66'!L207,VLOOKUP($DC210,'Audit Values'!$A$2:$AE$252,12,FALSE))","v":0},{"$f":"ROUND(AG210*Weightings!$M$10,1)","v":0},{"$f":"IF(ISNA(VLOOKUP($DC210,'Audit Values'!$A$2:$AE$252,2,FALSE)),'Preliminary SO66'!O207,VLOOKUP($DC210,'Audit Values'!$A$2:$AE$252,15,FALSE))","v":142},40.799999999999997,{"$f":"CG210/Weightings!$M$5","v":0},{"$f":"CH210/Weightings!$M$5","v":0},{"$f":"CL210/Weightings!$M$5","v":0},0,{"$f":"IF(ISNA(VLOOKUP($DC210,'Audit Values'!$A$2:$AE$252,2,FALSE)),'Preliminary SO66'!X207,VLOOKUP($DC210,'Audit Values'!$A$2:$AE$252,24,FALSE))","v":0},2693574,{"$f":"AP210/Weightings!$M$5","v":699.3},2803.8,3503.1,3503.1,0,{"$f":"IF(ISNA(VLOOKUP($DC210,'Audit Values'!$A$2:$AC$299,2,FALSE)),\"\",IF(AND(Weightings!H210>0,VLOOKUP($DC210,'Audit Values'!$A$2:$AC$299,29,FALSE)<Weightings!H210),Weightings!H210,VLOOKUP($DC210,'Audit Values'!$A$2:$AC$299,29,FALSE)))","v":18},{"$f":"IF(ISNA(VLOOKUP($DC210,'Audit Values'!$A$2:$AD$299,2,FALSE)),\"\",VLOOKUP($DC210,'Audit Values'!$A$2:$AD$299,30,FALSE))","v":"A"},{"$f":"IF(Weightings!G210=\"\",\"\",IF(Weightings!I210=\"Pending\",\"PX\",\"R\"))","v":""},{"$f":"AR210*Weightings!$M$5+AU210","v":10800238},{"$f":"AT210*Weightings!$M$5+AU210","v":13493941},{"$f":"IF(Weightings!G210>0,Weightings!G210,'Preliminary SO66'!AB207)","v":17468945},1131328,1505423,0,14832194,13493941,null,{"$f":"Weightings!E210","v":0},{"$f":"Weightings!F210","v":0},0,13493941,{"$f":"MAX(ROUND(((AR210-AN210-AO210)*Weightings!$M$12)+'2016legmax.xls'!AP210,0),ROUND((('2016legmax.xls'!AR210-'2016legmax.xls'!AN210-'2016legmax.xls'!AO210)*Weightings!$M$12)+Weightings!B210,0))","v":15282636},0.33,5043270,5028614,5028614,0.32900000000000001,0,false,0,0,0,false,0,0,0,80.5,156.30000000000001,0.91,{"$f":"IF(ROUND((Weightings!$P$5*CC210^Weightings!$P$6*Weightings!$P$8 ),2)<Weightings!$P$7,Weightings!$P$7,ROUND((Weightings!$P$5*CC210^Weightings!$P$6*Weightings!$P$8 ),2))","v":1105.81},{"$f":"ROUND(CD210/Weightings!$M$5,4)","v":0.28710000000000002},40.799999999999997,0,0,0,0,{"$f":"AS210*Weightings!$M$5*CJ210","v":0},0,0.315,14.7,0,0,0,{"$f":"IF(ISNA(VLOOKUP($DC210,'Audit Values'!$A$2:$AE$252,2,FALSE)),'Preliminary SO66'!T207,VLOOKUP($DC210,'Audit Values'!$A$2:$AE$252,20,FALSE))","v":0},{"$f":"IF(ISNA(VLOOKUP($DC210,'Audit Values'!$A$2:$AE$252,21,FALSE)),'Preliminary SO66'!U207,VLOOKUP($DC210,'Audit Values'!$A$2:$AE$252,21,FALSE))","v":0},0,0,null,null,null,null,null,null,null,"D0418"]
[419,"McPherson","Canton-Galva ",374.5,0,{"$f":"D211+E211","v":374.5},356.5,0,356.5,357.4,{"$f":"IF(ISNA(VLOOKUP($DC211,'Audit Values'!$A$2:$AE$252,2,FALSE)),'Preliminary SO66'!B208,VLOOKUP($DC211,'Audit Values'!$A$2:$AE$252,31,FALSE))","v":357.4},362.8,{"$f":"IF(ISNA(VLOOKUP($DC211,'Audit Values'!$A$2:$AE$252,2,FALSE)),'Preliminary SO66'!Z208,VLOOKUP($DC211,'Audit Values'!$A$2:$AE$252,26,FALSE))","v":0},362.8,{"$f":"IF(ISNA(VLOOKUP($DC211,'Audit Values'!$A$2:$AE$252,2,FALSE)),'Preliminary SO66'!C208,IF(VLOOKUP($DC211,'Audit Values'!$A$2:$AE$252,28,FALSE)=\"\",VLOOKUP($DC211,'Audit Values'!$A$2:$AE$252,3,FALSE),VLOOKUP($DC211,'Audit Values'!$A$2:$AE$252,28,FALSE)))","v":4},361.4,361.4,361.4,366.8,0,169.3,169.3,0,{"$f":"IF(ISNA(VLOOKUP($DC211,'Audit Values'!$A$2:$AE$252,2,FALSE)),'Preliminary SO66'!D208,VLOOKUP($DC211,'Audit Values'!$A$2:$AE$252,4,FALSE))","v":118.4},{"$f":"ROUND((X211/6)*Weightings!$M$6,1)","v":9.9},{"$f":"IF(ISNA(VLOOKUP($DC211,'Audit Values'!$A$2:$AE$252,2,FALSE)),'Preliminary SO66'!F208,VLOOKUP($DC211,'Audit Values'!$A$2:$AE$252,6,FALSE))","v":0},{"$f":"ROUND((Z211/6)*Weightings!$M$7,1)","v":0},{"$f":"IF(ISNA(VLOOKUP($DC211,'Audit Values'!$A$2:$AE$252,2,FALSE)),'Preliminary SO66'!H208,VLOOKUP($DC211,'Audit Values'!$A$2:$AE$252,9,FALSE))","v":132},{"$f":"ROUND(AB211*Weightings!$M$8,1)","v":60.2},0.9,0,{"$f":"AE211*Weightings!$M$9","v":0},{"$f":"IF(ISNA(VLOOKUP($DC211,'Audit Values'!$A$2:$AE$252,2,FALSE)),'Preliminary SO66'!L208,VLOOKUP($DC211,'Audit Values'!$A$2:$AE$252,12,FALSE))","v":87.3},{"$f":"ROUND(AG211*Weightings!$M$10,1)","v":21.8},{"$f":"IF(ISNA(VLOOKUP($DC211,'Audit Values'!$A$2:$AE$252,2,FALSE)),'Preliminary SO66'!O208,VLOOKUP($DC211,'Audit Values'!$A$2:$AE$252,15,FALSE))","v":209},55.8,{"$f":"CG211/Weightings!$M$5","v":0},{"$f":"CH211/Weightings!$M$5","v":0},{"$f":"CL211/Weightings!$M$5","v":0},0,{"$f":"IF(ISNA(VLOOKUP($DC211,'Audit Values'!$A$2:$AE$252,2,FALSE)),'Preliminary SO66'!X208,VLOOKUP($DC211,'Audit Values'!$A$2:$AE$252,24,FALSE))","v":0},424119,{"$f":"AP211/Weightings!$M$5","v":110.1},684.7,794.8,794.8,0,{"$f":"IF(ISNA(VLOOKUP($DC211,'Audit Values'!$A$2:$AC$299,2,FALSE)),\"\",IF(AND(Weightings!H211>0,VLOOKUP($DC211,'Audit Values'!$A$2:$AC$299,29,FALSE)<Weightings!H211),Weightings!H211,VLOOKUP($DC211,'Audit Values'!$A$2:$AC$299,29,FALSE)))","v":2},{"$f":"IF(ISNA(VLOOKUP($DC211,'Audit Values'!$A$2:$AD$299,2,FALSE)),\"\",VLOOKUP($DC211,'Audit Values'!$A$2:$AD$299,30,FALSE))","v":"A"},{"$f":"IF(Weightings!G211=\"\",\"\",IF(Weightings!I211=\"Pending\",\"PX\",\"R\"))","v":""},{"$f":"AR211*Weightings!$M$5+AU211","v":2637464},{"$f":"AT211*Weightings!$M$5+AU211","v":3061570},{"$f":"IF(Weightings!G211>0,Weightings!G211,'Preliminary SO66'!AB208)","v":3642421},266257,195810,0,3180354,3061570,null,{"$f":"Weightings!E211","v":0},{"$f":"Weightings!F211","v":0},0,3061570,{"$f":"MAX(ROUND(((AR211-AN211-AO211)*Weightings!$M$12)+'2016legmax.xls'!AP211,0),ROUND((('2016legmax.xls'!AR211-'2016legmax.xls'!AN211-'2016legmax.xls'!AO211)*Weightings!$M$12)+Weightings!B211,0))","v":3498422},0.33,1154479,1151022,1151022,0.32900000000000001,0,false,0,0,0,true,82.665000000000006,0.46149099999999998,169.3,0,167.5,1.25,{"$f":"IF(ROUND((Weightings!$P$5*CC211^Weightings!$P$6*Weightings!$P$8 ),2)<Weightings!$P$7,Weightings!$P$7,ROUND((Weightings!$P$5*CC211^Weightings!$P$6*Weightings!$P$8 ),2))","v":1029.18},{"$f":"ROUND(CD211/Weightings!$M$5,4)","v":0.26719999999999999},55.8,0,0,0,0,{"$f":"AS211*Weightings!$M$5*CJ211","v":0},0,0.36,2.2000000000000002,0,0,0.9,{"$f":"IF(ISNA(VLOOKUP($DC211,'Audit Values'!$A$2:$AE$252,2,FALSE)),'Preliminary SO66'!T208,VLOOKUP($DC211,'Audit Values'!$A$2:$AE$252,20,FALSE))","v":0},{"$f":"IF(ISNA(VLOOKUP($DC211,'Audit Values'!$A$2:$AE$252,21,FALSE)),'Preliminary SO66'!U208,VLOOKUP($DC211,'Audit Values'!$A$2:$AE$252,21,FALSE))","v":0},0,0,null,null,null,null,null,null,null,"D0419"]
[420,"Osage","Osage City ",619.70000000000005,0,619.70000000000005,631,0,631,642.4,{"$f":"IF(ISNA(VLOOKUP($DC212,'Audit Values'!$A$2:$AE$252,2,FALSE)),'Preliminary SO66'!B209,VLOOKUP($DC212,'Audit Values'!$A$2:$AE$252,31,FALSE))","v":634.5},634.5,{"$f":"IF(ISNA(VLOOKUP($DC212,'Audit Values'!$A$2:$AE$252,2,FALSE)),'Preliminary SO66'!Z209,VLOOKUP($DC212,'Audit Values'!$A$2:$AE$252,26,FALSE))","v":0},634.5,{"$f":"IF(ISNA(VLOOKUP($DC212,'Audit Values'!$A$2:$AE$252,2,FALSE)),'Preliminary SO66'!C209,IF(VLOOKUP($DC212,'Audit Values'!$A$2:$AE$252,28,FALSE)=\"\",VLOOKUP($DC212,'Audit Values'!$A$2:$AE$252,3,FALSE),VLOOKUP($DC212,'Audit Values'!$A$2:$AE$252,28,FALSE)))","v":0},634.5,642.4,642.4,634.5,7.9,235.1,235.1,0,{"$f":"IF(ISNA(VLOOKUP($DC212,'Audit Values'!$A$2:$AE$252,2,FALSE)),'Preliminary SO66'!D209,VLOOKUP($DC212,'Audit Values'!$A$2:$AE$252,4,FALSE))","v":90.6},{"$f":"ROUND((X212/6)*Weightings!$M$6,1)","v":7.6},{"$f":"IF(ISNA(VLOOKUP($DC212,'Audit Values'!$A$2:$AE$252,2,FALSE)),'Preliminary SO66'!F209,VLOOKUP($DC212,'Audit Values'!$A$2:$AE$252,6,FALSE))","v":0},{"$f":"ROUND((Z212/6)*Weightings!$M$7,1)","v":0},{"$f":"IF(ISNA(VLOOKUP($DC212,'Audit Values'!$A$2:$AE$252,2,FALSE)),'Preliminary SO66'!H209,VLOOKUP($DC212,'Audit Values'!$A$2:$AE$252,9,FALSE))","v":281},{"$f":"ROUND(AB212*Weightings!$M$8,1)","v":128.1},18.3,0,{"$f":"AE212*Weightings!$M$9","v":0},{"$f":"IF(ISNA(VLOOKUP($DC212,'Audit Values'!$A$2:$AE$252,2,FALSE)),'Preliminary SO66'!L209,VLOOKUP($DC212,'Audit Values'!$A$2:$AE$252,12,FALSE))","v":19.100000000000001},{"$f":"ROUND(AG212*Weightings!$M$10,1)","v":4.8},{"$f":"IF(ISNA(VLOOKUP($DC212,'Audit Values'!$A$2:$AE$252,2,FALSE)),'Preliminary SO66'!O209,VLOOKUP($DC212,'Audit Values'!$A$2:$AE$252,15,FALSE))","v":71.5},22.9,{"$f":"CG212/Weightings!$M$5","v":0},{"$f":"CH212/Weightings!$M$5","v":0},{"$f":"CL212/Weightings!$M$5","v":0},8.3000000000000007,{"$f":"IF(ISNA(VLOOKUP($DC212,'Audit Values'!$A$2:$AE$252,2,FALSE)),'Preliminary SO66'!X209,VLOOKUP($DC212,'Audit Values'!$A$2:$AE$252,24,FALSE))","v":0},734700,{"$f":"AP212/Weightings!$M$5","v":190.7},1059.5999999999999,1250.3,1250.3,0,{"$f":"IF(ISNA(VLOOKUP($DC212,'Audit Values'!$A$2:$AC$299,2,FALSE)),\"\",IF(AND(Weightings!H212>0,VLOOKUP($DC212,'Audit Values'!$A$2:$AC$299,29,FALSE)<Weightings!H212),Weightings!H212,VLOOKUP($DC212,'Audit Values'!$A$2:$AC$299,29,FALSE)))","v":9},{"$f":"IF(ISNA(VLOOKUP($DC212,'Audit Values'!$A$2:$AD$299,2,FALSE)),\"\",VLOOKUP($DC212,'Audit Values'!$A$2:$AD$299,30,FALSE))","v":"A"},{"$f":"IF(Weightings!G212=\"\",\"\",IF(Weightings!I212=\"Pending\",\"PX\",\"R\"))","v":""},{"$f":"AR212*Weightings!$M$5+AU212","v":4081579},{"$f":"AT212*Weightings!$M$5+AU212","v":4816156},{"$f":"IF(Weightings!G212>0,Weightings!G212,'Preliminary SO66'!AB209)","v":6168566},998925,312574,36436,4820631,4816156,null,{"$f":"Weightings!E212","v":0},{"$f":"Weightings!F212","v":0},0,4816156,{"$f":"MAX(ROUND(((AR212-AN212-AO212)*Weightings!$M$12)+'2016legmax.xls'!AP212,0),ROUND((('2016legmax.xls'!AR212-'2016legmax.xls'!AN212-'2016legmax.xls'!AO212)*Weightings!$M$12)+Weightings!B212,0))","v":5542453},0.3,1662736,1623808,1623808,0.29299999999999998,0,false,0,0,0,true,413.94380000000001,0.37053999999999998,235.1,0,127.3,0.56000000000000005,{"$f":"IF(ROUND((Weightings!$P$5*CC212^Weightings!$P$6*Weightings!$P$8 ),2)<Weightings!$P$7,Weightings!$P$7,ROUND((Weightings!$P$5*CC212^Weightings!$P$6*Weightings!$P$8 ),2))","v":1234.17},{"$f":"ROUND(CD212/Weightings!$M$5,4)","v":0.32040000000000002},22.9,0,0,0,0,{"$f":"AS212*Weightings!$M$5*CJ212","v":0},0,0.443,5,0,0,18.3,{"$f":"IF(ISNA(VLOOKUP($DC212,'Audit Values'!$A$2:$AE$252,2,FALSE)),'Preliminary SO66'!T209,VLOOKUP($DC212,'Audit Values'!$A$2:$AE$252,20,FALSE))","v":6},{"$f":"IF(ISNA(VLOOKUP($DC212,'Audit Values'!$A$2:$AE$252,21,FALSE)),'Preliminary SO66'!U209,VLOOKUP($DC212,'Audit Values'!$A$2:$AE$252,21,FALSE))","v":0.9},1,7.9,null,null,null,null,null,null,null,"D0420"]
[421,"Osage","Lyndon ",428.5,0,428.5,399.5,0,399.5,396.5,{"$f":"IF(ISNA(VLOOKUP($DC213,'Audit Values'!$A$2:$AE$252,2,FALSE)),'Preliminary SO66'!B210,VLOOKUP($DC213,'Audit Values'!$A$2:$AE$252,31,FALSE))","v":396.5},408.2,{"$f":"IF(ISNA(VLOOKUP($DC213,'Audit Values'!$A$2:$AE$252,2,FALSE)),'Preliminary SO66'!Z210,VLOOKUP($DC213,'Audit Values'!$A$2:$AE$252,26,FALSE))","v":0},408.2,{"$f":"IF(ISNA(VLOOKUP($DC213,'Audit Values'!$A$2:$AE$252,2,FALSE)),'Preliminary SO66'!C210,IF(VLOOKUP($DC213,'Audit Values'!$A$2:$AE$252,28,FALSE)=\"\",VLOOKUP($DC213,'Audit Values'!$A$2:$AE$252,3,FALSE),VLOOKUP($DC213,'Audit Values'!$A$2:$AE$252,28,FALSE)))","v":0},396.5,396.5,396.5,408.2,0,182.6,182.6,0,{"$f":"IF(ISNA(VLOOKUP($DC213,'Audit Values'!$A$2:$AE$252,2,FALSE)),'Preliminary SO66'!D210,VLOOKUP($DC213,'Audit Values'!$A$2:$AE$252,4,FALSE))","v":44.5},{"$f":"ROUND((X213/6)*Weightings!$M$6,1)","v":3.7},{"$f":"IF(ISNA(VLOOKUP($DC213,'Audit Values'!$A$2:$AE$252,2,FALSE)),'Preliminary SO66'!F210,VLOOKUP($DC213,'Audit Values'!$A$2:$AE$252,6,FALSE))","v":0},{"$f":"ROUND((Z213/6)*Weightings!$M$7,1)","v":0},{"$f":"IF(ISNA(VLOOKUP($DC213,'Audit Values'!$A$2:$AE$252,2,FALSE)),'Preliminary SO66'!H210,VLOOKUP($DC213,'Audit Values'!$A$2:$AE$252,9,FALSE))","v":114},{"$f":"ROUND(AB213*Weightings!$M$8,1)","v":52},0,0,{"$f":"AE213*Weightings!$M$9","v":0},{"$f":"IF(ISNA(VLOOKUP($DC213,'Audit Values'!$A$2:$AE$252,2,FALSE)),'Preliminary SO66'!L210,VLOOKUP($DC213,'Audit Values'!$A$2:$AE$252,12,FALSE))","v":0},{"$f":"ROUND(AG213*Weightings!$M$10,1)","v":0},{"$f":"IF(ISNA(VLOOKUP($DC213,'Audit Values'!$A$2:$AE$252,2,FALSE)),'Preliminary SO66'!O210,VLOOKUP($DC213,'Audit Values'!$A$2:$AE$252,15,FALSE))","v":176},44.4,{"$f":"CG213/Weightings!$M$5","v":0},{"$f":"CH213/Weightings!$M$5","v":0},{"$f":"CL213/Weightings!$M$5","v":0},0,{"$f":"IF(ISNA(VLOOKUP($DC213,'Audit Values'!$A$2:$AE$252,2,FALSE)),'Preliminary SO66'!X210,VLOOKUP($DC213,'Audit Values'!$A$2:$AE$252,24,FALSE))","v":0},460316,{"$f":"AP213/Weightings!$M$5","v":119.5},690.9,810.4,810.4,0,{"$f":"IF(ISNA(VLOOKUP($DC213,'Audit Values'!$A$2:$AC$299,2,FALSE)),\"\",IF(AND(Weightings!H213>0,VLOOKUP($DC213,'Audit Values'!$A$2:$AC$299,29,FALSE)<Weightings!H213),Weightings!H213,VLOOKUP($DC213,'Audit Values'!$A$2:$AC$299,29,FALSE)))","v":7},{"$f":"IF(ISNA(VLOOKUP($DC213,'Audit Values'!$A$2:$AD$299,2,FALSE)),\"\",VLOOKUP($DC213,'Audit Values'!$A$2:$AD$299,30,FALSE))","v":"A"},{"$f":"IF(Weightings!G213=\"\",\"\",IF(Weightings!I213=\"Pending\",\"PX\",\"R\"))","v":""},{"$f":"AR213*Weightings!$M$5+AU213","v":2661347},{"$f":"AT213*Weightings!$M$5+AU213","v":3121661},{"$f":"IF(Weightings!G213>0,Weightings!G213,'Preliminary SO66'!AB210)","v":4236054},633120,196761,17774,3388399,3121661,null,{"$f":"Weightings!E213","v":0},{"$f":"Weightings!F213","v":0},0,3121661,{"$f":"MAX(ROUND(((AR213-AN213-AO213)*Weightings!$M$12)+'2016legmax.xls'!AP213,0),ROUND((('2016legmax.xls'!AR213-'2016legmax.xls'!AN213-'2016legmax.xls'!AO213)*Weightings!$M$12)+Weightings!B213,0))","v":3631178},0.3,1089353,1111848,1089353,0.3,0,false,0,0,0,true,133.89750000000001,0.44742500000000002,182.6,0,109,1.61,{"$f":"IF(ROUND((Weightings!$P$5*CC213^Weightings!$P$6*Weightings!$P$8 ),2)<Weightings!$P$7,Weightings!$P$7,ROUND((Weightings!$P$5*CC213^Weightings!$P$6*Weightings!$P$8 ),2))","v":971.91},{"$f":"ROUND(CD213/Weightings!$M$5,4)","v":0.25230000000000002},44.4,0,0,0,0,{"$f":"AS213*Weightings!$M$5*CJ213","v":0},0,0.27900000000000003,3.7,0,0,0,{"$f":"IF(ISNA(VLOOKUP($DC213,'Audit Values'!$A$2:$AE$252,2,FALSE)),'Preliminary SO66'!T210,VLOOKUP($DC213,'Audit Values'!$A$2:$AE$252,20,FALSE))","v":0},{"$f":"IF(ISNA(VLOOKUP($DC213,'Audit Values'!$A$2:$AE$252,21,FALSE)),'Preliminary SO66'!U210,VLOOKUP($DC213,'Audit Values'!$A$2:$AE$252,21,FALSE))","v":0},0,0,null,null,null,null,null,null,null,"D0421"]
[422,"Kiowa","Kiowa County ",232.5,0,232.5,229,0,229,428.5,{"$f":"IF(ISNA(VLOOKUP($DC214,'Audit Values'!$A$2:$AE$286,2,FALSE)),'Preliminary SO66'!B211,VLOOKUP($DC214,'Audit Values'!$A$2:$AE$286,31,FALSE))","v":232.5},232.5,{"$f":"IF(ISNA(VLOOKUP($DC214,'Audit Values'!$A$2:$AE$252,2,FALSE)),'Preliminary SO66'!Z211,VLOOKUP($DC214,'Audit Values'!$A$2:$AE$252,26,FALSE))","v":0},232.5,{"$f":"IF(ISNA(VLOOKUP($DC214,'Audit Values'!$A$2:$AE$252,2,FALSE)),'Preliminary SO66'!C211,IF(VLOOKUP($DC214,'Audit Values'!$A$2:$AE$252,28,FALSE)=\"\",VLOOKUP($DC214,'Audit Values'!$A$2:$AE$252,3,FALSE),VLOOKUP($DC214,'Audit Values'!$A$2:$AE$252,28,FALSE)))","v":0},232.5,428.5,428.5,232.5,196,154.19999999999999,154.19999999999999,0,{"$f":"IF(ISNA(VLOOKUP($DC214,'Audit Values'!$A$2:$AE$252,2,FALSE)),'Preliminary SO66'!D211,VLOOKUP($DC214,'Audit Values'!$A$2:$AE$252,4,FALSE))","v":64.599999999999994},{"$f":"ROUND((X214/6)*Weightings!$M$6,1)","v":5.4},{"$f":"IF(ISNA(VLOOKUP($DC214,'Audit Values'!$A$2:$AE$252,2,FALSE)),'Preliminary SO66'!F211,VLOOKUP($DC214,'Audit Values'!$A$2:$AE$252,6,FALSE))","v":0},{"$f":"ROUND((Z214/6)*Weightings!$M$7,1)","v":0},{"$f":"IF(ISNA(VLOOKUP($DC214,'Audit Values'!$A$2:$AE$252,2,FALSE)),'Preliminary SO66'!H211,VLOOKUP($DC214,'Audit Values'!$A$2:$AE$252,9,FALSE))","v":76},{"$f":"ROUND(AB214*Weightings!$M$8,1)","v":34.700000000000003},0,0,{"$f":"AE214*Weightings!$M$9","v":0},{"$f":"IF(ISNA(VLOOKUP($DC214,'Audit Values'!$A$2:$AE$252,2,FALSE)),'Preliminary SO66'!L211,VLOOKUP($DC214,'Audit Values'!$A$2:$AE$252,12,FALSE))","v":0},{"$f":"ROUND(AG214*Weightings!$M$10,1)","v":0},{"$f":"IF(ISNA(VLOOKUP($DC214,'Audit Values'!$A$2:$AE$252,2,FALSE)),'Preliminary SO66'!O211,VLOOKUP($DC214,'Audit Values'!$A$2:$AE$252,15,FALSE))","v":85},35.200000000000003,{"$f":"CG214/Weightings!$M$5","v":0},{"$f":"CH214/Weightings!$M$5","v":0},{"$f":"CL214/Weightings!$M$5","v":0},205.8,{"$f":"IF(ISNA(VLOOKUP($DC214,'Audit Values'!$A$2:$AE$252,2,FALSE)),'Preliminary SO66'!X211,VLOOKUP($DC214,'Audit Values'!$A$2:$AE$252,24,FALSE))","v":0},296348,{"$f":"AP214/Weightings!$M$5","v":76.900000000000006},667.8,744.7,744.7,0,{"$f":"IF(ISNA(VLOOKUP($DC214,'Audit Values'!$A$2:$AC$299,2,FALSE)),\"\",IF(AND(Weightings!H214>0,VLOOKUP($DC214,'Audit Values'!$A$2:$AC$299,29,FALSE)<Weightings!H214),Weightings!H214,VLOOKUP($DC214,'Audit Values'!$A$2:$AC$299,29,FALSE)))","v":18},{"$f":"IF(ISNA(VLOOKUP($DC214,'Audit Values'!$A$2:$AD$299,2,FALSE)),\"\",VLOOKUP($DC214,'Audit Values'!$A$2:$AD$299,30,FALSE))","v":"A"},{"$f":"IF(Weightings!G214=\"\",\"\",IF(Weightings!I214=\"Pending\",\"PX\",\"R\"))","v":""},{"$f":"Exceptions!E76+AU214","v":3146455},{"$f":"Exceptions!E78+AU214","v":3442674},{"$f":"IF(Weightings!G214>0,Weightings!G214,'Preliminary SO66'!AB211)","v":3896359},0,205240,0,3691119,3442674,null,{"$f":"Weightings!E214","v":0},{"$f":"Weightings!F214","v":0},0,3442674,{"$f":"MAX(ROUND(((AR214-AN214-AO214)*Weightings!$M$12)+'2016legmax.xls'!AP214,0),ROUND((('2016legmax.xls'!AR214-'2016legmax.xls'!AN214-'2016legmax.xls'!AO214)*Weightings!$M$12)+Weightings!B214,0))","v":2370728},0.3,711218,711197,711197,0.3,0,true,1279.288,0.66310999999999998,154.19999999999999,false,0,0,0,0,459.8,0.18,{"$f":"IF(ROUND((Weightings!$P$5*CC214^Weightings!$P$6*Weightings!$P$8 ),2)<Weightings!$P$7,Weightings!$P$7,ROUND((Weightings!$P$5*CC214^Weightings!$P$6*Weightings!$P$8 ),2))","v":1595.42},{"$f":"ROUND(CD214/Weightings!$M$5,4)","v":0.41420000000000001},35.200000000000003,0,0,0,0,{"$f":"AS214*Weightings!$M$5*CJ214","v":0},0,0.32700000000000001,0.5,0,0,0,{"$f":"IF(ISNA(VLOOKUP($DC214,'Audit Values'!$A$2:$AE$299,2,FALSE)),'Preliminary SO66'!T211,VLOOKUP($DC214,'Audit Values'!$A$2:$AE$299,20,FALSE))","v":88},{"$f":"IF(ISNA(VLOOKUP($DC214,'Audit Values'!$A$2:$AE$299,21,FALSE)),'Preliminary SO66'!U211,VLOOKUP($DC214,'Audit Values'!$A$2:$AE$299,21,FALSE))","v":9},99,196,null,null,null,null,null,null,null,"D0422"]
[423,"McPherson","Moundridge ",391,0,391,401.2,0,401.2,377.3,{"$f":"IF(ISNA(VLOOKUP($DC215,'Audit Values'!$A$2:$AE$286,2,FALSE)),'Preliminary SO66'!B212,VLOOKUP($DC215,'Audit Values'!$A$2:$AE$286,31,FALSE))","v":377.3},401.2,{"$f":"IF(ISNA(VLOOKUP($DC215,'Audit Values'!$A$2:$AE$252,2,FALSE)),'Preliminary SO66'!Z212,VLOOKUP($DC215,'Audit Values'!$A$2:$AE$252,26,FALSE))","v":0},401.2,{"$f":"IF(ISNA(VLOOKUP($DC215,'Audit Values'!$A$2:$AE$286,2,FALSE)),'Preliminary SO66'!C212,IF(VLOOKUP($DC215,'Audit Values'!$A$2:$AE$286,28,FALSE)=\"\",VLOOKUP($DC215,'Audit Values'!$A$2:$AE$286,3,FALSE),VLOOKUP($DC215,'Audit Values'!$A$2:$AE$286,28,FALSE)))","v":5},382.3,382.3,382.3,406.2,0,182,182,0,{"$f":"IF(ISNA(VLOOKUP($DC215,'Audit Values'!$A$2:$AE$252,2,FALSE)),'Preliminary SO66'!D212,VLOOKUP($DC215,'Audit Values'!$A$2:$AE$252,4,FALSE))","v":79.099999999999994},{"$f":"ROUND((X215/6)*Weightings!$M$6,1)","v":6.6},{"$f":"IF(ISNA(VLOOKUP($DC215,'Audit Values'!$A$2:$AE$252,2,FALSE)),'Preliminary SO66'!F212,VLOOKUP($DC215,'Audit Values'!$A$2:$AE$252,6,FALSE))","v":2.1},{"$f":"ROUND((Z215/6)*Weightings!$M$7,1)","v":0.1},{"$f":"IF(ISNA(VLOOKUP($DC215,'Audit Values'!$A$2:$AE$299,2,FALSE)),'Preliminary SO66'!H212,VLOOKUP($DC215,'Audit Values'!$A$2:$AE$299,9,FALSE))","v":97},{"$f":"ROUND(AB215*Weightings!$M$8,1)","v":44.2},0,0,{"$f":"AE215*Weightings!$M$9","v":0},{"$f":"IF(ISNA(VLOOKUP($DC215,'Audit Values'!$A$2:$AE$252,2,FALSE)),'Preliminary SO66'!L212,VLOOKUP($DC215,'Audit Values'!$A$2:$AE$252,12,FALSE))","v":0},{"$f":"ROUND(AG215*Weightings!$M$10,1)","v":0},{"$f":"IF(ISNA(VLOOKUP($DC215,'Audit Values'!$A$2:$AE$252,2,FALSE)),'Preliminary SO66'!O212,VLOOKUP($DC215,'Audit Values'!$A$2:$AE$252,15,FALSE))","v":88},28.2,{"$f":"CG215/Weightings!$M$5","v":0},{"$f":"CH215/Weightings!$M$5","v":0},{"$f":"CL215/Weightings!$M$5","v":0},0,{"$f":"IF(ISNA(VLOOKUP($DC215,'Audit Values'!$A$2:$AE$252,2,FALSE)),'Preliminary SO66'!X212,VLOOKUP($DC215,'Audit Values'!$A$2:$AE$252,24,FALSE))","v":0},493704,{"$f":"AP215/Weightings!$M$5","v":128.19999999999999},667.3,795.5,795.5,0,{"$f":"IF(ISNA(VLOOKUP($DC215,'Audit Values'!$A$2:$AC$299,2,FALSE)),\"\",IF(AND(Weightings!H215>0,VLOOKUP($DC215,'Audit Values'!$A$2:$AC$299,29,FALSE)<Weightings!H215),Weightings!H215,VLOOKUP($DC215,'Audit Values'!$A$2:$AC$299,29,FALSE)))","v":18},{"$f":"IF(ISNA(VLOOKUP($DC215,'Audit Values'!$A$2:$AD$299,2,FALSE)),\"\",VLOOKUP($DC215,'Audit Values'!$A$2:$AD$299,30,FALSE))","v":"A"},{"$f":"IF(Weightings!G215=\"\",\"\",IF(Weightings!I215=\"Pending\",\"PX\",\"R\"))","v":""},{"$f":"AR215*Weightings!$M$5+AU215","v":2570440},{"$f":"AT215*Weightings!$M$5+AU215","v":3064266},{"$f":"IF(Weightings!G215>0,Weightings!G215,'Preliminary SO66'!AB212)","v":3490589},120456,185794,0,3184339,3064266,null,{"$f":"Weightings!E215","v":0},{"$f":"Weightings!F215","v":0},0,3064266,{"$f":"MAX(ROUND(((AR215-AN215-AO215)*Weightings!$M$12)+'2016legmax.xls'!AP215,0),ROUND((('2016legmax.xls'!AR215-'2016legmax.xls'!AN215-'2016legmax.xls'!AO215)*Weightings!$M$12)+Weightings!B215,0))","v":3489881},0.33,1151661,1153795,1151661,0.33,0,false,0,0,0,true,131.42250000000001,0.44810499999999998,182,0,156,0.56000000000000005,{"$f":"IF(ROUND((Weightings!$P$5*CC215^Weightings!$P$6*Weightings!$P$8 ),2)<Weightings!$P$7,Weightings!$P$7,ROUND((Weightings!$P$5*CC215^Weightings!$P$6*Weightings!$P$8 ),2))","v":1234.17},{"$f":"ROUND(CD215/Weightings!$M$5,4)","v":0.32040000000000002},28.2,0,0,0,0,{"$f":"AS215*Weightings!$M$5*CJ215","v":0},0,0.23899999999999999,2.6,0,0,0,{"$f":"IF(ISNA(VLOOKUP($DC215,'Audit Values'!$A$2:$AE$286,2,FALSE)),'Preliminary SO66'!T212,VLOOKUP($DC215,'Audit Values'!$A$2:$AE$286,20,FALSE))","v":0},{"$f":"IF(ISNA(VLOOKUP($DC215,'Audit Values'!$A$2:$AE$286,21,FALSE)),'Preliminary SO66'!U212,VLOOKUP($DC215,'Audit Values'!$A$2:$AE$286,21,FALSE))","v":0},0,0,null,null,null,null,null,null,null,"D0423"]
[426,"Republic","Pike Valley ",212,0,212,205.5,0,205.5,211.5,{"$f":"IF(ISNA(VLOOKUP($DC216,'Audit Values'!$A$2:$AE$252,2,FALSE)),'Preliminary SO66'!B213,VLOOKUP($DC216,'Audit Values'!$A$2:$AE$252,31,FALSE))","v":211.5},211.5,{"$f":"IF(ISNA(VLOOKUP($DC216,'Audit Values'!$A$2:$AE$252,2,FALSE)),'Preliminary SO66'!Z213,VLOOKUP($DC216,'Audit Values'!$A$2:$AE$252,26,FALSE))","v":0},211.5,{"$f":"IF(ISNA(VLOOKUP($DC216,'Audit Values'!$A$2:$AE$252,2,FALSE)),'Preliminary SO66'!C213,IF(VLOOKUP($DC216,'Audit Values'!$A$2:$AE$252,28,FALSE)=\"\",VLOOKUP($DC216,'Audit Values'!$A$2:$AE$252,3,FALSE),VLOOKUP($DC216,'Audit Values'!$A$2:$AE$252,28,FALSE)))","v":0},211.5,211.5,211.5,211.5,0,152,152,0,{"$f":"IF(ISNA(VLOOKUP($DC216,'Audit Values'!$A$2:$AE$252,2,FALSE)),'Preliminary SO66'!D213,VLOOKUP($DC216,'Audit Values'!$A$2:$AE$252,4,FALSE))","v":60.3},{"$f":"ROUND((X216/6)*Weightings!$M$6,1)","v":5},{"$f":"IF(ISNA(VLOOKUP($DC216,'Audit Values'!$A$2:$AE$252,2,FALSE)),'Preliminary SO66'!F213,VLOOKUP($DC216,'Audit Values'!$A$2:$AE$252,6,FALSE))","v":1},{"$f":"ROUND((Z216/6)*Weightings!$M$7,1)","v":0.1},{"$f":"IF(ISNA(VLOOKUP($DC216,'Audit Values'!$A$2:$AE$252,2,FALSE)),'Preliminary SO66'!H213,VLOOKUP($DC216,'Audit Values'!$A$2:$AE$252,9,FALSE))","v":93},{"$f":"ROUND(AB216*Weightings!$M$8,1)","v":42.4},5.9,0,{"$f":"AE216*Weightings!$M$9","v":0},{"$f":"IF(ISNA(VLOOKUP($DC216,'Audit Values'!$A$2:$AE$252,2,FALSE)),'Preliminary SO66'!L213,VLOOKUP($DC216,'Audit Values'!$A$2:$AE$252,12,FALSE))","v":0},{"$f":"ROUND(AG216*Weightings!$M$10,1)","v":0},{"$f":"IF(ISNA(VLOOKUP($DC216,'Audit Values'!$A$2:$AE$252,2,FALSE)),'Preliminary SO66'!O213,VLOOKUP($DC216,'Audit Values'!$A$2:$AE$252,15,FALSE))","v":93},30.9,{"$f":"CG216/Weightings!$M$5","v":0},{"$f":"CH216/Weightings!$M$5","v":0},{"$f":"CL216/Weightings!$M$5","v":0},0,{"$f":"IF(ISNA(VLOOKUP($DC216,'Audit Values'!$A$2:$AE$252,2,FALSE)),'Preliminary SO66'!X213,VLOOKUP($DC216,'Audit Values'!$A$2:$AE$252,24,FALSE))","v":0},185437,{"$f":"AP216/Weightings!$M$5","v":48.1},447.8,495.9,495.9,0,{"$f":"IF(ISNA(VLOOKUP($DC216,'Audit Values'!$A$2:$AC$299,2,FALSE)),\"\",IF(AND(Weightings!H216>0,VLOOKUP($DC216,'Audit Values'!$A$2:$AC$299,29,FALSE)<Weightings!H216),Weightings!H216,VLOOKUP($DC216,'Audit Values'!$A$2:$AC$299,29,FALSE)))","v":16},{"$f":"IF(ISNA(VLOOKUP($DC216,'Audit Values'!$A$2:$AD$299,2,FALSE)),\"\",VLOOKUP($DC216,'Audit Values'!$A$2:$AD$299,30,FALSE))","v":"A"},{"$f":"IF(Weightings!G216=\"\",\"\",IF(Weightings!I216=\"Pending\",\"PX\",\"R\"))","v":""},{"$f":"AR216*Weightings!$M$5+AU216","v":1724926},{"$f":"AT216*Weightings!$M$5+AU216","v":1910207},{"$f":"IF(Weightings!G216>0,Weightings!G216,'Preliminary SO66'!AB213)","v":2310823},205137,118186,2024,1985476,1910207,null,{"$f":"Weightings!E216","v":0},{"$f":"Weightings!F216","v":0},0,1910207,{"$f":"MAX(ROUND(((AR216-AN216-AO216)*Weightings!$M$12)+'2016legmax.xls'!AP216,0),ROUND((('2016legmax.xls'!AR216-'2016legmax.xls'!AN216-'2016legmax.xls'!AO216)*Weightings!$M$12)+Weightings!B216,0))","v":2301980},0.3,{"$f":"BL216*BM216","v":690594},686149,686149,0.29809999999999998,0,true,1076.5329999999999,0.71877500000000005,152,false,0,0,0,0,194.8,0.48,{"$f":"IF(ROUND((Weightings!$P$5*CC216^Weightings!$P$6*Weightings!$P$8 ),2)<Weightings!$P$7,Weightings!$P$7,ROUND((Weightings!$P$5*CC216^Weightings!$P$6*Weightings!$P$8 ),2))","v":1277.97},{"$f":"ROUND(CD216/Weightings!$M$5,4)","v":0.33179999999999998},30.9,0,0,0,0,{"$f":"AS216*Weightings!$M$5*CJ216","v":0},0,0.44,1.1000000000000001,0,0,5.9,{"$f":"IF(ISNA(VLOOKUP($DC216,'Audit Values'!$A$2:$AE$252,2,FALSE)),'Preliminary SO66'!T213,VLOOKUP($DC216,'Audit Values'!$A$2:$AE$252,20,FALSE))","v":0},{"$f":"IF(ISNA(VLOOKUP($DC216,'Audit Values'!$A$2:$AE$252,21,FALSE)),'Preliminary SO66'!U213,VLOOKUP($DC216,'Audit Values'!$A$2:$AE$252,21,FALSE))","v":0},0,0,null,null,null,null,null,null,null,"D0426"]
[428,"Barton","Great Bend ",2984.1,0,2984.1,3004,0,3004,2924.5,{"$f":"IF(ISNA(VLOOKUP($DC217,'Audit Values'!$A$2:$AE$252,2,FALSE)),'Preliminary SO66'!B214,VLOOKUP($DC217,'Audit Values'!$A$2:$AE$252,31,FALSE))","v":2924.5},3004,{"$f":"IF(ISNA(VLOOKUP($DC217,'Audit Values'!$A$2:$AE$252,2,FALSE)),'Preliminary SO66'!Z214,VLOOKUP($DC217,'Audit Values'!$A$2:$AE$252,26,FALSE))","v":0},3004,{"$f":"IF(ISNA(VLOOKUP($DC217,'Audit Values'!$A$2:$AE$252,2,FALSE)),'Preliminary SO66'!C214,IF(VLOOKUP($DC217,'Audit Values'!$A$2:$AE$252,28,FALSE)=\"\",VLOOKUP($DC217,'Audit Values'!$A$2:$AE$252,3,FALSE),VLOOKUP($DC217,'Audit Values'!$A$2:$AE$252,28,FALSE)))","v":15},2939.5,2939.5,2939.5,3019,0,105.8,0,105.8,{"$f":"IF(ISNA(VLOOKUP($DC217,'Audit Values'!$A$2:$AE$252,2,FALSE)),'Preliminary SO66'!D214,VLOOKUP($DC217,'Audit Values'!$A$2:$AE$252,4,FALSE))","v":638.20000000000005},{"$f":"ROUND((X217/6)*Weightings!$M$6,1)","v":53.2},{"$f":"IF(ISNA(VLOOKUP($DC217,'Audit Values'!$A$2:$AE$252,2,FALSE)),'Preliminary SO66'!F214,VLOOKUP($DC217,'Audit Values'!$A$2:$AE$252,6,FALSE))","v":2412.9},{"$f":"ROUND((Z217/6)*Weightings!$M$7,1)","v":158.80000000000001},{"$f":"IF(ISNA(VLOOKUP($DC217,'Audit Values'!$A$2:$AE$252,2,FALSE)),'Preliminary SO66'!H214,VLOOKUP($DC217,'Audit Values'!$A$2:$AE$252,9,FALSE))","v":1732},{"$f":"ROUND(AB217*Weightings!$M$8,1)","v":789.8},181.9,0,{"$f":"AE217*Weightings!$M$9","v":0},{"$f":"IF(ISNA(VLOOKUP($DC217,'Audit Values'!$A$2:$AE$252,2,FALSE)),'Preliminary SO66'!L214,VLOOKUP($DC217,'Audit Values'!$A$2:$AE$252,12,FALSE))","v":0},{"$f":"ROUND(AG217*Weightings!$M$10,1)","v":0},{"$f":"IF(ISNA(VLOOKUP($DC217,'Audit Values'!$A$2:$AE$252,2,FALSE)),'Preliminary SO66'!O214,VLOOKUP($DC217,'Audit Values'!$A$2:$AE$252,15,FALSE))","v":194},54.3,{"$f":"CG217/Weightings!$M$5","v":0},{"$f":"CH217/Weightings!$M$5","v":0},{"$f":"CL217/Weightings!$M$5","v":0},0,{"$f":"IF(ISNA(VLOOKUP($DC217,'Audit Values'!$A$2:$AE$252,2,FALSE)),'Preliminary SO66'!X214,VLOOKUP($DC217,'Audit Values'!$A$2:$AE$252,24,FALSE))","v":0},2287743,{"$f":"AP217/Weightings!$M$5","v":593.9},4362.8,4956.7,4956.7,0,{"$f":"IF(ISNA(VLOOKUP($DC217,'Audit Values'!$A$2:$AC$299,2,FALSE)),\"\",IF(AND(Weightings!H217>0,VLOOKUP($DC217,'Audit Values'!$A$2:$AC$299,29,FALSE)<Weightings!H217),Weightings!H217,VLOOKUP($DC217,'Audit Values'!$A$2:$AC$299,29,FALSE)))","v":6},{"$f":"IF(ISNA(VLOOKUP($DC217,'Audit Values'!$A$2:$AD$299,2,FALSE)),\"\",VLOOKUP($DC217,'Audit Values'!$A$2:$AD$299,30,FALSE))","v":"A"},{"$f":"IF(Weightings!G217=\"\",\"\",IF(Weightings!I217=\"Pending\",\"PX\",\"R\"))","v":""},{"$f":"AR217*Weightings!$M$5+AU217","v":16805506},{"$f":"AT217*Weightings!$M$5+AU217","v":19093208},{"$f":"IF(Weightings!G217>0,Weightings!G217,'Preliminary SO66'!AB214)","v":25801720},3586820,2063776,155700,19995424,19093208,null,{"$f":"Weightings!E217","v":0},{"$f":"Weightings!F217","v":0},0,19093208,{"$f":"MAX(ROUND(((AR217-AN217-AO217)*Weightings!$M$12)+'2016legmax.xls'!AP217,0),ROUND((('2016legmax.xls'!AR217-'2016legmax.xls'!AN217-'2016legmax.xls'!AO217)*Weightings!$M$12)+Weightings!B217,0))","v":21876715},0.3,6563015,6499570,6499570,0.29709999999999998,0,false,0,0,0,false,0,0,0,105.8,190,1.02,{"$f":"IF(ROUND((Weightings!$P$5*CC217^Weightings!$P$6*Weightings!$P$8 ),2)<Weightings!$P$7,Weightings!$P$7,ROUND((Weightings!$P$5*CC217^Weightings!$P$6*Weightings!$P$8 ),2))","v":1077.6300000000001},{"$f":"ROUND(CD217/Weightings!$M$5,4)","v":0.27979999999999999},54.3,0,0,0,0,{"$f":"AS217*Weightings!$M$5*CJ217","v":0},0,0.57399999999999995,15.9,181.9,0,0,{"$f":"IF(ISNA(VLOOKUP($DC217,'Audit Values'!$A$2:$AE$252,2,FALSE)),'Preliminary SO66'!T214,VLOOKUP($DC217,'Audit Values'!$A$2:$AE$252,20,FALSE))","v":0},{"$f":"IF(ISNA(VLOOKUP($DC217,'Audit Values'!$A$2:$AE$252,21,FALSE)),'Preliminary SO66'!U214,VLOOKUP($DC217,'Audit Values'!$A$2:$AE$252,21,FALSE))","v":0},0,0,null,null,null,null,null,null,null,"D0428"]
[429,"Doniphan","Troy Public Schools ",324,0,324,317,0,317,326.5,{"$f":"IF(ISNA(VLOOKUP($DC218,'Audit Values'!$A$2:$AE$252,2,FALSE)),'Preliminary SO66'!B215,VLOOKUP($DC218,'Audit Values'!$A$2:$AE$252,31,FALSE))","v":326.5},326.5,{"$f":"IF(ISNA(VLOOKUP($DC218,'Audit Values'!$A$2:$AE$252,2,FALSE)),'Preliminary SO66'!Z215,VLOOKUP($DC218,'Audit Values'!$A$2:$AE$252,26,FALSE))","v":0},326.5,{"$f":"IF(ISNA(VLOOKUP($DC218,'Audit Values'!$A$2:$AE$252,2,FALSE)),'Preliminary SO66'!C215,IF(VLOOKUP($DC218,'Audit Values'!$A$2:$AE$252,28,FALSE)=\"\",VLOOKUP($DC218,'Audit Values'!$A$2:$AE$252,3,FALSE),VLOOKUP($DC218,'Audit Values'!$A$2:$AE$252,28,FALSE)))","v":0},326.5,326.5,326.5,326.5,0,155.1,155.1,0,{"$f":"IF(ISNA(VLOOKUP($DC218,'Audit Values'!$A$2:$AE$252,2,FALSE)),'Preliminary SO66'!D215,VLOOKUP($DC218,'Audit Values'!$A$2:$AE$252,4,FALSE))","v":103.1},{"$f":"ROUND((X218/6)*Weightings!$M$6,1)","v":8.6},{"$f":"IF(ISNA(VLOOKUP($DC218,'Audit Values'!$A$2:$AE$252,2,FALSE)),'Preliminary SO66'!F215,VLOOKUP($DC218,'Audit Values'!$A$2:$AE$252,6,FALSE))","v":0},{"$f":"ROUND((Z218/6)*Weightings!$M$7,1)","v":0},{"$f":"IF(ISNA(VLOOKUP($DC218,'Audit Values'!$A$2:$AE$252,2,FALSE)),'Preliminary SO66'!H215,VLOOKUP($DC218,'Audit Values'!$A$2:$AE$252,9,FALSE))","v":102},{"$f":"ROUND(AB218*Weightings!$M$8,1)","v":46.5},0,0,{"$f":"AE218*Weightings!$M$9","v":0},{"$f":"IF(ISNA(VLOOKUP($DC218,'Audit Values'!$A$2:$AE$252,2,FALSE)),'Preliminary SO66'!L215,VLOOKUP($DC218,'Audit Values'!$A$2:$AE$252,12,FALSE))","v":0},{"$f":"ROUND(AG218*Weightings!$M$10,1)","v":0},{"$f":"IF(ISNA(VLOOKUP($DC218,'Audit Values'!$A$2:$AE$252,2,FALSE)),'Preliminary SO66'!O215,VLOOKUP($DC218,'Audit Values'!$A$2:$AE$252,15,FALSE))","v":85},24.5,{"$f":"CG218/Weightings!$M$5","v":0},{"$f":"CH218/Weightings!$M$5","v":0},{"$f":"CL218/Weightings!$M$5","v":0},0,{"$f":"IF(ISNA(VLOOKUP($DC218,'Audit Values'!$A$2:$AE$252,2,FALSE)),'Preliminary SO66'!X215,VLOOKUP($DC218,'Audit Values'!$A$2:$AE$252,24,FALSE))","v":0},282063,{"$f":"AP218/Weightings!$M$5","v":73.2},561.20000000000005,634.4,634.4,0,{"$f":"IF(ISNA(VLOOKUP($DC218,'Audit Values'!$A$2:$AC$299,2,FALSE)),\"\",IF(AND(Weightings!H218>0,VLOOKUP($DC218,'Audit Values'!$A$2:$AC$299,29,FALSE)<Weightings!H218),Weightings!H218,VLOOKUP($DC218,'Audit Values'!$A$2:$AC$299,29,FALSE)))","v":14},{"$f":"IF(ISNA(VLOOKUP($DC218,'Audit Values'!$A$2:$AD$299,2,FALSE)),\"\",VLOOKUP($DC218,'Audit Values'!$A$2:$AD$299,30,FALSE))","v":"A"},{"$f":"IF(Weightings!G218=\"\",\"\",IF(Weightings!I218=\"Pending\",\"PX\",\"R\"))","v":""},{"$f":"AR218*Weightings!$M$5+AU218","v":2161742},{"$f":"AT218*Weightings!$M$5+AU218","v":2443709},{"$f":"IF(Weightings!G218>0,Weightings!G218,'Preliminary SO66'!AB215)","v":3118528},387021,125016,8693,2597798,2443709," ",{"$f":"Weightings!E218","v":0},{"$f":"Weightings!F218","v":0},0,2443709,{"$f":"MAX(ROUND(((AR218-AN218-AO218)*Weightings!$M$12)+'2016legmax.xls'!AP218,0),ROUND((('2016legmax.xls'!AR218-'2016legmax.xls'!AN218-'2016legmax.xls'!AO218)*Weightings!$M$12)+Weightings!B218,0))","v":2858459},0.3,857538,846088,846088,0.29599999999999999,0,false,0,0,0,true,32.793799999999997,0.47518300000000002,155.1,0,95,0.89,{"$f":"IF(ROUND((Weightings!$P$5*CC218^Weightings!$P$6*Weightings!$P$8 ),2)<Weightings!$P$7,Weightings!$P$7,ROUND((Weightings!$P$5*CC218^Weightings!$P$6*Weightings!$P$8 ),2))","v":1111.3800000000001},{"$f":"ROUND(CD218/Weightings!$M$5,4)","v":0.28849999999999998},24.5,0,0,0,0,{"$f":"AS218*Weightings!$M$5*CJ218","v":0},0,0.312,3.4,0,0,0,{"$f":"IF(ISNA(VLOOKUP($DC218,'Audit Values'!$A$2:$AE$252,2,FALSE)),'Preliminary SO66'!T215,VLOOKUP($DC218,'Audit Values'!$A$2:$AE$252,20,FALSE))","v":0},{"$f":"IF(ISNA(VLOOKUP($DC218,'Audit Values'!$A$2:$AE$252,21,FALSE)),'Preliminary SO66'!U215,VLOOKUP($DC218,'Audit Values'!$A$2:$AE$252,21,FALSE))","v":0},0,0,null,null,null,null,null,null,null,"D0429"]
[430,"Brown","South Brown County ",563.20000000000005,0,563.20000000000005,545.5,0,545.5,548,{"$f":"IF(ISNA(VLOOKUP($DC219,'Audit Values'!$A$2:$AE$252,2,FALSE)),'Preliminary SO66'!B216,VLOOKUP($DC219,'Audit Values'!$A$2:$AE$252,31,FALSE))","v":548},552.20000000000005,{"$f":"IF(ISNA(VLOOKUP($DC219,'Audit Values'!$A$2:$AE$252,2,FALSE)),'Preliminary SO66'!Z216,VLOOKUP($DC219,'Audit Values'!$A$2:$AE$252,26,FALSE))","v":0},552.20000000000005,{"$f":"IF(ISNA(VLOOKUP($DC219,'Audit Values'!$A$2:$AE$252,2,FALSE)),'Preliminary SO66'!C216,IF(VLOOKUP($DC219,'Audit Values'!$A$2:$AE$252,28,FALSE)=\"\",VLOOKUP($DC219,'Audit Values'!$A$2:$AE$252,3,FALSE),VLOOKUP($DC219,'Audit Values'!$A$2:$AE$252,28,FALSE)))","v":0},548,548,548,552.20000000000005,0,220.1,220.1,0,{"$f":"IF(ISNA(VLOOKUP($DC219,'Audit Values'!$A$2:$AE$252,2,FALSE)),'Preliminary SO66'!D216,VLOOKUP($DC219,'Audit Values'!$A$2:$AE$252,4,FALSE))","v":141.1},{"$f":"ROUND((X219/6)*Weightings!$M$6,1)","v":11.8},{"$f":"IF(ISNA(VLOOKUP($DC219,'Audit Values'!$A$2:$AE$252,2,FALSE)),'Preliminary SO66'!F216,VLOOKUP($DC219,'Audit Values'!$A$2:$AE$252,6,FALSE))","v":43.7},{"$f":"ROUND((Z219/6)*Weightings!$M$7,1)","v":2.9},{"$f":"IF(ISNA(VLOOKUP($DC219,'Audit Values'!$A$2:$AE$252,2,FALSE)),'Preliminary SO66'!H216,VLOOKUP($DC219,'Audit Values'!$A$2:$AE$252,9,FALSE))","v":342},{"$f":"ROUND(AB219*Weightings!$M$8,1)","v":156},35.9,0,{"$f":"AE219*Weightings!$M$9","v":0},{"$f":"IF(ISNA(VLOOKUP($DC219,'Audit Values'!$A$2:$AE$252,2,FALSE)),'Preliminary SO66'!L216,VLOOKUP($DC219,'Audit Values'!$A$2:$AE$252,12,FALSE))","v":0},{"$f":"ROUND(AG219*Weightings!$M$10,1)","v":0},{"$f":"IF(ISNA(VLOOKUP($DC219,'Audit Values'!$A$2:$AE$252,2,FALSE)),'Preliminary SO66'!O216,VLOOKUP($DC219,'Audit Values'!$A$2:$AE$252,15,FALSE))","v":304},73.5,{"$f":"CG219/Weightings!$M$5","v":0},{"$f":"CH219/Weightings!$M$5","v":0},{"$f":"CL219/Weightings!$M$5","v":0},0,{"$f":"IF(ISNA(VLOOKUP($DC219,'Audit Values'!$A$2:$AE$252,2,FALSE)),'Preliminary SO66'!X216,VLOOKUP($DC219,'Audit Values'!$A$2:$AE$252,24,FALSE))","v":0},757283,{"$f":"AP219/Weightings!$M$5","v":196.6},1052.4000000000001,1249,1249,0,{"$f":"IF(ISNA(VLOOKUP($DC219,'Audit Values'!$A$2:$AC$299,2,FALSE)),\"\",IF(AND(Weightings!H219>0,VLOOKUP($DC219,'Audit Values'!$A$2:$AC$299,29,FALSE)<Weightings!H219),Weightings!H219,VLOOKUP($DC219,'Audit Values'!$A$2:$AC$299,29,FALSE)))","v":2},{"$f":"IF(ISNA(VLOOKUP($DC219,'Audit Values'!$A$2:$AD$299,2,FALSE)),\"\",VLOOKUP($DC219,'Audit Values'!$A$2:$AD$299,30,FALSE))","v":"A"},{"$f":"IF(Weightings!G219=\"\",\"\",IF(Weightings!I219=\"Pending\",\"PX\",\"R\"))","v":""},{"$f":"AR219*Weightings!$M$5+AU219","v":4053845},{"$f":"AT219*Weightings!$M$5+AU219","v":4811148},{"$f":"IF(Weightings!G219>0,Weightings!G219,'Preliminary SO66'!AB216)","v":6449375},999998,339495,0,5109882,4811148,null,{"$f":"Weightings!E219","v":0},{"$f":"Weightings!F219","v":0},0,4811148,{"$f":"MAX(ROUND(((AR219-AN219-AO219)*Weightings!$M$12)+'2016legmax.xls'!AP219,0),ROUND((('2016legmax.xls'!AR219-'2016legmax.xls'!AN219-'2016legmax.xls'!AO219)*Weightings!$M$12)+Weightings!B219,0))","v":5555669},0.3,1666701,1680979,1666701,0.3,0,false,0,0,0,true,312.09750000000003,0.39850200000000002,220.1,0,156.4,1.94,{"$f":"IF(ROUND((Weightings!$P$5*CC219^Weightings!$P$6*Weightings!$P$8 ),2)<Weightings!$P$7,Weightings!$P$7,ROUND((Weightings!$P$5*CC219^Weightings!$P$6*Weightings!$P$8 ),2))","v":931.77},{"$f":"ROUND(CD219/Weightings!$M$5,4)","v":0.2419},73.5,0,0,0,0,{"$f":"AS219*Weightings!$M$5*CJ219","v":0},0,0.61899999999999999,3.5,35.9,0,0,{"$f":"IF(ISNA(VLOOKUP($DC219,'Audit Values'!$A$2:$AE$252,2,FALSE)),'Preliminary SO66'!T216,VLOOKUP($DC219,'Audit Values'!$A$2:$AE$252,20,FALSE))","v":0},{"$f":"IF(ISNA(VLOOKUP($DC219,'Audit Values'!$A$2:$AE$252,21,FALSE)),'Preliminary SO66'!U216,VLOOKUP($DC219,'Audit Values'!$A$2:$AE$252,21,FALSE))","v":0},0,0,null,null,null,null,null,null,null,"D0430"]
[431,"Barton","Hoisington ",668.5,0,668.5,680,0,680,692.4,{"$f":"IF(ISNA(VLOOKUP($DC220,'Audit Values'!$A$2:$AE$252,2,FALSE)),'Preliminary SO66'!B217,VLOOKUP($DC220,'Audit Values'!$A$2:$AE$252,31,FALSE))","v":692.4},692.4,{"$f":"IF(ISNA(VLOOKUP($DC220,'Audit Values'!$A$2:$AE$252,2,FALSE)),'Preliminary SO66'!Z217,VLOOKUP($DC220,'Audit Values'!$A$2:$AE$252,26,FALSE))","v":0},692.4,{"$f":"IF(ISNA(VLOOKUP($DC220,'Audit Values'!$A$2:$AE$252,2,FALSE)),'Preliminary SO66'!C217,IF(VLOOKUP($DC220,'Audit Values'!$A$2:$AE$252,28,FALSE)=\"\",VLOOKUP($DC220,'Audit Values'!$A$2:$AE$252,3,FALSE),VLOOKUP($DC220,'Audit Values'!$A$2:$AE$252,28,FALSE)))","v":10.5},702.9,702.9,702.9,702.9,0,244.1,244.1,0,{"$f":"IF(ISNA(VLOOKUP($DC220,'Audit Values'!$A$2:$AE$252,2,FALSE)),'Preliminary SO66'!D217,VLOOKUP($DC220,'Audit Values'!$A$2:$AE$252,4,FALSE))","v":370.8},{"$f":"ROUND((X220/6)*Weightings!$M$6,1)","v":30.9},{"$f":"IF(ISNA(VLOOKUP($DC220,'Audit Values'!$A$2:$AE$252,2,FALSE)),'Preliminary SO66'!F217,VLOOKUP($DC220,'Audit Values'!$A$2:$AE$252,6,FALSE))","v":3.2},{"$f":"ROUND((Z220/6)*Weightings!$M$7,1)","v":0.2},{"$f":"IF(ISNA(VLOOKUP($DC220,'Audit Values'!$A$2:$AE$252,2,FALSE)),'Preliminary SO66'!H217,VLOOKUP($DC220,'Audit Values'!$A$2:$AE$252,9,FALSE))","v":290},{"$f":"ROUND(AB220*Weightings!$M$8,1)","v":132.19999999999999},12.8,0,{"$f":"AE220*Weightings!$M$9","v":0},{"$f":"IF(ISNA(VLOOKUP($DC220,'Audit Values'!$A$2:$AE$252,2,FALSE)),'Preliminary SO66'!L217,VLOOKUP($DC220,'Audit Values'!$A$2:$AE$252,12,FALSE))","v":0},{"$f":"ROUND(AG220*Weightings!$M$10,1)","v":0},{"$f":"IF(ISNA(VLOOKUP($DC220,'Audit Values'!$A$2:$AE$252,2,FALSE)),'Preliminary SO66'!O217,VLOOKUP($DC220,'Audit Values'!$A$2:$AE$252,15,FALSE))","v":90},33,{"$f":"CG220/Weightings!$M$5","v":0},{"$f":"CH220/Weightings!$M$5","v":0},{"$f":"CL220/Weightings!$M$5","v":0},0,{"$f":"IF(ISNA(VLOOKUP($DC220,'Audit Values'!$A$2:$AE$252,2,FALSE)),'Preliminary SO66'!X217,VLOOKUP($DC220,'Audit Values'!$A$2:$AE$252,24,FALSE))","v":0},701160,{"$f":"AP220/Weightings!$M$5","v":182},1156.0999999999999,1338.1,1338.1,0,{"$f":"IF(ISNA(VLOOKUP($DC220,'Audit Values'!$A$2:$AC$299,2,FALSE)),\"\",IF(AND(Weightings!H220>0,VLOOKUP($DC220,'Audit Values'!$A$2:$AC$299,29,FALSE)<Weightings!H220),Weightings!H220,VLOOKUP($DC220,'Audit Values'!$A$2:$AC$299,29,FALSE)))","v":1},{"$f":"IF(ISNA(VLOOKUP($DC220,'Audit Values'!$A$2:$AD$299,2,FALSE)),\"\",VLOOKUP($DC220,'Audit Values'!$A$2:$AD$299,30,FALSE))","v":"A"},{"$f":"IF(Weightings!G220=\"\",\"\",IF(Weightings!I220=\"Pending\",\"PX\",\"R\"))","v":""},{"$f":"AR220*Weightings!$M$5+AU220","v":4453297},{"$f":"AT220*Weightings!$M$5+AU220","v":5154361},{"$f":"IF(Weightings!G220>0,Weightings!G220,'Preliminary SO66'!AB217)","v":6415855},612994,317636,19367,5465858,5154361,null,{"$f":"Weightings!E220","v":0},{"$f":"Weightings!F220","v":0},0,5154361,{"$f":"MAX(ROUND(((AR220-AN220-AO220)*Weightings!$M$12)+'2016legmax.xls'!AP220,0),ROUND((('2016legmax.xls'!AR220-'2016legmax.xls'!AN220-'2016legmax.xls'!AO220)*Weightings!$M$12)+Weightings!B220,0))","v":5892049},0.3,1767615,1743769,1743769,0.29599999999999999,0,false,0,0,0,true,498.58879999999999,0.347302,244.1,0,292,0.31,{"$f":"IF(ROUND((Weightings!$P$5*CC220^Weightings!$P$6*Weightings!$P$8 ),2)<Weightings!$P$7,Weightings!$P$7,ROUND((Weightings!$P$5*CC220^Weightings!$P$6*Weightings!$P$8 ),2))","v":1410.82},{"$f":"ROUND(CD220/Weightings!$M$5,4)","v":0.36630000000000001},33,0,0,0,0,{"$f":"AS220*Weightings!$M$5*CJ220","v":0},0,0.41299999999999998,2.4,0,0,12.8,{"$f":"IF(ISNA(VLOOKUP($DC220,'Audit Values'!$A$2:$AE$252,2,FALSE)),'Preliminary SO66'!T217,VLOOKUP($DC220,'Audit Values'!$A$2:$AE$252,20,FALSE))","v":0},{"$f":"IF(ISNA(VLOOKUP($DC220,'Audit Values'!$A$2:$AE$252,21,FALSE)),'Preliminary SO66'!U217,VLOOKUP($DC220,'Audit Values'!$A$2:$AE$252,21,FALSE))","v":0},0,0,null,null,null,null,null,null,null,"D0431"]
[432,"Ellis","Victoria ",267,0,267,281,0,281,286.5,{"$f":"IF(ISNA(VLOOKUP($DC221,'Audit Values'!$A$2:$AE$252,2,FALSE)),'Preliminary SO66'!B218,VLOOKUP($DC221,'Audit Values'!$A$2:$AE$252,31,FALSE))","v":286.5},286.5,{"$f":"IF(ISNA(VLOOKUP($DC221,'Audit Values'!$A$2:$AE$252,2,FALSE)),'Preliminary SO66'!Z218,VLOOKUP($DC221,'Audit Values'!$A$2:$AE$252,26,FALSE))","v":0},286.5,{"$f":"IF(ISNA(VLOOKUP($DC221,'Audit Values'!$A$2:$AE$252,2,FALSE)),'Preliminary SO66'!C218,IF(VLOOKUP($DC221,'Audit Values'!$A$2:$AE$252,28,FALSE)=\"\",VLOOKUP($DC221,'Audit Values'!$A$2:$AE$252,3,FALSE),VLOOKUP($DC221,'Audit Values'!$A$2:$AE$252,28,FALSE)))","v":0},286.5,286.5,286.5,286.5,0,149,149,0,{"$f":"IF(ISNA(VLOOKUP($DC221,'Audit Values'!$A$2:$AE$252,2,FALSE)),'Preliminary SO66'!D218,VLOOKUP($DC221,'Audit Values'!$A$2:$AE$252,4,FALSE))","v":180.7},{"$f":"ROUND((X221/6)*Weightings!$M$6,1)","v":15.1},{"$f":"IF(ISNA(VLOOKUP($DC221,'Audit Values'!$A$2:$AE$252,2,FALSE)),'Preliminary SO66'!F218,VLOOKUP($DC221,'Audit Values'!$A$2:$AE$252,6,FALSE))","v":0},{"$f":"ROUND((Z221/6)*Weightings!$M$7,1)","v":0},{"$f":"IF(ISNA(VLOOKUP($DC221,'Audit Values'!$A$2:$AE$252,2,FALSE)),'Preliminary SO66'!H218,VLOOKUP($DC221,'Audit Values'!$A$2:$AE$252,9,FALSE))","v":60},{"$f":"ROUND(AB221*Weightings!$M$8,1)","v":27.4},0,0,{"$f":"AE221*Weightings!$M$9","v":0},{"$f":"IF(ISNA(VLOOKUP($DC221,'Audit Values'!$A$2:$AE$252,2,FALSE)),'Preliminary SO66'!L218,VLOOKUP($DC221,'Audit Values'!$A$2:$AE$252,12,FALSE))","v":0},{"$f":"ROUND(AG221*Weightings!$M$10,1)","v":0},{"$f":"IF(ISNA(VLOOKUP($DC221,'Audit Values'!$A$2:$AE$252,2,FALSE)),'Preliminary SO66'!O218,VLOOKUP($DC221,'Audit Values'!$A$2:$AE$252,15,FALSE))","v":65},23.3,{"$f":"CG221/Weightings!$M$5","v":0},{"$f":"CH221/Weightings!$M$5","v":0},{"$f":"CL221/Weightings!$M$5","v":0},0,{"$f":"IF(ISNA(VLOOKUP($DC221,'Audit Values'!$A$2:$AE$252,2,FALSE)),'Preliminary SO66'!X218,VLOOKUP($DC221,'Audit Values'!$A$2:$AE$252,24,FALSE))","v":1},202329,{"$f":"AP221/Weightings!$M$5","v":52.5},502.3,554.79999999999995,554.79999999999995,0,{"$f":"IF(ISNA(VLOOKUP($DC221,'Audit Values'!$A$2:$AC$299,2,FALSE)),\"\",IF(AND(Weightings!H221>0,VLOOKUP($DC221,'Audit Values'!$A$2:$AC$299,29,FALSE)<Weightings!H221),Weightings!H221,VLOOKUP($DC221,'Audit Values'!$A$2:$AC$299,29,FALSE)))","v":9},{"$f":"IF(ISNA(VLOOKUP($DC221,'Audit Values'!$A$2:$AD$299,2,FALSE)),\"\",VLOOKUP($DC221,'Audit Values'!$A$2:$AD$299,30,FALSE))","v":"A"},{"$f":"IF(Weightings!G221=\"\",\"\",IF(Weightings!I221=\"Pending\",\"PX\",\"R\"))","v":""},{"$f":"AR221*Weightings!$M$5+AU221","v":1934860},{"$f":"AT221*Weightings!$M$5+AU221","v":2137090},{"$f":"IF(Weightings!G221>0,Weightings!G221,'Preliminary SO66'!AB218)","v":2327093},0,135332,0,2191761,2137090,null,{"$f":"Weightings!E221","v":0},{"$f":"Weightings!F221","v":0},0,2137090,{"$f":"MAX(ROUND(((AR221-AN221-AO221)*Weightings!$M$12)+'2016legmax.xls'!AP221,0),ROUND((('2016legmax.xls'!AR221-'2016legmax.xls'!AN221-'2016legmax.xls'!AO221)*Weightings!$M$12)+Weightings!B221,0))","v":2521504},0.3,756451,739614,739614,0.29330000000000001,0,true,1800.6579999999999,0.51997099999999996,149,false,0,0,0,0,193.3,0.34,{"$f":"IF(ROUND((Weightings!$P$5*CC221^Weightings!$P$6*Weightings!$P$8 ),2)<Weightings!$P$7,Weightings!$P$7,ROUND((Weightings!$P$5*CC221^Weightings!$P$6*Weightings!$P$8 ),2))","v":1381.64},{"$f":"ROUND(CD221/Weightings!$M$5,4)","v":0.35870000000000002},23.3,0,0,0,0,{"$f":"AS221*Weightings!$M$5*CJ221","v":0},0,0.20899999999999999,1.5,0,0,0,{"$f":"IF(ISNA(VLOOKUP($DC221,'Audit Values'!$A$2:$AE$252,2,FALSE)),'Preliminary SO66'!T218,VLOOKUP($DC221,'Audit Values'!$A$2:$AE$252,20,FALSE))","v":0},{"$f":"IF(ISNA(VLOOKUP($DC221,'Audit Values'!$A$2:$AE$252,21,FALSE)),'Preliminary SO66'!U218,VLOOKUP($DC221,'Audit Values'!$A$2:$AE$252,21,FALSE))","v":0},0,0,null,null,null,null,null,null,null,"D0432"]
[434,"Osage","Santa Fe Trail ",968.5,0,968.5,982.5,0,982.5,979.7,{"$f":"IF(ISNA(VLOOKUP($DC222,'Audit Values'!$A$2:$AE$252,2,FALSE)),'Preliminary SO66'!B219,VLOOKUP($DC222,'Audit Values'!$A$2:$AE$252,31,FALSE))","v":963.7},982.5,{"$f":"IF(ISNA(VLOOKUP($DC222,'Audit Values'!$A$2:$AE$252,2,FALSE)),'Preliminary SO66'!Z219,VLOOKUP($DC222,'Audit Values'!$A$2:$AE$252,26,FALSE))","v":0},982.5,{"$f":"IF(ISNA(VLOOKUP($DC222,'Audit Values'!$A$2:$AE$252,2,FALSE)),'Preliminary SO66'!C219,IF(VLOOKUP($DC222,'Audit Values'!$A$2:$AE$252,28,FALSE)=\"\",VLOOKUP($DC222,'Audit Values'!$A$2:$AE$252,3,FALSE),VLOOKUP($DC222,'Audit Values'!$A$2:$AE$252,28,FALSE)))","v":10.5},974.2,990.2,990.2,993,16,247,247,0,{"$f":"IF(ISNA(VLOOKUP($DC222,'Audit Values'!$A$2:$AE$252,2,FALSE)),'Preliminary SO66'!D219,VLOOKUP($DC222,'Audit Values'!$A$2:$AE$252,4,FALSE))","v":0.4},{"$f":"ROUND((X222/6)*Weightings!$M$6,1)","v":0},{"$f":"IF(ISNA(VLOOKUP($DC222,'Audit Values'!$A$2:$AE$252,2,FALSE)),'Preliminary SO66'!F219,VLOOKUP($DC222,'Audit Values'!$A$2:$AE$252,6,FALSE))","v":0},{"$f":"ROUND((Z222/6)*Weightings!$M$7,1)","v":0},{"$f":"IF(ISNA(VLOOKUP($DC222,'Audit Values'!$A$2:$AE$252,2,FALSE)),'Preliminary SO66'!H219,VLOOKUP($DC222,'Audit Values'!$A$2:$AE$252,9,FALSE))","v":407},{"$f":"ROUND(AB222*Weightings!$M$8,1)","v":185.6},17.100000000000001,0,{"$f":"AE222*Weightings!$M$9","v":0},{"$f":"IF(ISNA(VLOOKUP($DC222,'Audit Values'!$A$2:$AE$252,2,FALSE)),'Preliminary SO66'!L219,VLOOKUP($DC222,'Audit Values'!$A$2:$AE$252,12,FALSE))","v":37.700000000000003},{"$f":"ROUND(AG222*Weightings!$M$10,1)","v":9.4},{"$f":"IF(ISNA(VLOOKUP($DC222,'Audit Values'!$A$2:$AE$252,2,FALSE)),'Preliminary SO66'!O219,VLOOKUP($DC222,'Audit Values'!$A$2:$AE$252,15,FALSE))","v":755.5},157.4,{"$f":"CG222/Weightings!$M$5","v":0},{"$f":"CH222/Weightings!$M$5","v":0},{"$f":"CL222/Weightings!$M$5","v":0},16.8,{"$f":"IF(ISNA(VLOOKUP($DC222,'Audit Values'!$A$2:$AE$252,2,FALSE)),'Preliminary SO66'!X219,VLOOKUP($DC222,'Audit Values'!$A$2:$AE$252,24,FALSE))","v":0},1360047,{"$f":"AP222/Weightings!$M$5","v":353.1},1626.3,1979.4,1979.4,0,{"$f":"IF(ISNA(VLOOKUP($DC222,'Audit Values'!$A$2:$AC$299,2,FALSE)),\"\",IF(AND(Weightings!H222>0,VLOOKUP($DC222,'Audit Values'!$A$2:$AC$299,29,FALSE)<Weightings!H222),Weightings!H222,VLOOKUP($DC222,'Audit Values'!$A$2:$AC$299,29,FALSE)))","v":9},{"$f":"IF(ISNA(VLOOKUP($DC222,'Audit Values'!$A$2:$AD$299,2,FALSE)),\"\",VLOOKUP($DC222,'Audit Values'!$A$2:$AD$299,30,FALSE))","v":"A"},{"$f":"IF(Weightings!G222=\"\",\"\",IF(Weightings!I222=\"Pending\",\"PX\",\"R\"))","v":""},{"$f":"AR222*Weightings!$M$5+AU222","v":6264508},{"$f":"AT222*Weightings!$M$5+AU222","v":7624649},{"$f":"IF(Weightings!G222>0,Weightings!G222,'Preliminary SO66'!AB219)","v":9914700},1455082,424553,108827,7926238,7624649,null,{"$f":"Weightings!E222","v":0},{"$f":"Weightings!F222","v":0},0,7624649,{"$f":"MAX(ROUND(((AR222-AN222-AO222)*Weightings!$M$12)+'2016legmax.xls'!AP222,0),ROUND((('2016legmax.xls'!AR222-'2016legmax.xls'!AN222-'2016legmax.xls'!AO222)*Weightings!$M$12)+Weightings!B222,0))","v":8638450},0.3,{"$f":"BL222*BM222","v":2591535},2562170,2562170,0.29659999999999997,0,false,0,0,0,true,857.58749999999998,0.24874099999999999,247,0,201,3.76,{"$f":"IF(ROUND((Weightings!$P$5*CC222^Weightings!$P$6*Weightings!$P$8 ),2)<Weightings!$P$7,Weightings!$P$7,ROUND((Weightings!$P$5*CC222^Weightings!$P$6*Weightings!$P$8 ),2))","v":802.24},{"$f":"ROUND(CD222/Weightings!$M$5,4)","v":0.20830000000000001},157.4,0,0,0,0,{"$f":"AS222*Weightings!$M$5*CJ222","v":0},0,0.41,4.9000000000000004,0,0,17.100000000000001,{"$f":"IF(ISNA(VLOOKUP($DC222,'Audit Values'!$A$2:$AE$252,2,FALSE)),'Preliminary SO66'!T219,VLOOKUP($DC222,'Audit Values'!$A$2:$AE$252,20,FALSE))","v":5},{"$f":"IF(ISNA(VLOOKUP($DC222,'Audit Values'!$A$2:$AE$252,21,FALSE)),'Preliminary SO66'!U219,VLOOKUP($DC222,'Audit Values'!$A$2:$AE$252,21,FALSE))","v":0},11,16,null,null,null,null,null,null,null,"D0434"]
[435,"Dickinson","Abilene ",1524,0,1524,1549.2,0,1549.2,1552.9,{"$f":"IF(ISNA(VLOOKUP($DC223,'Audit Values'!$A$2:$AE$252,2,FALSE)),'Preliminary SO66'!B220,VLOOKUP($DC223,'Audit Values'!$A$2:$AE$252,31,FALSE))","v":1524.3},1549.2,{"$f":"IF(ISNA(VLOOKUP($DC223,'Audit Values'!$A$2:$AE$252,2,FALSE)),'Preliminary SO66'!Z220,VLOOKUP($DC223,'Audit Values'!$A$2:$AE$252,26,FALSE))","v":0},1549.2,{"$f":"IF(ISNA(VLOOKUP($DC223,'Audit Values'!$A$2:$AE$252,2,FALSE)),'Preliminary SO66'!C220,IF(VLOOKUP($DC223,'Audit Values'!$A$2:$AE$252,28,FALSE)=\"\",VLOOKUP($DC223,'Audit Values'!$A$2:$AE$252,3,FALSE),VLOOKUP($DC223,'Audit Values'!$A$2:$AE$252,28,FALSE)))","v":0},1524.3,1552.9,1552.9,1549.2,28.6,92.6,92.6,0,{"$f":"IF(ISNA(VLOOKUP($DC223,'Audit Values'!$A$2:$AE$252,2,FALSE)),'Preliminary SO66'!D220,VLOOKUP($DC223,'Audit Values'!$A$2:$AE$252,4,FALSE))","v":637.6},{"$f":"ROUND((X223/6)*Weightings!$M$6,1)","v":53.1},{"$f":"IF(ISNA(VLOOKUP($DC223,'Audit Values'!$A$2:$AE$252,2,FALSE)),'Preliminary SO66'!F220,VLOOKUP($DC223,'Audit Values'!$A$2:$AE$252,6,FALSE))","v":41.5},{"$f":"ROUND((Z223/6)*Weightings!$M$7,1)","v":2.7},{"$f":"IF(ISNA(VLOOKUP($DC223,'Audit Values'!$A$2:$AE$252,2,FALSE)),'Preliminary SO66'!H220,VLOOKUP($DC223,'Audit Values'!$A$2:$AE$252,9,FALSE))","v":591},{"$f":"ROUND(AB223*Weightings!$M$8,1)","v":269.5},12.8,0,{"$f":"AE223*Weightings!$M$9","v":0},{"$f":"IF(ISNA(VLOOKUP($DC223,'Audit Values'!$A$2:$AE$252,2,FALSE)),'Preliminary SO66'!L220,VLOOKUP($DC223,'Audit Values'!$A$2:$AE$252,12,FALSE))","v":90.3},{"$f":"ROUND(AG223*Weightings!$M$10,1)","v":22.6},{"$f":"IF(ISNA(VLOOKUP($DC223,'Audit Values'!$A$2:$AE$252,2,FALSE)),'Preliminary SO66'!O220,VLOOKUP($DC223,'Audit Values'!$A$2:$AE$252,15,FALSE))","v":270.89999999999998},61,{"$f":"CG223/Weightings!$M$5","v":0},{"$f":"CH223/Weightings!$M$5","v":0},{"$f":"CL223/Weightings!$M$5","v":0},30,{"$f":"IF(ISNA(VLOOKUP($DC223,'Audit Values'!$A$2:$AE$252,2,FALSE)),'Preliminary SO66'!X220,VLOOKUP($DC223,'Audit Values'!$A$2:$AE$252,24,FALSE))","v":0},1335135,{"$f":"AP223/Weightings!$M$5","v":346.6},2093.5,2440.1,2440.1,0,{"$f":"IF(ISNA(VLOOKUP($DC223,'Audit Values'!$A$2:$AC$299,2,FALSE)),\"\",IF(AND(Weightings!H223>0,VLOOKUP($DC223,'Audit Values'!$A$2:$AC$299,29,FALSE)<Weightings!H223),Weightings!H223,VLOOKUP($DC223,'Audit Values'!$A$2:$AC$299,29,FALSE)))","v":12},{"$f":"IF(ISNA(VLOOKUP($DC223,'Audit Values'!$A$2:$AD$299,2,FALSE)),\"\",VLOOKUP($DC223,'Audit Values'!$A$2:$AD$299,30,FALSE))","v":"A"},{"$f":"IF(Weightings!G223=\"\",\"\",IF(Weightings!I223=\"Pending\",\"PX\",\"R\"))","v":""},{"$f":"AR223*Weightings!$M$5+AU223","v":8064162},{"$f":"AT223*Weightings!$M$5+AU223","v":9399265},{"$f":"IF(Weightings!G223>0,Weightings!G223,'Preliminary SO66'!AB220)","v":12265159},1675717,699141,122665,9767636,9399265,null,{"$f":"Weightings!E223","v":0},{"$f":"Weightings!F223","v":0},0,9399265,{"$f":"MAX(ROUND(((AR223-AN223-AO223)*Weightings!$M$12)+'2016legmax.xls'!AP223,0),ROUND((('2016legmax.xls'!AR223-'2016legmax.xls'!AN223-'2016legmax.xls'!AO223)*Weightings!$M$12)+Weightings!B223,0))","v":10658650},0.3,3197595,3137115,3137115,0.29430000000000001,0,false,0,0,0,true,1545.885,5.9771999999999999E-2,92.6,0,101.5,2.67,{"$f":"IF(ROUND((Weightings!$P$5*CC223^Weightings!$P$6*Weightings!$P$8 ),2)<Weightings!$P$7,Weightings!$P$7,ROUND((Weightings!$P$5*CC223^Weightings!$P$6*Weightings!$P$8 ),2))","v":866.83},{"$f":"ROUND(CD223/Weightings!$M$5,4)","v":0.22500000000000001},61,0,0,0,0,{"$f":"AS223*Weightings!$M$5*CJ223","v":0},0,0.38100000000000001,15.3,0,0,12.8,{"$f":"IF(ISNA(VLOOKUP($DC223,'Audit Values'!$A$2:$AE$252,2,FALSE)),'Preliminary SO66'!T220,VLOOKUP($DC223,'Audit Values'!$A$2:$AE$252,20,FALSE))","v":5},{"$f":"IF(ISNA(VLOOKUP($DC223,'Audit Values'!$A$2:$AE$252,21,FALSE)),'Preliminary SO66'!U220,VLOOKUP($DC223,'Audit Values'!$A$2:$AE$252,21,FALSE))","v":3.6},20,28.6,null,null,null,null,null,null,null,"D0435"]
[436,"Montgomery","Caney Valley ",765.5,0,765.5,721.5,0,721.5,740.5,{"$f":"IF(ISNA(VLOOKUP($DC224,'Audit Values'!$A$2:$AE$252,2,FALSE)),'Preliminary SO66'!B221,VLOOKUP($DC224,'Audit Values'!$A$2:$AE$252,31,FALSE))","v":735.5},740.8,{"$f":"IF(ISNA(VLOOKUP($DC224,'Audit Values'!$A$2:$AE$252,2,FALSE)),'Preliminary SO66'!Z221,VLOOKUP($DC224,'Audit Values'!$A$2:$AE$252,26,FALSE))","v":0},740.8,{"$f":"IF(ISNA(VLOOKUP($DC224,'Audit Values'!$A$2:$AE$252,2,FALSE)),'Preliminary SO66'!C221,IF(VLOOKUP($DC224,'Audit Values'!$A$2:$AE$252,28,FALSE)=\"\",VLOOKUP($DC224,'Audit Values'!$A$2:$AE$252,3,FALSE),VLOOKUP($DC224,'Audit Values'!$A$2:$AE$252,28,FALSE)))","v":5.5},741,746,746,746.3,5,248.2,248.2,0,{"$f":"IF(ISNA(VLOOKUP($DC224,'Audit Values'!$A$2:$AE$252,2,FALSE)),'Preliminary SO66'!D221,VLOOKUP($DC224,'Audit Values'!$A$2:$AE$252,4,FALSE))","v":157.9},{"$f":"ROUND((X224/6)*Weightings!$M$6,1)","v":13.2},{"$f":"IF(ISNA(VLOOKUP($DC224,'Audit Values'!$A$2:$AE$252,2,FALSE)),'Preliminary SO66'!F221,VLOOKUP($DC224,'Audit Values'!$A$2:$AE$252,6,FALSE))","v":7.3},{"$f":"ROUND((Z224/6)*Weightings!$M$7,1)","v":0.5},{"$f":"IF(ISNA(VLOOKUP($DC224,'Audit Values'!$A$2:$AE$252,2,FALSE)),'Preliminary SO66'!H221,VLOOKUP($DC224,'Audit Values'!$A$2:$AE$252,9,FALSE))","v":308},{"$f":"ROUND(AB224*Weightings!$M$8,1)","v":140.4},13.6,0,{"$f":"AE224*Weightings!$M$9","v":0},{"$f":"IF(ISNA(VLOOKUP($DC224,'Audit Values'!$A$2:$AE$252,2,FALSE)),'Preliminary SO66'!L221,VLOOKUP($DC224,'Audit Values'!$A$2:$AE$252,12,FALSE))","v":0},{"$f":"ROUND(AG224*Weightings!$M$10,1)","v":0},{"$f":"IF(ISNA(VLOOKUP($DC224,'Audit Values'!$A$2:$AE$252,2,FALSE)),'Preliminary SO66'!O221,VLOOKUP($DC224,'Audit Values'!$A$2:$AE$252,15,FALSE))","v":338},81.099999999999994,{"$f":"CG224/Weightings!$M$5","v":0},{"$f":"CH224/Weightings!$M$5","v":0},{"$f":"CL224/Weightings!$M$5","v":0},5.3,{"$f":"IF(ISNA(VLOOKUP($DC224,'Audit Values'!$A$2:$AE$252,2,FALSE)),'Preliminary SO66'!X221,VLOOKUP($DC224,'Audit Values'!$A$2:$AE$252,24,FALSE))","v":0},437121,{"$f":"AP224/Weightings!$M$5","v":113.5},1248.5999999999999,1362.1,1362.1,0,{"$f":"IF(ISNA(VLOOKUP($DC224,'Audit Values'!$A$2:$AC$299,2,FALSE)),\"\",IF(AND(Weightings!H224>0,VLOOKUP($DC224,'Audit Values'!$A$2:$AC$299,29,FALSE)<Weightings!H224),Weightings!H224,VLOOKUP($DC224,'Audit Values'!$A$2:$AC$299,29,FALSE)))","v":9},{"$f":"IF(ISNA(VLOOKUP($DC224,'Audit Values'!$A$2:$AD$299,2,FALSE)),\"\",VLOOKUP($DC224,'Audit Values'!$A$2:$AD$299,30,FALSE))","v":"A"},{"$f":"IF(Weightings!G224=\"\",\"\",IF(Weightings!I224=\"Pending\",\"PX\",\"R\"))","v":""},{"$f":"AR224*Weightings!$M$5+AU224","v":4809607},{"$f":"AT224*Weightings!$M$5+AU224","v":5246809},{"$f":"IF(Weightings!G224>0,Weightings!G224,'Preliminary SO66'!AB221)","v":6841149},712610,387732,85513,5655294,5246809,null,{"$f":"Weightings!E224","v":0},{"$f":"Weightings!F224","v":0},0,5246809,{"$f":"MAX(ROUND(((AR224-AN224-AO224)*Weightings!$M$12)+'2016legmax.xls'!AP224,0),ROUND((('2016legmax.xls'!AR224-'2016legmax.xls'!AN224-'2016legmax.xls'!AO224)*Weightings!$M$12)+Weightings!B224,0))","v":6109347},0.3,1832804,1653300,1653300,0.27060000000000001,0,false,0,0,0,true,552.29629999999997,0.33255600000000002,248.2,0,168,2.0099999999999998,{"$f":"IF(ROUND((Weightings!$P$5*CC224^Weightings!$P$6*Weightings!$P$8 ),2)<Weightings!$P$7,Weightings!$P$7,ROUND((Weightings!$P$5*CC224^Weightings!$P$6*Weightings!$P$8 ),2))","v":924.33},{"$f":"ROUND(CD224/Weightings!$M$5,4)","v":0.24},81.099999999999994,0,0,0,0,{"$f":"AS224*Weightings!$M$5*CJ224","v":0},0,0.41299999999999998,4.4000000000000004,0,0,13.6,{"$f":"IF(ISNA(VLOOKUP($DC224,'Audit Values'!$A$2:$AE$252,2,FALSE)),'Preliminary SO66'!T221,VLOOKUP($DC224,'Audit Values'!$A$2:$AE$252,20,FALSE))","v":4},{"$f":"IF(ISNA(VLOOKUP($DC224,'Audit Values'!$A$2:$AE$252,21,FALSE)),'Preliminary SO66'!U221,VLOOKUP($DC224,'Audit Values'!$A$2:$AE$252,21,FALSE))","v":0},1,5,null,null,null,null,null,null,null,"D0436"]
[437,"Shawnee","Auburn Washburn ",5720,0,5720,5874.8,0,5874.8,5978.6,{"$f":"IF(ISNA(VLOOKUP($DC225,'Audit Values'!$A$2:$AE$252,2,FALSE)),'Preliminary SO66'!B222,VLOOKUP($DC225,'Audit Values'!$A$2:$AE$252,31,FALSE))","v":5976.2},5976.2,{"$f":"IF(ISNA(VLOOKUP($DC225,'Audit Values'!$A$2:$AE$252,2,FALSE)),'Preliminary SO66'!Z222,VLOOKUP($DC225,'Audit Values'!$A$2:$AE$252,26,FALSE))","v":0},5976.2,{"$f":"IF(ISNA(VLOOKUP($DC225,'Audit Values'!$A$2:$AE$252,2,FALSE)),'Preliminary SO66'!C222,IF(VLOOKUP($DC225,'Audit Values'!$A$2:$AE$252,28,FALSE)=\"\",VLOOKUP($DC225,'Audit Values'!$A$2:$AE$252,3,FALSE),VLOOKUP($DC225,'Audit Values'!$A$2:$AE$252,28,FALSE)))","v":30},6006.2,6008.6,6008.6,6006.2,2.4,210.5,0,210.5,{"$f":"IF(ISNA(VLOOKUP($DC225,'Audit Values'!$A$2:$AE$252,2,FALSE)),'Preliminary SO66'!D222,VLOOKUP($DC225,'Audit Values'!$A$2:$AE$252,4,FALSE))","v":1413.5},{"$f":"ROUND((X225/6)*Weightings!$M$6,1)","v":117.8},{"$f":"IF(ISNA(VLOOKUP($DC225,'Audit Values'!$A$2:$AE$252,2,FALSE)),'Preliminary SO66'!F222,VLOOKUP($DC225,'Audit Values'!$A$2:$AE$252,6,FALSE))","v":237.8},{"$f":"ROUND((Z225/6)*Weightings!$M$7,1)","v":15.7},{"$f":"IF(ISNA(VLOOKUP($DC225,'Audit Values'!$A$2:$AE$252,2,FALSE)),'Preliminary SO66'!H222,VLOOKUP($DC225,'Audit Values'!$A$2:$AE$252,9,FALSE))","v":1584},{"$f":"ROUND(AB225*Weightings!$M$8,1)","v":722.3},0,0,{"$f":"AE225*Weightings!$M$9","v":0},{"$f":"IF(ISNA(VLOOKUP($DC225,'Audit Values'!$A$2:$AE$252,2,FALSE)),'Preliminary SO66'!L222,VLOOKUP($DC225,'Audit Values'!$A$2:$AE$252,12,FALSE))","v":0},{"$f":"ROUND(AG225*Weightings!$M$10,1)","v":0},{"$f":"IF(ISNA(VLOOKUP($DC225,'Audit Values'!$A$2:$AE$252,2,FALSE)),'Preliminary SO66'!O222,VLOOKUP($DC225,'Audit Values'!$A$2:$AE$252,15,FALSE))","v":3370.5},493.4,{"$f":"CG225/Weightings!$M$5","v":0},{"$f":"CH225/Weightings!$M$5","v":0},{"$f":"CL225/Weightings!$M$5","v":0},2.5,{"$f":"IF(ISNA(VLOOKUP($DC225,'Audit Values'!$A$2:$AE$252,2,FALSE)),'Preliminary SO66'!X222,VLOOKUP($DC225,'Audit Values'!$A$2:$AE$252,24,FALSE))","v":0},5807968,{"$f":"AP225/Weightings!$M$5","v":1507.8},7568.4,9076.2000000000007,9076.2000000000007,799725,{"$f":"IF(ISNA(VLOOKUP($DC225,'Audit Values'!$A$2:$AC$299,2,FALSE)),\"\",IF(AND(Weightings!H225>0,VLOOKUP($DC225,'Audit Values'!$A$2:$AC$299,29,FALSE)<Weightings!H225),Weightings!H225,VLOOKUP($DC225,'Audit Values'!$A$2:$AC$299,29,FALSE)))","v":3},{"$f":"IF(ISNA(VLOOKUP($DC225,'Audit Values'!$A$2:$AD$299,2,FALSE)),\"\",VLOOKUP($DC225,'Audit Values'!$A$2:$AD$299,30,FALSE))","v":"A"},{"$f":"IF(Weightings!G225=\"\",\"\",IF(Weightings!I225=\"Pending\",\"PX\",\"R\"))","v":""},{"$f":"AR225*Weightings!$M$5+AU225","v":29953202},{"$f":"AT225*Weightings!$M$5+AU225","v":35761247},{"$f":"IF(Weightings!G225>0,Weightings!G225,'Preliminary SO66'!AB222)","v":42302452},3034669,3097910,0,36169873,35761247,null,{"$f":"Weightings!E225","v":0},{"$f":"Weightings!F225","v":0},0,35761247,{"$f":"MAX(ROUND(((AR225-AN225-AO225)*Weightings!$M$12)+'2016legmax.xls'!AP225,0),ROUND((('2016legmax.xls'!AR225-'2016legmax.xls'!AN225-'2016legmax.xls'!AO225)*Weightings!$M$12)+Weightings!B225,0))","v":39778859},0.3,11933658,11614736,11614736,0.29199999999999998,0,false,0,0,0,false,0,0,0,210.5,128,26.33,{"$f":"IF(ROUND((Weightings!$P$5*CC225^Weightings!$P$6*Weightings!$P$8 ),2)<Weightings!$P$7,Weightings!$P$7,ROUND((Weightings!$P$5*CC225^Weightings!$P$6*Weightings!$P$8 ),2))","v":564},{"$f":"ROUND(CD225/Weightings!$M$5,4)","v":0.1464},493.4,0,0,0,2.5000000000000001E-2,{"$f":"AS225*Weightings!$M$5*CJ225","v":874038},0,0.26400000000000001,46.9,0,0,0,{"$f":"IF(ISNA(VLOOKUP($DC225,'Audit Values'!$A$2:$AE$252,2,FALSE)),'Preliminary SO66'!T222,VLOOKUP($DC225,'Audit Values'!$A$2:$AE$252,20,FALSE))","v":2},{"$f":"IF(ISNA(VLOOKUP($DC225,'Audit Values'!$A$2:$AE$252,21,FALSE)),'Preliminary SO66'!U222,VLOOKUP($DC225,'Audit Values'!$A$2:$AE$252,21,FALSE))","v":0.4},0,2.4,null,null,null,null,null,null,null,"D0437"]
[438,"Pratt","Skyline Schools ",400,0,400,392,0,392,394.5,{"$f":"IF(ISNA(VLOOKUP($DC226,'Audit Values'!$A$2:$AE$252,2,FALSE)),'Preliminary SO66'!B223,VLOOKUP($DC226,'Audit Values'!$A$2:$AE$252,31,FALSE))","v":394.5},395.5,{"$f":"IF(ISNA(VLOOKUP($DC226,'Audit Values'!$A$2:$AE$252,2,FALSE)),'Preliminary SO66'!Z223,VLOOKUP($DC226,'Audit Values'!$A$2:$AE$252,26,FALSE))","v":0},395.5,{"$f":"IF(ISNA(VLOOKUP($DC226,'Audit Values'!$A$2:$AE$252,2,FALSE)),'Preliminary SO66'!C223,IF(VLOOKUP($DC226,'Audit Values'!$A$2:$AE$252,28,FALSE)=\"\",VLOOKUP($DC226,'Audit Values'!$A$2:$AE$252,3,FALSE),VLOOKUP($DC226,'Audit Values'!$A$2:$AE$252,28,FALSE)))","v":0},394.5,394.5,394.5,395.5,0,178.7,178.7,0,{"$f":"IF(ISNA(VLOOKUP($DC226,'Audit Values'!$A$2:$AE$252,2,FALSE)),'Preliminary SO66'!D223,VLOOKUP($DC226,'Audit Values'!$A$2:$AE$252,4,FALSE))","v":133.19999999999999},{"$f":"ROUND((X226/6)*Weightings!$M$6,1)","v":11.1},{"$f":"IF(ISNA(VLOOKUP($DC226,'Audit Values'!$A$2:$AE$252,2,FALSE)),'Preliminary SO66'!F223,VLOOKUP($DC226,'Audit Values'!$A$2:$AE$252,6,FALSE))","v":13.3},{"$f":"ROUND((Z226/6)*Weightings!$M$7,1)","v":0.9},{"$f":"IF(ISNA(VLOOKUP($DC226,'Audit Values'!$A$2:$AE$252,2,FALSE)),'Preliminary SO66'!H223,VLOOKUP($DC226,'Audit Values'!$A$2:$AE$252,9,FALSE))","v":76},{"$f":"ROUND(AB226*Weightings!$M$8,1)","v":34.700000000000003},0,0,{"$f":"AE226*Weightings!$M$9","v":0},{"$f":"IF(ISNA(VLOOKUP($DC226,'Audit Values'!$A$2:$AE$252,2,FALSE)),'Preliminary SO66'!L223,VLOOKUP($DC226,'Audit Values'!$A$2:$AE$252,12,FALSE))","v":0},{"$f":"ROUND(AG226*Weightings!$M$10,1)","v":0},{"$f":"IF(ISNA(VLOOKUP($DC226,'Audit Values'!$A$2:$AE$252,2,FALSE)),'Preliminary SO66'!O223,VLOOKUP($DC226,'Audit Values'!$A$2:$AE$252,15,FALSE))","v":141},52.4,{"$f":"CG226/Weightings!$M$5","v":0},{"$f":"CH226/Weightings!$M$5","v":0},{"$f":"CL226/Weightings!$M$5","v":0},0,{"$f":"IF(ISNA(VLOOKUP($DC226,'Audit Values'!$A$2:$AE$252,2,FALSE)),'Preliminary SO66'!X223,VLOOKUP($DC226,'Audit Values'!$A$2:$AE$252,24,FALSE))","v":0},477109,{"$f":"AP226/Weightings!$M$5","v":123.9},673.3,797.2,797.2,0,{"$f":"IF(ISNA(VLOOKUP($DC226,'Audit Values'!$A$2:$AC$299,2,FALSE)),\"\",IF(AND(Weightings!H226>0,VLOOKUP($DC226,'Audit Values'!$A$2:$AC$299,29,FALSE)<Weightings!H226),Weightings!H226,VLOOKUP($DC226,'Audit Values'!$A$2:$AC$299,29,FALSE)))","v":16},{"$f":"IF(ISNA(VLOOKUP($DC226,'Audit Values'!$A$2:$AD$299,2,FALSE)),\"\",VLOOKUP($DC226,'Audit Values'!$A$2:$AD$299,30,FALSE))","v":"A"},{"$f":"IF(Weightings!G226=\"\",\"\",IF(Weightings!I226=\"Pending\",\"PX\",\"R\"))","v":""},{"$f":"AR226*Weightings!$M$5+AU226","v":2593552},{"$f":"AT226*Weightings!$M$5+AU226","v":3070814},{"$f":"IF(Weightings!G226>0,Weightings!G226,'Preliminary SO66'!AB223)","v":3777974},372306,193748,14587,3197333,3070814,null,{"$f":"Weightings!E226","v":0},{"$f":"Weightings!F226","v":0},0,3070814,{"$f":"MAX(ROUND(((AR226-AN226-AO226)*Weightings!$M$12)+'2016legmax.xls'!AP226,0),ROUND((('2016legmax.xls'!AR226-'2016legmax.xls'!AN226-'2016legmax.xls'!AO226)*Weightings!$M$12)+Weightings!B226,0))","v":3500226},0.31,1085070,1080330,1080330,0.30859999999999999,0,false,0,0,0,true,118.18129999999999,0.45173999999999997,178.7,0,490,0.28999999999999998,{"$f":"IF(ROUND((Weightings!$P$5*CC226^Weightings!$P$6*Weightings!$P$8 ),2)<Weightings!$P$7,Weightings!$P$7,ROUND((Weightings!$P$5*CC226^Weightings!$P$6*Weightings!$P$8 ),2))","v":1432.26},{"$f":"ROUND(CD226/Weightings!$M$5,4)","v":0.37180000000000002},52.4,0,0,0,0,{"$f":"AS226*Weightings!$M$5*CJ226","v":0},0,0.192,0.8,0,0,0,{"$f":"IF(ISNA(VLOOKUP($DC226,'Audit Values'!$A$2:$AE$252,2,FALSE)),'Preliminary SO66'!T223,VLOOKUP($DC226,'Audit Values'!$A$2:$AE$252,20,FALSE))","v":0},{"$f":"IF(ISNA(VLOOKUP($DC226,'Audit Values'!$A$2:$AE$252,21,FALSE)),'Preliminary SO66'!U223,VLOOKUP($DC226,'Audit Values'!$A$2:$AE$252,21,FALSE))","v":0},0,0,null,null,null,null,null,null,null,"D0438"]
[439,"Harvey","Sedgwick Public Schools ",500.4,0,500.4,483.9,0,483.9,459,{"$f":"IF(ISNA(VLOOKUP($DC227,'Audit Values'!$A$2:$AE$286,2,FALSE)),'Preliminary SO66'!B224,VLOOKUP($DC227,'Audit Values'!$A$2:$AE$286,31,FALSE))","v":459},483.9,{"$f":"IF(ISNA(VLOOKUP($DC227,'Audit Values'!$A$2:$AE$252,2,FALSE)),'Preliminary SO66'!Z224,VLOOKUP($DC227,'Audit Values'!$A$2:$AE$252,26,FALSE))","v":0},483.9,{"$f":"IF(ISNA(VLOOKUP($DC227,'Audit Values'!$A$2:$AE$286,2,FALSE)),'Preliminary SO66'!C224,IF(VLOOKUP($DC227,'Audit Values'!$A$2:$AE$286,28,FALSE)=\"\",VLOOKUP($DC227,'Audit Values'!$A$2:$AE$286,3,FALSE),VLOOKUP($DC227,'Audit Values'!$A$2:$AE$286,28,FALSE)))","v":0},459,459,459,483.9,0,204.1,204.1,0,{"$f":"IF(ISNA(VLOOKUP($DC227,'Audit Values'!$A$2:$AE$299,2,FALSE)),'Preliminary SO66'!D224,VLOOKUP($DC227,'Audit Values'!$A$2:$AE$299,4,FALSE))","v":210.8},{"$f":"ROUND((X227/6)*Weightings!$M$6,1)","v":17.600000000000001},{"$f":"IF(ISNA(VLOOKUP($DC227,'Audit Values'!$A$2:$AE$252,2,FALSE)),'Preliminary SO66'!F224,VLOOKUP($DC227,'Audit Values'!$A$2:$AE$252,6,FALSE))","v":0},{"$f":"ROUND((Z227/6)*Weightings!$M$7,1)","v":0},{"$f":"IF(ISNA(VLOOKUP($DC227,'Audit Values'!$A$2:$AE$252,2,FALSE)),'Preliminary SO66'!H224,VLOOKUP($DC227,'Audit Values'!$A$2:$AE$252,9,FALSE))","v":128},{"$f":"ROUND(AB227*Weightings!$M$8,1)","v":58.4},0,0,{"$f":"AE227*Weightings!$M$9","v":0},{"$f":"IF(ISNA(VLOOKUP($DC227,'Audit Values'!$A$2:$AE$252,2,FALSE)),'Preliminary SO66'!L224,VLOOKUP($DC227,'Audit Values'!$A$2:$AE$252,12,FALSE))","v":0},{"$f":"ROUND(AG227*Weightings!$M$10,1)","v":0},{"$f":"IF(ISNA(VLOOKUP($DC227,'Audit Values'!$A$2:$AE$252,2,FALSE)),'Preliminary SO66'!O224,VLOOKUP($DC227,'Audit Values'!$A$2:$AE$252,15,FALSE))","v":62},15.9,{"$f":"CG227/Weightings!$M$5","v":0},{"$f":"CH227/Weightings!$M$5","v":0},{"$f":"CL227/Weightings!$M$5","v":0},0,{"$f":"IF(ISNA(VLOOKUP($DC227,'Audit Values'!$A$2:$AE$252,2,FALSE)),'Preliminary SO66'!X224,VLOOKUP($DC227,'Audit Values'!$A$2:$AE$252,24,FALSE))","v":0},458481,{"$f":"AP227/Weightings!$M$5","v":119},779.9,898.9,898.9,0,{"$f":"IF(ISNA(VLOOKUP($DC227,'Audit Values'!$A$2:$AC$299,2,FALSE)),\"\",IF(AND(Weightings!H227>0,VLOOKUP($DC227,'Audit Values'!$A$2:$AC$299,29,FALSE)<Weightings!H227),Weightings!H227,VLOOKUP($DC227,'Audit Values'!$A$2:$AC$299,29,FALSE)))","v":18},{"$f":"IF(ISNA(VLOOKUP($DC227,'Audit Values'!$A$2:$AD$299,2,FALSE)),\"\",VLOOKUP($DC227,'Audit Values'!$A$2:$AD$299,30,FALSE))","v":"A"},{"$f":"IF(Weightings!G227=\"\",\"\",IF(Weightings!I227=\"Pending\",\"PX\",\"R\"))","v":""},{"$f":"AR227*Weightings!$M$5+AU227","v":3004175},{"$f":"AT227*Weightings!$M$5+AU227","v":3462563},{"$f":"IF(Weightings!G227>0,Weightings!G227,'Preliminary SO66'!AB224)","v":4868189},713503,240678,29363,3884645,3462563,null,{"$f":"Weightings!E227","v":0},{"$f":"Weightings!F227","v":0},0,3462563,{"$f":"MAX(ROUND(((AR227-AN227-AO227)*Weightings!$M$12)+'2016legmax.xls'!AP227,0),ROUND((('2016legmax.xls'!AR227-'2016legmax.xls'!AN227-'2016legmax.xls'!AO227)*Weightings!$M$12)+Weightings!B227,0))","v":3960232},0.3,1188070,1138034,1138034,0.28739999999999999,0,false,0,0,0,true,227.5763,0.42170600000000003,204.1,0,42,1.48,{"$f":"IF(ROUND((Weightings!$P$5*CC227^Weightings!$P$6*Weightings!$P$8 ),2)<Weightings!$P$7,Weightings!$P$7,ROUND((Weightings!$P$5*CC227^Weightings!$P$6*Weightings!$P$8 ),2))","v":990.6},{"$f":"ROUND(CD227/Weightings!$M$5,4)","v":0.25719999999999998},15.9,0,0,0,0,{"$f":"AS227*Weightings!$M$5*CJ227","v":0},0,0.26500000000000001,11.5,0,0,0,{"$f":"IF(ISNA(VLOOKUP($DC227,'Audit Values'!$A$2:$AE$286,2,FALSE)),'Preliminary SO66'!T224,VLOOKUP($DC227,'Audit Values'!$A$2:$AE$286,20,FALSE))","v":0},{"$f":"IF(ISNA(VLOOKUP($DC227,'Audit Values'!$A$2:$AE$286,21,FALSE)),'Preliminary SO66'!U224,VLOOKUP($DC227,'Audit Values'!$A$2:$AE$286,21,FALSE))","v":0},0,0,null,null,null,null,null,null,null,"D0439"]
[440,"Harvey","Halstead ",753.5,0,753.5,753.4,0,753.4,719.5,{"$f":"IF(ISNA(VLOOKUP($DC228,'Audit Values'!$A$2:$AE$252,2,FALSE)),'Preliminary SO66'!B225,VLOOKUP($DC228,'Audit Values'!$A$2:$AE$252,31,FALSE))","v":719.5},753.4,{"$f":"IF(ISNA(VLOOKUP($DC228,'Audit Values'!$A$2:$AE$252,2,FALSE)),'Preliminary SO66'!Z225,VLOOKUP($DC228,'Audit Values'!$A$2:$AE$252,26,FALSE))","v":0},753.4,{"$f":"IF(ISNA(VLOOKUP($DC228,'Audit Values'!$A$2:$AE$252,2,FALSE)),'Preliminary SO66'!C225,IF(VLOOKUP($DC228,'Audit Values'!$A$2:$AE$252,28,FALSE)=\"\",VLOOKUP($DC228,'Audit Values'!$A$2:$AE$252,3,FALSE),VLOOKUP($DC228,'Audit Values'!$A$2:$AE$252,28,FALSE)))","v":9},728.5,728.5,728.5,762.4,0,249.4,{"$f":"MAX(BR228,BV228,BZ228)","v":249.4},0,{"$f":"IF(ISNA(VLOOKUP($DC228,'Audit Values'!$A$2:$AE$252,2,FALSE)),'Preliminary SO66'!D225,VLOOKUP($DC228,'Audit Values'!$A$2:$AE$252,4,FALSE))","v":330},{"$f":"ROUND((X228/6)*Weightings!$M$6,1)","v":27.5},{"$f":"IF(ISNA(VLOOKUP($DC228,'Audit Values'!$A$2:$AE$252,2,FALSE)),'Preliminary SO66'!F225,VLOOKUP($DC228,'Audit Values'!$A$2:$AE$252,6,FALSE))","v":41.6},{"$f":"ROUND((Z228/6)*Weightings!$M$7,1)","v":2.7},{"$f":"IF(ISNA(VLOOKUP($DC228,'Audit Values'!$A$2:$AE$252,2,FALSE)),'Preliminary SO66'!H225,VLOOKUP($DC228,'Audit Values'!$A$2:$AE$252,9,FALSE))","v":265},{"$f":"ROUND(AB228*Weightings!$M$8,1)","v":120.8},0,0,{"$f":"AE228*Weightings!$M$9","v":0},{"$f":"IF(ISNA(VLOOKUP($DC228,'Audit Values'!$A$2:$AE$252,2,FALSE)),'Preliminary SO66'!L225,VLOOKUP($DC228,'Audit Values'!$A$2:$AE$252,12,FALSE))","v":0},{"$f":"ROUND(AG228*Weightings!$M$10,1)","v":0},{"$f":"IF(ISNA(VLOOKUP($DC228,'Audit Values'!$A$2:$AE$252,2,FALSE)),'Preliminary SO66'!O225,VLOOKUP($DC228,'Audit Values'!$A$2:$AE$252,15,FALSE))","v":337},76.400000000000006,{"$f":"CG228/Weightings!$M$5","v":0},{"$f":"CH228/Weightings!$M$5","v":0},{"$f":"CL228/Weightings!$M$5","v":0},0,{"$f":"IF(ISNA(VLOOKUP($DC228,'Audit Values'!$A$2:$AE$252,2,FALSE)),'Preliminary SO66'!X225,VLOOKUP($DC228,'Audit Values'!$A$2:$AE$252,24,FALSE))","v":0},656433,{"$f":"AP228/Weightings!$M$5","v":170.4},1239.2,1409.6,1409.6,0,{"$f":"IF(ISNA(VLOOKUP($DC228,'Audit Values'!$A$2:$AC$299,2,FALSE)),\"\",IF(AND(Weightings!H228>0,VLOOKUP($DC228,'Audit Values'!$A$2:$AC$299,29,FALSE)<Weightings!H228),Weightings!H228,VLOOKUP($DC228,'Audit Values'!$A$2:$AC$299,29,FALSE)))","v":15},{"$f":"IF(ISNA(VLOOKUP($DC228,'Audit Values'!$A$2:$AD$299,2,FALSE)),\"\",VLOOKUP($DC228,'Audit Values'!$A$2:$AD$299,30,FALSE))","v":"A"},{"$f":"IF(Weightings!G228=\"\",\"\",IF(Weightings!I228=\"Pending\",\"PX\",\"R\"))","v":""},{"$f":"AR228*Weightings!$M$5+AU228","v":4773398},{"$f":"AT228*Weightings!$M$5+AU228","v":5429779},{"$f":"IF(Weightings!G228>0,Weightings!G228,'Preliminary SO66'!AB225)","v":7109240},1036165,369756,42356,5660963,5429779,null,{"$f":"Weightings!E228","v":0},{"$f":"Weightings!F228","v":0},0,5429779,{"$f":"MAX(ROUND(((AR228-AN228-AO228)*Weightings!$M$12)+'2016legmax.xls'!AP228,0),ROUND((('2016legmax.xls'!AR228-'2016legmax.xls'!AN228-'2016legmax.xls'!AO228)*Weightings!$M$12)+Weightings!B228,0))","v":6221743},0.3,1866523,1883765,1866523,0.3,0,false,0,0,0,true,572.22,0.32708700000000002,249.4,0,130,2.59,{"$f":"IF(ROUND((Weightings!$P$5*CC228^Weightings!$P$6*Weightings!$P$8 ),2)<Weightings!$P$7,Weightings!$P$7,ROUND((Weightings!$P$5*CC228^Weightings!$P$6*Weightings!$P$8 ),2))","v":872.82},{"$f":"ROUND(CD228/Weightings!$M$5,4)","v":0.2266},76.400000000000006,0,0,0,0,{"$f":"AS228*Weightings!$M$5*CJ228","v":0},0,0.34799999999999998,5.9,0,0,0,{"$f":"IF(ISNA(VLOOKUP($DC228,'Audit Values'!$A$2:$AE$252,2,FALSE)),'Preliminary SO66'!T225,VLOOKUP($DC228,'Audit Values'!$A$2:$AE$252,20,FALSE))","v":0},{"$f":"IF(ISNA(VLOOKUP($DC228,'Audit Values'!$A$2:$AE$252,21,FALSE)),'Preliminary SO66'!U225,VLOOKUP($DC228,'Audit Values'!$A$2:$AE$252,21,FALSE))","v":0},0,0,null,null,null,null,null,null,null,"D0440"]
[443,"Ford","Dodge City ",6194.4,0,6194.4,6326.5,0,6326.5,6451.4,{"$f":"IF(ISNA(VLOOKUP($DC229,'Audit Values'!$A$2:$AE$252,2,FALSE)),'Preliminary SO66'!B226,VLOOKUP($DC229,'Audit Values'!$A$2:$AE$252,31,FALSE))","v":6412.6},6412.6,{"$f":"IF(ISNA(VLOOKUP($DC229,'Audit Values'!$A$2:$AE$252,2,FALSE)),'Preliminary SO66'!Z226,VLOOKUP($DC229,'Audit Values'!$A$2:$AE$252,26,FALSE))","v":0},6412.6,{"$f":"IF(ISNA(VLOOKUP($DC229,'Audit Values'!$A$2:$AE$252,2,FALSE)),'Preliminary SO66'!C226,IF(VLOOKUP($DC229,'Audit Values'!$A$2:$AE$252,28,FALSE)=\"\",VLOOKUP($DC229,'Audit Values'!$A$2:$AE$252,3,FALSE),VLOOKUP($DC229,'Audit Values'!$A$2:$AE$252,28,FALSE)))","v":74.5},6487.1,6525.9,6525.9,6487.1,38.799999999999997,227.3,0,227.3,{"$f":"IF(ISNA(VLOOKUP($DC229,'Audit Values'!$A$2:$AE$252,2,FALSE)),'Preliminary SO66'!D226,VLOOKUP($DC229,'Audit Values'!$A$2:$AE$252,4,FALSE))","v":1728.8},{"$f":"ROUND((X229/6)*Weightings!$M$6,1)","v":144.1},{"$f":"IF(ISNA(VLOOKUP($DC229,'Audit Values'!$A$2:$AE$252,2,FALSE)),'Preliminary SO66'!F226,VLOOKUP($DC229,'Audit Values'!$A$2:$AE$252,6,FALSE))","v":13912.9},{"$f":"ROUND((Z229/6)*Weightings!$M$7,1)","v":915.9},{"$f":"IF(ISNA(VLOOKUP($DC229,'Audit Values'!$A$2:$AE$252,2,FALSE)),'Preliminary SO66'!H226,VLOOKUP($DC229,'Audit Values'!$A$2:$AE$252,9,FALSE))","v":4971},{"$f":"ROUND(AB229*Weightings!$M$8,1)","v":2266.8000000000002},522,0,{"$f":"AE229*Weightings!$M$9","v":0},{"$f":"IF(ISNA(VLOOKUP($DC229,'Audit Values'!$A$2:$AE$252,2,FALSE)),'Preliminary SO66'!L226,VLOOKUP($DC229,'Audit Values'!$A$2:$AE$252,12,FALSE))","v":0},{"$f":"ROUND(AG229*Weightings!$M$10,1)","v":0},{"$f":"IF(ISNA(VLOOKUP($DC229,'Audit Values'!$A$2:$AE$252,2,FALSE)),'Preliminary SO66'!O226,VLOOKUP($DC229,'Audit Values'!$A$2:$AE$252,15,FALSE))","v":2613.1999999999998},487.1,{"$f":"CG229/Weightings!$M$5","v":0},{"$f":"CH229/Weightings!$M$5","v":0},{"$f":"CL229/Weightings!$M$5","v":0},40.700000000000003,{"$f":"IF(ISNA(VLOOKUP($DC229,'Audit Values'!$A$2:$AE$252,2,FALSE)),'Preliminary SO66'!X226,VLOOKUP($DC229,'Audit Values'!$A$2:$AE$252,24,FALSE))","v":0},4913191,{"$f":"AP229/Weightings!$M$5","v":1275.5},11091,12366.5,12366.5,2311,{"$f":"IF(ISNA(VLOOKUP($DC229,'Audit Values'!$A$2:$AC$299,2,FALSE)),\"\",IF(AND(Weightings!H229>0,VLOOKUP($DC229,'Audit Values'!$A$2:$AC$299,29,FALSE)<Weightings!H229),Weightings!H229,VLOOKUP($DC229,'Audit Values'!$A$2:$AC$299,29,FALSE)))","v":10},{"$f":"IF(ISNA(VLOOKUP($DC229,'Audit Values'!$A$2:$AD$299,2,FALSE)),\"\",VLOOKUP($DC229,'Audit Values'!$A$2:$AD$299,30,FALSE))","v":"A"},{"$f":"IF(Weightings!G229=\"\",\"\",IF(Weightings!I229=\"Pending\",\"PX\",\"R\"))","v":""},{"$f":"AR229*Weightings!$M$5+AU229","v":42724843},{"$f":"AT229*Weightings!$M$5+AU229","v":47638069},{"$f":"IF(Weightings!G229>0,Weightings!G229,'Preliminary SO66'!AB226)","v":64559187},11094655,3706851,713567,49044114,47638069,null,{"$f":"Weightings!E229","v":0},{"$f":"Weightings!F229","v":0},0,47638069,{"$f":"MAX(ROUND(((AR229-AN229-AO229)*Weightings!$M$12)+'2016legmax.xls'!AP229,0),ROUND((('2016legmax.xls'!AR229-'2016legmax.xls'!AN229-'2016legmax.xls'!AO229)*Weightings!$M$12)+Weightings!B229,0))","v":54529038},0.3,16358711,16008101,16008101,0.29360000000000003,0,false,0,0,0,false,0,0,0,227.3,425.7,6.14,{"$f":"IF(ROUND((Weightings!$P$5*CC229^Weightings!$P$6*Weightings!$P$8 ),2)<Weightings!$P$7,Weightings!$P$7,ROUND((Weightings!$P$5*CC229^Weightings!$P$6*Weightings!$P$8 ),2))","v":718},{"$f":"ROUND(CD229/Weightings!$M$5,4)","v":0.18640000000000001},487.1,0,0,0,0,{"$f":"AS229*Weightings!$M$5*CJ229","v":0},0,0.76600000000000001,15.2,522,0,0,{"$f":"IF(ISNA(VLOOKUP($DC229,'Audit Values'!$A$2:$AE$252,2,FALSE)),'Preliminary SO66'!T226,VLOOKUP($DC229,'Audit Values'!$A$2:$AE$252,20,FALSE))","v":1},{"$f":"IF(ISNA(VLOOKUP($DC229,'Audit Values'!$A$2:$AE$252,21,FALSE)),'Preliminary SO66'!U226,VLOOKUP($DC229,'Audit Values'!$A$2:$AE$252,21,FALSE))","v":3.8},34,38.799999999999997,null,null,null,null,null,null,null,"D0443"]
[444,"Rice","Little River ",325.89999999999998,0,325.89999999999998,319.3,0,319.3,309.39999999999998,{"$f":"IF(ISNA(VLOOKUP($DC230,'Audit Values'!$A$2:$AE$252,2,FALSE)),'Preliminary SO66'!B227,VLOOKUP($DC230,'Audit Values'!$A$2:$AE$252,31,FALSE))","v":309.39999999999998},319.3,{"$f":"IF(ISNA(VLOOKUP($DC230,'Audit Values'!$A$2:$AE$252,2,FALSE)),'Preliminary SO66'!Z227,VLOOKUP($DC230,'Audit Values'!$A$2:$AE$252,26,FALSE))","v":0},319.3,{"$f":"IF(ISNA(VLOOKUP($DC230,'Audit Values'!$A$2:$AE$252,2,FALSE)),'Preliminary SO66'!C227,IF(VLOOKUP($DC230,'Audit Values'!$A$2:$AE$252,28,FALSE)=\"\",VLOOKUP($DC230,'Audit Values'!$A$2:$AE$252,3,FALSE),VLOOKUP($DC230,'Audit Values'!$A$2:$AE$252,28,FALSE)))","v":3.5},312.89999999999998,312.89999999999998,312.89999999999998,322.8,0,153.80000000000001,153.80000000000001,0,{"$f":"IF(ISNA(VLOOKUP($DC230,'Audit Values'!$A$2:$AE$252,2,FALSE)),'Preliminary SO66'!D227,VLOOKUP($DC230,'Audit Values'!$A$2:$AE$252,4,FALSE))","v":29.2},{"$f":"ROUND((X230/6)*Weightings!$M$6,1)","v":2.4},{"$f":"IF(ISNA(VLOOKUP($DC230,'Audit Values'!$A$2:$AE$252,2,FALSE)),'Preliminary SO66'!F227,VLOOKUP($DC230,'Audit Values'!$A$2:$AE$252,6,FALSE))","v":2},{"$f":"ROUND((Z230/6)*Weightings!$M$7,1)","v":0.1},{"$f":"IF(ISNA(VLOOKUP($DC230,'Audit Values'!$A$2:$AE$252,2,FALSE)),'Preliminary SO66'!H227,VLOOKUP($DC230,'Audit Values'!$A$2:$AE$252,9,FALSE))","v":66},{"$f":"ROUND(AB230*Weightings!$M$8,1)","v":30.1},0,0,{"$f":"AE230*Weightings!$M$9","v":0},{"$f":"IF(ISNA(VLOOKUP($DC230,'Audit Values'!$A$2:$AE$252,2,FALSE)),'Preliminary SO66'!L227,VLOOKUP($DC230,'Audit Values'!$A$2:$AE$252,12,FALSE))","v":0},{"$f":"ROUND(AG230*Weightings!$M$10,1)","v":0},{"$f":"IF(ISNA(VLOOKUP($DC230,'Audit Values'!$A$2:$AE$252,2,FALSE)),'Preliminary SO66'!O227,VLOOKUP($DC230,'Audit Values'!$A$2:$AE$252,15,FALSE))","v":170.5},51.9,{"$f":"CG230/Weightings!$M$5","v":0},{"$f":"CH230/Weightings!$M$5","v":0},{"$f":"CL230/Weightings!$M$5","v":0},0,{"$f":"IF(ISNA(VLOOKUP($DC230,'Audit Values'!$A$2:$AE$252,2,FALSE)),'Preliminary SO66'!X227,VLOOKUP($DC230,'Audit Values'!$A$2:$AE$252,24,FALSE))","v":0},415878,{"$f":"AP230/Weightings!$M$5","v":108},561.1,669.1,669.1,0,{"$f":"IF(ISNA(VLOOKUP($DC230,'Audit Values'!$A$2:$AC$299,2,FALSE)),\"\",IF(AND(Weightings!H230>0,VLOOKUP($DC230,'Audit Values'!$A$2:$AC$299,29,FALSE)<Weightings!H230),Weightings!H230,VLOOKUP($DC230,'Audit Values'!$A$2:$AC$299,29,FALSE)))","v":14},{"$f":"IF(ISNA(VLOOKUP($DC230,'Audit Values'!$A$2:$AD$299,2,FALSE)),\"\",VLOOKUP($DC230,'Audit Values'!$A$2:$AD$299,30,FALSE))","v":"A"},{"$f":"IF(Weightings!G230=\"\",\"\",IF(Weightings!I230=\"Pending\",\"PX\",\"R\"))","v":""},{"$f":"AR230*Weightings!$M$5+AU230","v":2161357},{"$f":"AT230*Weightings!$M$5+AU230","v":2577373},{"$f":"IF(Weightings!G230>0,Weightings!G230,'Preliminary SO66'!AB227)","v":2921990},0,151300,0,2770690,2577373,null,{"$f":"Weightings!E230","v":0},{"$f":"Weightings!F230","v":0},0,2577373,{"$f":"MAX(ROUND(((AR230-AN230-AO230)*Weightings!$M$12)+'2016legmax.xls'!AP230,0),ROUND((('2016legmax.xls'!AR230-'2016legmax.xls'!AN230-'2016legmax.xls'!AO230)*Weightings!$M$12)+Weightings!B230,0))","v":2935217},0.3,880565,911216,880565,0.3,0,false,0,0,0,true,28.215,0.47643999999999997,153.80000000000001,0,244.5,0.7,{"$f":"IF(ROUND((Weightings!$P$5*CC230^Weightings!$P$6*Weightings!$P$8 ),2)<Weightings!$P$7,Weightings!$P$7,ROUND((Weightings!$P$5*CC230^Weightings!$P$6*Weightings!$P$8 ),2))","v":1173.42},{"$f":"ROUND(CD230/Weightings!$M$5,4)","v":0.30459999999999998},51.9,0,0,0,0,{"$f":"AS230*Weightings!$M$5*CJ230","v":0},0,0.20399999999999999,1.3,0,0,0,{"$f":"IF(ISNA(VLOOKUP($DC230,'Audit Values'!$A$2:$AE$252,2,FALSE)),'Preliminary SO66'!T227,VLOOKUP($DC230,'Audit Values'!$A$2:$AE$252,20,FALSE))","v":0},{"$f":"IF(ISNA(VLOOKUP($DC230,'Audit Values'!$A$2:$AE$252,21,FALSE)),'Preliminary SO66'!U227,VLOOKUP($DC230,'Audit Values'!$A$2:$AE$252,21,FALSE))","v":0},0,0,null,null,null,null,null,null,null,"D0444"]
[445,"Montgomery","Coffeyville ",1701.1,0,1701.1,1629.5,0,1629.5,1627.6,{"$f":"IF(ISNA(VLOOKUP($DC231,'Audit Values'!$A$2:$AE$252,2,FALSE)),'Preliminary SO66'!B228,VLOOKUP($DC231,'Audit Values'!$A$2:$AE$252,31,FALSE))","v":1625.6},1652.1,{"$f":"IF(ISNA(VLOOKUP($DC231,'Audit Values'!$A$2:$AE$252,2,FALSE)),'Preliminary SO66'!Z228,VLOOKUP($DC231,'Audit Values'!$A$2:$AE$252,26,FALSE))","v":0},1652.1,{"$f":"IF(ISNA(VLOOKUP($DC231,'Audit Values'!$A$2:$AE$252,2,FALSE)),'Preliminary SO66'!C228,IF(VLOOKUP($DC231,'Audit Values'!$A$2:$AE$252,28,FALSE)=\"\",VLOOKUP($DC231,'Audit Values'!$A$2:$AE$252,3,FALSE),VLOOKUP($DC231,'Audit Values'!$A$2:$AE$252,28,FALSE)))","v":26.5},1652.1,1654.1,1654.1,1678.6,2,58.8,0,58.8,{"$f":"IF(ISNA(VLOOKUP($DC231,'Audit Values'!$A$2:$AE$252,2,FALSE)),'Preliminary SO66'!D228,VLOOKUP($DC231,'Audit Values'!$A$2:$AE$252,4,FALSE))","v":377.1},{"$f":"ROUND((X231/6)*Weightings!$M$6,1)","v":31.4},{"$f":"IF(ISNA(VLOOKUP($DC231,'Audit Values'!$A$2:$AE$252,2,FALSE)),'Preliminary SO66'!F228,VLOOKUP($DC231,'Audit Values'!$A$2:$AE$252,6,FALSE))","v":419.7},{"$f":"ROUND((Z231/6)*Weightings!$M$7,1)","v":27.6},{"$f":"IF(ISNA(VLOOKUP($DC231,'Audit Values'!$A$2:$AE$252,2,FALSE)),'Preliminary SO66'!H228,VLOOKUP($DC231,'Audit Values'!$A$2:$AE$252,9,FALSE))","v":1160},{"$f":"ROUND(AB231*Weightings!$M$8,1)","v":529},121.8,0,{"$f":"AE231*Weightings!$M$9","v":0},{"$f":"IF(ISNA(VLOOKUP($DC231,'Audit Values'!$A$2:$AE$252,2,FALSE)),'Preliminary SO66'!L228,VLOOKUP($DC231,'Audit Values'!$A$2:$AE$252,12,FALSE))","v":0},{"$f":"ROUND(AG231*Weightings!$M$10,1)","v":0},{"$f":"IF(ISNA(VLOOKUP($DC231,'Audit Values'!$A$2:$AE$252,2,FALSE)),'Preliminary SO66'!O228,VLOOKUP($DC231,'Audit Values'!$A$2:$AE$252,15,FALSE))","v":387},83.4,{"$f":"CG231/Weightings!$M$5","v":0},{"$f":"CH231/Weightings!$M$5","v":0},{"$f":"CL231/Weightings!$M$5","v":0},2.1,{"$f":"IF(ISNA(VLOOKUP($DC231,'Audit Values'!$A$2:$AE$252,2,FALSE)),'Preliminary SO66'!X228,VLOOKUP($DC231,'Audit Values'!$A$2:$AE$252,24,FALSE))","v":0},1309321,{"$f":"AP231/Weightings!$M$5","v":339.9},2532.6999999999998,2872.6,2872.6,0,{"$f":"IF(ISNA(VLOOKUP($DC231,'Audit Values'!$A$2:$AC$299,2,FALSE)),\"\",IF(AND(Weightings!H231>0,VLOOKUP($DC231,'Audit Values'!$A$2:$AC$299,29,FALSE)<Weightings!H231),Weightings!H231,VLOOKUP($DC231,'Audit Values'!$A$2:$AC$299,29,FALSE)))","v":9},{"$f":"IF(ISNA(VLOOKUP($DC231,'Audit Values'!$A$2:$AD$299,2,FALSE)),\"\",VLOOKUP($DC231,'Audit Values'!$A$2:$AD$299,30,FALSE))","v":"A"},{"$f":"IF(Weightings!G231=\"\",\"\",IF(Weightings!I231=\"Pending\",\"PX\",\"R\"))","v":""},{"$f":"AR231*Weightings!$M$5+AU231","v":9755960},{"$f":"AT231*Weightings!$M$5+AU231","v":11065255},{"$f":"IF(Weightings!G231>0,Weightings!G231,'Preliminary SO66'!AB228)","v":13716688},1168553,787343,6137,11754655,11065255,null,{"$f":"Weightings!E231","v":0},{"$f":"Weightings!F231","v":0},0,11065255,{"$f":"MAX(ROUND(((AR231-AN231-AO231)*Weightings!$M$12)+'2016legmax.xls'!AP231,0),ROUND((('2016legmax.xls'!AR231-'2016legmax.xls'!AN231-'2016legmax.xls'!AO231)*Weightings!$M$12)+Weightings!B231,0))","v":12911038},0.3,3873311,3946454,3873311,0.3,0,false,0,0,0,false,0,0,0,58.8,120,3.23,{"$f":"IF(ROUND((Weightings!$P$5*CC231^Weightings!$P$6*Weightings!$P$8 ),2)<Weightings!$P$7,Weightings!$P$7,ROUND((Weightings!$P$5*CC231^Weightings!$P$6*Weightings!$P$8 ),2))","v":830.29},{"$f":"ROUND(CD231/Weightings!$M$5,4)","v":0.2155},83.4,0,0,0,0,{"$f":"AS231*Weightings!$M$5*CJ231","v":0},0,0.69099999999999995,14,121.8,0,0,{"$f":"IF(ISNA(VLOOKUP($DC231,'Audit Values'!$A$2:$AE$252,2,FALSE)),'Preliminary SO66'!T228,VLOOKUP($DC231,'Audit Values'!$A$2:$AE$252,20,FALSE))","v":2},{"$f":"IF(ISNA(VLOOKUP($DC231,'Audit Values'!$A$2:$AE$252,21,FALSE)),'Preliminary SO66'!U228,VLOOKUP($DC231,'Audit Values'!$A$2:$AE$252,21,FALSE))","v":0},0,2,null,null,null,null,null,null,null,"D0445"]
[446,"Montgomery","Independence ",1936.2,0,1936.2,1924.8,0,1924.8,1916,{"$f":"IF(ISNA(VLOOKUP($DC232,'Audit Values'!$A$2:$AE$252,2,FALSE)),'Preliminary SO66'!B229,VLOOKUP($DC232,'Audit Values'!$A$2:$AE$252,31,FALSE))","v":1916},1925.7,{"$f":"IF(ISNA(VLOOKUP($DC232,'Audit Values'!$A$2:$AE$252,2,FALSE)),'Preliminary SO66'!Z229,VLOOKUP($DC232,'Audit Values'!$A$2:$AE$252,26,FALSE))","v":0},1925.7,{"$f":"IF(ISNA(VLOOKUP($DC232,'Audit Values'!$A$2:$AE$252,2,FALSE)),'Preliminary SO66'!C229,IF(VLOOKUP($DC232,'Audit Values'!$A$2:$AE$252,28,FALSE)=\"\",VLOOKUP($DC232,'Audit Values'!$A$2:$AE$252,3,FALSE),VLOOKUP($DC232,'Audit Values'!$A$2:$AE$252,28,FALSE)))","v":14},1930,1930,1930,1939.7,0,68,0,68,{"$f":"IF(ISNA(VLOOKUP($DC232,'Audit Values'!$A$2:$AE$252,2,FALSE)),'Preliminary SO66'!D229,VLOOKUP($DC232,'Audit Values'!$A$2:$AE$252,4,FALSE))","v":319.7},{"$f":"ROUND((X232/6)*Weightings!$M$6,1)","v":26.6},{"$f":"IF(ISNA(VLOOKUP($DC232,'Audit Values'!$A$2:$AE$252,2,FALSE)),'Preliminary SO66'!F229,VLOOKUP($DC232,'Audit Values'!$A$2:$AE$252,6,FALSE))","v":63.2},{"$f":"ROUND((Z232/6)*Weightings!$M$7,1)","v":4.2},{"$f":"IF(ISNA(VLOOKUP($DC232,'Audit Values'!$A$2:$AE$252,2,FALSE)),'Preliminary SO66'!H229,VLOOKUP($DC232,'Audit Values'!$A$2:$AE$252,9,FALSE))","v":1089},{"$f":"ROUND(AB232*Weightings!$M$8,1)","v":496.6},114.3,0,{"$f":"AE232*Weightings!$M$9","v":0},{"$f":"IF(ISNA(VLOOKUP($DC232,'Audit Values'!$A$2:$AE$252,2,FALSE)),'Preliminary SO66'!L229,VLOOKUP($DC232,'Audit Values'!$A$2:$AE$252,12,FALSE))","v":0},{"$f":"ROUND(AG232*Weightings!$M$10,1)","v":0},{"$f":"IF(ISNA(VLOOKUP($DC232,'Audit Values'!$A$2:$AE$252,2,FALSE)),'Preliminary SO66'!O229,VLOOKUP($DC232,'Audit Values'!$A$2:$AE$252,15,FALSE))","v":457},107.8,{"$f":"CG232/Weightings!$M$5","v":0},{"$f":"CH232/Weightings!$M$5","v":0},{"$f":"CL232/Weightings!$M$5","v":0},0,{"$f":"IF(ISNA(VLOOKUP($DC232,'Audit Values'!$A$2:$AE$252,2,FALSE)),'Preliminary SO66'!X229,VLOOKUP($DC232,'Audit Values'!$A$2:$AE$252,24,FALSE))","v":0},1351657,{"$f":"AP232/Weightings!$M$5","v":350.9},2757.2,3108.1,3108.1,0,{"$f":"IF(ISNA(VLOOKUP($DC232,'Audit Values'!$A$2:$AC$299,2,FALSE)),\"\",IF(AND(Weightings!H232>0,VLOOKUP($DC232,'Audit Values'!$A$2:$AC$299,29,FALSE)<Weightings!H232),Weightings!H232,VLOOKUP($DC232,'Audit Values'!$A$2:$AC$299,29,FALSE)))","v":9},{"$f":"IF(ISNA(VLOOKUP($DC232,'Audit Values'!$A$2:$AD$299,2,FALSE)),\"\",VLOOKUP($DC232,'Audit Values'!$A$2:$AD$299,30,FALSE))","v":"A"},{"$f":"IF(Weightings!G232=\"\",\"\",IF(Weightings!I232=\"Pending\",\"PX\",\"R\"))","v":""},{"$f":"AR232*Weightings!$M$5+AU232","v":10620734},{"$f":"AT232*Weightings!$M$5+AU232","v":11972401},{"$f":"IF(Weightings!G232>0,Weightings!G232,'Preliminary SO66'!AB229)","v":15759777},2209610,940238,101884,12508045,11972401,null,{"$f":"Weightings!E232","v":0},{"$f":"Weightings!F232","v":0},0,11972401,{"$f":"MAX(ROUND(((AR232-AN232-AO232)*Weightings!$M$12)+'2016legmax.xls'!AP232,0),ROUND((('2016legmax.xls'!AR232-'2016legmax.xls'!AN232-'2016legmax.xls'!AO232)*Weightings!$M$12)+Weightings!B232,0))","v":13790677},0.3,4137203,4108647,4108647,0.2979,0,false,0,0,0,false,0,0,0,68,210.9,2.17,{"$f":"IF(ROUND((Weightings!$P$5*CC232^Weightings!$P$6*Weightings!$P$8 ),2)<Weightings!$P$7,Weightings!$P$7,ROUND((Weightings!$P$5*CC232^Weightings!$P$6*Weightings!$P$8 ),2))","v":908.46},{"$f":"ROUND(CD232/Weightings!$M$5,4)","v":0.23580000000000001},107.8,0,0,0,0,{"$f":"AS232*Weightings!$M$5*CJ232","v":0},0,0.56100000000000005,9.1999999999999993,114.3,0,0,{"$f":"IF(ISNA(VLOOKUP($DC232,'Audit Values'!$A$2:$AE$252,2,FALSE)),'Preliminary SO66'!T229,VLOOKUP($DC232,'Audit Values'!$A$2:$AE$252,20,FALSE))","v":0},{"$f":"IF(ISNA(VLOOKUP($DC232,'Audit Values'!$A$2:$AE$252,21,FALSE)),'Preliminary SO66'!U229,VLOOKUP($DC232,'Audit Values'!$A$2:$AE$252,21,FALSE))","v":0},0,0,null,null,null,null,null,null,null,"D0446"]
[447,"Montgomery","Cherryvale ",799.4,0,799.4,793,0,793,887.1,{"$f":"IF(ISNA(VLOOKUP($DC233,'Audit Values'!$A$2:$AE$252,2,FALSE)),'Preliminary SO66'!B230,VLOOKUP($DC233,'Audit Values'!$A$2:$AE$252,31,FALSE))","v":770.7},793,{"$f":"IF(ISNA(VLOOKUP($DC233,'Audit Values'!$A$2:$AE$252,2,FALSE)),'Preliminary SO66'!Z230,VLOOKUP($DC233,'Audit Values'!$A$2:$AE$252,26,FALSE))","v":0},793,{"$f":"IF(ISNA(VLOOKUP($DC233,'Audit Values'!$A$2:$AE$252,2,FALSE)),'Preliminary SO66'!C230,IF(VLOOKUP($DC233,'Audit Values'!$A$2:$AE$252,28,FALSE)=\"\",VLOOKUP($DC233,'Audit Values'!$A$2:$AE$252,3,FALSE),VLOOKUP($DC233,'Audit Values'!$A$2:$AE$252,28,FALSE)))","v":11.5},782.2,898.6,898.6,804.5,116.4,251.6,251.6,0,{"$f":"IF(ISNA(VLOOKUP($DC233,'Audit Values'!$A$2:$AE$252,2,FALSE)),'Preliminary SO66'!D230,VLOOKUP($DC233,'Audit Values'!$A$2:$AE$252,4,FALSE))","v":168.2},{"$f":"ROUND((X233/6)*Weightings!$M$6,1)","v":14},{"$f":"IF(ISNA(VLOOKUP($DC233,'Audit Values'!$A$2:$AE$252,2,FALSE)),'Preliminary SO66'!F230,VLOOKUP($DC233,'Audit Values'!$A$2:$AE$252,6,FALSE))","v":0},{"$f":"ROUND((Z233/6)*Weightings!$M$7,1)","v":0},{"$f":"IF(ISNA(VLOOKUP($DC233,'Audit Values'!$A$2:$AE$252,2,FALSE)),'Preliminary SO66'!H230,VLOOKUP($DC233,'Audit Values'!$A$2:$AE$252,9,FALSE))","v":440},{"$f":"ROUND(AB233*Weightings!$M$8,1)","v":200.6},46.2,0,{"$f":"AE233*Weightings!$M$9","v":0},{"$f":"IF(ISNA(VLOOKUP($DC233,'Audit Values'!$A$2:$AE$252,2,FALSE)),'Preliminary SO66'!L230,VLOOKUP($DC233,'Audit Values'!$A$2:$AE$252,12,FALSE))","v":0},{"$f":"ROUND(AG233*Weightings!$M$10,1)","v":0},{"$f":"IF(ISNA(VLOOKUP($DC233,'Audit Values'!$A$2:$AE$252,2,FALSE)),'Preliminary SO66'!O230,VLOOKUP($DC233,'Audit Values'!$A$2:$AE$252,15,FALSE))","v":126.5},36.4,{"$f":"CG233/Weightings!$M$5","v":0},{"$f":"CH233/Weightings!$M$5","v":0},{"$f":"CL233/Weightings!$M$5","v":0},122.2,{"$f":"IF(ISNA(VLOOKUP($DC233,'Audit Values'!$A$2:$AE$252,2,FALSE)),'Preliminary SO66'!X230,VLOOKUP($DC233,'Audit Values'!$A$2:$AE$252,24,FALSE))","v":0},575841,{"$f":"AP233/Weightings!$M$5","v":149.5},1475.5,1625,1625,0,{"$f":"IF(ISNA(VLOOKUP($DC233,'Audit Values'!$A$2:$AC$299,2,FALSE)),\"\",IF(AND(Weightings!H233>0,VLOOKUP($DC233,'Audit Values'!$A$2:$AC$299,29,FALSE)<Weightings!H233),Weightings!H233,VLOOKUP($DC233,'Audit Values'!$A$2:$AC$299,29,FALSE)))","v":5},{"$f":"IF(ISNA(VLOOKUP($DC233,'Audit Values'!$A$2:$AD$299,2,FALSE)),\"\",VLOOKUP($DC233,'Audit Values'!$A$2:$AD$299,30,FALSE))","v":"A"},{"$f":"IF(Weightings!G233=\"\",\"\",IF(Weightings!I233=\"Pending\",\"PX\",\"R\"))","v":""},{"$f":"AR233*Weightings!$M$5+AU233","v":5683626},{"$f":"AT233*Weightings!$M$5+AU233","v":6259500},{"$f":"IF(Weightings!G233>0,Weightings!G233,'Preliminary SO66'!AB230)","v":8250304},1499840,430227,0,6320237,6259500,null,{"$f":"Weightings!E233","v":0},{"$f":"Weightings!F233","v":0},0,6259500,{"$f":"MAX(ROUND(((AR233-AN233-AO233)*Weightings!$M$12)+'2016legmax.xls'!AP233,0),ROUND((('2016legmax.xls'!AR233-'2016legmax.xls'!AN233-'2016legmax.xls'!AO233)*Weightings!$M$12)+Weightings!B233,0))","v":6685863},0.3,2005759,2013841,2005759,0.3,0,false,0,0,0,true,624.31880000000001,0.31278299999999998,251.6,0,140,0.9,{"$f":"IF(ROUND((Weightings!$P$5*CC233^Weightings!$P$6*Weightings!$P$8 ),2)<Weightings!$P$7,Weightings!$P$7,ROUND((Weightings!$P$5*CC233^Weightings!$P$6*Weightings!$P$8 ),2))","v":1108.57},{"$f":"ROUND(CD233/Weightings!$M$5,4)","v":0.2878},36.4,0,0,0,0,{"$f":"AS233*Weightings!$M$5*CJ233","v":0},0,0.54700000000000004,5.7,46.2,0,0,{"$f":"IF(ISNA(VLOOKUP($DC233,'Audit Values'!$A$2:$AE$252,2,FALSE)),'Preliminary SO66'!T230,VLOOKUP($DC233,'Audit Values'!$A$2:$AE$252,20,FALSE))","v":21},{"$f":"IF(ISNA(VLOOKUP($DC233,'Audit Values'!$A$2:$AE$252,21,FALSE)),'Preliminary SO66'!U230,VLOOKUP($DC233,'Audit Values'!$A$2:$AE$252,21,FALSE))","v":0.4},95,116.4,null,null,null,null,null,null,null,"D0447"]
[448,"McPherson","Inman ",404.3,0,404.3,412.3,0,412.3,410.1,{"$f":"IF(ISNA(VLOOKUP($DC234,'Audit Values'!$A$2:$AE$252,2,FALSE)),'Preliminary SO66'!B231,VLOOKUP($DC234,'Audit Values'!$A$2:$AE$252,31,FALSE))","v":410.1},412.3,{"$f":"IF(ISNA(VLOOKUP($DC234,'Audit Values'!$A$2:$AE$252,2,FALSE)),'Preliminary SO66'!Z231,VLOOKUP($DC234,'Audit Values'!$A$2:$AE$252,26,FALSE))","v":0},412.3,{"$f":"IF(ISNA(VLOOKUP($DC234,'Audit Values'!$A$2:$AE$252,2,FALSE)),'Preliminary SO66'!C231,IF(VLOOKUP($DC234,'Audit Values'!$A$2:$AE$252,28,FALSE)=\"\",VLOOKUP($DC234,'Audit Values'!$A$2:$AE$252,3,FALSE),VLOOKUP($DC234,'Audit Values'!$A$2:$AE$252,28,FALSE)))","v":7.5},417.6,417.6,417.6,419.8,0,186.2,186.2,0,{"$f":"IF(ISNA(VLOOKUP($DC234,'Audit Values'!$A$2:$AE$252,2,FALSE)),'Preliminary SO66'!D231,VLOOKUP($DC234,'Audit Values'!$A$2:$AE$252,4,FALSE))","v":316.60000000000002},{"$f":"ROUND((X234/6)*Weightings!$M$6,1)","v":26.4},{"$f":"IF(ISNA(VLOOKUP($DC234,'Audit Values'!$A$2:$AE$252,2,FALSE)),'Preliminary SO66'!F231,VLOOKUP($DC234,'Audit Values'!$A$2:$AE$252,6,FALSE))","v":0},{"$f":"ROUND((Z234/6)*Weightings!$M$7,1)","v":0},{"$f":"IF(ISNA(VLOOKUP($DC234,'Audit Values'!$A$2:$AE$252,2,FALSE)),'Preliminary SO66'!H231,VLOOKUP($DC234,'Audit Values'!$A$2:$AE$252,9,FALSE))","v":97},{"$f":"ROUND(AB234*Weightings!$M$8,1)","v":44.2},0,0,{"$f":"AE234*Weightings!$M$9","v":0},{"$f":"IF(ISNA(VLOOKUP($DC234,'Audit Values'!$A$2:$AE$252,2,FALSE)),'Preliminary SO66'!L231,VLOOKUP($DC234,'Audit Values'!$A$2:$AE$252,12,FALSE))","v":56.5},{"$f":"ROUND(AG234*Weightings!$M$10,1)","v":14.1},{"$f":"IF(ISNA(VLOOKUP($DC234,'Audit Values'!$A$2:$AE$252,2,FALSE)),'Preliminary SO66'!O231,VLOOKUP($DC234,'Audit Values'!$A$2:$AE$252,15,FALSE))","v":108},32.4,{"$f":"CG234/Weightings!$M$5","v":0},{"$f":"CH234/Weightings!$M$5","v":0},{"$f":"CL234/Weightings!$M$5","v":0},0,{"$f":"IF(ISNA(VLOOKUP($DC234,'Audit Values'!$A$2:$AE$252,2,FALSE)),'Preliminary SO66'!X231,VLOOKUP($DC234,'Audit Values'!$A$2:$AE$252,24,FALSE))","v":0},481523,{"$f":"AP234/Weightings!$M$5","v":125},723.1,848.1,848.1,0,{"$f":"IF(ISNA(VLOOKUP($DC234,'Audit Values'!$A$2:$AC$299,2,FALSE)),\"\",IF(AND(Weightings!H234>0,VLOOKUP($DC234,'Audit Values'!$A$2:$AC$299,29,FALSE)<Weightings!H234),Weightings!H234,VLOOKUP($DC234,'Audit Values'!$A$2:$AC$299,29,FALSE)))","v":14},{"$f":"IF(ISNA(VLOOKUP($DC234,'Audit Values'!$A$2:$AD$299,2,FALSE)),\"\",VLOOKUP($DC234,'Audit Values'!$A$2:$AD$299,30,FALSE))","v":"A"},{"$f":"IF(Weightings!G234=\"\",\"\",IF(Weightings!I234=\"Pending\",\"PX\",\"R\"))","v":""},{"$f":"AR234*Weightings!$M$5+AU234","v":2785381},{"$f":"AT234*Weightings!$M$5+AU234","v":3266881},{"$f":"IF(Weightings!G234>0,Weightings!G234,'Preliminary SO66'!AB231)","v":3876273},313364,213345,0,3349564,3266881,null,{"$f":"Weightings!E234","v":0},{"$f":"Weightings!F234","v":0},0,3266881,{"$f":"MAX(ROUND(((AR234-AN234-AO234)*Weightings!$M$12)+'2016legmax.xls'!AP234,0),ROUND((('2016legmax.xls'!AR234-'2016legmax.xls'!AN234-'2016legmax.xls'!AO234)*Weightings!$M$12)+Weightings!B234,0))","v":3728242},0.33,1230320,1196840,1196840,0.32100000000000001,0,false,0,0,0,true,148.2525,0.44348399999999999,186.2,0,144,0.75,{"$f":"IF(ROUND((Weightings!$P$5*CC234^Weightings!$P$6*Weightings!$P$8 ),2)<Weightings!$P$7,Weightings!$P$7,ROUND((Weightings!$P$5*CC234^Weightings!$P$6*Weightings!$P$8 ),2))","v":1155.25},{"$f":"ROUND(CD234/Weightings!$M$5,4)","v":0.2999},32.4,0,0,0,0,{"$f":"AS234*Weightings!$M$5*CJ234","v":0},0,0.23100000000000001,2.9,0,0,0,{"$f":"IF(ISNA(VLOOKUP($DC234,'Audit Values'!$A$2:$AE$252,2,FALSE)),'Preliminary SO66'!T231,VLOOKUP($DC234,'Audit Values'!$A$2:$AE$252,20,FALSE))","v":0},{"$f":"IF(ISNA(VLOOKUP($DC234,'Audit Values'!$A$2:$AE$252,21,FALSE)),'Preliminary SO66'!U231,VLOOKUP($DC234,'Audit Values'!$A$2:$AE$252,21,FALSE))","v":0},0,0,null,null,null,null,null,null,null,"D0448"]
[449,"Leavenworth","Easton ",652.70000000000005,0,652.70000000000005,620.1,0,620.1,599.5,{"$f":"IF(ISNA(VLOOKUP($DC235,'Audit Values'!$A$2:$AE$252,2,FALSE)),'Preliminary SO66'!B232,VLOOKUP($DC235,'Audit Values'!$A$2:$AE$252,31,FALSE))","v":599.5},624.1,{"$f":"IF(ISNA(VLOOKUP($DC235,'Audit Values'!$A$2:$AE$252,2,FALSE)),'Preliminary SO66'!Z232,VLOOKUP($DC235,'Audit Values'!$A$2:$AE$252,26,FALSE))","v":0},624.1,{"$f":"IF(ISNA(VLOOKUP($DC235,'Audit Values'!$A$2:$AE$252,2,FALSE)),'Preliminary SO66'!C232,IF(VLOOKUP($DC235,'Audit Values'!$A$2:$AE$252,28,FALSE)=\"\",VLOOKUP($DC235,'Audit Values'!$A$2:$AE$252,3,FALSE),VLOOKUP($DC235,'Audit Values'!$A$2:$AE$252,28,FALSE)))","v":0},599.5,599.5,599.5,624.1,0,233.5,233.5,0,{"$f":"IF(ISNA(VLOOKUP($DC235,'Audit Values'!$A$2:$AE$252,2,FALSE)),'Preliminary SO66'!D232,VLOOKUP($DC235,'Audit Values'!$A$2:$AE$252,4,FALSE))","v":218.1},{"$f":"ROUND((X235/6)*Weightings!$M$6,1)","v":18.2},{"$f":"IF(ISNA(VLOOKUP($DC235,'Audit Values'!$A$2:$AE$252,2,FALSE)),'Preliminary SO66'!F232,VLOOKUP($DC235,'Audit Values'!$A$2:$AE$252,6,FALSE))","v":0},{"$f":"ROUND((Z235/6)*Weightings!$M$7,1)","v":0},{"$f":"IF(ISNA(VLOOKUP($DC235,'Audit Values'!$A$2:$AE$252,2,FALSE)),'Preliminary SO66'!H232,VLOOKUP($DC235,'Audit Values'!$A$2:$AE$252,9,FALSE))","v":150},{"$f":"ROUND(AB235*Weightings!$M$8,1)","v":68.400000000000006},0,0,{"$f":"AE235*Weightings!$M$9","v":0},{"$f":"IF(ISNA(VLOOKUP($DC235,'Audit Values'!$A$2:$AE$252,2,FALSE)),'Preliminary SO66'!L232,VLOOKUP($DC235,'Audit Values'!$A$2:$AE$252,12,FALSE))","v":0},{"$f":"ROUND(AG235*Weightings!$M$10,1)","v":0},{"$f":"IF(ISNA(VLOOKUP($DC235,'Audit Values'!$A$2:$AE$252,2,FALSE)),'Preliminary SO66'!O232,VLOOKUP($DC235,'Audit Values'!$A$2:$AE$252,15,FALSE))","v":345.9},76,{"$f":"CG235/Weightings!$M$5","v":0},{"$f":"CH235/Weightings!$M$5","v":0},{"$f":"CL235/Weightings!$M$5","v":0},0,{"$f":"IF(ISNA(VLOOKUP($DC235,'Audit Values'!$A$2:$AE$252,2,FALSE)),'Preliminary SO66'!X232,VLOOKUP($DC235,'Audit Values'!$A$2:$AE$252,24,FALSE))","v":0},826457,{"$f":"AP235/Weightings!$M$5","v":214.6},1020.2,1234.8,1234.8,0,{"$f":"IF(ISNA(VLOOKUP($DC235,'Audit Values'!$A$2:$AC$299,2,FALSE)),\"\",IF(AND(Weightings!H235>0,VLOOKUP($DC235,'Audit Values'!$A$2:$AC$299,29,FALSE)<Weightings!H235),Weightings!H235,VLOOKUP($DC235,'Audit Values'!$A$2:$AC$299,29,FALSE)))","v":7},{"$f":"IF(ISNA(VLOOKUP($DC235,'Audit Values'!$A$2:$AD$299,2,FALSE)),\"\",VLOOKUP($DC235,'Audit Values'!$A$2:$AD$299,30,FALSE))","v":"A"},{"$f":"IF(Weightings!G235=\"\",\"\",IF(Weightings!I235=\"Pending\",\"PX\",\"R\"))","v":""},{"$f":"AR235*Weightings!$M$5+AU235","v":3929810},{"$f":"AT235*Weightings!$M$5+AU235","v":4756450},{"$f":"IF(Weightings!G235>0,Weightings!G235,'Preliminary SO66'!AB232)","v":6286447},885932,351192,40894,5008429,4756450,null,{"$f":"Weightings!E235","v":0},{"$f":"Weightings!F235","v":0},0,4756450,{"$f":"MAX(ROUND(((AR235-AN235-AO235)*Weightings!$M$12)+'2016legmax.xls'!AP235,0),ROUND((('2016legmax.xls'!AR235-'2016legmax.xls'!AN235-'2016legmax.xls'!AO235)*Weightings!$M$12)+Weightings!B235,0))","v":5407155},0.3,1622147,1687280,1622147,0.3,0,false,0,0,0,true,401.07380000000001,0.37407400000000002,233.5,0,117,2.96,{"$f":"IF(ROUND((Weightings!$P$5*CC235^Weightings!$P$6*Weightings!$P$8 ),2)<Weightings!$P$7,Weightings!$P$7,ROUND((Weightings!$P$5*CC235^Weightings!$P$6*Weightings!$P$8 ),2))","v":846.85},{"$f":"ROUND(CD235/Weightings!$M$5,4)","v":0.2198},76,0,0,0,0,{"$f":"AS235*Weightings!$M$5*CJ235","v":0},0,0.24,5.3,0,0,0,{"$f":"IF(ISNA(VLOOKUP($DC235,'Audit Values'!$A$2:$AE$252,2,FALSE)),'Preliminary SO66'!T232,VLOOKUP($DC235,'Audit Values'!$A$2:$AE$252,20,FALSE))","v":0},{"$f":"IF(ISNA(VLOOKUP($DC235,'Audit Values'!$A$2:$AE$252,21,FALSE)),'Preliminary SO66'!U232,VLOOKUP($DC235,'Audit Values'!$A$2:$AE$252,21,FALSE))","v":0},0,0,null,null,null,null,null,null,null,"D0449"]
[450,"Shawnee","Shawnee Heights ",3464.1,0,3464.1,3488.5,0,3488.5,3443,{"$f":"IF(ISNA(VLOOKUP($DC236,'Audit Values'!$A$2:$AE$269,2,FALSE)),'Preliminary SO66'!B233,VLOOKUP($DC236,'Audit Values'!$A$2:$AE$269,31,FALSE))","v":3427},3488.5,{"$f":"IF(ISNA(VLOOKUP($DC236,'Audit Values'!$A$2:$AE$252,2,FALSE)),'Preliminary SO66'!Z233,VLOOKUP($DC236,'Audit Values'!$A$2:$AE$252,26,FALSE))","v":0},3488.5,{"$f":"IF(ISNA(VLOOKUP($DC236,'Audit Values'!$A$2:$AE$252,2,FALSE)),'Preliminary SO66'!C233,IF(VLOOKUP($DC236,'Audit Values'!$A$2:$AE$252,28,FALSE)=\"\",VLOOKUP($DC236,'Audit Values'!$A$2:$AE$252,3,FALSE),VLOOKUP($DC236,'Audit Values'!$A$2:$AE$252,28,FALSE)))","v":0},3427,3443,3443,3488.5,16,122.2,0,122.2,{"$f":"IF(ISNA(VLOOKUP($DC236,'Audit Values'!$A$2:$AE$252,2,FALSE)),'Preliminary SO66'!D233,VLOOKUP($DC236,'Audit Values'!$A$2:$AE$252,4,FALSE))","v":512.5},{"$f":"ROUND((X236/6)*Weightings!$M$6,1)","v":42.7},{"$f":"IF(ISNA(VLOOKUP($DC236,'Audit Values'!$A$2:$AE$252,2,FALSE)),'Preliminary SO66'!F233,VLOOKUP($DC236,'Audit Values'!$A$2:$AE$252,6,FALSE))","v":152.30000000000001},{"$f":"ROUND((Z236/6)*Weightings!$M$7,1)","v":10},{"$f":"IF(ISNA(VLOOKUP($DC236,'Audit Values'!$A$2:$AE$252,2,FALSE)),'Preliminary SO66'!H233,VLOOKUP($DC236,'Audit Values'!$A$2:$AE$252,9,FALSE))","v":1025},{"$f":"ROUND(AB236*Weightings!$M$8,1)","v":467.4},0,0,{"$f":"AE236*Weightings!$M$9","v":0},{"$f":"IF(ISNA(VLOOKUP($DC236,'Audit Values'!$A$2:$AE$269,2,FALSE)),'Preliminary SO66'!L233,VLOOKUP($DC236,'Audit Values'!$A$2:$AE$269,12,FALSE))","v":75.5},{"$f":"ROUND(AG236*Weightings!$M$10,1)","v":18.899999999999999},{"$f":"IF(ISNA(VLOOKUP($DC236,'Audit Values'!$A$2:$AE$269,2,FALSE)),'Preliminary SO66'!O233,VLOOKUP($DC236,'Audit Values'!$A$2:$AE$269,15,FALSE))","v":2627},384.6,{"$f":"CG236/Weightings!$M$5","v":0},{"$f":"CH236/Weightings!$M$5","v":0},{"$f":"CL236/Weightings!$M$5","v":0},16.8,{"$f":"IF(ISNA(VLOOKUP($DC236,'Audit Values'!$A$2:$AE$252,2,FALSE)),'Preliminary SO66'!X233,VLOOKUP($DC236,'Audit Values'!$A$2:$AE$252,24,FALSE))","v":1},3061124,{"$f":"AP236/Weightings!$M$5","v":794.7},4552.1000000000004,5346.8,5346.8,600000,{"$f":"IF(ISNA(VLOOKUP($DC236,'Audit Values'!$A$2:$AC$299,2,FALSE)),\"\",IF(AND(Weightings!H236>0,VLOOKUP($DC236,'Audit Values'!$A$2:$AC$299,29,FALSE)<Weightings!H236),Weightings!H236,VLOOKUP($DC236,'Audit Values'!$A$2:$AC$299,29,FALSE)))","v":17},{"$f":"IF(ISNA(VLOOKUP($DC236,'Audit Values'!$A$2:$AD$299,2,FALSE)),\"\",VLOOKUP($DC236,'Audit Values'!$A$2:$AD$299,30,FALSE))","v":"A"},{"$f":"IF(Weightings!G236=\"\",\"\",IF(Weightings!I236=\"Pending\",\"PX\",\"R\"))","v":""},{"$f":"AR236*Weightings!$M$5+AU236","v":18134689},{"$f":"AT236*Weightings!$M$5+AU236","v":21195874},{"$f":"IF(Weightings!G236>0,Weightings!G236,'Preliminary SO66'!AB233)","v":27356885},3423124,1811285,336624,21785852,21195874,null,{"$f":"Weightings!E236","v":0},{"$f":"Weightings!F236","v":0},0,21195874,{"$f":"MAX(ROUND(((AR236-AN236-AO236)*Weightings!$M$12)+'2016legmax.xls'!AP236,0),ROUND((('2016legmax.xls'!AR236-'2016legmax.xls'!AN236-'2016legmax.xls'!AO236)*Weightings!$M$12)+Weightings!B236,0))","v":23420131},0.3,7026039,6967765,6967765,0.29749999999999999,0,false,0,0,0,false,0,0,0,122.2,140,18.760000000000002,{"$f":"IF(ROUND((Weightings!$P$5*CC236^Weightings!$P$6*Weightings!$P$8 ),2)<Weightings!$P$7,Weightings!$P$7,ROUND((Weightings!$P$5*CC236^Weightings!$P$6*Weightings!$P$8 ),2))","v":564},{"$f":"ROUND(CD236/Weightings!$M$5,4)","v":0.1464},384.6,0,0,0,0,{"$f":"AS236*Weightings!$M$5*CJ236","v":0},0,0.29399999999999998,24.9,0,0,0,{"$f":"IF(ISNA(VLOOKUP($DC236,'Audit Values'!$A$2:$AE$252,2,FALSE)),'Preliminary SO66'!T233,VLOOKUP($DC236,'Audit Values'!$A$2:$AE$252,20,FALSE))","v":0},{"$f":"IF(ISNA(VLOOKUP($DC236,'Audit Values'!$A$2:$AE$252,21,FALSE)),'Preliminary SO66'!U233,VLOOKUP($DC236,'Audit Values'!$A$2:$AE$252,21,FALSE))","v":2},14,16,null,null,null,null,null,null,null,"D0450"]
[452,"Stanton","Stanton County ",419.1,0,419.1,415.6,0,415.6,430.2,{"$f":"IF(ISNA(VLOOKUP($DC237,'Audit Values'!$A$2:$AE$252,2,FALSE)),'Preliminary SO66'!B234,VLOOKUP($DC237,'Audit Values'!$A$2:$AE$252,31,FALSE))","v":430.2},430.2,{"$f":"IF(ISNA(VLOOKUP($DC237,'Audit Values'!$A$2:$AE$252,2,FALSE)),'Preliminary SO66'!Z234,VLOOKUP($DC237,'Audit Values'!$A$2:$AE$252,26,FALSE))","v":0},430.2,{"$f":"IF(ISNA(VLOOKUP($DC237,'Audit Values'!$A$2:$AE$252,2,FALSE)),'Preliminary SO66'!C234,IF(VLOOKUP($DC237,'Audit Values'!$A$2:$AE$252,28,FALSE)=\"\",VLOOKUP($DC237,'Audit Values'!$A$2:$AE$252,3,FALSE),VLOOKUP($DC237,'Audit Values'!$A$2:$AE$252,28,FALSE)))","v":0},430.2,430.2,430.2,430.2,0,189.3,189.3,0,{"$f":"IF(ISNA(VLOOKUP($DC237,'Audit Values'!$A$2:$AE$252,2,FALSE)),'Preliminary SO66'!D234,VLOOKUP($DC237,'Audit Values'!$A$2:$AE$252,4,FALSE))","v":164},{"$f":"ROUND((X237/6)*Weightings!$M$6,1)","v":13.7},{"$f":"IF(ISNA(VLOOKUP($DC237,'Audit Values'!$A$2:$AE$252,2,FALSE)),'Preliminary SO66'!F234,VLOOKUP($DC237,'Audit Values'!$A$2:$AE$252,6,FALSE))","v":663.9},{"$f":"ROUND((Z237/6)*Weightings!$M$7,1)","v":43.7},{"$f":"IF(ISNA(VLOOKUP($DC237,'Audit Values'!$A$2:$AE$252,2,FALSE)),'Preliminary SO66'!H234,VLOOKUP($DC237,'Audit Values'!$A$2:$AE$252,9,FALSE))","v":209},{"$f":"ROUND(AB237*Weightings!$M$8,1)","v":95.3},19.899999999999999,0,{"$f":"AE237*Weightings!$M$9","v":0},{"$f":"IF(ISNA(VLOOKUP($DC237,'Audit Values'!$A$2:$AE$252,2,FALSE)),'Preliminary SO66'!L234,VLOOKUP($DC237,'Audit Values'!$A$2:$AE$252,12,FALSE))","v":0},{"$f":"ROUND(AG237*Weightings!$M$10,1)","v":0},{"$f":"IF(ISNA(VLOOKUP($DC237,'Audit Values'!$A$2:$AE$252,2,FALSE)),'Preliminary SO66'!O234,VLOOKUP($DC237,'Audit Values'!$A$2:$AE$252,15,FALSE))","v":135},54.6,{"$f":"CG237/Weightings!$M$5","v":0},{"$f":"CH237/Weightings!$M$5","v":0},{"$f":"CL237/Weightings!$M$5","v":0},0,{"$f":"IF(ISNA(VLOOKUP($DC237,'Audit Values'!$A$2:$AE$252,2,FALSE)),'Preliminary SO66'!X234,VLOOKUP($DC237,'Audit Values'!$A$2:$AE$252,24,FALSE))","v":0},245993,{"$f":"AP237/Weightings!$M$5","v":63.9},846.7,910.6,910.6,0,{"$f":"IF(ISNA(VLOOKUP($DC237,'Audit Values'!$A$2:$AC$299,2,FALSE)),\"\",IF(AND(Weightings!H237>0,VLOOKUP($DC237,'Audit Values'!$A$2:$AC$299,29,FALSE)<Weightings!H237),Weightings!H237,VLOOKUP($DC237,'Audit Values'!$A$2:$AC$299,29,FALSE)))","v":12},{"$f":"IF(ISNA(VLOOKUP($DC237,'Audit Values'!$A$2:$AD$299,2,FALSE)),\"\",VLOOKUP($DC237,'Audit Values'!$A$2:$AD$299,30,FALSE))","v":"A"},{"$f":"IF(Weightings!G237=\"\",\"\",IF(Weightings!I237=\"Pending\",\"PX\",\"R\"))","v":""},{"$f":"AR237*Weightings!$M$5+AU237","v":3261488},{"$f":"AT237*Weightings!$M$5+AU237","v":3507631},{"$f":"IF(Weightings!G237>0,Weightings!G237,'Preliminary SO66'!AB234)","v":3817367},0,238713,0,3578654,3507631,null,{"$f":"Weightings!E237","v":0},{"$f":"Weightings!F237","v":0},0,3507631,{"$f":"MAX(ROUND(((AR237-AN237-AO237)*Weightings!$M$12)+'2016legmax.xls'!AP237,0),ROUND((('2016legmax.xls'!AR237-'2016legmax.xls'!AN237-'2016legmax.xls'!AO237)*Weightings!$M$12)+Weightings!B237,0))","v":4090918},0.3,1227275,1212863,1212863,0.29649999999999999,0,false,0,0,0,true,161.1225,0.43995099999999998,189.3,0,690,0.2,{"$f":"IF(ROUND((Weightings!$P$5*CC237^Weightings!$P$6*Weightings!$P$8 ),2)<Weightings!$P$7,Weightings!$P$7,ROUND((Weightings!$P$5*CC237^Weightings!$P$6*Weightings!$P$8 ),2))","v":1557.85},{"$f":"ROUND(CD237/Weightings!$M$5,4)","v":0.40439999999999998},54.6,0,0,0,0,{"$f":"AS237*Weightings!$M$5*CJ237","v":0},0,0.48599999999999999,0.6,0,0,19.899999999999999,{"$f":"IF(ISNA(VLOOKUP($DC237,'Audit Values'!$A$2:$AE$252,2,FALSE)),'Preliminary SO66'!T234,VLOOKUP($DC237,'Audit Values'!$A$2:$AE$252,20,FALSE))","v":0},{"$f":"IF(ISNA(VLOOKUP($DC237,'Audit Values'!$A$2:$AE$252,21,FALSE)),'Preliminary SO66'!U234,VLOOKUP($DC237,'Audit Values'!$A$2:$AE$252,21,FALSE))","v":0},0,0,null,null,null,null,null,null,null,"D0452"]
[453,"Leavenworth","Leavenworth ",3444.8,27.7,3472.5,3507.7,0,3507.7,3547.8,{"$f":"IF(ISNA(VLOOKUP($DC238,'Audit Values'!$A$2:$AE$252,2,FALSE)),'Preliminary SO66'!B235,VLOOKUP($DC238,'Audit Values'!$A$2:$AE$252,31,FALSE))","v":3463.3},3507.7,{"$f":"IF(ISNA(VLOOKUP($DC238,'Audit Values'!$A$2:$AE$252,2,FALSE)),'Preliminary SO66'!Z235,VLOOKUP($DC238,'Audit Values'!$A$2:$AE$252,26,FALSE))","v":0},3507.7,{"$f":"IF(ISNA(VLOOKUP($DC238,'Audit Values'!$A$2:$AE$252,2,FALSE)),'Preliminary SO66'!C235,IF(VLOOKUP($DC238,'Audit Values'!$A$2:$AE$252,28,FALSE)=\"\",VLOOKUP($DC238,'Audit Values'!$A$2:$AE$252,3,FALSE),VLOOKUP($DC238,'Audit Values'!$A$2:$AE$252,28,FALSE)))","v":52},3515.3,3599.8,3599.8,3559.7,84.5,124.7,0,124.7,{"$f":"IF(ISNA(VLOOKUP($DC238,'Audit Values'!$A$2:$AE$252,2,FALSE)),'Preliminary SO66'!D235,VLOOKUP($DC238,'Audit Values'!$A$2:$AE$252,4,FALSE))","v":660.7},{"$f":"ROUND((X238/6)*Weightings!$M$6,1)","v":55.1},{"$f":"IF(ISNA(VLOOKUP($DC238,'Audit Values'!$A$2:$AE$252,2,FALSE)),'Preliminary SO66'!F235,VLOOKUP($DC238,'Audit Values'!$A$2:$AE$252,6,FALSE))","v":94.5},{"$f":"ROUND((Z238/6)*Weightings!$M$7,1)","v":6.2},{"$f":"IF(ISNA(VLOOKUP($DC238,'Audit Values'!$A$2:$AE$252,2,FALSE)),'Preliminary SO66'!H235,VLOOKUP($DC238,'Audit Values'!$A$2:$AE$252,9,FALSE))","v":2059},{"$f":"ROUND(AB238*Weightings!$M$8,1)","v":938.9},216.2,0,{"$f":"AE238*Weightings!$M$9","v":0},{"$f":"IF(ISNA(VLOOKUP($DC238,'Audit Values'!$A$2:$AE$252,2,FALSE)),'Preliminary SO66'!L235,VLOOKUP($DC238,'Audit Values'!$A$2:$AE$252,12,FALSE))","v":0},{"$f":"ROUND(AG238*Weightings!$M$10,1)","v":0},{"$f":"IF(ISNA(VLOOKUP($DC238,'Audit Values'!$A$2:$AE$252,2,FALSE)),'Preliminary SO66'!O235,VLOOKUP($DC238,'Audit Values'!$A$2:$AE$252,15,FALSE))","v":604},88.4,{"$f":"CG238/Weightings!$M$5","v":0},{"$f":"CH238/Weightings!$M$5","v":0},{"$f":"CL238/Weightings!$M$5","v":0},88.7,{"$f":"IF(ISNA(VLOOKUP($DC238,'Audit Values'!$A$2:$AE$252,2,FALSE)),'Preliminary SO66'!X235,VLOOKUP($DC238,'Audit Values'!$A$2:$AE$252,24,FALSE))","v":0},3578076,{"$f":"AP238/Weightings!$M$5","v":928.9},5077.8999999999996,6006.8,6006.8,0,{"$f":"IF(ISNA(VLOOKUP($DC238,'Audit Values'!$A$2:$AC$299,2,FALSE)),\"\",IF(AND(Weightings!H238>0,VLOOKUP($DC238,'Audit Values'!$A$2:$AC$299,29,FALSE)<Weightings!H238),Weightings!H238,VLOOKUP($DC238,'Audit Values'!$A$2:$AC$299,29,FALSE)))","v":10},{"$f":"IF(ISNA(VLOOKUP($DC238,'Audit Values'!$A$2:$AD$299,2,FALSE)),\"\",VLOOKUP($DC238,'Audit Values'!$A$2:$AD$299,30,FALSE))","v":"A"},{"$f":"IF(Weightings!G238=\"\",\"\",IF(Weightings!I238=\"Pending\",\"PX\",\"R\"))","v":""},{"$f":"AR238*Weightings!$M$5+AU238","v":19560071},{"$f":"AT238*Weightings!$M$5+AU238","v":23138194},{"$f":"IF(Weightings!G238>0,Weightings!G238,'Preliminary SO66'!AB235)","v":31923239},4259697,1993087,378655,25291800,23138194,null,{"$f":"Weightings!E238","v":0},{"$f":"Weightings!F238","v":0},0,23138194,{"$f":"MAX(ROUND(((AR238-AN238-AO238)*Weightings!$M$12)+'2016legmax.xls'!AP238,0),ROUND((('2016legmax.xls'!AR238-'2016legmax.xls'!AN238-'2016legmax.xls'!AO238)*Weightings!$M$12)+Weightings!B238,0))","v":26235341},0.3,7870602,7894175,7870602,0.3,0,false,0,0,0,false,0,0,0,124.7,17,35.53,{"$f":"IF(ROUND((Weightings!$P$5*CC238^Weightings!$P$6*Weightings!$P$8 ),2)<Weightings!$P$7,Weightings!$P$7,ROUND((Weightings!$P$5*CC238^Weightings!$P$6*Weightings!$P$8 ),2))","v":564},{"$f":"ROUND(CD238/Weightings!$M$5,4)","v":0.1464},88.4,0,0,0,0,{"$f":"AS238*Weightings!$M$5*CJ238","v":0},0,0.57799999999999996,209.4,216.2,0,0,{"$f":"IF(ISNA(VLOOKUP($DC238,'Audit Values'!$A$2:$AE$252,2,FALSE)),'Preliminary SO66'!T235,VLOOKUP($DC238,'Audit Values'!$A$2:$AE$252,20,FALSE))","v":76},{"$f":"IF(ISNA(VLOOKUP($DC238,'Audit Values'!$A$2:$AE$252,21,FALSE)),'Preliminary SO66'!U235,VLOOKUP($DC238,'Audit Values'!$A$2:$AE$252,21,FALSE))","v":8.5},0,84.5,null,null,null,null,null,null,null,"D0453"]
[454,"Osage","Burlingame Public School ",306.5,0,306.5,298.10000000000002,0,298.10000000000002,292,{"$f":"IF(ISNA(VLOOKUP($DC239,'Audit Values'!$A$2:$AE$252,2,FALSE)),'Preliminary SO66'!B236,VLOOKUP($DC239,'Audit Values'!$A$2:$AE$252,31,FALSE))","v":292},298.89999999999998,{"$f":"IF(ISNA(VLOOKUP($DC239,'Audit Values'!$A$2:$AE$252,2,FALSE)),'Preliminary SO66'!Z236,VLOOKUP($DC239,'Audit Values'!$A$2:$AE$252,26,FALSE))","v":0},298.89999999999998,{"$f":"IF(ISNA(VLOOKUP($DC239,'Audit Values'!$A$2:$AE$252,2,FALSE)),'Preliminary SO66'!C236,IF(VLOOKUP($DC239,'Audit Values'!$A$2:$AE$252,28,FALSE)=\"\",VLOOKUP($DC239,'Audit Values'!$A$2:$AE$252,3,FALSE),VLOOKUP($DC239,'Audit Values'!$A$2:$AE$252,28,FALSE)))","v":6},298,298,298,304.89999999999998,0,147.1,147.1,0,{"$f":"IF(ISNA(VLOOKUP($DC239,'Audit Values'!$A$2:$AE$252,2,FALSE)),'Preliminary SO66'!D236,VLOOKUP($DC239,'Audit Values'!$A$2:$AE$252,4,FALSE))","v":85.2},{"$f":"ROUND((X239/6)*Weightings!$M$6,1)","v":7.1},{"$f":"IF(ISNA(VLOOKUP($DC239,'Audit Values'!$A$2:$AE$252,2,FALSE)),'Preliminary SO66'!F236,VLOOKUP($DC239,'Audit Values'!$A$2:$AE$252,6,FALSE))","v":0.5},{"$f":"ROUND((Z239/6)*Weightings!$M$7,1)","v":0},{"$f":"IF(ISNA(VLOOKUP($DC239,'Audit Values'!$A$2:$AE$252,2,FALSE)),'Preliminary SO66'!H236,VLOOKUP($DC239,'Audit Values'!$A$2:$AE$252,9,FALSE))","v":111},{"$f":"ROUND(AB239*Weightings!$M$8,1)","v":50.6},1.1000000000000001,0,{"$f":"AE239*Weightings!$M$9","v":0},{"$f":"IF(ISNA(VLOOKUP($DC239,'Audit Values'!$A$2:$AE$252,2,FALSE)),'Preliminary SO66'!L236,VLOOKUP($DC239,'Audit Values'!$A$2:$AE$252,12,FALSE))","v":0},{"$f":"ROUND(AG239*Weightings!$M$10,1)","v":0},{"$f":"IF(ISNA(VLOOKUP($DC239,'Audit Values'!$A$2:$AE$252,2,FALSE)),'Preliminary SO66'!O236,VLOOKUP($DC239,'Audit Values'!$A$2:$AE$252,15,FALSE))","v":55},16.5,{"$f":"CG239/Weightings!$M$5","v":0},{"$f":"CH239/Weightings!$M$5","v":0},{"$f":"CL239/Weightings!$M$5","v":0},0,{"$f":"IF(ISNA(VLOOKUP($DC239,'Audit Values'!$A$2:$AE$252,2,FALSE)),'Preliminary SO66'!X236,VLOOKUP($DC239,'Audit Values'!$A$2:$AE$252,24,FALSE))","v":0},358421,{"$f":"AP239/Weightings!$M$5","v":93},527.29999999999995,620.29999999999995,620.29999999999995,0,{"$f":"IF(ISNA(VLOOKUP($DC239,'Audit Values'!$A$2:$AC$299,2,FALSE)),\"\",IF(AND(Weightings!H239>0,VLOOKUP($DC239,'Audit Values'!$A$2:$AC$299,29,FALSE)<Weightings!H239),Weightings!H239,VLOOKUP($DC239,'Audit Values'!$A$2:$AC$299,29,FALSE)))","v":9},{"$f":"IF(ISNA(VLOOKUP($DC239,'Audit Values'!$A$2:$AD$299,2,FALSE)),\"\",VLOOKUP($DC239,'Audit Values'!$A$2:$AD$299,30,FALSE))","v":"A"},{"$f":"IF(Weightings!G239=\"\",\"\",IF(Weightings!I239=\"Pending\",\"PX\",\"R\"))","v":""},{"$f":"AR239*Weightings!$M$5+AU239","v":2031160},{"$f":"AT239*Weightings!$M$5+AU239","v":2389396},{"$f":"IF(Weightings!G239>0,Weightings!G239,'Preliminary SO66'!AB236)","v":3216913},534198,139598,0,2543117,2389396,null,{"$f":"Weightings!E239","v":0},{"$f":"Weightings!F239","v":0},0,2389396,{"$f":"MAX(ROUND(((AR239-AN239-AO239)*Weightings!$M$12)+'2016legmax.xls'!AP239,0),ROUND((('2016legmax.xls'!AR239-'2016legmax.xls'!AN239-'2016legmax.xls'!AO239)*Weightings!$M$12)+Weightings!B239,0))","v":2754112},0.3,826234,812000,812000,0.29480000000000001,0,false,0,0,0,true,6.0636999999999999,0.48252099999999998,147.1,0,74,0.74,{"$f":"IF(ROUND((Weightings!$P$5*CC239^Weightings!$P$6*Weightings!$P$8 ),2)<Weightings!$P$7,Weightings!$P$7,ROUND((Weightings!$P$5*CC239^Weightings!$P$6*Weightings!$P$8 ),2))","v":1158.76},{"$f":"ROUND(CD239/Weightings!$M$5,4)","v":0.30080000000000001},16.5,0,0,0,0,{"$f":"AS239*Weightings!$M$5*CJ239","v":0},0,0.36399999999999999,4.0999999999999996,0,0,1.1000000000000001,{"$f":"IF(ISNA(VLOOKUP($DC239,'Audit Values'!$A$2:$AE$252,2,FALSE)),'Preliminary SO66'!T236,VLOOKUP($DC239,'Audit Values'!$A$2:$AE$252,20,FALSE))","v":0},{"$f":"IF(ISNA(VLOOKUP($DC239,'Audit Values'!$A$2:$AE$252,21,FALSE)),'Preliminary SO66'!U236,VLOOKUP($DC239,'Audit Values'!$A$2:$AE$252,21,FALSE))","v":0},0,0,null,null,null,null,null,null,null,"D0454"]
[456,"Osage","Marais Des Cygnes Valley ",278,0,278,254.5,0,254.5,234.7,{"$f":"IF(ISNA(VLOOKUP($DC240,'Audit Values'!$A$2:$AE$252,2,FALSE)),'Preliminary SO66'!B237,VLOOKUP($DC240,'Audit Values'!$A$2:$AE$252,31,FALSE))","v":233.5},255.3,{"$f":"IF(ISNA(VLOOKUP($DC240,'Audit Values'!$A$2:$AE$252,2,FALSE)),'Preliminary SO66'!Z237,VLOOKUP($DC240,'Audit Values'!$A$2:$AE$252,26,FALSE))","v":0},255.3,{"$f":"IF(ISNA(VLOOKUP($DC240,'Audit Values'!$A$2:$AE$252,2,FALSE)),'Preliminary SO66'!C237,IF(VLOOKUP($DC240,'Audit Values'!$A$2:$AE$252,28,FALSE)=\"\",VLOOKUP($DC240,'Audit Values'!$A$2:$AE$252,3,FALSE),VLOOKUP($DC240,'Audit Values'!$A$2:$AE$252,28,FALSE)))","v":0},233.5,234.7,234.7,255.3,1.2,153.9,153.9,0,{"$f":"IF(ISNA(VLOOKUP($DC240,'Audit Values'!$A$2:$AE$252,2,FALSE)),'Preliminary SO66'!D237,VLOOKUP($DC240,'Audit Values'!$A$2:$AE$252,4,FALSE))","v":85.3},{"$f":"ROUND((X240/6)*Weightings!$M$6,1)","v":7.1},{"$f":"IF(ISNA(VLOOKUP($DC240,'Audit Values'!$A$2:$AE$252,2,FALSE)),'Preliminary SO66'!F237,VLOOKUP($DC240,'Audit Values'!$A$2:$AE$252,6,FALSE))","v":0},{"$f":"ROUND((Z240/6)*Weightings!$M$7,1)","v":0},{"$f":"IF(ISNA(VLOOKUP($DC240,'Audit Values'!$A$2:$AE$252,2,FALSE)),'Preliminary SO66'!H237,VLOOKUP($DC240,'Audit Values'!$A$2:$AE$252,9,FALSE))","v":132},{"$f":"ROUND(AB240*Weightings!$M$8,1)","v":60.2},13.9,0,{"$f":"AE240*Weightings!$M$9","v":0},{"$f":"IF(ISNA(VLOOKUP($DC240,'Audit Values'!$A$2:$AE$252,2,FALSE)),'Preliminary SO66'!L237,VLOOKUP($DC240,'Audit Values'!$A$2:$AE$252,12,FALSE))","v":0},{"$f":"ROUND(AG240*Weightings!$M$10,1)","v":0},{"$f":"IF(ISNA(VLOOKUP($DC240,'Audit Values'!$A$2:$AE$252,2,FALSE)),'Preliminary SO66'!O237,VLOOKUP($DC240,'Audit Values'!$A$2:$AE$252,15,FALSE))","v":122},34.9,{"$f":"CG240/Weightings!$M$5","v":0},{"$f":"CH240/Weightings!$M$5","v":0},{"$f":"CL240/Weightings!$M$5","v":0},1.3,{"$f":"IF(ISNA(VLOOKUP($DC240,'Audit Values'!$A$2:$AE$252,2,FALSE)),'Preliminary SO66'!X237,VLOOKUP($DC240,'Audit Values'!$A$2:$AE$252,24,FALSE))","v":0},298946,{"$f":"AP240/Weightings!$M$5","v":77.599999999999994},526.6,604.20000000000005,604.20000000000005,0,{"$f":"IF(ISNA(VLOOKUP($DC240,'Audit Values'!$A$2:$AC$299,2,FALSE)),\"\",IF(AND(Weightings!H240>0,VLOOKUP($DC240,'Audit Values'!$A$2:$AC$299,29,FALSE)<Weightings!H240),Weightings!H240,VLOOKUP($DC240,'Audit Values'!$A$2:$AC$299,29,FALSE)))","v":7},{"$f":"IF(ISNA(VLOOKUP($DC240,'Audit Values'!$A$2:$AD$299,2,FALSE)),\"\",VLOOKUP($DC240,'Audit Values'!$A$2:$AD$299,30,FALSE))","v":"A"},{"$f":"IF(Weightings!G240=\"\",\"\",IF(Weightings!I240=\"Pending\",\"PX\",\"R\"))","v":""},{"$f":"AR240*Weightings!$M$5+AU240","v":2028463},{"$f":"AT240*Weightings!$M$5+AU240","v":2327378},{"$f":"IF(Weightings!G240>0,Weightings!G240,'Preliminary SO66'!AB237)","v":3071617},313870,147971,0,2609776,2327378,null,{"$f":"Weightings!E240","v":0},{"$f":"Weightings!F240","v":0},0,2327378,{"$f":"MAX(ROUND(((AR240-AN240-AO240)*Weightings!$M$12)+'2016legmax.xls'!AP240,0),ROUND((('2016legmax.xls'!AR240-'2016legmax.xls'!AN240-'2016legmax.xls'!AO240)*Weightings!$M$12)+Weightings!B240,0))","v":2700045},0.3,810014,670000,670000,0.24809999999999999,0,true,1499.422,0.60267400000000004,153.9,false,0,0,0,0,133,0.92,{"$f":"IF(ROUND((Weightings!$P$5*CC240^Weightings!$P$6*Weightings!$P$8 ),2)<Weightings!$P$7,Weightings!$P$7,ROUND((Weightings!$P$5*CC240^Weightings!$P$6*Weightings!$P$8 ),2))","v":1103.07},{"$f":"ROUND(CD240/Weightings!$M$5,4)","v":0.28639999999999999},34.9,0,0,0,0,{"$f":"AS240*Weightings!$M$5*CJ240","v":0},0,0.51700000000000002,1.9,13.9,0,0,{"$f":"IF(ISNA(VLOOKUP($DC240,'Audit Values'!$A$2:$AE$252,2,FALSE)),'Preliminary SO66'!T237,VLOOKUP($DC240,'Audit Values'!$A$2:$AE$252,20,FALSE))","v":0},{"$f":"IF(ISNA(VLOOKUP($DC240,'Audit Values'!$A$2:$AE$252,21,FALSE)),'Preliminary SO66'!U237,VLOOKUP($DC240,'Audit Values'!$A$2:$AE$252,21,FALSE))","v":0.9},0.3,1.2,null,null,null,null,null,null,null,"D0456"]
[457,"Finney","Garden City ",6981.1,0,6981.1,7055.2,0,7055.2,7219.9,{"$f":"IF(ISNA(VLOOKUP($DC241,'Audit Values'!$A$2:$AE$252,2,FALSE)),'Preliminary SO66'!B238,VLOOKUP($DC241,'Audit Values'!$A$2:$AE$252,31,FALSE))","v":7139.5},7139.5,{"$f":"IF(ISNA(VLOOKUP($DC241,'Audit Values'!$A$2:$AE$252,2,FALSE)),'Preliminary SO66'!Z238,VLOOKUP($DC241,'Audit Values'!$A$2:$AE$252,26,FALSE))","v":0},7139.5,{"$f":"IF(ISNA(VLOOKUP($DC241,'Audit Values'!$A$2:$AE$252,2,FALSE)),'Preliminary SO66'!C238,IF(VLOOKUP($DC241,'Audit Values'!$A$2:$AE$252,28,FALSE)=\"\",VLOOKUP($DC241,'Audit Values'!$A$2:$AE$252,3,FALSE),VLOOKUP($DC241,'Audit Values'!$A$2:$AE$252,28,FALSE)))","v":97.5},7237,7317.4,7317.4,7237,80.400000000000006,253.6,0,253.6,{"$f":"IF(ISNA(VLOOKUP($DC241,'Audit Values'!$A$2:$AE$252,2,FALSE)),'Preliminary SO66'!D238,VLOOKUP($DC241,'Audit Values'!$A$2:$AE$252,4,FALSE))","v":2015.8},{"$f":"ROUND((X241/6)*Weightings!$M$6,1)","v":168},{"$f":"IF(ISNA(VLOOKUP($DC241,'Audit Values'!$A$2:$AE$252,2,FALSE)),'Preliminary SO66'!F238,VLOOKUP($DC241,'Audit Values'!$A$2:$AE$252,6,FALSE))","v":9730.7000000000007},{"$f":"ROUND((Z241/6)*Weightings!$M$7,1)","v":640.6},{"$f":"IF(ISNA(VLOOKUP($DC241,'Audit Values'!$A$2:$AE$252,2,FALSE)),'Preliminary SO66'!H238,VLOOKUP($DC241,'Audit Values'!$A$2:$AE$252,9,FALSE))","v":4577},{"$f":"ROUND(AB241*Weightings!$M$8,1)","v":2087.1},480.6,0,{"$f":"AE241*Weightings!$M$9","v":0},{"$f":"IF(ISNA(VLOOKUP($DC241,'Audit Values'!$A$2:$AE$252,2,FALSE)),'Preliminary SO66'!L238,VLOOKUP($DC241,'Audit Values'!$A$2:$AE$252,12,FALSE))","v":0},{"$f":"ROUND(AG241*Weightings!$M$10,1)","v":0},{"$f":"IF(ISNA(VLOOKUP($DC241,'Audit Values'!$A$2:$AE$252,2,FALSE)),'Preliminary SO66'!O238,VLOOKUP($DC241,'Audit Values'!$A$2:$AE$252,15,FALSE))","v":2347},534.6,{"$f":"CG241/Weightings!$M$5","v":0},{"$f":"CH241/Weightings!$M$5","v":0},{"$f":"CL241/Weightings!$M$5","v":0},84.4,{"$f":"IF(ISNA(VLOOKUP($DC241,'Audit Values'!$A$2:$AE$252,2,FALSE)),'Preliminary SO66'!X238,VLOOKUP($DC241,'Audit Values'!$A$2:$AE$252,24,FALSE))","v":0},4962670,{"$f":"AP241/Weightings!$M$5","v":1288.3},11485.9,12774.2,12774.2,0,{"$f":"IF(ISNA(VLOOKUP($DC241,'Audit Values'!$A$2:$AC$299,2,FALSE)),\"\",IF(AND(Weightings!H241>0,VLOOKUP($DC241,'Audit Values'!$A$2:$AC$299,29,FALSE)<Weightings!H241),Weightings!H241,VLOOKUP($DC241,'Audit Values'!$A$2:$AC$299,29,FALSE)))","v":11},{"$f":"IF(ISNA(VLOOKUP($DC241,'Audit Values'!$A$2:$AD$299,2,FALSE)),\"\",VLOOKUP($DC241,'Audit Values'!$A$2:$AD$299,30,FALSE))","v":"A"},{"$f":"IF(Weightings!G241=\"\",\"\",IF(Weightings!I241=\"Pending\",\"PX\",\"R\"))","v":""},{"$f":"AR241*Weightings!$M$5+AU241","v":44243687},{"$f":"AT241*Weightings!$M$5+AU241","v":49206218},{"$f":"IF(Weightings!G241>0,Weightings!G241,'Preliminary SO66'!AB238)","v":63728307},9153630,4162797,412547,49999333,49206218,null,{"$f":"Weightings!E241","v":0},{"$f":"Weightings!F241","v":0},0,49206218,{"$f":"MAX(ROUND(((AR241-AN241-AO241)*Weightings!$M$12)+'2016legmax.xls'!AP241,0),ROUND((('2016legmax.xls'!AR241-'2016legmax.xls'!AN241-'2016legmax.xls'!AO241)*Weightings!$M$12)+Weightings!B241,0))","v":56554687},0.3,16966406,16000000,16000000,0.28289999999999998,0,false,0,0,0,false,0,0,0,253.6,928,2.5299999999999998,{"$f":"IF(ROUND((Weightings!$P$5*CC241^Weightings!$P$6*Weightings!$P$8 ),2)<Weightings!$P$7,Weightings!$P$7,ROUND((Weightings!$P$5*CC241^Weightings!$P$6*Weightings!$P$8 ),2))","v":877.46},{"$f":"ROUND(CD241/Weightings!$M$5,4)","v":0.2278},534.6,0,0,0,0,{"$f":"AS241*Weightings!$M$5*CJ241","v":0},0,0.63200000000000001,7.8,480.6,0,0,{"$f":"IF(ISNA(VLOOKUP($DC241,'Audit Values'!$A$2:$AE$252,2,FALSE)),'Preliminary SO66'!T238,VLOOKUP($DC241,'Audit Values'!$A$2:$AE$252,20,FALSE))","v":30},{"$f":"IF(ISNA(VLOOKUP($DC241,'Audit Values'!$A$2:$AE$252,21,FALSE)),'Preliminary SO66'!U238,VLOOKUP($DC241,'Audit Values'!$A$2:$AE$252,21,FALSE))","v":6},44.4,80.400000000000006,null,null,null,null,null,null,null,"D0457"]
[458,"Leavenworth","Basehor-Linwood ",2030.2,0,2030.2,2081.5,0,2081.5,2371.3000000000002,{"$f":"IF(ISNA(VLOOKUP($DC242,'Audit Values'!$A$2:$AE$286,2,FALSE)),'Preliminary SO66'!B239,VLOOKUP($DC242,'Audit Values'!$A$2:$AE$286,31,FALSE))","v":2160.9},2160.9,{"$f":"IF(ISNA(VLOOKUP($DC242,'Audit Values'!$A$2:$AE$252,2,FALSE)),'Preliminary SO66'!Z239,VLOOKUP($DC242,'Audit Values'!$A$2:$AE$252,26,FALSE))","v":0},2160.9,{"$f":"IF(ISNA(VLOOKUP($DC242,'Audit Values'!$A$2:$AE$252,2,FALSE)),'Preliminary SO66'!C239,IF(VLOOKUP($DC242,'Audit Values'!$A$2:$AE$252,28,FALSE)=\"\",VLOOKUP($DC242,'Audit Values'!$A$2:$AE$252,3,FALSE),VLOOKUP($DC242,'Audit Values'!$A$2:$AE$252,28,FALSE)))","v":0},2160.9,2371.3000000000002,2371.3000000000002,2160.9,210.4,75.7,0,75.7,{"$f":"IF(ISNA(VLOOKUP($DC242,'Audit Values'!$A$2:$AE$299,2,FALSE)),'Preliminary SO66'!D239,VLOOKUP($DC242,'Audit Values'!$A$2:$AE$299,4,FALSE))","v":500.7},{"$f":"ROUND((X242/6)*Weightings!$M$6,1)","v":41.7},{"$f":"IF(ISNA(VLOOKUP($DC242,'Audit Values'!$A$2:$AE$252,2,FALSE)),'Preliminary SO66'!F239,VLOOKUP($DC242,'Audit Values'!$A$2:$AE$252,6,FALSE))","v":49.4},{"$f":"ROUND((Z242/6)*Weightings!$M$7,1)","v":3.3},{"$f":"IF(ISNA(VLOOKUP($DC242,'Audit Values'!$A$2:$AE$252,2,FALSE)),'Preliminary SO66'!H239,VLOOKUP($DC242,'Audit Values'!$A$2:$AE$252,9,FALSE))","v":344},{"$f":"ROUND(AB242*Weightings!$M$8,1)","v":156.9},0,0,{"$f":"AE242*Weightings!$M$9","v":0},{"$f":"IF(ISNA(VLOOKUP($DC242,'Audit Values'!$A$2:$AE$252,2,FALSE)),'Preliminary SO66'!L239,VLOOKUP($DC242,'Audit Values'!$A$2:$AE$252,12,FALSE))","v":0},{"$f":"ROUND(AG242*Weightings!$M$10,1)","v":0},{"$f":"IF(ISNA(VLOOKUP($DC242,'Audit Values'!$A$2:$AE$299,2,FALSE)),'Preliminary SO66'!O239,VLOOKUP($DC242,'Audit Values'!$A$2:$AE$299,15,FALSE))","v":1217},189.6,{"$f":"CG242/Weightings!$M$5","v":0},{"$f":"CH242/Weightings!$M$5","v":0},{"$f":"CL242/Weightings!$M$5","v":0},220.9,{"$f":"IF(ISNA(VLOOKUP($DC242,'Audit Values'!$A$2:$AE$299,2,FALSE)),'Preliminary SO66'!X239,VLOOKUP($DC242,'Audit Values'!$A$2:$AE$299,24,FALSE))","v":1},1739720,{"$f":"AP242/Weightings!$M$5","v":451.6},2850,3301.6,3301.6,0,{"$f":"IF(ISNA(VLOOKUP($DC242,'Audit Values'!$A$2:$AC$299,2,FALSE)),\"\",IF(AND(Weightings!H242>0,VLOOKUP($DC242,'Audit Values'!$A$2:$AC$299,29,FALSE)<Weightings!H242),Weightings!H242,VLOOKUP($DC242,'Audit Values'!$A$2:$AC$299,29,FALSE)))","v":18},{"$f":"IF(ISNA(VLOOKUP($DC242,'Audit Values'!$A$2:$AD$299,2,FALSE)),\"\",VLOOKUP($DC242,'Audit Values'!$A$2:$AD$299,30,FALSE))","v":"A"},{"$f":"IF(Weightings!G242=\"\",\"\",IF(Weightings!I242=\"Pending\",\"PX\",\"R\"))","v":""},{"$f":"AR242*Weightings!$M$5+AU242","v":10978200},{"$f":"AT242*Weightings!$M$5+AU242","v":12717763},{"$f":"IF(Weightings!G242>0,Weightings!G242,'Preliminary SO66'!AB239)","v":16115127},1892783,1087087,211606,12923651,12717763,null,{"$f":"Weightings!E242","v":0},{"$f":"Weightings!F242","v":0},0,12717763,{"$f":"MAX(ROUND(((AR242-AN242-AO242)*Weightings!$M$12)+'2016legmax.xls'!AP242,0),ROUND((('2016legmax.xls'!AR242-'2016legmax.xls'!AN242-'2016legmax.xls'!AO242)*Weightings!$M$12)+Weightings!B242,0))","v":13539889},0.3,4061967,3882569,3882569,0.2868,0,false,0,0,0,false,0,0,0,75.7,89.6,13.58,{"$f":"IF(ROUND((Weightings!$P$5*CC242^Weightings!$P$6*Weightings!$P$8 ),2)<Weightings!$P$7,Weightings!$P$7,ROUND((Weightings!$P$5*CC242^Weightings!$P$6*Weightings!$P$8 ),2))","v":599.99},{"$f":"ROUND(CD242/Weightings!$M$5,4)","v":0.15579999999999999},189.6,0,0,0,2.47E-2,{"$f":"AS242*Weightings!$M$5*CJ242","v":314129},0,0.159,24.1,0,0,0,{"$f":"IF(ISNA(VLOOKUP($DC242,'Audit Values'!$A$2:$AE$286,2,FALSE)),'Preliminary SO66'!T239,VLOOKUP($DC242,'Audit Values'!$A$2:$AE$286,20,FALSE))","v":157},{"$f":"IF(ISNA(VLOOKUP($DC242,'Audit Values'!$A$2:$AE$286,21,FALSE)),'Preliminary SO66'!U239,VLOOKUP($DC242,'Audit Values'!$A$2:$AE$286,21,FALSE))","v":12.4},41,210.4,null,null,null,null,null,null,null,"D0458",134640]
[459,"Ford","Bucklin ",225.7,0,225.7,220.1,0,220.1,216.8,{"$f":"IF(ISNA(VLOOKUP($DC243,'Audit Values'!$A$2:$AE$252,2,FALSE)),'Preliminary SO66'!B240,VLOOKUP($DC243,'Audit Values'!$A$2:$AE$252,31,FALSE))","v":216.8},220.9,{"$f":"IF(ISNA(VLOOKUP($DC243,'Audit Values'!$A$2:$AE$252,2,FALSE)),'Preliminary SO66'!Z240,VLOOKUP($DC243,'Audit Values'!$A$2:$AE$252,26,FALSE))","v":0},220.9,{"$f":"IF(ISNA(VLOOKUP($DC243,'Audit Values'!$A$2:$AE$252,2,FALSE)),'Preliminary SO66'!C240,IF(VLOOKUP($DC243,'Audit Values'!$A$2:$AE$252,28,FALSE)=\"\",VLOOKUP($DC243,'Audit Values'!$A$2:$AE$252,3,FALSE),VLOOKUP($DC243,'Audit Values'!$A$2:$AE$252,28,FALSE)))","v":4.5},221.3,221.3,221.3,225.4,0,153.69999999999999,153.69999999999999,0,{"$f":"IF(ISNA(VLOOKUP($DC243,'Audit Values'!$A$2:$AE$252,2,FALSE)),'Preliminary SO66'!D240,VLOOKUP($DC243,'Audit Values'!$A$2:$AE$252,4,FALSE))","v":34.9},{"$f":"ROUND((X243/6)*Weightings!$M$6,1)","v":2.9},{"$f":"IF(ISNA(VLOOKUP($DC243,'Audit Values'!$A$2:$AE$252,2,FALSE)),'Preliminary SO66'!F240,VLOOKUP($DC243,'Audit Values'!$A$2:$AE$252,6,FALSE))","v":5.9},{"$f":"ROUND((Z243/6)*Weightings!$M$7,1)","v":0.4},{"$f":"IF(ISNA(VLOOKUP($DC243,'Audit Values'!$A$2:$AE$252,2,FALSE)),'Preliminary SO66'!H240,VLOOKUP($DC243,'Audit Values'!$A$2:$AE$252,9,FALSE))","v":103},{"$f":"ROUND(AB243*Weightings!$M$8,1)","v":47},7.7,0,{"$f":"AE243*Weightings!$M$9","v":0},{"$f":"IF(ISNA(VLOOKUP($DC243,'Audit Values'!$A$2:$AE$252,2,FALSE)),'Preliminary SO66'!L240,VLOOKUP($DC243,'Audit Values'!$A$2:$AE$252,12,FALSE))","v":0},{"$f":"ROUND(AG243*Weightings!$M$10,1)","v":0},{"$f":"IF(ISNA(VLOOKUP($DC243,'Audit Values'!$A$2:$AE$252,2,FALSE)),'Preliminary SO66'!O240,VLOOKUP($DC243,'Audit Values'!$A$2:$AE$252,15,FALSE))","v":77},30.8,{"$f":"CG243/Weightings!$M$5","v":0},{"$f":"CH243/Weightings!$M$5","v":0},{"$f":"CL243/Weightings!$M$5","v":0},0,{"$f":"IF(ISNA(VLOOKUP($DC243,'Audit Values'!$A$2:$AE$252,2,FALSE)),'Preliminary SO66'!X240,VLOOKUP($DC243,'Audit Values'!$A$2:$AE$252,24,FALSE))","v":0},156438,{"$f":"AP243/Weightings!$M$5","v":40.6},467.9,508.5,508.5,0,{"$f":"IF(ISNA(VLOOKUP($DC243,'Audit Values'!$A$2:$AC$299,2,FALSE)),\"\",IF(AND(Weightings!H243>0,VLOOKUP($DC243,'Audit Values'!$A$2:$AC$299,29,FALSE)<Weightings!H243),Weightings!H243,VLOOKUP($DC243,'Audit Values'!$A$2:$AC$299,29,FALSE)))","v":13},{"$f":"IF(ISNA(VLOOKUP($DC243,'Audit Values'!$A$2:$AD$299,2,FALSE)),\"\",VLOOKUP($DC243,'Audit Values'!$A$2:$AD$299,30,FALSE))","v":"A"},{"$f":"IF(Weightings!G243=\"\",\"\",IF(Weightings!I243=\"Pending\",\"PX\",\"R\"))","v":""},{"$f":"AR243*Weightings!$M$5+AU243","v":1802351},{"$f":"AT243*Weightings!$M$5+AU243","v":1958742},{"$f":"IF(Weightings!G243>0,Weightings!G243,'Preliminary SO66'!AB240)","v":2227105},0,132761,0,2094344,1958742,null,{"$f":"Weightings!E243","v":0},{"$f":"Weightings!F243","v":0},0,1958742,{"$f":"MAX(ROUND(((AR243-AN243-AO243)*Weightings!$M$12)+'2016legmax.xls'!AP243,0),ROUND((('2016legmax.xls'!AR243-'2016legmax.xls'!AN243-'2016legmax.xls'!AO243)*Weightings!$M$12)+Weightings!B243,0))","v":2298798},0.3,689639,670000,670000,0.29149999999999998,0,true,1210.7370000000001,0.68193000000000004,153.69999999999999,false,0,0,0,0,358.2,0.21,{"$f":"IF(ROUND((Weightings!$P$5*CC243^Weightings!$P$6*Weightings!$P$8 ),2)<Weightings!$P$7,Weightings!$P$7,ROUND((Weightings!$P$5*CC243^Weightings!$P$6*Weightings!$P$8 ),2))","v":1540.75},{"$f":"ROUND(CD243/Weightings!$M$5,4)","v":0.4},30.8,0,0,0,0,{"$f":"AS243*Weightings!$M$5*CJ243","v":0},0,0.45700000000000002,0.6,0,0,7.7,{"$f":"IF(ISNA(VLOOKUP($DC243,'Audit Values'!$A$2:$AE$252,2,FALSE)),'Preliminary SO66'!T240,VLOOKUP($DC243,'Audit Values'!$A$2:$AE$252,20,FALSE))","v":0},{"$f":"IF(ISNA(VLOOKUP($DC243,'Audit Values'!$A$2:$AE$252,21,FALSE)),'Preliminary SO66'!U240,VLOOKUP($DC243,'Audit Values'!$A$2:$AE$252,21,FALSE))","v":0},0,0,null,null,null,null,null,null,null,"D0459"]
[460,"Harvey","Hesston ",794,0,794,798,0,798,774.1,{"$f":"IF(ISNA(VLOOKUP($DC244,'Audit Values'!$A$2:$AE$252,2,FALSE)),'Preliminary SO66'!B241,VLOOKUP($DC244,'Audit Values'!$A$2:$AE$252,31,FALSE))","v":774.1},798,{"$f":"IF(ISNA(VLOOKUP($DC244,'Audit Values'!$A$2:$AE$252,2,FALSE)),'Preliminary SO66'!Z241,VLOOKUP($DC244,'Audit Values'!$A$2:$AE$252,26,FALSE))","v":0},798,{"$f":"IF(ISNA(VLOOKUP($DC244,'Audit Values'!$A$2:$AE$252,2,FALSE)),'Preliminary SO66'!C241,IF(VLOOKUP($DC244,'Audit Values'!$A$2:$AE$252,28,FALSE)=\"\",VLOOKUP($DC244,'Audit Values'!$A$2:$AE$252,3,FALSE),VLOOKUP($DC244,'Audit Values'!$A$2:$AE$252,28,FALSE)))","v":0},774.1,774.1,774.1,798,0,251.4,251.4,0,{"$f":"IF(ISNA(VLOOKUP($DC244,'Audit Values'!$A$2:$AE$252,2,FALSE)),'Preliminary SO66'!D241,VLOOKUP($DC244,'Audit Values'!$A$2:$AE$252,4,FALSE))","v":242.9},{"$f":"ROUND((X244/6)*Weightings!$M$6,1)","v":20.2},{"$f":"IF(ISNA(VLOOKUP($DC244,'Audit Values'!$A$2:$AE$252,2,FALSE)),'Preliminary SO66'!F241,VLOOKUP($DC244,'Audit Values'!$A$2:$AE$252,6,FALSE))","v":69.2},{"$f":"ROUND((Z244/6)*Weightings!$M$7,1)","v":4.5999999999999996},{"$f":"IF(ISNA(VLOOKUP($DC244,'Audit Values'!$A$2:$AE$252,2,FALSE)),'Preliminary SO66'!H241,VLOOKUP($DC244,'Audit Values'!$A$2:$AE$252,9,FALSE))","v":146},{"$f":"ROUND(AB244*Weightings!$M$8,1)","v":66.599999999999994},0,0,{"$f":"AE244*Weightings!$M$9","v":0},{"$f":"IF(ISNA(VLOOKUP($DC244,'Audit Values'!$A$2:$AE$252,2,FALSE)),'Preliminary SO66'!L241,VLOOKUP($DC244,'Audit Values'!$A$2:$AE$252,12,FALSE))","v":0},{"$f":"ROUND(AG244*Weightings!$M$10,1)","v":0},{"$f":"IF(ISNA(VLOOKUP($DC244,'Audit Values'!$A$2:$AE$252,2,FALSE)),'Preliminary SO66'!O241,VLOOKUP($DC244,'Audit Values'!$A$2:$AE$252,15,FALSE))","v":80.5},21.2,{"$f":"CG244/Weightings!$M$5","v":0},{"$f":"CH244/Weightings!$M$5","v":0},{"$f":"CL244/Weightings!$M$5","v":0},0,{"$f":"IF(ISNA(VLOOKUP($DC244,'Audit Values'!$A$2:$AE$252,2,FALSE)),'Preliminary SO66'!X241,VLOOKUP($DC244,'Audit Values'!$A$2:$AE$252,24,FALSE))","v":0},645328,{"$f":"AP244/Weightings!$M$5","v":167.5},1162,1329.5,1329.5,0,{"$f":"IF(ISNA(VLOOKUP($DC244,'Audit Values'!$A$2:$AC$299,2,FALSE)),\"\",IF(AND(Weightings!H244>0,VLOOKUP($DC244,'Audit Values'!$A$2:$AC$299,29,FALSE)<Weightings!H244),Weightings!H244,VLOOKUP($DC244,'Audit Values'!$A$2:$AC$299,29,FALSE)))","v":4},{"$f":"IF(ISNA(VLOOKUP($DC244,'Audit Values'!$A$2:$AD$299,2,FALSE)),\"\",VLOOKUP($DC244,'Audit Values'!$A$2:$AD$299,30,FALSE))","v":"A"},{"$f":"IF(Weightings!G244=\"\",\"\",IF(Weightings!I244=\"Pending\",\"PX\",\"R\"))","v":""},{"$f":"AR244*Weightings!$M$5+AU244","v":4476024},{"$f":"AT244*Weightings!$M$5+AU244","v":5121234},{"$f":"IF(Weightings!G244>0,Weightings!G244,'Preliminary SO66'!AB241)","v":6863572},1062420,368234,70568,5362350,5121234,null,{"$f":"Weightings!E244","v":0},{"$f":"Weightings!F244","v":0},0,5121234,{"$f":"MAX(ROUND(((AR244-AN244-AO244)*Weightings!$M$12)+'2016legmax.xls'!AP244,0),ROUND((('2016legmax.xls'!AR244-'2016legmax.xls'!AN244-'2016legmax.xls'!AO244)*Weightings!$M$12)+Weightings!B244,0))","v":5862708},0.33,1934694,1954110,1934694,0.33,0,false,0,0,0,true,616.27499999999998,0.31499100000000002,251.4,0,60,1.34,{"$f":"IF(ROUND((Weightings!$P$5*CC244^Weightings!$P$6*Weightings!$P$8 ),2)<Weightings!$P$7,Weightings!$P$7,ROUND((Weightings!$P$5*CC244^Weightings!$P$6*Weightings!$P$8 ),2))","v":1013.12},{"$f":"ROUND(CD244/Weightings!$M$5,4)","v":0.26300000000000001},21.2,0,0,0,0,{"$f":"AS244*Weightings!$M$5*CJ244","v":0},0,0.183,13.3,0,0,0,{"$f":"IF(ISNA(VLOOKUP($DC244,'Audit Values'!$A$2:$AE$252,2,FALSE)),'Preliminary SO66'!T241,VLOOKUP($DC244,'Audit Values'!$A$2:$AE$252,20,FALSE))","v":0},{"$f":"IF(ISNA(VLOOKUP($DC244,'Audit Values'!$A$2:$AE$252,21,FALSE)),'Preliminary SO66'!U241,VLOOKUP($DC244,'Audit Values'!$A$2:$AE$252,21,FALSE))","v":0},0,0,null,null,null,null,null,null,null,"D0460"]
[461,"Wilson","Neodesha ",663.5,0,663.5,670,0,670,691,{"$f":"IF(ISNA(VLOOKUP($DC245,'Audit Values'!$A$2:$AE$252,2,FALSE)),'Preliminary SO66'!B242,VLOOKUP($DC245,'Audit Values'!$A$2:$AE$252,31,FALSE))","v":691},691,{"$f":"IF(ISNA(VLOOKUP($DC245,'Audit Values'!$A$2:$AE$252,2,FALSE)),'Preliminary SO66'!Z242,VLOOKUP($DC245,'Audit Values'!$A$2:$AE$252,26,FALSE))","v":0},691,{"$f":"IF(ISNA(VLOOKUP($DC245,'Audit Values'!$A$2:$AE$252,2,FALSE)),'Preliminary SO66'!C242,IF(VLOOKUP($DC245,'Audit Values'!$A$2:$AE$252,28,FALSE)=\"\",VLOOKUP($DC245,'Audit Values'!$A$2:$AE$252,3,FALSE),VLOOKUP($DC245,'Audit Values'!$A$2:$AE$252,28,FALSE)))","v":8},699,699,699,699,0,243.7,{"$f":"MAX(BR245,BV245,BZ245)","v":243.7},0,{"$f":"IF(ISNA(VLOOKUP($DC245,'Audit Values'!$A$2:$AE$252,2,FALSE)),'Preliminary SO66'!D242,VLOOKUP($DC245,'Audit Values'!$A$2:$AE$252,4,FALSE))","v":196.1},{"$f":"ROUND((X245/6)*Weightings!$M$6,1)","v":16.3},{"$f":"IF(ISNA(VLOOKUP($DC245,'Audit Values'!$A$2:$AE$252,2,FALSE)),'Preliminary SO66'!F242,VLOOKUP($DC245,'Audit Values'!$A$2:$AE$252,6,FALSE))","v":0},{"$f":"ROUND((Z245/6)*Weightings!$M$7,1)","v":0},{"$f":"IF(ISNA(VLOOKUP($DC245,'Audit Values'!$A$2:$AE$252,2,FALSE)),'Preliminary SO66'!H242,VLOOKUP($DC245,'Audit Values'!$A$2:$AE$252,9,FALSE))","v":315},{"$f":"ROUND(AB245*Weightings!$M$8,1)","v":143.6},22.3,0,{"$f":"AE245*Weightings!$M$9","v":0},{"$f":"IF(ISNA(VLOOKUP($DC245,'Audit Values'!$A$2:$AE$252,2,FALSE)),'Preliminary SO66'!L242,VLOOKUP($DC245,'Audit Values'!$A$2:$AE$252,12,FALSE))","v":0},{"$f":"ROUND(AG245*Weightings!$M$10,1)","v":0},{"$f":"IF(ISNA(VLOOKUP($DC245,'Audit Values'!$A$2:$AE$252,2,FALSE)),'Preliminary SO66'!O242,VLOOKUP($DC245,'Audit Values'!$A$2:$AE$252,15,FALSE))","v":111},31.7,{"$f":"CG245/Weightings!$M$5","v":0},{"$f":"CH245/Weightings!$M$5","v":0},{"$f":"CL245/Weightings!$M$5","v":0},0,{"$f":"IF(ISNA(VLOOKUP($DC245,'Audit Values'!$A$2:$AE$252,2,FALSE)),'Preliminary SO66'!X242,VLOOKUP($DC245,'Audit Values'!$A$2:$AE$252,24,FALSE))","v":0},529063,{"$f":"AP245/Weightings!$M$5","v":137.30000000000001},1156.5999999999999,1293.9000000000001,1293.9000000000001,0,{"$f":"IF(ISNA(VLOOKUP($DC245,'Audit Values'!$A$2:$AC$299,2,FALSE)),\"\",IF(AND(Weightings!H245>0,VLOOKUP($DC245,'Audit Values'!$A$2:$AC$299,29,FALSE)<Weightings!H245),Weightings!H245,VLOOKUP($DC245,'Audit Values'!$A$2:$AC$299,29,FALSE)))","v":20},{"$f":"IF(ISNA(VLOOKUP($DC245,'Audit Values'!$A$2:$AD$299,2,FALSE)),\"\",VLOOKUP($DC245,'Audit Values'!$A$2:$AD$299,30,FALSE))","v":"A"},{"$f":"IF(Weightings!G245=\"\",\"\",IF(Weightings!I245=\"Pending\",\"PX\",\"R\"))","v":"R"},{"$f":"AR245*Weightings!$M$5+AU245","v":4455223},{"$f":"AT245*Weightings!$M$5+AU245","v":4984103},{"$f":"IF(Weightings!G245>0,Weightings!G245,'Preliminary SO66'!AB242)","v":6767192},1148085,357365,83970,5177772,4984103,null,{"$f":"Weightings!E245","v":0},{"$f":"Weightings!F245","v":0},0,4984103,{"$f":"MAX(ROUND(((AR245-AN245-AO245)*Weightings!$M$12)+'2016legmax.xls'!AP245,0),ROUND((('2016legmax.xls'!AR245-'2016legmax.xls'!AN245-'2016legmax.xls'!AO245)*Weightings!$M$12)+Weightings!B245,0))","v":5782631},0.33,1908268,1891821,{"$f":"MIN(BN245,BO245)","v":1891821},0.32719999999999999,0,false,0,0,0,true,493.76249999999999,0.34862700000000002,243.7,0,119,0.93,{"$f":"IF(ROUND((Weightings!$P$5*CC245^Weightings!$P$6*Weightings!$P$8 ),2)<Weightings!$P$7,Weightings!$P$7,ROUND((Weightings!$P$5*CC245^Weightings!$P$6*Weightings!$P$8 ),2))","v":1100.3800000000001},{"$f":"ROUND(CD245/Weightings!$M$5,4)","v":0.28570000000000001},31.7,0,0,0,0,{"$f":"AS245*Weightings!$M$5*CJ245","v":0},0,0.45100000000000001,5.9,0,0,22.3,{"$f":"IF(ISNA(VLOOKUP($DC245,'Audit Values'!$A$2:$AE$252,2,FALSE)),'Preliminary SO66'!T242,VLOOKUP($DC245,'Audit Values'!$A$2:$AE$252,20,FALSE))","v":0},{"$f":"IF(ISNA(VLOOKUP($DC245,'Audit Values'!$A$2:$AE$252,21,FALSE)),'Preliminary SO66'!U242,VLOOKUP($DC245,'Audit Values'!$A$2:$AE$252,21,FALSE))","v":0},0,0,null,null,null,null,null,null,null,"D0461",50526]
[462,"Cowley","Central ",313,0,313,310.39999999999998,0,310.39999999999998,284.2,{"$f":"IF(ISNA(VLOOKUP($DC246,'Audit Values'!$A$2:$AE$252,2,FALSE)),'Preliminary SO66'!B243,VLOOKUP($DC246,'Audit Values'!$A$2:$AE$252,31,FALSE))","v":284.2},310.39999999999998,{"$f":"IF(ISNA(VLOOKUP($DC246,'Audit Values'!$A$2:$AE$252,2,FALSE)),'Preliminary SO66'!Z243,VLOOKUP($DC246,'Audit Values'!$A$2:$AE$252,26,FALSE))","v":0},310.39999999999998,{"$f":"IF(ISNA(VLOOKUP($DC246,'Audit Values'!$A$2:$AE$252,2,FALSE)),'Preliminary SO66'!C243,IF(VLOOKUP($DC246,'Audit Values'!$A$2:$AE$252,28,FALSE)=\"\",VLOOKUP($DC246,'Audit Values'!$A$2:$AE$252,3,FALSE),VLOOKUP($DC246,'Audit Values'!$A$2:$AE$252,28,FALSE)))","v":0},284.2,284.2,284.2,310.39999999999998,0,149.19999999999999,149.19999999999999,0,{"$f":"IF(ISNA(VLOOKUP($DC246,'Audit Values'!$A$2:$AE$252,2,FALSE)),'Preliminary SO66'!D243,VLOOKUP($DC246,'Audit Values'!$A$2:$AE$252,4,FALSE))","v":107.6},{"$f":"ROUND((X246/6)*Weightings!$M$6,1)","v":9},{"$f":"IF(ISNA(VLOOKUP($DC246,'Audit Values'!$A$2:$AE$252,2,FALSE)),'Preliminary SO66'!F243,VLOOKUP($DC246,'Audit Values'!$A$2:$AE$252,6,FALSE))","v":0},{"$f":"ROUND((Z246/6)*Weightings!$M$7,1)","v":0},{"$f":"IF(ISNA(VLOOKUP($DC246,'Audit Values'!$A$2:$AE$252,2,FALSE)),'Preliminary SO66'!H243,VLOOKUP($DC246,'Audit Values'!$A$2:$AE$252,9,FALSE))","v":140},{"$f":"ROUND(AB246*Weightings!$M$8,1)","v":63.8},{"$f":"MAX(CO246,CP246,CQ246)","v":9.9},0,{"$f":"AE246*Weightings!$M$9","v":0},{"$f":"IF(ISNA(VLOOKUP($DC246,'Audit Values'!$A$2:$AE$252,2,FALSE)),'Preliminary SO66'!L243,VLOOKUP($DC246,'Audit Values'!$A$2:$AE$252,12,FALSE))","v":0},{"$f":"ROUND(AG246*Weightings!$M$10,1)","v":0},{"$f":"IF(ISNA(VLOOKUP($DC246,'Audit Values'!$A$2:$AE$252,2,FALSE)),'Preliminary SO66'!O243,VLOOKUP($DC246,'Audit Values'!$A$2:$AE$252,15,FALSE))","v":122},42.4,{"$f":"CG246/Weightings!$M$5","v":0},{"$f":"CH246/Weightings!$M$5","v":0},{"$f":"CL246/Weightings!$M$5","v":0},0,{"$f":"IF(ISNA(VLOOKUP($DC246,'Audit Values'!$A$2:$AE$252,2,FALSE)),'Preliminary SO66'!X243,VLOOKUP($DC246,'Audit Values'!$A$2:$AE$252,24,FALSE))","v":0},306653,{"$f":"AP246/Weightings!$M$5","v":79.599999999999994},584.70000000000005,664.3,664.3,0,{"$f":"IF(ISNA(VLOOKUP($DC246,'Audit Values'!$A$2:$AC$299,2,FALSE)),\"\",IF(AND(Weightings!H246>0,VLOOKUP($DC246,'Audit Values'!$A$2:$AC$299,29,FALSE)<Weightings!H246),Weightings!H246,VLOOKUP($DC246,'Audit Values'!$A$2:$AC$299,29,FALSE)))","v":12},{"$f":"IF(ISNA(VLOOKUP($DC246,'Audit Values'!$A$2:$AD$299,2,FALSE)),\"\",VLOOKUP($DC246,'Audit Values'!$A$2:$AD$299,30,FALSE))","v":"A"},{"$f":"IF(Weightings!G246=\"\",\"\",IF(Weightings!I246=\"Pending\",\"PX\",\"R\"))","v":""},{"$f":"AR246*Weightings!$M$5+AU246","v":2252264},{"$f":"AT246*Weightings!$M$5+AU246","v":2558884},{"$f":"IF(Weightings!G246>0,Weightings!G246,'Preliminary SO66'!AB243)","v":3508312},560069,173801,37232,2737210,2558884,null,{"$f":"Weightings!E246","v":0},{"$f":"Weightings!F246","v":0},0,2558884,{"$f":"MAX(ROUND(((AR246-AN246-AO246)*Weightings!$M$12)+'2016legmax.xls'!AP246,0),ROUND((('2016legmax.xls'!AR246-'2016legmax.xls'!AN246-'2016legmax.xls'!AO246)*Weightings!$M$12)+Weightings!B246,0))","v":2934025},0.3,880208,907277,880208,0.3,0,false,0,0,0,true,12.87,0.480653,149.19999999999999,0,308.89999999999998,0.39,{"$f":"IF(ROUND((Weightings!$P$5*CC246^Weightings!$P$6*Weightings!$P$8 ),2)<Weightings!$P$7,Weightings!$P$7,ROUND((Weightings!$P$5*CC246^Weightings!$P$6*Weightings!$P$8 ),2))","v":1339.42},{"$f":"ROUND(CD246/Weightings!$M$5,4)","v":0.34770000000000001},42.4,0,0,0,0,{"$f":"AS246*Weightings!$M$5*CJ246","v":0},{"$f":"IF(CI246>CK246,CK246,CI246)","v":0},0.45100000000000001,1,0,0,9.9,{"$f":"IF(ISNA(VLOOKUP($DC246,'Audit Values'!$A$2:$AE$252,2,FALSE)),'Preliminary SO66'!T243,VLOOKUP($DC246,'Audit Values'!$A$2:$AE$252,20,FALSE))","v":0},{"$f":"IF(ISNA(VLOOKUP($DC246,'Audit Values'!$A$2:$AE$252,21,FALSE)),'Preliminary SO66'!U243,VLOOKUP($DC246,'Audit Values'!$A$2:$AE$252,21,FALSE))","v":0},0,0,null,null,null,null,null,null,null,"D0462"]
[463,"Cowley","Udall ",340,0,340,331,0,331,331.2,{"$f":"IF(ISNA(VLOOKUP($DC247,'Audit Values'!$A$2:$AE$252,2,FALSE)),'Preliminary SO66'!B244,VLOOKUP($DC247,'Audit Values'!$A$2:$AE$252,31,FALSE))","v":331.2},334.1,{"$f":"IF(ISNA(VLOOKUP($DC247,'Audit Values'!$A$2:$AE$252,2,FALSE)),'Preliminary SO66'!Z244,VLOOKUP($DC247,'Audit Values'!$A$2:$AE$252,26,FALSE))","v":0},334.1,{"$f":"IF(ISNA(VLOOKUP($DC247,'Audit Values'!$A$2:$AE$252,2,FALSE)),'Preliminary SO66'!C244,IF(VLOOKUP($DC247,'Audit Values'!$A$2:$AE$252,28,FALSE)=\"\",VLOOKUP($DC247,'Audit Values'!$A$2:$AE$252,3,FALSE),VLOOKUP($DC247,'Audit Values'!$A$2:$AE$252,28,FALSE)))","v":0},331.2,331.2,331.2,334.1,0,157.9,157.9,0,{"$f":"IF(ISNA(VLOOKUP($DC247,'Audit Values'!$A$2:$AE$252,2,FALSE)),'Preliminary SO66'!D244,VLOOKUP($DC247,'Audit Values'!$A$2:$AE$252,4,FALSE))","v":138.4},{"$f":"ROUND((X247/6)*Weightings!$M$6,1)","v":11.5},{"$f":"IF(ISNA(VLOOKUP($DC247,'Audit Values'!$A$2:$AE$252,2,FALSE)),'Preliminary SO66'!F244,VLOOKUP($DC247,'Audit Values'!$A$2:$AE$252,6,FALSE))","v":0},{"$f":"ROUND((Z247/6)*Weightings!$M$7,1)","v":0},{"$f":"IF(ISNA(VLOOKUP($DC247,'Audit Values'!$A$2:$AE$252,2,FALSE)),'Preliminary SO66'!H244,VLOOKUP($DC247,'Audit Values'!$A$2:$AE$252,9,FALSE))","v":111},{"$f":"ROUND(AB247*Weightings!$M$8,1)","v":50.6},0,0,{"$f":"AE247*Weightings!$M$9","v":0},{"$f":"IF(ISNA(VLOOKUP($DC247,'Audit Values'!$A$2:$AE$252,2,FALSE)),'Preliminary SO66'!L244,VLOOKUP($DC247,'Audit Values'!$A$2:$AE$252,12,FALSE))","v":0},{"$f":"ROUND(AG247*Weightings!$M$10,1)","v":0},{"$f":"IF(ISNA(VLOOKUP($DC247,'Audit Values'!$A$2:$AE$252,2,FALSE)),'Preliminary SO66'!O244,VLOOKUP($DC247,'Audit Values'!$A$2:$AE$252,15,FALSE))","v":129},36.9,{"$f":"CG247/Weightings!$M$5","v":0},{"$f":"CH247/Weightings!$M$5","v":0},{"$f":"CL247/Weightings!$M$5","v":0},0,{"$f":"IF(ISNA(VLOOKUP($DC247,'Audit Values'!$A$2:$AE$252,2,FALSE)),'Preliminary SO66'!X244,VLOOKUP($DC247,'Audit Values'!$A$2:$AE$252,24,FALSE))","v":0},348685,{"$f":"AP247/Weightings!$M$5","v":90.5},591,681.5,681.5,0,{"$f":"IF(ISNA(VLOOKUP($DC247,'Audit Values'!$A$2:$AC$299,2,FALSE)),\"\",IF(AND(Weightings!H247>0,VLOOKUP($DC247,'Audit Values'!$A$2:$AC$299,29,FALSE)<Weightings!H247),Weightings!H247,VLOOKUP($DC247,'Audit Values'!$A$2:$AC$299,29,FALSE)))","v":12},{"$f":"IF(ISNA(VLOOKUP($DC247,'Audit Values'!$A$2:$AD$299,2,FALSE)),\"\",VLOOKUP($DC247,'Audit Values'!$A$2:$AD$299,30,FALSE))","v":"A"},{"$f":"IF(Weightings!G247=\"\",\"\",IF(Weightings!I247=\"Pending\",\"PX\",\"R\"))","v":""},{"$f":"AR247*Weightings!$M$5+AU247","v":2276532},{"$f":"AT247*Weightings!$M$5+AU247","v":2625138},{"$f":"IF(Weightings!G247>0,Weightings!G247,'Preliminary SO66'!AB244)","v":3496843},489744,178692,26598,2801809,2625138,null,{"$f":"Weightings!E247","v":0},{"$f":"Weightings!F247","v":0},0,2625138,{"$f":"MAX(ROUND(((AR247-AN247-AO247)*Weightings!$M$12)+'2016legmax.xls'!AP247,0),ROUND((('2016legmax.xls'!AR247-'2016legmax.xls'!AN247-'2016legmax.xls'!AO247)*Weightings!$M$12)+Weightings!B247,0))","v":3025183},0.3,907555,928029,907555,0.3,0,false,0,{"$f":"IF(BS247=TRUE,ROUND(((7337-BT247)/3642.4)-1,6),0)","v":0},0,true,42.198799999999999,{"$f":"IF(BW247=TRUE,ROUND(((5406-BX247)/3642.4)-1,6),0)","v":0.47260099999999999},157.9,0,140,0.92,{"$f":"IF(ROUND((Weightings!$P$5*CC247^Weightings!$P$6*Weightings!$P$8 ),2)<Weightings!$P$7,Weightings!$P$7,ROUND((Weightings!$P$5*CC247^Weightings!$P$6*Weightings!$P$8 ),2))","v":1103.07},{"$f":"ROUND(CD247/Weightings!$M$5,4)","v":0.28639999999999999},36.9,0,0,0,0,{"$f":"AS247*Weightings!$M$5*CJ247","v":0},0,0.33200000000000002,2.4,0,0,0,{"$f":"IF(ISNA(VLOOKUP($DC247,'Audit Values'!$A$2:$AE$252,2,FALSE)),'Preliminary SO66'!T244,VLOOKUP($DC247,'Audit Values'!$A$2:$AE$252,20,FALSE))","v":0},{"$f":"IF(ISNA(VLOOKUP($DC247,'Audit Values'!$A$2:$AE$252,21,FALSE)),'Preliminary SO66'!U244,VLOOKUP($DC247,'Audit Values'!$A$2:$AE$252,21,FALSE))","v":0},0,0,null,null,null,null,null,null,null,"D0463"]
[464,"Leavenworth","Tonganoxie ",1861.6,0,1861.6,1906.5,0,1906.5,1890.2,{"$f":"IF(ISNA(VLOOKUP($DC248,'Audit Values'!$A$2:$AE$252,2,FALSE)),'Preliminary SO66'!B245,VLOOKUP($DC248,'Audit Values'!$A$2:$AE$252,31,FALSE))","v":1890.2},1906.5,{"$f":"IF(ISNA(VLOOKUP($DC248,'Audit Values'!$A$2:$AE$252,2,FALSE)),'Preliminary SO66'!Z245,VLOOKUP($DC248,'Audit Values'!$A$2:$AE$252,26,FALSE))","v":0},1906.5,{"$f":"IF(ISNA(VLOOKUP($DC248,'Audit Values'!$A$2:$AE$252,2,FALSE)),'Preliminary SO66'!C245,IF(VLOOKUP($DC248,'Audit Values'!$A$2:$AE$252,28,FALSE)=\"\",VLOOKUP($DC248,'Audit Values'!$A$2:$AE$252,3,FALSE),VLOOKUP($DC248,'Audit Values'!$A$2:$AE$252,28,FALSE)))","v":0},1890.2,1890.2,1890.2,1906.5,0,66.8,{"$f":"MAX(BR248,BV248,BZ248)","v":0},{"$f":"CA248","v":66.8},{"$f":"IF(ISNA(VLOOKUP($DC248,'Audit Values'!$A$2:$AE$252,2,FALSE)),'Preliminary SO66'!D245,VLOOKUP($DC248,'Audit Values'!$A$2:$AE$252,4,FALSE))","v":0.8},{"$f":"ROUND((X248/6)*Weightings!$M$6,1)","v":0.1},{"$f":"IF(ISNA(VLOOKUP($DC248,'Audit Values'!$A$2:$AE$252,2,FALSE)),'Preliminary SO66'!F245,VLOOKUP($DC248,'Audit Values'!$A$2:$AE$252,6,FALSE))","v":0},{"$f":"ROUND((Z248/6)*Weightings!$M$7,1)","v":0},{"$f":"IF(ISNA(VLOOKUP($DC248,'Audit Values'!$A$2:$AE$252,2,FALSE)),'Preliminary SO66'!H245,VLOOKUP($DC248,'Audit Values'!$A$2:$AE$252,9,FALSE))","v":494},{"$f":"ROUND(AB248*Weightings!$M$8,1)","v":225.3},0,0,{"$f":"AE248*Weightings!$M$9","v":0},{"$f":"IF(ISNA(VLOOKUP($DC248,'Audit Values'!$A$2:$AE$252,2,FALSE)),'Preliminary SO66'!L245,VLOOKUP($DC248,'Audit Values'!$A$2:$AE$252,12,FALSE))","v":804.4},{"$f":"ROUND(AG248*Weightings!$M$10,1)","v":201.1},{"$f":"IF(ISNA(VLOOKUP($DC248,'Audit Values'!$A$2:$AE$252,2,FALSE)),'Preliminary SO66'!O245,VLOOKUP($DC248,'Audit Values'!$A$2:$AE$252,15,FALSE))","v":860},160.69999999999999,{"$f":"CG248/Weightings!$M$5","v":0},{"$f":"CH248/Weightings!$M$5","v":0},{"$f":"CL248/Weightings!$M$5","v":0},0,{"$f":"IF(ISNA(VLOOKUP($DC248,'Audit Values'!$A$2:$AE$252,2,FALSE)),'Preliminary SO66'!X245,VLOOKUP($DC248,'Audit Values'!$A$2:$AE$252,24,FALSE))","v":1},1577350,{"$f":"AP248/Weightings!$M$5","v":409.5},2561.5,2971,2971,0,{"$f":"IF(ISNA(VLOOKUP($DC248,'Audit Values'!$A$2:$AC$299,2,FALSE)),\"\",IF(AND(Weightings!H248>0,VLOOKUP($DC248,'Audit Values'!$A$2:$AC$299,29,FALSE)<Weightings!H248),Weightings!H248,VLOOKUP($DC248,'Audit Values'!$A$2:$AC$299,29,FALSE)))","v":15},{"$f":"IF(ISNA(VLOOKUP($DC248,'Audit Values'!$A$2:$AD$299,2,FALSE)),\"\",VLOOKUP($DC248,'Audit Values'!$A$2:$AD$299,30,FALSE))","v":"A"},{"$f":"IF(Weightings!G248=\"\",\"\",IF(Weightings!I248=\"Pending\",\"PX\",\"R\"))","v":""},{"$f":"AR248*Weightings!$M$5+AU248","v":9866898},{"$f":"AT248*Weightings!$M$5+AU248","v":11444292},{"$f":"IF(Weightings!G248>0,Weightings!G248,'Preliminary SO66'!AB245)","v":15098107},1999066,870174,184317,12044550,11444292,null,{"$f":"Weightings!E248","v":0},{"$f":"Weightings!F248","v":0},0,11444292,{"$f":"MAX(ROUND(((AR248-AN248-AO248)*Weightings!$M$12)+'2016legmax.xls'!AP248,0),ROUND((('2016legmax.xls'!AR248-'2016legmax.xls'!AN248-'2016legmax.xls'!AO248)*Weightings!$M$12)+Weightings!B248,0))","v":13073995},0.3,3922199,3684608,3684608,0.28179999999999999,0,false,0,0,0,false,0,0,0,66.8,142,6.06,{"$f":"IF(ROUND((Weightings!$P$5*CC248^Weightings!$P$6*Weightings!$P$8 ),2)<Weightings!$P$7,Weightings!$P$7,ROUND((Weightings!$P$5*CC248^Weightings!$P$6*Weightings!$P$8 ),2))","v":720.13},{"$f":"ROUND(CD248/Weightings!$M$5,4)","v":0.18690000000000001},160.69999999999999,0,0,0,3.5000000000000001E-3,{"$f":"AS248*Weightings!$M$5*CJ248","v":40055},0,0.25900000000000001,13.4,0,0,0,{"$f":"IF(ISNA(VLOOKUP($DC248,'Audit Values'!$A$2:$AE$252,2,FALSE)),'Preliminary SO66'!T245,VLOOKUP($DC248,'Audit Values'!$A$2:$AE$252,20,FALSE))","v":0},{"$f":"IF(ISNA(VLOOKUP($DC248,'Audit Values'!$A$2:$AE$252,21,FALSE)),'Preliminary SO66'!U245,VLOOKUP($DC248,'Audit Values'!$A$2:$AE$252,21,FALSE))","v":0},0,0,null,null,null,null,null,null,null,"D0464"]
[465,"Cowley","Winfield ",2208.6999999999998,0,2208.6999999999998,2177.9,0,2177.9,2140.1999999999998,{"$f":"IF(ISNA(VLOOKUP($DC249,'Audit Values'!$A$2:$AE$286,2,FALSE)),'Preliminary SO66'!B246,VLOOKUP($DC249,'Audit Values'!$A$2:$AE$286,31,FALSE))","v":2140.1999999999998},2177.9,{"$f":"IF(ISNA(VLOOKUP($DC249,'Audit Values'!$A$2:$AE$286,2,FALSE)),'Preliminary SO66'!Z246,VLOOKUP($DC249,'Audit Values'!$A$2:$AE$286,26,FALSE))","v":0},2177.9,{"$f":"IF(ISNA(VLOOKUP($DC249,'Audit Values'!$A$2:$AE$286,2,FALSE)),'Preliminary SO66'!C246,IF(VLOOKUP($DC249,'Audit Values'!$A$2:$AE$286,28,FALSE)=\"\",VLOOKUP($DC249,'Audit Values'!$A$2:$AE$286,3,FALSE),VLOOKUP($DC249,'Audit Values'!$A$2:$AE$286,28,FALSE)))","v":15},2155.1999999999998,2155.1999999999998,2155.1999999999998,2192.9,0,76.8,0,76.8,{"$f":"IF(ISNA(VLOOKUP($DC249,'Audit Values'!$A$2:$AE$252,2,FALSE)),'Preliminary SO66'!D246,VLOOKUP($DC249,'Audit Values'!$A$2:$AE$252,4,FALSE))","v":547.5},{"$f":"ROUND((X249/6)*Weightings!$M$6,1)","v":45.6},{"$f":"IF(ISNA(VLOOKUP($DC249,'Audit Values'!$A$2:$AE$299,2,FALSE)),'Preliminary SO66'!F246,VLOOKUP($DC249,'Audit Values'!$A$2:$AE$299,6,FALSE))","v":120.4},{"$f":"ROUND((Z249/6)*Weightings!$M$7,1)","v":7.9},{"$f":"IF(ISNA(VLOOKUP($DC249,'Audit Values'!$A$2:$AE$299,2,FALSE)),'Preliminary SO66'!H246,VLOOKUP($DC249,'Audit Values'!$A$2:$AE$299,9,FALSE))","v":1076},{"$f":"ROUND(AB249*Weightings!$M$8,1)","v":490.7},106.2,0,{"$f":"AE249*Weightings!$M$9","v":0},{"$f":"IF(ISNA(VLOOKUP($DC249,'Audit Values'!$A$2:$AE$252,2,FALSE)),'Preliminary SO66'!L246,VLOOKUP($DC249,'Audit Values'!$A$2:$AE$252,12,FALSE))","v":0},{"$f":"ROUND(AG249*Weightings!$M$10,1)","v":0},{"$f":"IF(ISNA(VLOOKUP($DC249,'Audit Values'!$A$2:$AE$299,2,FALSE)),'Preliminary SO66'!O246,VLOOKUP($DC249,'Audit Values'!$A$2:$AE$299,15,FALSE))","v":580},136.19999999999999,{"$f":"CG249/Weightings!$M$5","v":0},{"$f":"CH249/Weightings!$M$5","v":0},{"$f":"CL249/Weightings!$M$5","v":0},0,{"$f":"IF(ISNA(VLOOKUP($DC249,'Audit Values'!$A$2:$AE$252,2,FALSE)),'Preliminary SO66'!X246,VLOOKUP($DC249,'Audit Values'!$A$2:$AE$252,24,FALSE))","v":0},2258416,{"$f":"AP249/Weightings!$M$5","v":586.29999999999995},3056.3,3642.6,3642.6,0,{"$f":"IF(ISNA(VLOOKUP($DC249,'Audit Values'!$A$2:$AC$299,2,FALSE)),\"\",IF(AND(Weightings!H249>0,VLOOKUP($DC249,'Audit Values'!$A$2:$AC$299,29,FALSE)<Weightings!H249),Weightings!H249,VLOOKUP($DC249,'Audit Values'!$A$2:$AC$299,29,FALSE)))","v":18},{"$f":"IF(ISNA(VLOOKUP($DC249,'Audit Values'!$A$2:$AD$299,2,FALSE)),\"\",VLOOKUP($DC249,'Audit Values'!$A$2:$AD$299,30,FALSE))","v":"A"},{"$f":"IF(Weightings!G249=\"\",\"\",IF(Weightings!I249=\"Pending\",\"PX\",\"R\"))","v":""},{"$f":"AR249*Weightings!$M$5+AU249","v":11772868},{"$f":"AT249*Weightings!$M$5+AU249","v":14031295},{"$f":"IF(Weightings!G249>0,Weightings!G249,'Preliminary SO66'!AB246)","v":19650099},2812704,1564794,253992,15018609,14031295,null,{"$f":"Weightings!E249","v":0},{"$f":"Weightings!F249","v":0},0,14031295,{"$f":"MAX(ROUND(((AR249-AN249-AO249)*Weightings!$M$12)+'2016legmax.xls'!AP249,0),ROUND((('2016legmax.xls'!AR249-'2016legmax.xls'!AN249-'2016legmax.xls'!AO249)*Weightings!$M$12)+Weightings!B249,0))","v":15981203},0.3,4794361,4821269,4794361,0.3,0,false,0,0,0,false,0,0,0,76.8,262,2.21,{"$f":"IF(ROUND((Weightings!$P$5*CC249^Weightings!$P$6*Weightings!$P$8 ),2)<Weightings!$P$7,Weightings!$P$7,ROUND((Weightings!$P$5*CC249^Weightings!$P$6*Weightings!$P$8 ),2))","v":904.71},{"$f":"ROUND(CD249/Weightings!$M$5,4)","v":0.2349},136.19999999999999,0,0,0,0,{"$f":"AS249*Weightings!$M$5*CJ249","v":0},0,0.49099999999999999,8.4,0,0,106.2,{"$f":"IF(ISNA(VLOOKUP($DC249,'Audit Values'!$A$2:$AE$252,2,FALSE)),'Preliminary SO66'!T246,VLOOKUP($DC249,'Audit Values'!$A$2:$AE$252,20,FALSE))","v":0},{"$f":"IF(ISNA(VLOOKUP($DC249,'Audit Values'!$A$2:$AE$252,21,FALSE)),'Preliminary SO66'!U246,VLOOKUP($DC249,'Audit Values'!$A$2:$AE$252,21,FALSE))","v":0},0,0,null,null,null,null,null,null,null,"D0465"]
[466,"Scott","Scott County ",871.5,0,871.5,874,0,874,942,{"$f":"IF(ISNA(VLOOKUP($DC250,'Audit Values'!$A$2:$AE$252,2,FALSE)),'Preliminary SO66'!B247,VLOOKUP($DC250,'Audit Values'!$A$2:$AE$252,31,FALSE))","v":909},909,{"$f":"IF(ISNA(VLOOKUP($DC250,'Audit Values'!$A$2:$AE$252,2,FALSE)),'Preliminary SO66'!Z247,VLOOKUP($DC250,'Audit Values'!$A$2:$AE$252,26,FALSE))","v":0},909,{"$f":"IF(ISNA(VLOOKUP($DC250,'Audit Values'!$A$2:$AE$252,2,FALSE)),'Preliminary SO66'!C247,IF(VLOOKUP($DC250,'Audit Values'!$A$2:$AE$252,28,FALSE)=\"\",VLOOKUP($DC250,'Audit Values'!$A$2:$AE$252,3,FALSE),VLOOKUP($DC250,'Audit Values'!$A$2:$AE$252,28,FALSE)))","v":11.5},920.5,953.5,953.5,920.5,33,251.6,251.6,0,{"$f":"IF(ISNA(VLOOKUP($DC250,'Audit Values'!$A$2:$AE$252,2,FALSE)),'Preliminary SO66'!D247,VLOOKUP($DC250,'Audit Values'!$A$2:$AE$252,4,FALSE))","v":221.8},{"$f":"ROUND((X250/6)*Weightings!$M$6,1)","v":18.5},{"$f":"IF(ISNA(VLOOKUP($DC250,'Audit Values'!$A$2:$AE$252,2,FALSE)),'Preliminary SO66'!F247,VLOOKUP($DC250,'Audit Values'!$A$2:$AE$252,6,FALSE))","v":649.9},{"$f":"ROUND((Z250/6)*Weightings!$M$7,1)","v":42.8},{"$f":"IF(ISNA(VLOOKUP($DC250,'Audit Values'!$A$2:$AE$252,2,FALSE)),'Preliminary SO66'!H247,VLOOKUP($DC250,'Audit Values'!$A$2:$AE$252,9,FALSE))","v":345},{"$f":"ROUND(AB250*Weightings!$M$8,1)","v":157.30000000000001},6,0,{"$f":"AE250*Weightings!$M$9","v":0},{"$f":"IF(ISNA(VLOOKUP($DC250,'Audit Values'!$A$2:$AE$252,2,FALSE)),'Preliminary SO66'!L247,VLOOKUP($DC250,'Audit Values'!$A$2:$AE$252,12,FALSE))","v":0},{"$f":"ROUND(AG250*Weightings!$M$10,1)","v":0},{"$f":"IF(ISNA(VLOOKUP($DC250,'Audit Values'!$A$2:$AE$252,2,FALSE)),'Preliminary SO66'!O247,VLOOKUP($DC250,'Audit Values'!$A$2:$AE$252,15,FALSE))","v":140},57.3,{"$f":"CG250/Weightings!$M$5","v":0},{"$f":"CH250/Weightings!$M$5","v":0},{"$f":"CL250/Weightings!$M$5","v":0},34.700000000000003,{"$f":"IF(ISNA(VLOOKUP($DC250,'Audit Values'!$A$2:$AE$252,2,FALSE)),'Preliminary SO66'!X247,VLOOKUP($DC250,'Audit Values'!$A$2:$AE$252,24,FALSE))","v":1},471940,{"$f":"AP250/Weightings!$M$5","v":122.5},1489.7,1612.2,1612.2,0,{"$f":"IF(ISNA(VLOOKUP($DC250,'Audit Values'!$A$2:$AC$299,2,FALSE)),\"\",IF(AND(Weightings!H250>0,VLOOKUP($DC250,'Audit Values'!$A$2:$AC$299,29,FALSE)<Weightings!H250),Weightings!H250,VLOOKUP($DC250,'Audit Values'!$A$2:$AC$299,29,FALSE)))","v":9},{"$f":"IF(ISNA(VLOOKUP($DC250,'Audit Values'!$A$2:$AD$299,2,FALSE)),\"\",VLOOKUP($DC250,'Audit Values'!$A$2:$AD$299,30,FALSE))","v":"A"},{"$f":"IF(Weightings!G250=\"\",\"\",IF(Weightings!I250=\"Pending\",\"PX\",\"R\"))","v":""},{"$f":"AR250*Weightings!$M$5+AU250","v":5738324},{"$f":"AT250*Weightings!$M$5+AU250","v":6210194},{"$f":"IF(Weightings!G250>0,Weightings!G250,'Preliminary SO66'!AB247)","v":6932394},196236,422853,0,6313305,6210194,null,{"$f":"Weightings!E250","v":0},{"$f":"Weightings!F250","v":0},0,6210194,{"$f":"MAX(ROUND(((AR250-AN250-AO250)*Weightings!$M$12)+'2016legmax.xls'!AP250,0),ROUND((('2016legmax.xls'!AR250-'2016legmax.xls'!AN250-'2016legmax.xls'!AO250)*Weightings!$M$12)+Weightings!B250,0))","v":7063889},0.3,2119167,2096672,2096672,0.29680000000000001,0,false,0,0,0,true,767.86879999999996,0.273372,251.6,0,756,0.19,{"$f":"IF(ROUND((Weightings!$P$5*CC250^Weightings!$P$6*Weightings!$P$8 ),2)<Weightings!$P$7,Weightings!$P$7,ROUND((Weightings!$P$5*CC250^Weightings!$P$6*Weightings!$P$8 ),2))","v":1576.03},{"$f":"ROUND(CD250/Weightings!$M$5,4)","v":0.40910000000000002},57.3,0,0,0,0,{"$f":"AS250*Weightings!$M$5*CJ250","v":0},0,0.375,1.2,0,0,6,{"$f":"IF(ISNA(VLOOKUP($DC250,'Audit Values'!$A$2:$AE$252,2,FALSE)),'Preliminary SO66'!T247,VLOOKUP($DC250,'Audit Values'!$A$2:$AE$252,20,FALSE))","v":12},{"$f":"IF(ISNA(VLOOKUP($DC250,'Audit Values'!$A$2:$AE$252,21,FALSE)),'Preliminary SO66'!U247,VLOOKUP($DC250,'Audit Values'!$A$2:$AE$252,21,FALSE))","v":0},21,33,null,null,null,null,null,null,null,"D0466",82439]
[467,"Wichita","Leoti ",391,0,391,398,0,398,382,{"$f":"IF(ISNA(VLOOKUP($DC251,'Audit Values'!$A$2:$AE$252,2,FALSE)),'Preliminary SO66'!B248,VLOOKUP($DC251,'Audit Values'!$A$2:$AE$252,31,FALSE))","v":382},398,{"$f":"IF(ISNA(VLOOKUP($DC251,'Audit Values'!$A$2:$AE$252,2,FALSE)),'Preliminary SO66'!Z248,VLOOKUP($DC251,'Audit Values'!$A$2:$AE$252,26,FALSE))","v":0},398,{"$f":"IF(ISNA(VLOOKUP($DC251,'Audit Values'!$A$2:$AE$252,2,FALSE)),'Preliminary SO66'!C248,IF(VLOOKUP($DC251,'Audit Values'!$A$2:$AE$252,28,FALSE)=\"\",VLOOKUP($DC251,'Audit Values'!$A$2:$AE$252,3,FALSE),VLOOKUP($DC251,'Audit Values'!$A$2:$AE$252,28,FALSE)))","v":4.5},386.5,386.5,386.5,402.5,0,180.9,180.9,0,{"$f":"IF(ISNA(VLOOKUP($DC251,'Audit Values'!$A$2:$AE$252,2,FALSE)),'Preliminary SO66'!D248,VLOOKUP($DC251,'Audit Values'!$A$2:$AE$252,4,FALSE))","v":57.6},{"$f":"ROUND((X251/6)*Weightings!$M$6,1)","v":4.8},{"$f":"IF(ISNA(VLOOKUP($DC251,'Audit Values'!$A$2:$AE$252,2,FALSE)),'Preliminary SO66'!F248,VLOOKUP($DC251,'Audit Values'!$A$2:$AE$252,6,FALSE))","v":723.5},{"$f":"ROUND((Z251/6)*Weightings!$M$7,1)","v":47.6},{"$f":"IF(ISNA(VLOOKUP($DC251,'Audit Values'!$A$2:$AE$252,2,FALSE)),'Preliminary SO66'!H248,VLOOKUP($DC251,'Audit Values'!$A$2:$AE$252,9,FALSE))","v":185},{"$f":"ROUND(AB251*Weightings!$M$8,1)","v":84.4},14.2,0,{"$f":"AE251*Weightings!$M$9","v":0},{"$f":"IF(ISNA(VLOOKUP($DC251,'Audit Values'!$A$2:$AE$252,2,FALSE)),'Preliminary SO66'!L248,VLOOKUP($DC251,'Audit Values'!$A$2:$AE$252,12,FALSE))","v":0},{"$f":"ROUND(AG251*Weightings!$M$10,1)","v":0},{"$f":"IF(ISNA(VLOOKUP($DC251,'Audit Values'!$A$2:$AE$252,2,FALSE)),'Preliminary SO66'!O248,VLOOKUP($DC251,'Audit Values'!$A$2:$AE$252,15,FALSE))","v":77},36.4,{"$f":"CG251/Weightings!$M$5","v":0},{"$f":"CH251/Weightings!$M$5","v":0},{"$f":"CL251/Weightings!$M$5","v":0},0,{"$f":"IF(ISNA(VLOOKUP($DC251,'Audit Values'!$A$2:$AE$252,2,FALSE)),'Preliminary SO66'!X248,VLOOKUP($DC251,'Audit Values'!$A$2:$AE$252,24,FALSE))","v":0},224614,{"$f":"AP251/Weightings!$M$5","v":58.3},770.8,829.1,829.1,10000,{"$f":"IF(ISNA(VLOOKUP($DC251,'Audit Values'!$A$2:$AC$299,2,FALSE)),\"\",IF(AND(Weightings!H251>0,VLOOKUP($DC251,'Audit Values'!$A$2:$AC$299,29,FALSE)<Weightings!H251),Weightings!H251,VLOOKUP($DC251,'Audit Values'!$A$2:$AC$299,29,FALSE)))","v":11},{"$f":"IF(ISNA(VLOOKUP($DC251,'Audit Values'!$A$2:$AD$299,2,FALSE)),\"\",VLOOKUP($DC251,'Audit Values'!$A$2:$AD$299,30,FALSE))","v":"A"},{"$f":"IF(Weightings!G251=\"\",\"\",IF(Weightings!I251=\"Pending\",\"PX\",\"R\"))","v":""},{"$f":"AR251*Weightings!$M$5+AU251","v":2979122},{"$f":"AT251*Weightings!$M$5+AU251","v":3203693},{"$f":"IF(Weightings!G251>0,Weightings!G251,'Preliminary SO66'!AB248)","v":3767417},156279,239143,0,3371995,3203693,null,{"$f":"Weightings!E251","v":0},{"$f":"Weightings!F251","v":0},0,3203693,{"$f":"MAX(ROUND(((AR251-AN251-AO251)*Weightings!$M$12)+'2016legmax.xls'!AP251,0),ROUND((('2016legmax.xls'!AR251-'2016legmax.xls'!AN251-'2016legmax.xls'!AO251)*Weightings!$M$12)+Weightings!B251,0))","v":3739798},0.3,1121939,1141740,1121939,0.3,0,false,0,0,0,true,126.8438,0.44936199999999998,180.9,0,775.3,0.1,{"$f":"IF(ROUND((Weightings!$P$5*CC251^Weightings!$P$6*Weightings!$P$8 ),2)<Weightings!$P$7,Weightings!$P$7,ROUND((Weightings!$P$5*CC251^Weightings!$P$6*Weightings!$P$8 ),2))","v":1822.3},{"$f":"ROUND(CD251/Weightings!$M$5,4)","v":0.47310000000000002},36.4,0,0,0,0,{"$f":"AS251*Weightings!$M$5*CJ251","v":0},0,0.46,0.5,0,0,14.2,{"$f":"IF(ISNA(VLOOKUP($DC251,'Audit Values'!$A$2:$AE$252,2,FALSE)),'Preliminary SO66'!T248,VLOOKUP($DC251,'Audit Values'!$A$2:$AE$252,20,FALSE))","v":0},{"$f":"IF(ISNA(VLOOKUP($DC251,'Audit Values'!$A$2:$AE$252,21,FALSE)),'Preliminary SO66'!U248,VLOOKUP($DC251,'Audit Values'!$A$2:$AE$252,21,FALSE))","v":0},0,0,null,null,null,null,null,null,null,"D0467"]
[468,"Lane","Healy Public Schools ",79.5,0,79.5,67.8,0,67.8,67.5,{"$f":"IF(ISNA(VLOOKUP($DC252,'Audit Values'!$A$2:$AE$252,2,FALSE)),'Preliminary SO66'!B249,VLOOKUP($DC252,'Audit Values'!$A$2:$AE$252,31,FALSE))","v":67.5},71.599999999999994,{"$f":"IF(ISNA(VLOOKUP($DC252,'Audit Values'!$A$2:$AE$252,2,FALSE)),'Preliminary SO66'!Z249,VLOOKUP($DC252,'Audit Values'!$A$2:$AE$252,26,FALSE))","v":0},71.599999999999994,{"$f":"IF(ISNA(VLOOKUP($DC252,'Audit Values'!$A$2:$AE$252,2,FALSE)),'Preliminary SO66'!C249,IF(VLOOKUP($DC252,'Audit Values'!$A$2:$AE$252,28,FALSE)=\"\",VLOOKUP($DC252,'Audit Values'!$A$2:$AE$252,3,FALSE),VLOOKUP($DC252,'Audit Values'!$A$2:$AE$252,28,FALSE)))","v":0},67.5,67.5,67.5,71.599999999999994,0,72.599999999999994,72.599999999999994,0,{"$f":"IF(ISNA(VLOOKUP($DC252,'Audit Values'!$A$2:$AE$252,2,FALSE)),'Preliminary SO66'!D249,VLOOKUP($DC252,'Audit Values'!$A$2:$AE$252,4,FALSE))","v":0.4},{"$f":"ROUND((X252/6)*Weightings!$M$6,1)","v":0},{"$f":"IF(ISNA(VLOOKUP($DC252,'Audit Values'!$A$2:$AE$252,2,FALSE)),'Preliminary SO66'!F249,VLOOKUP($DC252,'Audit Values'!$A$2:$AE$252,6,FALSE))","v":11.8},{"$f":"ROUND((Z252/6)*Weightings!$M$7,1)","v":0.8},{"$f":"IF(ISNA(VLOOKUP($DC252,'Audit Values'!$A$2:$AE$252,2,FALSE)),'Preliminary SO66'!H249,VLOOKUP($DC252,'Audit Values'!$A$2:$AE$252,9,FALSE))","v":34},{"$f":"ROUND(AB252*Weightings!$M$8,1)","v":15.5},3,0,{"$f":"AE252*Weightings!$M$9","v":0},{"$f":"IF(ISNA(VLOOKUP($DC252,'Audit Values'!$A$2:$AE$252,2,FALSE)),'Preliminary SO66'!L249,VLOOKUP($DC252,'Audit Values'!$A$2:$AE$252,12,FALSE))","v":0},{"$f":"ROUND(AG252*Weightings!$M$10,1)","v":0},{"$f":"IF(ISNA(VLOOKUP($DC252,'Audit Values'!$A$2:$AE$252,2,FALSE)),'Preliminary SO66'!O249,VLOOKUP($DC252,'Audit Values'!$A$2:$AE$252,15,FALSE))","v":6},3.7,{"$f":"CG252/Weightings!$M$5","v":0},{"$f":"CH252/Weightings!$M$5","v":0},{"$f":"CL252/Weightings!$M$5","v":0},0,{"$f":"IF(ISNA(VLOOKUP($DC252,'Audit Values'!$A$2:$AE$252,2,FALSE)),'Preliminary SO66'!X249,VLOOKUP($DC252,'Audit Values'!$A$2:$AE$252,24,FALSE))","v":0},104481,{"$f":"AP252/Weightings!$M$5","v":27.1},167.2,194.3,194.3,0,{"$f":"IF(ISNA(VLOOKUP($DC252,'Audit Values'!$A$2:$AC$299,2,FALSE)),\"\",IF(AND(Weightings!H252>0,VLOOKUP($DC252,'Audit Values'!$A$2:$AC$299,29,FALSE)<Weightings!H252),Weightings!H252,VLOOKUP($DC252,'Audit Values'!$A$2:$AC$299,29,FALSE)))","v":11},{"$f":"IF(ISNA(VLOOKUP($DC252,'Audit Values'!$A$2:$AD$299,2,FALSE)),\"\",VLOOKUP($DC252,'Audit Values'!$A$2:$AD$299,30,FALSE))","v":"A"},{"$f":"IF(Weightings!G252=\"\",\"\",IF(Weightings!I252=\"Pending\",\"PX\",\"R\"))","v":""},{"$f":"AR252*Weightings!$M$5+AU252","v":644054},{"$f":"AT252*Weightings!$M$5+AU252","v":748444},{"$f":"IF(Weightings!G252>0,Weightings!G252,'Preliminary SO66'!AB249)","v":916602},0,49890,0,866712,748444,null,{"$f":"Weightings!E252","v":0},{"$f":"Weightings!F252","v":0},0,748444,{"$f":"MAX(ROUND(((AR252-AN252-AO252)*Weightings!$M$12)+'2016legmax.xls'!AP252,0),ROUND((('2016legmax.xls'!AR252-'2016legmax.xls'!AN252-'2016legmax.xls'!AO252)*Weightings!$M$12)+Weightings!B252,0))","v":865853},0.33,285731,306623,285731,0.33,72.599999999999994,false,0,0,0,false,0,0,0,0,203.3,0.03,{"$f":"IF(ROUND((Weightings!$P$5*CC252^Weightings!$P$6*Weightings!$P$8 ),2)<Weightings!$P$7,Weightings!$P$7,ROUND((Weightings!$P$5*CC252^Weightings!$P$6*Weightings!$P$8 ),2))","v":2392.7600000000002},{"$f":"ROUND(CD252/Weightings!$M$5,4)","v":0.62119999999999997},3.7,0,0,0,0,{"$f":"AS252*Weightings!$M$5*CJ252","v":0},0,0.47499999999999998,0.4,0,0,3,{"$f":"IF(ISNA(VLOOKUP($DC252,'Audit Values'!$A$2:$AE$252,2,FALSE)),'Preliminary SO66'!T249,VLOOKUP($DC252,'Audit Values'!$A$2:$AE$252,20,FALSE))","v":0},{"$f":"IF(ISNA(VLOOKUP($DC252,'Audit Values'!$A$2:$AE$252,21,FALSE)),'Preliminary SO66'!U249,VLOOKUP($DC252,'Audit Values'!$A$2:$AE$252,21,FALSE))","v":0},0,0,null,null,null,null,null,null,null,"D0468"]
[469,"Leavenworth","Lansing ",2557.1,0,2557.1,2534.6,0,2534.6,2577.5,{"$f":"IF(ISNA(VLOOKUP($DC253,'Audit Values'!$A$2:$AE$252,2,FALSE)),'Preliminary SO66'!B250,VLOOKUP($DC253,'Audit Values'!$A$2:$AE$252,31,FALSE))","v":2541.5},2544.4,{"$f":"IF(ISNA(VLOOKUP($DC253,'Audit Values'!$A$2:$AE$252,2,FALSE)),'Preliminary SO66'!Z250,VLOOKUP($DC253,'Audit Values'!$A$2:$AE$252,26,FALSE))","v":0},2544.4,{"$f":"IF(ISNA(VLOOKUP($DC253,'Audit Values'!$A$2:$AE$252,2,FALSE)),'Preliminary SO66'!C250,IF(VLOOKUP($DC253,'Audit Values'!$A$2:$AE$252,28,FALSE)=\"\",VLOOKUP($DC253,'Audit Values'!$A$2:$AE$252,3,FALSE),VLOOKUP($DC253,'Audit Values'!$A$2:$AE$252,28,FALSE)))","v":0},2541.5,2577.5,2577.5,2544.4,36,89.2,0,89.2,{"$f":"IF(ISNA(VLOOKUP($DC253,'Audit Values'!$A$2:$AE$252,2,FALSE)),'Preliminary SO66'!D250,VLOOKUP($DC253,'Audit Values'!$A$2:$AE$252,4,FALSE))","v":358.7},{"$f":"ROUND((X253/6)*Weightings!$M$6,1)","v":29.9},{"$f":"IF(ISNA(VLOOKUP($DC253,'Audit Values'!$A$2:$AE$252,2,FALSE)),'Preliminary SO66'!F250,VLOOKUP($DC253,'Audit Values'!$A$2:$AE$252,6,FALSE))","v":64.7},{"$f":"ROUND((Z253/6)*Weightings!$M$7,1)","v":4.3},{"$f":"IF(ISNA(VLOOKUP($DC253,'Audit Values'!$A$2:$AE$252,2,FALSE)),'Preliminary SO66'!H250,VLOOKUP($DC253,'Audit Values'!$A$2:$AE$252,9,FALSE))","v":560},{"$f":"ROUND(AB253*Weightings!$M$8,1)","v":255.4},0,0,{"$f":"AE253*Weightings!$M$9","v":0},{"$f":"IF(ISNA(VLOOKUP($DC253,'Audit Values'!$A$2:$AE$252,2,FALSE)),'Preliminary SO66'!L250,VLOOKUP($DC253,'Audit Values'!$A$2:$AE$252,12,FALSE))","v":912},{"$f":"ROUND(AG253*Weightings!$M$10,1)","v":228},{"$f":"IF(ISNA(VLOOKUP($DC253,'Audit Values'!$A$2:$AE$252,2,FALSE)),'Preliminary SO66'!O250,VLOOKUP($DC253,'Audit Values'!$A$2:$AE$252,15,FALSE))","v":710},109,{"$f":"CG253/Weightings!$M$5","v":0},{"$f":"CH253/Weightings!$M$5","v":0},{"$f":"CL253/Weightings!$M$5","v":0},37.799999999999997,{"$f":"IF(ISNA(VLOOKUP($DC253,'Audit Values'!$A$2:$AE$252,2,FALSE)),'Preliminary SO66'!X250,VLOOKUP($DC253,'Audit Values'!$A$2:$AE$252,24,FALSE))","v":0},3068665,{"$f":"AP253/Weightings!$M$5","v":796.6},3298,4094.6,4094.6,0,{"$f":"IF(ISNA(VLOOKUP($DC253,'Audit Values'!$A$2:$AC$299,2,FALSE)),\"\",IF(AND(Weightings!H253>0,VLOOKUP($DC253,'Audit Values'!$A$2:$AC$299,29,FALSE)<Weightings!H253),Weightings!H253,VLOOKUP($DC253,'Audit Values'!$A$2:$AC$299,29,FALSE)))","v":15},{"$f":"IF(ISNA(VLOOKUP($DC253,'Audit Values'!$A$2:$AD$299,2,FALSE)),\"\",VLOOKUP($DC253,'Audit Values'!$A$2:$AD$299,30,FALSE))","v":"A"},{"$f":"IF(Weightings!G253=\"\",\"\",IF(Weightings!I253=\"Pending\",\"PX\",\"R\"))","v":""},{"$f":"AR253*Weightings!$M$5+AU253","v":12703896},{"$f":"AT253*Weightings!$M$5+AU253","v":15772399},{"$f":"IF(Weightings!G253>0,Weightings!G253,'Preliminary SO66'!AB250)","v":20609139},2816435,1449747,140111,16202846,15772399,null,null,{"$f":"Weightings!F253","v":0},0,15772399,{"$f":"MAX(ROUND(((AR253-AN253-AO253)*Weightings!$M$12)+'2016legmax.xls'!AP253,0),ROUND((('2016legmax.xls'!AR253-'2016legmax.xls'!AN253-'2016legmax.xls'!AO253)*Weightings!$M$12)+Weightings!B253,0))","v":17706963},0.3,5312089,4884132,4884132,0.27579999999999999,0,false,0,0,0,false,0,0,0,89.2,49,14.49,{"$f":"IF(ROUND((Weightings!$P$5*CC253^Weightings!$P$6*Weightings!$P$8 ),2)<Weightings!$P$7,Weightings!$P$7,ROUND((Weightings!$P$5*CC253^Weightings!$P$6*Weightings!$P$8 ),2))","v":591.25},{"$f":"ROUND(CD253/Weightings!$M$5,4)","v":0.1535},109,0,0,0,1.66E-2,{"$f":"AS253*Weightings!$M$5*CJ253","v":261822},0,0.22,51.9,0,0,0,{"$f":"IF(ISNA(VLOOKUP($DC253,'Audit Values'!$A$2:$AE$252,2,FALSE)),'Preliminary SO66'!T250,VLOOKUP($DC253,'Audit Values'!$A$2:$AE$252,20,FALSE))","v":0},{"$f":"IF(ISNA(VLOOKUP($DC253,'Audit Values'!$A$2:$AE$252,21,FALSE)),'Preliminary SO66'!U250,VLOOKUP($DC253,'Audit Values'!$A$2:$AE$252,21,FALSE))","v":0},36,36,null,null,null,null,null,null,null,"D0469"]
[470,"Cowley","Arkansas City ",2590.5,0,2590.5,2715.6,0,2715.6,2653.2,{"$f":"IF(ISNA(VLOOKUP($DC254,'Audit Values'!$A$2:$AE$252,2,FALSE)),'Preliminary SO66'!B251,VLOOKUP($DC254,'Audit Values'!$A$2:$AE$252,31,FALSE))","v":2653.2},2715.6,{"$f":"IF(ISNA(VLOOKUP($DC254,'Audit Values'!$A$2:$AE$252,2,FALSE)),'Preliminary SO66'!Z251,VLOOKUP($DC254,'Audit Values'!$A$2:$AE$252,26,FALSE))","v":0},2715.6,{"$f":"IF(ISNA(VLOOKUP($DC254,'Audit Values'!$A$2:$AE$252,2,FALSE)),'Preliminary SO66'!C251,IF(VLOOKUP($DC254,'Audit Values'!$A$2:$AE$252,28,FALSE)=\"\",VLOOKUP($DC254,'Audit Values'!$A$2:$AE$252,3,FALSE),VLOOKUP($DC254,'Audit Values'!$A$2:$AE$252,28,FALSE)))","v":36.5},2689.7,2689.7,2689.7,2752.1,0,96.4,0,96.4,{"$f":"IF(ISNA(VLOOKUP($DC254,'Audit Values'!$A$2:$AE$252,2,FALSE)),'Preliminary SO66'!D251,VLOOKUP($DC254,'Audit Values'!$A$2:$AE$252,4,FALSE))","v":745.3},{"$f":"ROUND((X254/6)*Weightings!$M$6,1)","v":62.1},{"$f":"IF(ISNA(VLOOKUP($DC254,'Audit Values'!$A$2:$AE$252,2,FALSE)),'Preliminary SO66'!F251,VLOOKUP($DC254,'Audit Values'!$A$2:$AE$252,6,FALSE))","v":1113.5999999999999},{"$f":"ROUND((Z254/6)*Weightings!$M$7,1)","v":73.3},{"$f":"IF(ISNA(VLOOKUP($DC254,'Audit Values'!$A$2:$AE$252,2,FALSE)),'Preliminary SO66'!H251,VLOOKUP($DC254,'Audit Values'!$A$2:$AE$252,9,FALSE))","v":1665},{"$f":"ROUND(AB254*Weightings!$M$8,1)","v":759.2},174.8,0,{"$f":"AE254*Weightings!$M$9","v":0},{"$f":"IF(ISNA(VLOOKUP($DC254,'Audit Values'!$A$2:$AE$252,2,FALSE)),'Preliminary SO66'!L251,VLOOKUP($DC254,'Audit Values'!$A$2:$AE$252,12,FALSE))","v":0},{"$f":"ROUND(AG254*Weightings!$M$10,1)","v":0},{"$f":"IF(ISNA(VLOOKUP($DC254,'Audit Values'!$A$2:$AE$252,2,FALSE)),'Preliminary SO66'!O251,VLOOKUP($DC254,'Audit Values'!$A$2:$AE$252,15,FALSE))","v":785},161.9,{"$f":"CG254/Weightings!$M$5","v":0},{"$f":"CH254/Weightings!$M$5","v":0},{"$f":"CL254/Weightings!$M$5","v":0},0,{"$f":"IF(ISNA(VLOOKUP($DC254,'Audit Values'!$A$2:$AE$252,2,FALSE)),'Preliminary SO66'!X251,VLOOKUP($DC254,'Audit Values'!$A$2:$AE$252,24,FALSE))","v":0},2577217,{"$f":"AP254/Weightings!$M$5","v":669.1},4079.8,4748.8999999999996,4748.8999999999996,0,{"$f":"IF(ISNA(VLOOKUP($DC254,'Audit Values'!$A$2:$AC$299,2,FALSE)),\"\",IF(AND(Weightings!H254>0,VLOOKUP($DC254,'Audit Values'!$A$2:$AC$299,29,FALSE)<Weightings!H254),Weightings!H254,VLOOKUP($DC254,'Audit Values'!$A$2:$AC$299,29,FALSE)))","v":10},{"$f":"IF(ISNA(VLOOKUP($DC254,'Audit Values'!$A$2:$AD$299,2,FALSE)),\"\",VLOOKUP($DC254,'Audit Values'!$A$2:$AD$299,30,FALSE))","v":"A"},{"$f":"IF(Weightings!G254=\"\",\"\",IF(Weightings!I254=\"Pending\",\"PX\",\"R\"))","v":""},{"$f":"AR254*Weightings!$M$5+AU254","v":15715390},{"$f":"AT254*Weightings!$M$5+AU254","v":18292763},{"$f":"IF(Weightings!G254>0,Weightings!G254,'Preliminary SO66'!AB251)","v":25787164},4427457,1359037,209631,19791039,18292763,null,{"$f":"Weightings!E254","v":0},{"$f":"Weightings!F254","v":0},0,18292763,{"$f":"MAX(ROUND(((AR254-AN254-AO254)*Weightings!$M$12)+'2016legmax.xls'!AP254,0),ROUND((('2016legmax.xls'!AR254-'2016legmax.xls'!AN254-'2016legmax.xls'!AO254)*Weightings!$M$12)+Weightings!B254,0))","v":20895519},0.3,6268656,6281908,6268656,0.3,0,false,0,0,0,false,0,0,0,96.4,200,3.93,{"$f":"IF(ROUND((Weightings!$P$5*CC254^Weightings!$P$6*Weightings!$P$8 ),2)<Weightings!$P$7,Weightings!$P$7,ROUND((Weightings!$P$5*CC254^Weightings!$P$6*Weightings!$P$8 ),2))","v":794.25},{"$f":"ROUND(CD254/Weightings!$M$5,4)","v":0.20619999999999999},161.9,0,0,0,0,{"$f":"AS254*Weightings!$M$5*CJ254","v":0},0,0.60499999999999998,13.8,174.8,0,0,{"$f":"IF(ISNA(VLOOKUP($DC254,'Audit Values'!$A$2:$AE$252,2,FALSE)),'Preliminary SO66'!T251,VLOOKUP($DC254,'Audit Values'!$A$2:$AE$252,20,FALSE))","v":0},{"$f":"IF(ISNA(VLOOKUP($DC254,'Audit Values'!$A$2:$AE$252,21,FALSE)),'Preliminary SO66'!U251,VLOOKUP($DC254,'Audit Values'!$A$2:$AE$252,21,FALSE))","v":0},0,0,null,null,null,null,null,null,null,"D0470"]
[471,"Cowley","Dexter ",146.80000000000001,0,146.80000000000001,145,0,145,141.5,{"$f":"IF(ISNA(VLOOKUP($DC255,'Audit Values'!$A$2:$AE$252,2,FALSE)),'Preliminary SO66'!B252,VLOOKUP($DC255,'Audit Values'!$A$2:$AE$252,31,FALSE))","v":141.5},145,{"$f":"IF(ISNA(VLOOKUP($DC255,'Audit Values'!$A$2:$AE$252,2,FALSE)),'Preliminary SO66'!Z252,VLOOKUP($DC255,'Audit Values'!$A$2:$AE$252,26,FALSE))","v":0},145,{"$f":"IF(ISNA(VLOOKUP($DC255,'Audit Values'!$A$2:$AE$252,2,FALSE)),'Preliminary SO66'!C252,IF(VLOOKUP($DC255,'Audit Values'!$A$2:$AE$252,28,FALSE)=\"\",VLOOKUP($DC255,'Audit Values'!$A$2:$AE$252,3,FALSE),VLOOKUP($DC255,'Audit Values'!$A$2:$AE$252,28,FALSE)))","v":0},141.5,141.5,141.5,145,0,129.80000000000001,129.80000000000001,0,{"$f":"IF(ISNA(VLOOKUP($DC255,'Audit Values'!$A$2:$AE$252,2,FALSE)),'Preliminary SO66'!D252,VLOOKUP($DC255,'Audit Values'!$A$2:$AE$252,4,FALSE))","v":0},{"$f":"ROUND((X255/6)*Weightings!$M$6,1)","v":0},{"$f":"IF(ISNA(VLOOKUP($DC255,'Audit Values'!$A$2:$AE$252,2,FALSE)),'Preliminary SO66'!F252,VLOOKUP($DC255,'Audit Values'!$A$2:$AE$252,6,FALSE))","v":0},{"$f":"ROUND((Z255/6)*Weightings!$M$7,1)","v":0},{"$f":"IF(ISNA(VLOOKUP($DC255,'Audit Values'!$A$2:$AE$252,2,FALSE)),'Preliminary SO66'!H252,VLOOKUP($DC255,'Audit Values'!$A$2:$AE$252,9,FALSE))","v":69},{"$f":"ROUND(AB255*Weightings!$M$8,1)","v":31.5},6.1,0,{"$f":"AE255*Weightings!$M$9","v":0},{"$f":"IF(ISNA(VLOOKUP($DC255,'Audit Values'!$A$2:$AE$252,2,FALSE)),'Preliminary SO66'!L252,VLOOKUP($DC255,'Audit Values'!$A$2:$AE$252,12,FALSE))","v":0},{"$f":"ROUND(AG255*Weightings!$M$10,1)","v":0},{"$f":"IF(ISNA(VLOOKUP($DC255,'Audit Values'!$A$2:$AE$252,2,FALSE)),'Preliminary SO66'!O252,VLOOKUP($DC255,'Audit Values'!$A$2:$AE$252,15,FALSE))","v":38},15.7,{"$f":"CG255/Weightings!$M$5","v":0},{"$f":"CH255/Weightings!$M$5","v":0},{"$f":"CL255/Weightings!$M$5","v":0},0,{"$f":"IF(ISNA(VLOOKUP($DC255,'Audit Values'!$A$2:$AE$252,2,FALSE)),'Preliminary SO66'!X252,VLOOKUP($DC255,'Audit Values'!$A$2:$AE$252,24,FALSE))","v":0},142547,{"$f":"AP255/Weightings!$M$5","v":37},328.1,365.1,365.1,0,{"$f":"IF(ISNA(VLOOKUP($DC255,'Audit Values'!$A$2:$AC$299,2,FALSE)),\"\",IF(AND(Weightings!H255>0,VLOOKUP($DC255,'Audit Values'!$A$2:$AC$299,29,FALSE)<Weightings!H255),Weightings!H255,VLOOKUP($DC255,'Audit Values'!$A$2:$AC$299,29,FALSE)))","v":11},{"$f":"IF(ISNA(VLOOKUP($DC255,'Audit Values'!$A$2:$AD$299,2,FALSE)),\"\",VLOOKUP($DC255,'Audit Values'!$A$2:$AD$299,30,FALSE))","v":"A"},{"$f":"IF(Weightings!G255=\"\",\"\",IF(Weightings!I255=\"Pending\",\"PX\",\"R\"))","v":""},{"$f":"AR255*Weightings!$M$5+AU255","v":1263841},{"$f":"AT255*Weightings!$M$5+AU255","v":1406365},{"$f":"IF(Weightings!G255>0,Weightings!G255,'Preliminary SO66'!AB252)","v":1813219},224910,97453,0,1490856,1406365,null,{"$f":"Weightings!E255","v":0},{"$f":"Weightings!F255","v":0},0,1406365,{"$f":"MAX(ROUND(((AR255-AN255-AO255)*Weightings!$M$12)+'2016legmax.xls'!AP255,0),ROUND((('2016legmax.xls'!AR255-'2016legmax.xls'!AN255-'2016legmax.xls'!AO255)*Weightings!$M$12)+Weightings!B255,0))","v":1655183},0.3,496555,425000,425000,0.25679999999999997,0,true,434.47500000000002,0.89504899999999998,129.80000000000001,false,0,0,0,0,213,0.18,{"$f":"IF(ROUND((Weightings!$P$5*CC255^Weightings!$P$6*Weightings!$P$8 ),2)<Weightings!$P$7,Weightings!$P$7,ROUND((Weightings!$P$5*CC255^Weightings!$P$6*Weightings!$P$8 ),2))","v":1595.42},{"$f":"ROUND(CD255/Weightings!$M$5,4)","v":0.41420000000000001},15.7,0,0,0,0,{"$f":"AS255*Weightings!$M$5*CJ255","v":0},0,0.47599999999999998,0.7,0,0,6.1,{"$f":"IF(ISNA(VLOOKUP($DC255,'Audit Values'!$A$2:$AE$252,2,FALSE)),'Preliminary SO66'!T252,VLOOKUP($DC255,'Audit Values'!$A$2:$AE$252,20,FALSE))","v":0},{"$f":"IF(ISNA(VLOOKUP($DC255,'Audit Values'!$A$2:$AE$252,21,FALSE)),'Preliminary SO66'!U252,VLOOKUP($DC255,'Audit Values'!$A$2:$AE$252,21,FALSE))","v":0},0,0,null,null,null,null,null,null,null,"D0471"]
[473,"Dickinson","Chapman ",1020,30,1050,1024.5,23,1047.5,1033.2,{"$f":"IF(ISNA(VLOOKUP($DC256,'Audit Values'!$A$2:$AE$252,2,FALSE)),'Preliminary SO66'!B253,VLOOKUP($DC256,'Audit Values'!$A$2:$AE$252,31,FALSE))","v":1032.2},1047.5,{"$f":"IF(ISNA(VLOOKUP($DC256,'Audit Values'!$A$2:$AE$252,2,FALSE)),'Preliminary SO66'!Z253,VLOOKUP($DC256,'Audit Values'!$A$2:$AE$252,26,FALSE))","v":0},1047.5,{"$f":"IF(ISNA(VLOOKUP($DC256,'Audit Values'!$A$2:$AE$252,2,FALSE)),'Preliminary SO66'!C253,IF(VLOOKUP($DC256,'Audit Values'!$A$2:$AE$252,28,FALSE)=\"\",VLOOKUP($DC256,'Audit Values'!$A$2:$AE$252,3,FALSE),VLOOKUP($DC256,'Audit Values'!$A$2:$AE$252,28,FALSE)))","v":0},1032.2,1033.2,1033.2,1047.5,1,241.2,241.2,0,{"$f":"IF(ISNA(VLOOKUP($DC256,'Audit Values'!$A$2:$AE$252,2,FALSE)),'Preliminary SO66'!D253,VLOOKUP($DC256,'Audit Values'!$A$2:$AE$252,4,FALSE))","v":280},{"$f":"ROUND((X256/6)*Weightings!$M$6,1)","v":23.3},{"$f":"IF(ISNA(VLOOKUP($DC256,'Audit Values'!$A$2:$AE$252,2,FALSE)),'Preliminary SO66'!F253,VLOOKUP($DC256,'Audit Values'!$A$2:$AE$252,6,FALSE))","v":4.8},{"$f":"ROUND((Z256/6)*Weightings!$M$7,1)","v":0.3},{"$f":"IF(ISNA(VLOOKUP($DC256,'Audit Values'!$A$2:$AE$252,2,FALSE)),'Preliminary SO66'!H253,VLOOKUP($DC256,'Audit Values'!$A$2:$AE$252,9,FALSE))","v":391},{"$f":"ROUND(AB256*Weightings!$M$8,1)","v":178.3},6.3,0,{"$f":"AE256*Weightings!$M$9","v":0},{"$f":"IF(ISNA(VLOOKUP($DC256,'Audit Values'!$A$2:$AE$252,2,FALSE)),'Preliminary SO66'!L253,VLOOKUP($DC256,'Audit Values'!$A$2:$AE$252,12,FALSE))","v":0},{"$f":"ROUND(AG256*Weightings!$M$10,1)","v":0},{"$f":"IF(ISNA(VLOOKUP($DC256,'Audit Values'!$A$2:$AE$252,2,FALSE)),'Preliminary SO66'!O253,VLOOKUP($DC256,'Audit Values'!$A$2:$AE$252,15,FALSE))","v":455},133.4,{"$f":"CG256/Weightings!$M$5","v":0},{"$f":"CH256/Weightings!$M$5","v":0},{"$f":"CL256/Weightings!$M$5","v":0},1.1000000000000001,{"$f":"IF(ISNA(VLOOKUP($DC256,'Audit Values'!$A$2:$AE$252,2,FALSE)),'Preliminary SO66'!X253,VLOOKUP($DC256,'Audit Values'!$A$2:$AE$252,24,FALSE))","v":0},910988,{"$f":"AP256/Weightings!$M$5","v":236.5},1631.4,1867.9,1867.9,0,{"$f":"IF(ISNA(VLOOKUP($DC256,'Audit Values'!$A$2:$AC$299,2,FALSE)),\"\",IF(AND(Weightings!H256>0,VLOOKUP($DC256,'Audit Values'!$A$2:$AC$299,29,FALSE)<Weightings!H256),Weightings!H256,VLOOKUP($DC256,'Audit Values'!$A$2:$AC$299,29,FALSE)))","v":15},{"$f":"IF(ISNA(VLOOKUP($DC256,'Audit Values'!$A$2:$AD$299,2,FALSE)),\"\",VLOOKUP($DC256,'Audit Values'!$A$2:$AD$299,30,FALSE))","v":"A"},{"$f":"IF(Weightings!G256=\"\",\"\",IF(Weightings!I256=\"Pending\",\"PX\",\"R\"))","v":""},{"$f":"AR256*Weightings!$M$5+AU256","v":6284153},{"$f":"AT256*Weightings!$M$5+AU256","v":7195151},{"$f":"IF(Weightings!G256>0,Weightings!G256,'Preliminary SO66'!AB253)","v":9152633},862582,594876,25831,7669344,7195151,null,{"$f":"Weightings!E256","v":0},{"$f":"Weightings!F256","v":0},0,7195151,{"$f":"MAX(ROUND(((AR256-AN256-AO256)*Weightings!$M$12)+'2016legmax.xls'!AP256,0),ROUND((('2016legmax.xls'!AR256-'2016legmax.xls'!AN256-'2016legmax.xls'!AO256)*Weightings!$M$12)+Weightings!B256,0))","v":8231035},0.3,2469311,2475710,2469311,0.3,0,false,0,0,0,true,925.03129999999999,0.23022400000000001,241.2,0,550,0.83,{"$f":"IF(ROUND((Weightings!$P$5*CC256^Weightings!$P$6*Weightings!$P$8 ),2)<Weightings!$P$7,Weightings!$P$7,ROUND((Weightings!$P$5*CC256^Weightings!$P$6*Weightings!$P$8 ),2))","v":1129.06},{"$f":"ROUND(CD256/Weightings!$M$5,4)","v":0.29310000000000003},133.4,0,0,0,0,{"$f":"AS256*Weightings!$M$5*CJ256","v":0},0,0.373,1.9,0,0,6.3,{"$f":"IF(ISNA(VLOOKUP($DC256,'Audit Values'!$A$2:$AE$252,2,FALSE)),'Preliminary SO66'!T253,VLOOKUP($DC256,'Audit Values'!$A$2:$AE$252,20,FALSE))","v":1},{"$f":"IF(ISNA(VLOOKUP($DC256,'Audit Values'!$A$2:$AE$252,21,FALSE)),'Preliminary SO66'!U253,VLOOKUP($DC256,'Audit Values'!$A$2:$AE$252,21,FALSE))","v":0},0,1,null,null,null,null,null,null,null,"D0473"]
[474,"Kiowa","Haviland ",105,0,105,101.3,0,101.3,96.5,{"$f":"IF(ISNA(VLOOKUP($DC257,'Audit Values'!$A$2:$AE$252,2,FALSE)),'Preliminary SO66'!B254,VLOOKUP($DC257,'Audit Values'!$A$2:$AE$252,31,FALSE))","v":96.5},101.3,{"$f":"IF(ISNA(VLOOKUP($DC257,'Audit Values'!$A$2:$AE$252,2,FALSE)),'Preliminary SO66'!Z254,VLOOKUP($DC257,'Audit Values'!$A$2:$AE$252,26,FALSE))","v":0},101.3,{"$f":"IF(ISNA(VLOOKUP($DC257,'Audit Values'!$A$2:$AE$252,2,FALSE)),'Preliminary SO66'!C254,IF(VLOOKUP($DC257,'Audit Values'!$A$2:$AE$252,28,FALSE)=\"\",VLOOKUP($DC257,'Audit Values'!$A$2:$AE$252,3,FALSE),VLOOKUP($DC257,'Audit Values'!$A$2:$AE$252,28,FALSE)))","v":0},96.5,96.5,96.5,101.3,0,102.4,102.4,0,{"$f":"IF(ISNA(VLOOKUP($DC257,'Audit Values'!$A$2:$AE$252,2,FALSE)),'Preliminary SO66'!D254,VLOOKUP($DC257,'Audit Values'!$A$2:$AE$252,4,FALSE))","v":16.899999999999999},{"$f":"ROUND((X257/6)*Weightings!$M$6,1)","v":1.4},{"$f":"IF(ISNA(VLOOKUP($DC257,'Audit Values'!$A$2:$AE$252,2,FALSE)),'Preliminary SO66'!F254,VLOOKUP($DC257,'Audit Values'!$A$2:$AE$252,6,FALSE))","v":0},{"$f":"ROUND((Z257/6)*Weightings!$M$7,1)","v":0},{"$f":"IF(ISNA(VLOOKUP($DC257,'Audit Values'!$A$2:$AE$252,2,FALSE)),'Preliminary SO66'!H254,VLOOKUP($DC257,'Audit Values'!$A$2:$AE$252,9,FALSE))","v":21},{"$f":"ROUND(AB257*Weightings!$M$8,1)","v":9.6},0,0,{"$f":"AE257*Weightings!$M$9","v":0},{"$f":"IF(ISNA(VLOOKUP($DC257,'Audit Values'!$A$2:$AE$252,2,FALSE)),'Preliminary SO66'!L254,VLOOKUP($DC257,'Audit Values'!$A$2:$AE$252,12,FALSE))","v":0},{"$f":"ROUND(AG257*Weightings!$M$10,1)","v":0},{"$f":"IF(ISNA(VLOOKUP($DC257,'Audit Values'!$A$2:$AE$252,2,FALSE)),'Preliminary SO66'!O254,VLOOKUP($DC257,'Audit Values'!$A$2:$AE$252,15,FALSE))","v":49},19.600000000000001,{"$f":"CG257/Weightings!$M$5","v":0},{"$f":"CH257/Weightings!$M$5","v":0},{"$f":"CL257/Weightings!$M$5","v":0},0,{"$f":"IF(ISNA(VLOOKUP($DC257,'Audit Values'!$A$2:$AE$252,2,FALSE)),'Preliminary SO66'!X254,VLOOKUP($DC257,'Audit Values'!$A$2:$AE$252,24,FALSE))","v":0},127857,{"$f":"AP257/Weightings!$M$5","v":33.200000000000003},234.3,267.5,267.5,0,{"$f":"IF(ISNA(VLOOKUP($DC257,'Audit Values'!$A$2:$AC$299,2,FALSE)),\"\",IF(AND(Weightings!H257>0,VLOOKUP($DC257,'Audit Values'!$A$2:$AC$299,29,FALSE)<Weightings!H257),Weightings!H257,VLOOKUP($DC257,'Audit Values'!$A$2:$AC$299,29,FALSE)))","v":4},{"$f":"IF(ISNA(VLOOKUP($DC257,'Audit Values'!$A$2:$AD$299,2,FALSE)),\"\",VLOOKUP($DC257,'Audit Values'!$A$2:$AD$299,30,FALSE))","v":"A"},{"$f":"IF(Weightings!G257=\"\",\"\",IF(Weightings!I257=\"Pending\",\"PX\",\"R\"))","v":""},{"$f":"AR257*Weightings!$M$5+AU257","v":902524},{"$f":"AT257*Weightings!$M$5+AU257","v":1030410},{"$f":"IF(Weightings!G257>0,Weightings!G257,'Preliminary SO66'!AB254)","v":1202338},0,54384,0,1147954,1030410,null,{"$f":"Weightings!E257","v":0},{"$f":"Weightings!F257","v":0},0,1030410,{"$f":"MAX(ROUND(((AR257-AN257-AO257)*Weightings!$M$12)+'2016legmax.xls'!AP257,0),ROUND((('2016legmax.xls'!AR257-'2016legmax.xls'!AN257-'2016legmax.xls'!AO257)*Weightings!$M$12)+Weightings!B257,0))","v":1215752},0.3,364726,379947,364726,0.3,0,true,12.552,1.010885,102.4,false,0,0,0,0,234.9,0.21,{"$f":"IF(ROUND((Weightings!$P$5*CC257^Weightings!$P$6*Weightings!$P$8 ),2)<Weightings!$P$7,Weightings!$P$7,ROUND((Weightings!$P$5*CC257^Weightings!$P$6*Weightings!$P$8 ),2))","v":1540.75},{"$f":"ROUND(CD257/Weightings!$M$5,4)","v":0.4},19.600000000000001,0,0,0,0,{"$f":"AS257*Weightings!$M$5*CJ257","v":0},0,0.20699999999999999,0.4,0,0,0,{"$f":"IF(ISNA(VLOOKUP($DC257,'Audit Values'!$A$2:$AE$252,2,FALSE)),'Preliminary SO66'!T254,VLOOKUP($DC257,'Audit Values'!$A$2:$AE$252,20,FALSE))","v":0},{"$f":"IF(ISNA(VLOOKUP($DC257,'Audit Values'!$A$2:$AE$252,21,FALSE)),'Preliminary SO66'!U254,VLOOKUP($DC257,'Audit Values'!$A$2:$AE$252,21,FALSE))","v":0},0,0,null,null,null,null,null,null,null,"D0474"]
[475,"Geary","Geary County Schools ",7570.6,502,8072.6,7706.3,384.4,{"$f":"G258+H258","v":8090.7},7295.6,{"$f":"IF(ISNA(VLOOKUP($DC258,'Audit Values'!$A$2:$AE$252,2,FALSE)),'Preliminary SO66'!B255,VLOOKUP($DC258,'Audit Values'!$A$2:$AE$252,31,FALSE))","v":7268.5},8090.7,{"$f":"IF(ISNA(VLOOKUP($DC258,'Audit Values'!$A$2:$AE$252,2,FALSE)),'Preliminary SO66'!Z255,VLOOKUP($DC258,'Audit Values'!$A$2:$AE$252,26,FALSE))","v":0},8090.7,{"$f":"IF(ISNA(VLOOKUP($DC258,'Audit Values'!$A$2:$AE$252,2,FALSE)),'Preliminary SO66'!C255,IF(VLOOKUP($DC258,'Audit Values'!$A$2:$AE$252,28,FALSE)=\"\",VLOOKUP($DC258,'Audit Values'!$A$2:$AE$252,3,FALSE),VLOOKUP($DC258,'Audit Values'!$A$2:$AE$252,28,FALSE)))","v":24},7292.5,7319.6,7319.6,8114.7,27.1,284.3,0,284.3,{"$f":"IF(ISNA(VLOOKUP($DC258,'Audit Values'!$A$2:$AE$252,2,FALSE)),'Preliminary SO66'!D255,VLOOKUP($DC258,'Audit Values'!$A$2:$AE$252,4,FALSE))","v":848.9},{"$f":"ROUND((X258/6)*Weightings!$M$6,1)","v":70.7},{"$f":"IF(ISNA(VLOOKUP($DC258,'Audit Values'!$A$2:$AE$252,2,FALSE)),'Preliminary SO66'!F255,VLOOKUP($DC258,'Audit Values'!$A$2:$AE$252,6,FALSE))","v":1798.8},{"$f":"ROUND((Z258/6)*Weightings!$M$7,1)","v":118.4},{"$f":"IF(ISNA(VLOOKUP($DC258,'Audit Values'!$A$2:$AE$252,2,FALSE)),'Preliminary SO66'!H255,VLOOKUP($DC258,'Audit Values'!$A$2:$AE$252,9,FALSE))","v":3163},{"$f":"ROUND(AB258*Weightings!$M$8,1)","v":1442.3},88.6,0,{"$f":"AE258*Weightings!$M$9","v":0},{"$f":"IF(ISNA(VLOOKUP($DC258,'Audit Values'!$A$2:$AE$252,2,FALSE)),'Preliminary SO66'!L255,VLOOKUP($DC258,'Audit Values'!$A$2:$AE$252,12,FALSE))","v":1023},{"$f":"ROUND(AG258*Weightings!$M$10,1)","v":255.8},{"$f":"IF(ISNA(VLOOKUP($DC258,'Audit Values'!$A$2:$AE$252,2,FALSE)),'Preliminary SO66'!O255,VLOOKUP($DC258,'Audit Values'!$A$2:$AE$252,15,FALSE))","v":1758},321.2,{"$f":"CG258/Weightings!$M$5","v":0},{"$f":"CH258/Weightings!$M$5","v":0},{"$f":"CL258/Weightings!$M$5","v":0},28.5,{"$f":"IF(ISNA(VLOOKUP($DC258,'Audit Values'!$A$2:$AE$252,2,FALSE)),'Preliminary SO66'!X255,VLOOKUP($DC258,'Audit Values'!$A$2:$AE$252,24,FALSE))","v":1},7579038,{"$f":"AP258/Weightings!$M$5","v":1967.6},10725.5,12693.1,12693.1,0,{"$f":"IF(ISNA(VLOOKUP($DC258,'Audit Values'!$A$2:$AC$299,2,FALSE)),\"\",IF(AND(Weightings!H258>0,VLOOKUP($DC258,'Audit Values'!$A$2:$AC$299,29,FALSE)<Weightings!H258),Weightings!H258,VLOOKUP($DC258,'Audit Values'!$A$2:$AC$299,29,FALSE)))","v":8},{"$f":"IF(ISNA(VLOOKUP($DC258,'Audit Values'!$A$2:$AD$299,2,FALSE)),\"\",VLOOKUP($DC258,'Audit Values'!$A$2:$AD$299,30,FALSE))","v":"A"},{"$f":"IF(Weightings!G258=\"\",\"\",IF(Weightings!I258=\"Pending\",\"PX\",\"R\"))","v":""},{"$f":"AR258*Weightings!$M$5+AU258","v":41314626},{"$f":"AT258*Weightings!$M$5+AU258","v":48893821},{"$f":"IF(Weightings!G258>0,Weightings!G258,'Preliminary SO66'!AB255)","v":72449705},13350881,4466593,418310,54213921,48893821,null,{"$f":"Weightings!E258","v":0},{"$f":"Weightings!F258","v":0},0,48893821,{"$f":"MAX(ROUND(((AR258-AN258-AO258)*Weightings!$M$12)+'2016legmax.xls'!AP258,0),ROUND((('2016legmax.xls'!AR258-'2016legmax.xls'!AN258-'2016legmax.xls'!AO258)*Weightings!$M$12)+Weightings!B258,0))","v":55604078},0.3,16681223,17546515,16681223,0.3,0,false,0,0,0,false,0,0,0,284.3,262,6.71,{"$f":"IF(ROUND((Weightings!$P$5*CC258^Weightings!$P$6*Weightings!$P$8 ),2)<Weightings!$P$7,Weightings!$P$7,ROUND((Weightings!$P$5*CC258^Weightings!$P$6*Weightings!$P$8 ),2))","v":703.73},{"$f":"ROUND(CD258/Weightings!$M$5,4)","v":0.1827},321.2,0,0,0,0,{"$f":"AS258*Weightings!$M$5*CJ258","v":0},0,0.39,31,0,0,88.6,{"$f":"IF(ISNA(VLOOKUP($DC258,'Audit Values'!$A$2:$AE$252,2,FALSE)),'Preliminary SO66'!T255,VLOOKUP($DC258,'Audit Values'!$A$2:$AE$252,20,FALSE))","v":2},{"$f":"IF(ISNA(VLOOKUP($DC258,'Audit Values'!$A$2:$AE$252,21,FALSE)),'Preliminary SO66'!U255,VLOOKUP($DC258,'Audit Values'!$A$2:$AE$252,21,FALSE))","v":2.1},23,27.1,null,null,null,null,null,null,null,"D0475"]
[476,"Gray","Copeland ",106.5,0,106.5,103,0,103,97.5,{"$f":"IF(ISNA(VLOOKUP($DC259,'Audit Values'!$A$2:$AE$252,2,FALSE)),'Preliminary SO66'!B256,VLOOKUP($DC259,'Audit Values'!$A$2:$AE$252,31,FALSE))","v":88.5},103,{"$f":"IF(ISNA(VLOOKUP($DC259,'Audit Values'!$A$2:$AE$252,2,FALSE)),'Preliminary SO66'!Z256,VLOOKUP($DC259,'Audit Values'!$A$2:$AE$252,26,FALSE))","v":0},103,{"$f":"IF(ISNA(VLOOKUP($DC259,'Audit Values'!$A$2:$AE$252,2,FALSE)),'Preliminary SO66'!C256,IF(VLOOKUP($DC259,'Audit Values'!$A$2:$AE$252,28,FALSE)=\"\",VLOOKUP($DC259,'Audit Values'!$A$2:$AE$252,3,FALSE),VLOOKUP($DC259,'Audit Values'!$A$2:$AE$252,28,FALSE)))","v":2},90.5,99.5,99.5,105,9,105.1,105.1,0,{"$f":"IF(ISNA(VLOOKUP($DC259,'Audit Values'!$A$2:$AE$252,2,FALSE)),'Preliminary SO66'!D256,VLOOKUP($DC259,'Audit Values'!$A$2:$AE$252,4,FALSE))","v":30.8},{"$f":"ROUND((X259/6)*Weightings!$M$6,1)","v":2.6},{"$f":"IF(ISNA(VLOOKUP($DC259,'Audit Values'!$A$2:$AE$252,2,FALSE)),'Preliminary SO66'!F256,VLOOKUP($DC259,'Audit Values'!$A$2:$AE$252,6,FALSE))","v":296},{"$f":"ROUND((Z259/6)*Weightings!$M$7,1)","v":19.5},{"$f":"IF(ISNA(VLOOKUP($DC259,'Audit Values'!$A$2:$AE$252,2,FALSE)),'Preliminary SO66'!H256,VLOOKUP($DC259,'Audit Values'!$A$2:$AE$252,9,FALSE))","v":35},{"$f":"ROUND(AB259*Weightings!$M$8,1)","v":16},0,0,{"$f":"AE259*Weightings!$M$9","v":0},{"$f":"IF(ISNA(VLOOKUP($DC259,'Audit Values'!$A$2:$AE$252,2,FALSE)),'Preliminary SO66'!L256,VLOOKUP($DC259,'Audit Values'!$A$2:$AE$252,12,FALSE))","v":0},{"$f":"ROUND(AG259*Weightings!$M$10,1)","v":0},{"$f":"IF(ISNA(VLOOKUP($DC259,'Audit Values'!$A$2:$AE$252,2,FALSE)),'Preliminary SO66'!O256,VLOOKUP($DC259,'Audit Values'!$A$2:$AE$252,15,FALSE))","v":46},18,{"$f":"CG259/Weightings!$M$5","v":0},{"$f":"CH259/Weightings!$M$5","v":0},{"$f":"CL259/Weightings!$M$5","v":0},9.5,{"$f":"IF(ISNA(VLOOKUP($DC259,'Audit Values'!$A$2:$AE$252,2,FALSE)),'Preliminary SO66'!X256,VLOOKUP($DC259,'Audit Values'!$A$2:$AE$252,24,FALSE))","v":0},79097,{"$f":"AP259/Weightings!$M$5","v":20.5},275.7,296.2,296.2,0,{"$f":"IF(ISNA(VLOOKUP($DC259,'Audit Values'!$A$2:$AC$299,2,FALSE)),\"\",IF(AND(Weightings!H259>0,VLOOKUP($DC259,'Audit Values'!$A$2:$AC$299,29,FALSE)<Weightings!H259),Weightings!H259,VLOOKUP($DC259,'Audit Values'!$A$2:$AC$299,29,FALSE)))","v":11},{"$f":"IF(ISNA(VLOOKUP($DC259,'Audit Values'!$A$2:$AD$299,2,FALSE)),\"\",VLOOKUP($DC259,'Audit Values'!$A$2:$AD$299,30,FALSE))","v":"A"},{"$f":"IF(Weightings!G259=\"\",\"\",IF(Weightings!I259=\"Pending\",\"PX\",\"R\"))","v":""},{"$f":"AR259*Weightings!$M$5+AU259","v":1061996},{"$f":"AT259*Weightings!$M$5+AU259","v":1140962},{"$f":"IF(Weightings!G259>0,Weightings!G259,'Preliminary SO66'!AB256)","v":1360979},0,76677,0,1284302,1140962,null,{"$f":"Weightings!E259","v":0},{"$f":"Weightings!F259","v":0},0,1140962,{"$f":"MAX(ROUND(((AR259-AN259-AO259)*Weightings!$M$12)+'2016legmax.xls'!AP259,0),ROUND((('2016legmax.xls'!AR259-'2016legmax.xls'!AN259-'2016legmax.xls'!AO259)*Weightings!$M$12)+Weightings!B259,0))","v":1297388},0.3,389216,418312,389216,{"$f":"BP259/BL259","v":0.3},0,true,48.274999999999999,1.0010779999999999,105.1,false,0,0,0,0,200,0.23,{"$f":"IF(ROUND((Weightings!$P$5*CC259^Weightings!$P$6*Weightings!$P$8 ),2)<Weightings!$P$7,Weightings!$P$7,ROUND((Weightings!$P$5*CC259^Weightings!$P$6*Weightings!$P$8 ),2))","v":1509.37},{"$f":"ROUND(CD259/Weightings!$M$5,4)","v":0.39179999999999998},18,0,0,0,0,{"$f":"AS259*Weightings!$M$5*CJ259","v":0},0,0.33300000000000002,0.5,0,0,0,{"$f":"IF(ISNA(VLOOKUP($DC259,'Audit Values'!$A$2:$AE$252,2,FALSE)),'Preliminary SO66'!T256,VLOOKUP($DC259,'Audit Values'!$A$2:$AE$252,20,FALSE))","v":4},{"$f":"IF(ISNA(VLOOKUP($DC259,'Audit Values'!$A$2:$AE$252,21,FALSE)),'Preliminary SO66'!U256,VLOOKUP($DC259,'Audit Values'!$A$2:$AE$252,21,FALSE))","v":0},5,9,null,null,null,null,null,null,null,"D0476"]
[477,"Gray","Ingalls ",221,0,221,224.5,0,224.5,230,{"$f":"IF(ISNA(VLOOKUP($DC260,'Audit Values'!$A$2:$AE$269,2,FALSE)),'Preliminary SO66'!B257,VLOOKUP($DC260,'Audit Values'!$A$2:$AE$269,31,FALSE))","v":230},230,{"$f":"IF(ISNA(VLOOKUP($DC260,'Audit Values'!$A$2:$AE$252,2,FALSE)),'Preliminary SO66'!Z257,VLOOKUP($DC260,'Audit Values'!$A$2:$AE$252,26,FALSE))","v":0},230,{"$f":"IF(ISNA(VLOOKUP($DC260,'Audit Values'!$A$2:$AE$252,2,FALSE)),'Preliminary SO66'!C257,IF(VLOOKUP($DC260,'Audit Values'!$A$2:$AE$252,28,FALSE)=\"\",VLOOKUP($DC260,'Audit Values'!$A$2:$AE$252,3,FALSE),VLOOKUP($DC260,'Audit Values'!$A$2:$AE$252,28,FALSE)))","v":2},232,232,232,232,0,154.1,154.1,0,{"$f":"IF(ISNA(VLOOKUP($DC260,'Audit Values'!$A$2:$AE$252,2,FALSE)),'Preliminary SO66'!D257,VLOOKUP($DC260,'Audit Values'!$A$2:$AE$252,4,FALSE))","v":0},{"$f":"ROUND((X260/6)*Weightings!$M$6,1)","v":0},{"$f":"IF(ISNA(VLOOKUP($DC260,'Audit Values'!$A$2:$AE$252,2,FALSE)),'Preliminary SO66'!F257,VLOOKUP($DC260,'Audit Values'!$A$2:$AE$252,6,FALSE))","v":136.19999999999999},{"$f":"ROUND((Z260/6)*Weightings!$M$7,1)","v":9},{"$f":"IF(ISNA(VLOOKUP($DC260,'Audit Values'!$A$2:$AE$252,2,FALSE)),'Preliminary SO66'!H257,VLOOKUP($DC260,'Audit Values'!$A$2:$AE$252,9,FALSE))","v":88},{"$f":"ROUND(AB260*Weightings!$M$8,1)","v":40.1},1.8,0,{"$f":"AE260*Weightings!$M$9","v":0},{"$f":"IF(ISNA(VLOOKUP($DC260,'Audit Values'!$A$2:$AE$252,2,FALSE)),'Preliminary SO66'!L257,VLOOKUP($DC260,'Audit Values'!$A$2:$AE$252,12,FALSE))","v":0},{"$f":"ROUND(AG260*Weightings!$M$10,1)","v":0},{"$f":"IF(ISNA(VLOOKUP($DC260,'Audit Values'!$A$2:$AE$252,2,FALSE)),'Preliminary SO66'!O257,VLOOKUP($DC260,'Audit Values'!$A$2:$AE$252,15,FALSE))","v":65},25.2,{"$f":"CG260/Weightings!$M$5","v":0},{"$f":"CH260/Weightings!$M$5","v":0},{"$f":"CL260/Weightings!$M$5","v":0},0,{"$f":"IF(ISNA(VLOOKUP($DC260,'Audit Values'!$A$2:$AE$252,2,FALSE)),'Preliminary SO66'!X257,VLOOKUP($DC260,'Audit Values'!$A$2:$AE$252,24,FALSE))","v":0},159375,{"$f":"AP260/Weightings!$M$5","v":41.4},462.2,503.6,503.6,0,{"$f":"IF(ISNA(VLOOKUP($DC260,'Audit Values'!$A$2:$AC$299,2,FALSE)),\"\",IF(AND(Weightings!H260>0,VLOOKUP($DC260,'Audit Values'!$A$2:$AC$299,29,FALSE)<Weightings!H260),Weightings!H260,VLOOKUP($DC260,'Audit Values'!$A$2:$AC$299,29,FALSE)))","v":17},{"$f":"IF(ISNA(VLOOKUP($DC260,'Audit Values'!$A$2:$AD$299,2,FALSE)),\"\",VLOOKUP($DC260,'Audit Values'!$A$2:$AD$299,30,FALSE))","v":"A"},{"$f":"IF(Weightings!G260=\"\",\"\",IF(Weightings!I260=\"Pending\",\"PX\",\"R\"))","v":""},{"$f":"AR260*Weightings!$M$5+AU260","v":1780394},{"$f":"AT260*Weightings!$M$5+AU260","v":1939867},{"$f":"IF(Weightings!G260>0,Weightings!G260,'Preliminary SO66'!AB257)","v":2133092},16113,129869,0,1987110,1939867,null,{"$f":"Weightings!E260","v":0},{"$f":"Weightings!F260","v":0},0,1939867,{"$f":"MAX(ROUND(((AR260-AN260-AO260)*Weightings!$M$12)+'2016legmax.xls'!AP260,0),ROUND((('2016legmax.xls'!AR260-'2016legmax.xls'!AN260-'2016legmax.xls'!AO260)*Weightings!$M$12)+Weightings!B260,0))","v":2283237},0.3,684971,674060,674060,0.29520000000000002,0,true,1274.46,0.66443600000000003,154.1,false,0,0,0,0,267,0.24,{"$f":"IF(ROUND((Weightings!$P$5*CC260^Weightings!$P$6*Weightings!$P$8 ),2)<Weightings!$P$7,Weightings!$P$7,ROUND((Weightings!$P$5*CC260^Weightings!$P$6*Weightings!$P$8 ),2))","v":1494.91},{"$f":"ROUND(CD260/Weightings!$M$5,4)","v":0.3881},25.2,0,0,0,0,{"$f":"AS260*Weightings!$M$5*CJ260","v":0},0,0.379,0.9,0,0,1.8,{"$f":"IF(ISNA(VLOOKUP($DC260,'Audit Values'!$A$2:$AE$252,2,FALSE)),'Preliminary SO66'!T257,VLOOKUP($DC260,'Audit Values'!$A$2:$AE$252,20,FALSE))","v":0},{"$f":"IF(ISNA(VLOOKUP($DC260,'Audit Values'!$A$2:$AE$252,21,FALSE)),'Preliminary SO66'!U257,VLOOKUP($DC260,'Audit Values'!$A$2:$AE$252,21,FALSE))","v":0},0,0,null,null,null,null,null,null,null,"D0477"]
[479,"Anderson","Crest ",204.5,0,204.5,195,0,195,{"$f":"K261+T261","v":190},{"$f":"IF(ISNA(VLOOKUP($DC261,'Audit Values'!$A$2:$AE$252,2,FALSE)),'Preliminary SO66'!B258,VLOOKUP($DC261,'Audit Values'!$A$2:$AE$252,31,FALSE))","v":190},{"$f":"MAX(K261, I261,AVERAGE(F261, I261, K261))","v":196.5},{"$f":"IF(ISNA(VLOOKUP($DC261,'Audit Values'!$A$2:$AE$252,2,FALSE)),'Preliminary SO66'!Z258,VLOOKUP($DC261,'Audit Values'!$A$2:$AE$252,26,FALSE))","v":0},{"$f":"L261+M261","v":196.5},{"$f":"IF(ISNA(VLOOKUP($DC261,'Audit Values'!$A$2:$AE$252,2,FALSE)),'Preliminary SO66'!C258,IF(VLOOKUP($DC261,'Audit Values'!$A$2:$AE$252,28,FALSE)=\"\",VLOOKUP($DC261,'Audit Values'!$A$2:$AE$252,3,FALSE),VLOOKUP($DC261,'Audit Values'!$A$2:$AE$252,28,FALSE)))","v":3.5},{"$f":"K261+O261","v":193.5},{"$f":"J261+O261","v":193.5},{"$f":"J261+O261+M261","v":193.5},{"$f":"L261+M261+O261","v":200},0,{"$f":"IF(L261>0,MAX(BR261,BV261,BZ261,CA261),0)","v":149.9},{"$f":"MAX(BR261,BV261,BZ261)","v":149.9},0,{"$f":"IF(ISNA(VLOOKUP($DC261,'Audit Values'!$A$2:$AE$252,2,FALSE)),'Preliminary SO66'!D258,VLOOKUP($DC261,'Audit Values'!$A$2:$AE$252,4,FALSE))","v":80.400000000000006},{"$f":"ROUND((X261/6)*Weightings!$M$6,1)","v":6.7},{"$f":"IF(ISNA(VLOOKUP($DC261,'Audit Values'!$A$2:$AE$252,2,FALSE)),'Preliminary SO66'!F258,VLOOKUP($DC261,'Audit Values'!$A$2:$AE$252,6,FALSE))","v":0},{"$f":"ROUND((Z261/6)*Weightings!$M$7,1)","v":0},{"$f":"IF(ISNA(VLOOKUP($DC261,'Audit Values'!$A$2:$AE$252,2,FALSE)),'Preliminary SO66'!H258,VLOOKUP($DC261,'Audit Values'!$A$2:$AE$252,9,FALSE))","v":84},{"$f":"ROUND(AB261*Weightings!$M$8,1)","v":38.299999999999997},4.0999999999999996,0,{"$f":"AE261*Weightings!$M$9","v":0},{"$f":"IF(ISNA(VLOOKUP($DC261,'Audit Values'!$A$2:$AE$252,2,FALSE)),'Preliminary SO66'!L258,VLOOKUP($DC261,'Audit Values'!$A$2:$AE$252,12,FALSE))","v":0},{"$f":"ROUND(AG261*Weightings!$M$10,1)","v":0},{"$f":"IF(ISNA(VLOOKUP($DC261,'Audit Values'!$A$2:$AE$252,2,FALSE)),'Preliminary SO66'!O258,VLOOKUP($DC261,'Audit Values'!$A$2:$AE$252,15,FALSE))","v":79},{"$f":"CF261","v":26.6},{"$f":"CG261/Weightings!$M$5","v":0},{"$f":"CH261/Weightings!$M$5","v":0},{"$f":"CL261/Weightings!$M$5","v":0},0,{"$f":"IF(ISNA(VLOOKUP($DC261,'Audit Values'!$A$2:$AE$252,2,FALSE)),'Preliminary SO66'!X258,VLOOKUP($DC261,'Audit Values'!$A$2:$AE$252,24,FALSE))","v":0},262508,{"$f":"AP261/Weightings!$M$5","v":68.099999999999994},{"$f":"SUM(S261+ U261+ Y261+ AA261+ AC261+ AH261+ AJ261+ AK261+ AL261+ AD261+AF261+AM261+AN261+AO261)","v":425.6},{"$f":"SUM(S261+U261+Y261+AA261+AC261+AH261+AJ261+AK261+AL261+AD261+AF261+AQ261+AN261+AO261)","v":493.7},{"$f":"SUM(S261+U261+Y261+AA261+AC261+AH261+AJ261+AK261+AL261+AQ261+AD261+AF261+AM261+AN261+AO261)","v":493.7},0,{"$f":"IF(ISNA(VLOOKUP($DC261,'Audit Values'!$A$2:$AC$299,2,FALSE)),\"\",IF(AND(Weightings!H261>0,VLOOKUP($DC261,'Audit Values'!$A$2:$AC$299,29,FALSE)<Weightings!H261),Weightings!H261,VLOOKUP($DC261,'Audit Values'!$A$2:$AC$299,29,FALSE)))","v":3},{"$f":"IF(ISNA(VLOOKUP($DC261,'Audit Values'!$A$2:$AD$299,2,FALSE)),\"\",VLOOKUP($DC261,'Audit Values'!$A$2:$AD$299,30,FALSE))","v":"A"},{"$f":"IF(Weightings!G261=\"\",\"\",IF(Weightings!I261=\"Pending\",\"PX\",\"R\"))","v":""},{"$f":"AR261*Weightings!$M$5+AU261","v":1639411},{"$f":"AT261*Weightings!$M$5+AU261","v":1901732},{"$f":"IF(Weightings!G261>0,Weightings!G261,'Preliminary SO66'!AB258)","v":2343679},146232,129712,0,{"$f":"BA261-BB261-BC261-BD261","v":2067735},{"$f":"MIN(AZ261,BA261)","v":1901732},null,{"$f":"Weightings!E261","v":0},{"$f":"Weightings!F261","v":0},{"$f":"SUM(BG261:BI261)","v":0},1901732,{"$f":"MAX(ROUND(((AR261-AN261-AO261)*Weightings!$M$12)+'2016legmax.xls'!AP261,0),ROUND((('2016legmax.xls'!AR261-'2016legmax.xls'!AN261-'2016legmax.xls'!AO261)*Weightings!$M$12)+Weightings!B261,0))","v":2219581},0.3,665874,534000,534000,0.24060000000000001,{"$f":"ROUND(IF(S261<=99.9,(S261*1.014331),0),1)","v":0},{"$f":"AND(S261>99.9,S261<=299.9)","v":true},{"$f":"IF(BS261=TRUE,ROUND((S261-100)*9.655,3),0)","v":965.5},0.74925900000000001,{"$f":"ROUND(S261*BU261,1)","v":149.9},{"$f":"AND(S261>299.9,S261<=1621.9)","v":false},{"$f":"IF(BW261=TRUE,ROUND((S261-300)*1.2375,4),0)","v":0},0,{"$f":"ROUND(BY261*S261,1)","v":0},{"$f":"ROUND(IF(S261>=1622,(S261*0.03504),0),1)","v":0},177,{"$f":"AI261/CB261","v":0.45},{"$f":"IF(ROUND((Weightings!$P$5*CC261^Weightings!$P$6*Weightings!$P$8 ),2)<Weightings!$P$7,Weightings!$P$7,ROUND((Weightings!$P$5*CC261^Weightings!$P$6*Weightings!$P$8 ),2))","v":1296.76},{"$f":"ROUND(CD261/Weightings!$M$5,4)","v":0.33660000000000001},{"$f":"ROUND(IF(AI261>0,CE261*AI261,0),1)","v":26.6},0,0,0,0,{"$f":"AS261*Weightings!$M$5*CJ261","v":0},0,{"$f":"ROUND(AB261/S261,3)","v":0.42},{"$f":"ROUND(S261/CB261,1)","v":1.1000000000000001},{"$f":"IF(CM261>=50%,AB261*10.5%,0)","v":0},{"$f":"IF(AND(CM261>=35.1%,CN261>212),AB261*0.105,0)","v":0},{"$f":"IF(AND((CM261-0.35)>0,CM261<0.5),AB261*(CM261-0.35)*0.7,0)","v":4.0999999999999996},{"$f":"IF(ISNA(VLOOKUP($DC261,'Audit Values'!$A$2:$AE$252,2,FALSE)),'Preliminary SO66'!T258,VLOOKUP($DC261,'Audit Values'!$A$2:$AE$252,20,FALSE))","v":0},{"$f":"IF(ISNA(VLOOKUP($DC261,'Audit Values'!$A$2:$AE$252,21,FALSE)),'Preliminary SO66'!U258,VLOOKUP($DC261,'Audit Values'!$A$2:$AE$252,21,FALSE))","v":0},0,0,null,null,null,null,null,null,null,"D0479"]
[480,"Seward","Liberal ",4536.1000000000004,0,4536.1000000000004,4639.5,0,4639.5,4666.5,{"$f":"IF(ISNA(VLOOKUP($DC262,'Audit Values'!$A$2:$AE$252,2,FALSE)),'Preliminary SO66'!B259,VLOOKUP($DC262,'Audit Values'!$A$2:$AE$252,31,FALSE))","v":4666.5},4666.5,{"$f":"IF(ISNA(VLOOKUP($DC262,'Audit Values'!$A$2:$AE$252,2,FALSE)),'Preliminary SO66'!Z259,VLOOKUP($DC262,'Audit Values'!$A$2:$AE$252,26,FALSE))","v":0},4666.5,{"$f":"IF(ISNA(VLOOKUP($DC262,'Audit Values'!$A$2:$AE$252,2,FALSE)),'Preliminary SO66'!C259,IF(VLOOKUP($DC262,'Audit Values'!$A$2:$AE$252,28,FALSE)=\"\",VLOOKUP($DC262,'Audit Values'!$A$2:$AE$252,3,FALSE),VLOOKUP($DC262,'Audit Values'!$A$2:$AE$252,28,FALSE)))","v":71},4737.5,4737.5,4737.5,4737.5,{"$f":"CU262","v":0},166,0,166,{"$f":"IF(ISNA(VLOOKUP($DC262,'Audit Values'!$A$2:$AE$252,2,FALSE)),'Preliminary SO66'!D259,VLOOKUP($DC262,'Audit Values'!$A$2:$AE$252,4,FALSE))","v":526.20000000000005},{"$f":"ROUND((X262/6)*Weightings!$M$6,1)","v":43.9},{"$f":"IF(ISNA(VLOOKUP($DC262,'Audit Values'!$A$2:$AE$252,2,FALSE)),'Preliminary SO66'!F259,VLOOKUP($DC262,'Audit Values'!$A$2:$AE$252,6,FALSE))","v":10241.6},{"$f":"ROUND((Z262/6)*Weightings!$M$7,1)","v":674.2},{"$f":"IF(ISNA(VLOOKUP($DC262,'Audit Values'!$A$2:$AE$252,2,FALSE)),'Preliminary SO66'!H259,VLOOKUP($DC262,'Audit Values'!$A$2:$AE$252,9,FALSE))","v":3557},{"$f":"ROUND(AB262*Weightings!$M$8,1)","v":1622},373.5,0,{"$f":"AE262*Weightings!$M$9","v":0},{"$f":"IF(ISNA(VLOOKUP($DC262,'Audit Values'!$A$2:$AE$252,2,FALSE)),'Preliminary SO66'!L259,VLOOKUP($DC262,'Audit Values'!$A$2:$AE$252,12,FALSE))","v":0},{"$f":"ROUND(AG262*Weightings!$M$10,1)","v":0},{"$f":"IF(ISNA(VLOOKUP($DC262,'Audit Values'!$A$2:$AE$252,2,FALSE)),'Preliminary SO66'!O259,VLOOKUP($DC262,'Audit Values'!$A$2:$AE$252,15,FALSE))","v":326.60000000000002},82.6,{"$f":"CG262/Weightings!$M$5","v":0},{"$f":"CH262/Weightings!$M$5","v":0},{"$f":"CL262/Weightings!$M$5","v":0},{"$f":"CU262*1.05","v":0},{"$f":"IF(ISNA(VLOOKUP($DC262,'Audit Values'!$A$2:$AE$252,2,FALSE)),'Preliminary SO66'!X259,VLOOKUP($DC262,'Audit Values'!$A$2:$AE$252,24,FALSE))","v":0},2666098,{"$f":"AP262/Weightings!$M$5","v":692.1},7699.7,8391.7999999999993,8391.7999999999993,0,{"$f":"IF(ISNA(VLOOKUP($DC262,'Audit Values'!$A$2:$AC$299,2,FALSE)),\"\",IF(AND(Weightings!H262>0,VLOOKUP($DC262,'Audit Values'!$A$2:$AC$299,29,FALSE)<Weightings!H262),Weightings!H262,VLOOKUP($DC262,'Audit Values'!$A$2:$AC$299,29,FALSE)))","v":15},{"$f":"IF(ISNA(VLOOKUP($DC262,'Audit Values'!$A$2:$AD$299,2,FALSE)),\"\",VLOOKUP($DC262,'Audit Values'!$A$2:$AD$299,30,FALSE))","v":"A"},{"$f":"IF(Weightings!G262=\"\",\"\",IF(Weightings!I262=\"Pending\",\"PX\",\"R\"))","v":""},{"$f":"AR262*Weightings!$M$5+AU262","v":29659244},{"$f":"AT262*Weightings!$M$5+AU262","v":32325214},{"$f":"IF(Weightings!G262>0,Weightings!G262,'Preliminary SO66'!AB259)","v":42395613},6820169,2604177,0,32971267,32325214,null,{"$f":"Weightings!E262","v":0},{"$f":"Weightings!F262","v":0},0,{"$f":"BF262+BJ262","v":32325214},{"$f":"MAX(ROUND(((AR262-AN262-AO262)*Weightings!$M$12)+'2016legmax.xls'!AP262,0),ROUND((('2016legmax.xls'!AR262-'2016legmax.xls'!AN262-'2016legmax.xls'!AO262)*Weightings!$M$12)+Weightings!B262,0))","v":37237751},0.3,11171325,9978000,9978000,0.26800000000000002,0,false,0,0,0,false,0,0,0,166,205,1.59,{"$f":"IF(ROUND((Weightings!$P$5*CC262^Weightings!$P$6*Weightings!$P$8 ),2)<Weightings!$P$7,Weightings!$P$7,ROUND((Weightings!$P$5*CC262^Weightings!$P$6*Weightings!$P$8 ),2))","v":974.67},{"$f":"ROUND(CD262/Weightings!$M$5,4)","v":0.253},82.6,0,0,0,0,{"$f":"AS262*Weightings!$M$5*CJ262","v":0},0,0.751,23.1,373.5,0,0,{"$f":"IF(ISNA(VLOOKUP($DC262,'Audit Values'!$A$2:$AE$252,2,FALSE)),'Preliminary SO66'!T259,VLOOKUP($DC262,'Audit Values'!$A$2:$AE$252,20,FALSE))","v":0},{"$f":"IF(ISNA(VLOOKUP($DC262,'Audit Values'!$A$2:$AE$252,21,FALSE)),'Preliminary SO66'!U259,VLOOKUP($DC262,'Audit Values'!$A$2:$AE$252,21,FALSE))","v":0},0,{"$f":"SUM(CR262:CT262)","v":0},null,null,null,null,null,null,null,"D0480"]
[481,"Dickinson","Rural Vista ",306,3.5,309.5,278.5,6.5,285,293,{"$f":"IF(ISNA(VLOOKUP($DC263,'Audit Values'!$A$2:$AE$252,2,FALSE)),'Preliminary SO66'!B260,VLOOKUP($DC263,'Audit Values'!$A$2:$AE$252,31,FALSE))","v":293},295.8,{"$f":"IF(ISNA(VLOOKUP($DC263,'Audit Values'!$A$2:$AE$252,2,FALSE)),'Preliminary SO66'!Z260,VLOOKUP($DC263,'Audit Values'!$A$2:$AE$252,26,FALSE))","v":0},295.8,{"$f":"IF(ISNA(VLOOKUP($DC263,'Audit Values'!$A$2:$AE$252,2,FALSE)),'Preliminary SO66'!C260,IF(VLOOKUP($DC263,'Audit Values'!$A$2:$AE$252,28,FALSE)=\"\",VLOOKUP($DC263,'Audit Values'!$A$2:$AE$252,3,FALSE),VLOOKUP($DC263,'Audit Values'!$A$2:$AE$252,28,FALSE)))","v":6},299,299,299,301.8,0,145.9,145.9,0,{"$f":"IF(ISNA(VLOOKUP($DC263,'Audit Values'!$A$2:$AE$252,2,FALSE)),'Preliminary SO66'!D260,VLOOKUP($DC263,'Audit Values'!$A$2:$AE$252,4,FALSE))","v":101.9},{"$f":"ROUND((X263/6)*Weightings!$M$6,1)","v":8.5},{"$f":"IF(ISNA(VLOOKUP($DC263,'Audit Values'!$A$2:$AE$252,2,FALSE)),'Preliminary SO66'!F260,VLOOKUP($DC263,'Audit Values'!$A$2:$AE$252,6,FALSE))","v":0},{"$f":"ROUND((Z263/6)*Weightings!$M$7,1)","v":0},{"$f":"IF(ISNA(VLOOKUP($DC263,'Audit Values'!$A$2:$AE$252,2,FALSE)),'Preliminary SO66'!H260,VLOOKUP($DC263,'Audit Values'!$A$2:$AE$252,9,FALSE))","v":135},{"$f":"ROUND(AB263*Weightings!$M$8,1)","v":61.6},9.1999999999999993,0,{"$f":"AE263*Weightings!$M$9","v":0},{"$f":"IF(ISNA(VLOOKUP($DC263,'Audit Values'!$A$2:$AE$252,2,FALSE)),'Preliminary SO66'!L260,VLOOKUP($DC263,'Audit Values'!$A$2:$AE$252,12,FALSE))","v":0},{"$f":"ROUND(AG263*Weightings!$M$10,1)","v":0},{"$f":"IF(ISNA(VLOOKUP($DC263,'Audit Values'!$A$2:$AE$252,2,FALSE)),'Preliminary SO66'!O260,VLOOKUP($DC263,'Audit Values'!$A$2:$AE$252,15,FALSE))","v":136},45.8,{"$f":"CG263/Weightings!$M$5","v":0},{"$f":"CH263/Weightings!$M$5","v":0},{"$f":"CL263/Weightings!$M$5","v":0},0,{"$f":"IF(ISNA(VLOOKUP($DC263,'Audit Values'!$A$2:$AE$252,2,FALSE)),'Preliminary SO66'!X260,VLOOKUP($DC263,'Audit Values'!$A$2:$AE$252,24,FALSE))","v":0},240756,{"$f":"AP263/Weightings!$M$5","v":62.5},572.79999999999995,635.29999999999995,635.29999999999995,0,{"$f":"IF(ISNA(VLOOKUP($DC263,'Audit Values'!$A$2:$AC$299,2,FALSE)),\"\",IF(AND(Weightings!H263>0,VLOOKUP($DC263,'Audit Values'!$A$2:$AC$299,29,FALSE)<Weightings!H263),Weightings!H263,VLOOKUP($DC263,'Audit Values'!$A$2:$AC$299,29,FALSE)))","v":9},{"$f":"IF(ISNA(VLOOKUP($DC263,'Audit Values'!$A$2:$AD$299,2,FALSE)),\"\",VLOOKUP($DC263,'Audit Values'!$A$2:$AD$299,30,FALSE))","v":"A"},{"$f":"IF(Weightings!G263=\"\",\"\",IF(Weightings!I263=\"Pending\",\"PX\",\"R\"))","v":""},{"$f":"AR263*Weightings!$M$5+AU263","v":2206426},{"$f":"AT263*Weightings!$M$5+AU263","v":2447176},{"$f":"IF(Weightings!G263>0,Weightings!G263,'Preliminary SO66'!AB260)","v":2929878},140099,163469,0,2626310,2447176,null,{"$f":"Weightings!E263","v":0},{"$f":"Weightings!F263","v":0},0,2447176,{"$f":"MAX(ROUND(((AR263-AN263-AO263)*Weightings!$M$12)+'2016legmax.xls'!AP263,0),ROUND((('2016legmax.xls'!AR263-'2016legmax.xls'!AN263-'2016legmax.xls'!AO263)*Weightings!$M$12)+Weightings!B263,0))","v":2972896},0.3,891869,921368,891869,0.3,0,false,0,0,0,true,2.2275,0.48357499999999998,145.9,0,303.8,0.45,{"$f":"IF(ROUND((Weightings!$P$5*CC263^Weightings!$P$6*Weightings!$P$8 ),2)<Weightings!$P$7,Weightings!$P$7,ROUND((Weightings!$P$5*CC263^Weightings!$P$6*Weightings!$P$8 ),2))","v":1296.76},{"$f":"ROUND(CD263/Weightings!$M$5,4)","v":0.33660000000000001},45.8,0,0,0,0,{"$f":"AS263*Weightings!$M$5*CJ263","v":0},0,0.44700000000000001,1,0,0,9.1999999999999993,{"$f":"IF(ISNA(VLOOKUP($DC263,'Audit Values'!$A$2:$AE$252,2,FALSE)),'Preliminary SO66'!T260,VLOOKUP($DC263,'Audit Values'!$A$2:$AE$252,20,FALSE))","v":0},{"$f":"IF(ISNA(VLOOKUP($DC263,'Audit Values'!$A$2:$AE$252,21,FALSE)),'Preliminary SO66'!U260,VLOOKUP($DC263,'Audit Values'!$A$2:$AE$252,21,FALSE))","v":0},0,0,null,null,null,null,null,null,null,"D0481"]
[482,"Lane","Dighton ",242.5,0,242.5,230,0,230,212.5,{"$f":"IF(ISNA(VLOOKUP($DC264,'Audit Values'!$A$2:$AE$252,2,FALSE)),'Preliminary SO66'!B261,VLOOKUP($DC264,'Audit Values'!$A$2:$AE$252,31,FALSE))","v":212.5},230,{"$f":"IF(ISNA(VLOOKUP($DC264,'Audit Values'!$A$2:$AE$252,2,FALSE)),'Preliminary SO66'!Z261,VLOOKUP($DC264,'Audit Values'!$A$2:$AE$252,26,FALSE))","v":0},230,{"$f":"IF(ISNA(VLOOKUP($DC264,'Audit Values'!$A$2:$AE$252,2,FALSE)),'Preliminary SO66'!C261,IF(VLOOKUP($DC264,'Audit Values'!$A$2:$AE$252,28,FALSE)=\"\",VLOOKUP($DC264,'Audit Values'!$A$2:$AE$252,3,FALSE),VLOOKUP($DC264,'Audit Values'!$A$2:$AE$252,28,FALSE)))","v":3.5},216,216,216,233.5,0,154.19999999999999,154.19999999999999,0,{"$f":"IF(ISNA(VLOOKUP($DC264,'Audit Values'!$A$2:$AE$252,2,FALSE)),'Preliminary SO66'!D261,VLOOKUP($DC264,'Audit Values'!$A$2:$AE$252,4,FALSE))","v":127.8},{"$f":"ROUND((X264/6)*Weightings!$M$6,1)","v":10.7},{"$f":"IF(ISNA(VLOOKUP($DC264,'Audit Values'!$A$2:$AE$252,2,FALSE)),'Preliminary SO66'!F261,VLOOKUP($DC264,'Audit Values'!$A$2:$AE$252,6,FALSE))","v":0},{"$f":"ROUND((Z264/6)*Weightings!$M$7,1)","v":0},{"$f":"IF(ISNA(VLOOKUP($DC264,'Audit Values'!$A$2:$AE$252,2,FALSE)),'Preliminary SO66'!H261,VLOOKUP($DC264,'Audit Values'!$A$2:$AE$252,9,FALSE))","v":71},{"$f":"ROUND(AB264*Weightings!$M$8,1)","v":32.4},0,0,{"$f":"AE264*Weightings!$M$9","v":0},{"$f":"IF(ISNA(VLOOKUP($DC264,'Audit Values'!$A$2:$AE$252,2,FALSE)),'Preliminary SO66'!L261,VLOOKUP($DC264,'Audit Values'!$A$2:$AE$252,12,FALSE))","v":9.6},{"$f":"ROUND(AG264*Weightings!$M$10,1)","v":2.4},{"$f":"IF(ISNA(VLOOKUP($DC264,'Audit Values'!$A$2:$AE$252,2,FALSE)),'Preliminary SO66'!O261,VLOOKUP($DC264,'Audit Values'!$A$2:$AE$252,15,FALSE))","v":36},19.100000000000001,{"$f":"CG264/Weightings!$M$5","v":0},{"$f":"CH264/Weightings!$M$5","v":0},{"$f":"CL264/Weightings!$M$5","v":0},0,{"$f":"IF(ISNA(VLOOKUP($DC264,'Audit Values'!$A$2:$AE$252,2,FALSE)),'Preliminary SO66'!X261,VLOOKUP($DC264,'Audit Values'!$A$2:$AE$252,24,FALSE))","v":0},163047,{"$f":"AP264/Weightings!$M$5","v":42.3},452.3,494.6,494.6,0,{"$f":"IF(ISNA(VLOOKUP($DC264,'Audit Values'!$A$2:$AC$299,2,FALSE)),\"\",IF(AND(Weightings!H264>0,VLOOKUP($DC264,'Audit Values'!$A$2:$AC$299,29,FALSE)<Weightings!H264),Weightings!H264,VLOOKUP($DC264,'Audit Values'!$A$2:$AC$299,29,FALSE)))","v":11},{"$f":"IF(ISNA(VLOOKUP($DC264,'Audit Values'!$A$2:$AD$299,2,FALSE)),\"\",VLOOKUP($DC264,'Audit Values'!$A$2:$AD$299,30,FALSE))","v":"A"},{"$f":"IF(Weightings!G264=\"\",\"\",IF(Weightings!I264=\"Pending\",\"PX\",\"R\"))","v":""},{"$f":"AR264*Weightings!$M$5+AU264","v":1742260},{"$f":"AT264*Weightings!$M$5+AU264","v":1905199},{"$f":"IF(Weightings!G264>0,Weightings!G264,'Preliminary SO66'!AB261)","v":2235390},0,127294,0,2108096,1905199,null,{"$f":"Weightings!E264","v":0},{"$f":"Weightings!F264","v":0},0,1905199,{"$f":"MAX(ROUND(((AR264-AN264-AO264)*Weightings!$M$12)+'2016legmax.xls'!AP264,0),ROUND((('2016legmax.xls'!AR264-'2016legmax.xls'!AN264-'2016legmax.xls'!AO264)*Weightings!$M$12)+Weightings!B264,0))","v":2236105},0.3,670832,683897,670832,0.3,0,true,1288.943,0.66045900000000002,154.19999999999999,false,0,0,0,0,619.5,0.06,{"$f":"IF(ROUND((Weightings!$P$5*CC264^Weightings!$P$6*Weightings!$P$8 ),2)<Weightings!$P$7,Weightings!$P$7,ROUND((Weightings!$P$5*CC264^Weightings!$P$6*Weightings!$P$8 ),2))","v":2045.52},{"$f":"ROUND(CD264/Weightings!$M$5,4)","v":0.53100000000000003},19.100000000000001,0,0,0,0,{"$f":"AS264*Weightings!$M$5*CJ264","v":0},0,0.30399999999999999,0.4,0,0,0,{"$f":"IF(ISNA(VLOOKUP($DC264,'Audit Values'!$A$2:$AE$252,2,FALSE)),'Preliminary SO66'!T261,VLOOKUP($DC264,'Audit Values'!$A$2:$AE$252,20,FALSE))","v":0},{"$f":"IF(ISNA(VLOOKUP($DC264,'Audit Values'!$A$2:$AE$252,21,FALSE)),'Preliminary SO66'!U261,VLOOKUP($DC264,'Audit Values'!$A$2:$AE$252,21,FALSE))","v":0},0,0,null,null,null,null,null,null,null,"D0482"]
[483,"Seward","Kismet-Plains ",659.5,0,659.5,679.5,0,679.5,667,{"$f":"IF(ISNA(VLOOKUP($DC265,'Audit Values'!$A$2:$AE$252,2,FALSE)),'Preliminary SO66'!B262,VLOOKUP($DC265,'Audit Values'!$A$2:$AE$252,31,FALSE))","v":667},679.5,{"$f":"IF(ISNA(VLOOKUP($DC265,'Audit Values'!$A$2:$AE$252,2,FALSE)),'Preliminary SO66'!Z262,VLOOKUP($DC265,'Audit Values'!$A$2:$AE$252,26,FALSE))","v":0},679.5,{"$f":"IF(ISNA(VLOOKUP($DC265,'Audit Values'!$A$2:$AE$252,2,FALSE)),'Preliminary SO66'!C262,IF(VLOOKUP($DC265,'Audit Values'!$A$2:$AE$252,28,FALSE)=\"\",VLOOKUP($DC265,'Audit Values'!$A$2:$AE$252,3,FALSE),VLOOKUP($DC265,'Audit Values'!$A$2:$AE$252,28,FALSE)))","v":14},681,681,681,693.5,0,243.1,243.1,0,{"$f":"IF(ISNA(VLOOKUP($DC265,'Audit Values'!$A$2:$AE$252,2,FALSE)),'Preliminary SO66'!D262,VLOOKUP($DC265,'Audit Values'!$A$2:$AE$252,4,FALSE))","v":52.1},{"$f":"ROUND((X265/6)*Weightings!$M$6,1)","v":4.3},{"$f":"IF(ISNA(VLOOKUP($DC265,'Audit Values'!$A$2:$AE$252,2,FALSE)),'Preliminary SO66'!F262,VLOOKUP($DC265,'Audit Values'!$A$2:$AE$252,6,FALSE))","v":2711.5},{"$f":"ROUND((Z265/6)*Weightings!$M$7,1)","v":178.5},{"$f":"IF(ISNA(VLOOKUP($DC265,'Audit Values'!$A$2:$AE$252,2,FALSE)),'Preliminary SO66'!H262,VLOOKUP($DC265,'Audit Values'!$A$2:$AE$252,9,FALSE))","v":480},{"$f":"ROUND(AB265*Weightings!$M$8,1)","v":218.9},50.4,0,{"$f":"AE265*Weightings!$M$9","v":0},{"$f":"IF(ISNA(VLOOKUP($DC265,'Audit Values'!$A$2:$AE$252,2,FALSE)),'Preliminary SO66'!L262,VLOOKUP($DC265,'Audit Values'!$A$2:$AE$252,12,FALSE))","v":0},{"$f":"ROUND(AG265*Weightings!$M$10,1)","v":0},{"$f":"IF(ISNA(VLOOKUP($DC265,'Audit Values'!$A$2:$AE$252,2,FALSE)),'Preliminary SO66'!O262,VLOOKUP($DC265,'Audit Values'!$A$2:$AE$252,15,FALSE))","v":579},160.19999999999999,{"$f":"CG265/Weightings!$M$5","v":0},{"$f":"CH265/Weightings!$M$5","v":0},{"$f":"CL265/Weightings!$M$5","v":0},0,{"$f":"IF(ISNA(VLOOKUP($DC265,'Audit Values'!$A$2:$AE$252,2,FALSE)),'Preliminary SO66'!X262,VLOOKUP($DC265,'Audit Values'!$A$2:$AE$252,24,FALSE))","v":0},527605,{"$f":"AP265/Weightings!$M$5","v":137},1548.9,1685.9,1685.9,0,{"$f":"IF(ISNA(VLOOKUP($DC265,'Audit Values'!$A$2:$AC$299,2,FALSE)),\"\",IF(AND(Weightings!H265>0,VLOOKUP($DC265,'Audit Values'!$A$2:$AC$299,29,FALSE)<Weightings!H265),Weightings!H265,VLOOKUP($DC265,'Audit Values'!$A$2:$AC$299,29,FALSE)))","v":13},{"$f":"IF(ISNA(VLOOKUP($DC265,'Audit Values'!$A$2:$AD$299,2,FALSE)),\"\",VLOOKUP($DC265,'Audit Values'!$A$2:$AD$299,30,FALSE))","v":"A"},{"$f":"IF(Weightings!G265=\"\",\"\",IF(Weightings!I265=\"Pending\",\"PX\",\"R\"))","v":""},{"$f":"AR265*Weightings!$M$5+AU265","v":5966363},{"$f":"AT265*Weightings!$M$5+AU265","v":6494087},{"$f":"IF(Weightings!G265>0,Weightings!G265,'Preliminary SO66'!AB262)","v":7217357},0,434596,0,6782761,6494087,null,{"$f":"Weightings!E265","v":0},{"$f":"Weightings!F265","v":0},0,6494087,{"$f":"MAX(ROUND(((AR265-AN265-AO265)*Weightings!$M$12)+'2016legmax.xls'!AP265,0),ROUND((('2016legmax.xls'!AR265-'2016legmax.xls'!AN265-'2016legmax.xls'!AO265)*Weightings!$M$12)+Weightings!B265,0))","v":7554406},0.3,2266322,1379609,1379609,0.18260000000000001,0,false,0,0,0,true,486.9563,0.350495,243.1,0,541,1.07,{"$f":"IF(ROUND((Weightings!$P$5*CC265^Weightings!$P$6*Weightings!$P$8 ),2)<Weightings!$P$7,Weightings!$P$7,ROUND((Weightings!$P$5*CC265^Weightings!$P$6*Weightings!$P$8 ),2))","v":1066.02},{"$f":"ROUND(CD265/Weightings!$M$5,4)","v":0.2767},160.19999999999999,0,0,0,0,{"$f":"AS265*Weightings!$M$5*CJ265","v":0},0,0.69199999999999995,1.3,50.4,0,0,{"$f":"IF(ISNA(VLOOKUP($DC265,'Audit Values'!$A$2:$AE$252,2,FALSE)),'Preliminary SO66'!T262,VLOOKUP($DC265,'Audit Values'!$A$2:$AE$252,20,FALSE))","v":0},{"$f":"IF(ISNA(VLOOKUP($DC265,'Audit Values'!$A$2:$AE$252,21,FALSE)),'Preliminary SO66'!U262,VLOOKUP($DC265,'Audit Values'!$A$2:$AE$252,21,FALSE))","v":0},0,0,null,null,null,null,null,null,null,"D0483"]
[484,"Wilson","Fredonia ",648.20000000000005,0,648.20000000000005,642.5,0,642.5,640.9,{"$f":"IF(ISNA(VLOOKUP($DC266,'Audit Values'!$A$2:$AE$252,2,FALSE)),'Preliminary SO66'!B263,VLOOKUP($DC266,'Audit Values'!$A$2:$AE$252,31,FALSE))","v":631.29999999999995},642.5,{"$f":"IF(ISNA(VLOOKUP($DC266,'Audit Values'!$A$2:$AE$252,2,FALSE)),'Preliminary SO66'!Z263,VLOOKUP($DC266,'Audit Values'!$A$2:$AE$252,26,FALSE))","v":0},642.5,{"$f":"IF(ISNA(VLOOKUP($DC266,'Audit Values'!$A$2:$AE$252,2,FALSE)),'Preliminary SO66'!C263,IF(VLOOKUP($DC266,'Audit Values'!$A$2:$AE$252,28,FALSE)=\"\",VLOOKUP($DC266,'Audit Values'!$A$2:$AE$252,3,FALSE),VLOOKUP($DC266,'Audit Values'!$A$2:$AE$252,28,FALSE)))","v":10},641.29999999999995,650.9,650.9,652.5,9.6,237.8,237.8,0,{"$f":"IF(ISNA(VLOOKUP($DC266,'Audit Values'!$A$2:$AE$252,2,FALSE)),'Preliminary SO66'!D263,VLOOKUP($DC266,'Audit Values'!$A$2:$AE$252,4,FALSE))","v":47.7},{"$f":"ROUND((X266/6)*Weightings!$M$6,1)","v":4},{"$f":"IF(ISNA(VLOOKUP($DC266,'Audit Values'!$A$2:$AE$252,2,FALSE)),'Preliminary SO66'!F263,VLOOKUP($DC266,'Audit Values'!$A$2:$AE$252,6,FALSE))","v":0},{"$f":"ROUND((Z266/6)*Weightings!$M$7,1)","v":0},{"$f":"IF(ISNA(VLOOKUP($DC266,'Audit Values'!$A$2:$AE$252,2,FALSE)),'Preliminary SO66'!H263,VLOOKUP($DC266,'Audit Values'!$A$2:$AE$252,9,FALSE))","v":306},{"$f":"ROUND(AB266*Weightings!$M$8,1)","v":139.5},25.5,0,{"$f":"AE266*Weightings!$M$9","v":0},{"$f":"IF(ISNA(VLOOKUP($DC266,'Audit Values'!$A$2:$AE$252,2,FALSE)),'Preliminary SO66'!L263,VLOOKUP($DC266,'Audit Values'!$A$2:$AE$252,12,FALSE))","v":0},{"$f":"ROUND(AG266*Weightings!$M$10,1)","v":0},{"$f":"IF(ISNA(VLOOKUP($DC266,'Audit Values'!$A$2:$AE$252,2,FALSE)),'Preliminary SO66'!O263,VLOOKUP($DC266,'Audit Values'!$A$2:$AE$252,15,FALSE))","v":202},66.400000000000006,{"$f":"CG266/Weightings!$M$5","v":0},{"$f":"CH266/Weightings!$M$5","v":0},{"$f":"CL266/Weightings!$M$5","v":0},10.1,{"$f":"IF(ISNA(VLOOKUP($DC266,'Audit Values'!$A$2:$AE$252,2,FALSE)),'Preliminary SO66'!X263,VLOOKUP($DC266,'Audit Values'!$A$2:$AE$252,24,FALSE))","v":0},500355,{"$f":"AP266/Weightings!$M$5","v":129.9},1135.8,1265.7,1265.7,0,{"$f":"IF(ISNA(VLOOKUP($DC266,'Audit Values'!$A$2:$AC$299,2,FALSE)),\"\",IF(AND(Weightings!H266>0,VLOOKUP($DC266,'Audit Values'!$A$2:$AC$299,29,FALSE)<Weightings!H266),Weightings!H266,VLOOKUP($DC266,'Audit Values'!$A$2:$AC$299,29,FALSE)))","v":7},{"$f":"IF(ISNA(VLOOKUP($DC266,'Audit Values'!$A$2:$AD$299,2,FALSE)),\"\",VLOOKUP($DC266,'Audit Values'!$A$2:$AD$299,30,FALSE))","v":"A"},{"$f":"IF(Weightings!G266=\"\",\"\",IF(Weightings!I266=\"Pending\",\"PX\",\"R\"))","v":""},{"$f":"AR266*Weightings!$M$5+AU266","v":4375102},{"$f":"AT266*Weightings!$M$5+AU266","v":4875476},{"$f":"IF(Weightings!G266>0,Weightings!G266,'Preliminary SO66'!AB263)","v":6156117},718659,330219,12250,5094989,4875476,null,{"$f":"Weightings!E266","v":0},{"$f":"Weightings!F266","v":0},0,4875476,{"$f":"MAX(ROUND(((AR266-AN266-AO266)*Weightings!$M$12)+'2016legmax.xls'!AP266,0),ROUND((('2016legmax.xls'!AR266-'2016legmax.xls'!AN266-'2016legmax.xls'!AO266)*Weightings!$M$12)+Weightings!B266,0))","v":5713125},0.3,1713938,1719460,1713938,0.3,0,false,0,0,0,true,436.21879999999999,0.364425,237.8,0,402,0.5,{"$f":"IF(ROUND((Weightings!$P$5*CC266^Weightings!$P$6*Weightings!$P$8 ),2)<Weightings!$P$7,Weightings!$P$7,ROUND((Weightings!$P$5*CC266^Weightings!$P$6*Weightings!$P$8 ),2))","v":1266.22},{"$f":"ROUND(CD266/Weightings!$M$5,4)","v":0.32869999999999999},66.400000000000006,0,0,0,0,{"$f":"AS266*Weightings!$M$5*CJ266","v":0},0,0.46899999999999997,1.6,0,0,25.5,{"$f":"IF(ISNA(VLOOKUP($DC266,'Audit Values'!$A$2:$AE$252,2,FALSE)),'Preliminary SO66'!T263,VLOOKUP($DC266,'Audit Values'!$A$2:$AE$252,20,FALSE))","v":0},{"$f":"IF(ISNA(VLOOKUP($DC266,'Audit Values'!$A$2:$AE$252,21,FALSE)),'Preliminary SO66'!U263,VLOOKUP($DC266,'Audit Values'!$A$2:$AE$252,21,FALSE))","v":4.5999999999999996},5,9.6,null,null,null,null,null,null,null,"D0484"]
[487,"Dickinson","Herington ",426,10,436,436,6.5,442.5,466.5,{"$f":"IF(ISNA(VLOOKUP($DC267,'Audit Values'!$A$2:$AE$252,2,FALSE)),'Preliminary SO66'!B264,VLOOKUP($DC267,'Audit Values'!$A$2:$AE$252,31,FALSE))","v":421.5},442.5,{"$f":"IF(ISNA(VLOOKUP($DC267,'Audit Values'!$A$2:$AE$252,2,FALSE)),'Preliminary SO66'!Z264,VLOOKUP($DC267,'Audit Values'!$A$2:$AE$252,26,FALSE))","v":0},442.5,{"$f":"IF(ISNA(VLOOKUP($DC267,'Audit Values'!$A$2:$AE$252,2,FALSE)),'Preliminary SO66'!C264,IF(VLOOKUP($DC267,'Audit Values'!$A$2:$AE$252,28,FALSE)=\"\",VLOOKUP($DC267,'Audit Values'!$A$2:$AE$252,3,FALSE),VLOOKUP($DC267,'Audit Values'!$A$2:$AE$252,28,FALSE)))","v":6.5},428,473,473,449,45,194.7,194.7,0,{"$f":"IF(ISNA(VLOOKUP($DC267,'Audit Values'!$A$2:$AE$252,2,FALSE)),'Preliminary SO66'!D264,VLOOKUP($DC267,'Audit Values'!$A$2:$AE$252,4,FALSE))","v":77.3},{"$f":"ROUND((X267/6)*Weightings!$M$6,1)","v":6.4},{"$f":"IF(ISNA(VLOOKUP($DC267,'Audit Values'!$A$2:$AE$252,2,FALSE)),'Preliminary SO66'!F264,VLOOKUP($DC267,'Audit Values'!$A$2:$AE$252,6,FALSE))","v":0},{"$f":"ROUND((Z267/6)*Weightings!$M$7,1)","v":0},{"$f":"IF(ISNA(VLOOKUP($DC267,'Audit Values'!$A$2:$AE$252,2,FALSE)),'Preliminary SO66'!H264,VLOOKUP($DC267,'Audit Values'!$A$2:$AE$252,9,FALSE))","v":220},{"$f":"ROUND(AB267*Weightings!$M$8,1)","v":100.3},21.6,0,{"$f":"AE267*Weightings!$M$9","v":0},{"$f":"IF(ISNA(VLOOKUP($DC267,'Audit Values'!$A$2:$AE$252,2,FALSE)),'Preliminary SO66'!L264,VLOOKUP($DC267,'Audit Values'!$A$2:$AE$252,12,FALSE))","v":0},{"$f":"ROUND(AG267*Weightings!$M$10,1)","v":0},{"$f":"IF(ISNA(VLOOKUP($DC267,'Audit Values'!$A$2:$AE$252,2,FALSE)),'Preliminary SO66'!O264,VLOOKUP($DC267,'Audit Values'!$A$2:$AE$252,15,FALSE))","v":53},16.899999999999999,{"$f":"CG267/Weightings!$M$5","v":0},{"$f":"CH267/Weightings!$M$5","v":0},{"$f":"CL267/Weightings!$M$5","v":0},47.3,{"$f":"IF(ISNA(VLOOKUP($DC267,'Audit Values'!$A$2:$AE$252,2,FALSE)),'Preliminary SO66'!X264,VLOOKUP($DC267,'Audit Values'!$A$2:$AE$252,24,FALSE))","v":0},385340,{"$f":"AP267/Weightings!$M$5","v":100},836.2,936.2,936.2,0,{"$f":"IF(ISNA(VLOOKUP($DC267,'Audit Values'!$A$2:$AC$299,2,FALSE)),\"\",IF(AND(Weightings!H267>0,VLOOKUP($DC267,'Audit Values'!$A$2:$AC$299,29,FALSE)<Weightings!H267),Weightings!H267,VLOOKUP($DC267,'Audit Values'!$A$2:$AC$299,29,FALSE)))","v":12},{"$f":"IF(ISNA(VLOOKUP($DC267,'Audit Values'!$A$2:$AD$299,2,FALSE)),\"\",VLOOKUP($DC267,'Audit Values'!$A$2:$AD$299,30,FALSE))","v":"A"},{"$f":"IF(Weightings!G267=\"\",\"\",IF(Weightings!I267=\"Pending\",\"PX\",\"R\"))","v":""},{"$f":"AR267*Weightings!$M$5+AU267","v":3221042},{"$f":"AT267*Weightings!$M$5+AU267","v":3606242},{"$f":"IF(Weightings!G267>0,Weightings!G267,'Preliminary SO66'!AB264)","v":4766548},705774,242495,0,3818279,3606242,null,{"$f":"Weightings!E267","v":0},{"$f":"Weightings!F267","v":0},0,3606242,{"$f":"MAX(ROUND(((AR267-AN267-AO267)*Weightings!$M$12)+'2016legmax.xls'!AP267,0),ROUND((('2016legmax.xls'!AR267-'2016legmax.xls'!AN267-'2016legmax.xls'!AO267)*Weightings!$M$12)+Weightings!B267,0))","v":4006015},0.3,1201805,1231439,1201805,0.3,0,false,0,0,0,true,184.38749999999999,0.433564,194.7,0,93.7,0.56999999999999995,{"$f":"IF(ROUND((Weightings!$P$5*CC267^Weightings!$P$6*Weightings!$P$8 ),2)<Weightings!$P$7,Weightings!$P$7,ROUND((Weightings!$P$5*CC267^Weightings!$P$6*Weightings!$P$8 ),2))","v":1229.24},{"$f":"ROUND(CD267/Weightings!$M$5,4)","v":0.31909999999999999},16.899999999999999,0,0,0,0,{"$f":"AS267*Weightings!$M$5*CJ267","v":0},0,0.49,4.8,0,0,21.6,{"$f":"IF(ISNA(VLOOKUP($DC267,'Audit Values'!$A$2:$AE$252,2,FALSE)),'Preliminary SO66'!T264,VLOOKUP($DC267,'Audit Values'!$A$2:$AE$252,20,FALSE))","v":6},{"$f":"IF(ISNA(VLOOKUP($DC267,'Audit Values'!$A$2:$AE$252,21,FALSE)),'Preliminary SO66'!U264,VLOOKUP($DC267,'Audit Values'!$A$2:$AE$252,21,FALSE))","v":0},39,45,null,null,null,null,null,null,null,"D0487"]
[489,"Ellis","Hays ",2761.2,0,2761.2,2779.1,0,2779.1,2893,{"$f":"IF(ISNA(VLOOKUP($DC268,'Audit Values'!$A$2:$AE$252,2,FALSE)),'Preliminary SO66'!B265,VLOOKUP($DC268,'Audit Values'!$A$2:$AE$252,31,FALSE))","v":2787.5},2787.5,{"$f":"IF(ISNA(VLOOKUP($DC268,'Audit Values'!$A$2:$AE$252,2,FALSE)),'Preliminary SO66'!Z265,VLOOKUP($DC268,'Audit Values'!$A$2:$AE$252,26,FALSE))","v":0},2787.5,{"$f":"IF(ISNA(VLOOKUP($DC268,'Audit Values'!$A$2:$AE$252,2,FALSE)),'Preliminary SO66'!C265,IF(VLOOKUP($DC268,'Audit Values'!$A$2:$AE$252,28,FALSE)=\"\",VLOOKUP($DC268,'Audit Values'!$A$2:$AE$252,3,FALSE),VLOOKUP($DC268,'Audit Values'!$A$2:$AE$252,28,FALSE)))","v":20},2807.5,2913,2913,2807.5,105.5,98.4,0,98.4,{"$f":"IF(ISNA(VLOOKUP($DC268,'Audit Values'!$A$2:$AE$252,2,FALSE)),'Preliminary SO66'!D265,VLOOKUP($DC268,'Audit Values'!$A$2:$AE$252,4,FALSE))","v":413.8},{"$f":"ROUND((X268/6)*Weightings!$M$6,1)","v":34.5},{"$f":"IF(ISNA(VLOOKUP($DC268,'Audit Values'!$A$2:$AE$252,2,FALSE)),'Preliminary SO66'!F265,VLOOKUP($DC268,'Audit Values'!$A$2:$AE$252,6,FALSE))","v":549.29999999999995},{"$f":"ROUND((Z268/6)*Weightings!$M$7,1)","v":36.200000000000003},{"$f":"IF(ISNA(VLOOKUP($DC268,'Audit Values'!$A$2:$AE$252,2,FALSE)),'Preliminary SO66'!H265,VLOOKUP($DC268,'Audit Values'!$A$2:$AE$252,9,FALSE))","v":932},{"$f":"ROUND(AB268*Weightings!$M$8,1)","v":425},0,0,{"$f":"AE268*Weightings!$M$9","v":0},{"$f":"IF(ISNA(VLOOKUP($DC268,'Audit Values'!$A$2:$AE$252,2,FALSE)),'Preliminary SO66'!L265,VLOOKUP($DC268,'Audit Values'!$A$2:$AE$252,12,FALSE))","v":0},{"$f":"ROUND(AG268*Weightings!$M$10,1)","v":0},{"$f":"IF(ISNA(VLOOKUP($DC268,'Audit Values'!$A$2:$AE$252,2,FALSE)),'Preliminary SO66'!O265,VLOOKUP($DC268,'Audit Values'!$A$2:$AE$252,15,FALSE))","v":658},163.30000000000001,{"$f":"CG268/Weightings!$M$5","v":0},{"$f":"CH268/Weightings!$M$5","v":125.5},{"$f":"CL268/Weightings!$M$5","v":0},110.8,{"$f":"IF(ISNA(VLOOKUP($DC268,'Audit Values'!$A$2:$AE$252,2,FALSE)),'Preliminary SO66'!X265,VLOOKUP($DC268,'Audit Values'!$A$2:$AE$252,24,FALSE))","v":1},2187138,{"$f":"AP268/Weightings!$M$5","v":567.79999999999995},3802.2,4370,4370,0,{"$f":"IF(ISNA(VLOOKUP($DC268,'Audit Values'!$A$2:$AC$299,2,FALSE)),\"\",IF(AND(Weightings!H268>0,VLOOKUP($DC268,'Audit Values'!$A$2:$AC$299,29,FALSE)<Weightings!H268),Weightings!H268,VLOOKUP($DC268,'Audit Values'!$A$2:$AC$299,29,FALSE)))","v":10},{"$f":"IF(ISNA(VLOOKUP($DC268,'Audit Values'!$A$2:$AD$299,2,FALSE)),\"\",VLOOKUP($DC268,'Audit Values'!$A$2:$AD$299,30,FALSE))","v":"A"},{"$f":"IF(Weightings!G268=\"\",\"\",IF(Weightings!I268=\"Pending\",\"PX\",\"R\"))","v":""},{"$f":"AR268*Weightings!$M$5+AU268","v":14646074},{"$f":"AT268*Weightings!$M$5+AU268","v":16833240},{"$f":"IF(Weightings!G268>0,Weightings!G268,'Preliminary SO66'!AB265)","v":19373317},315086,1661747,0,17396484,16833240,null,{"$f":"Weightings!E268","v":0},{"$f":"Weightings!F268","v":0},0,16833240,{"$f":"MAX(ROUND(((AR268-AN268-AO268)*Weightings!$M$12)+'2016legmax.xls'!AP268,0),ROUND((('2016legmax.xls'!AR268-'2016legmax.xls'!AN268-'2016legmax.xls'!AO268)*Weightings!$M$12)+Weightings!B268,0))","v":19708308},0.3,5912492,5850530,5850530,0.2969,0,false,0,0,0,false,0,0,0,98.4,380.5,1.73,{"$f":"IF(ROUND((Weightings!$P$5*CC268^Weightings!$P$6*Weightings!$P$8 ),2)<Weightings!$P$7,Weightings!$P$7,ROUND((Weightings!$P$5*CC268^Weightings!$P$6*Weightings!$P$8 ),2))","v":956.24},{"$f":"ROUND(CD268/Weightings!$M$5,4)","v":0.2482},163.30000000000001,0,483454,0,4.1000000000000003E-3,{"$f":"AS268*Weightings!$M$5*CJ268","v":69016},0,0.33200000000000002,7.4,0,0,0,{"$f":"IF(ISNA(VLOOKUP($DC268,'Audit Values'!$A$2:$AE$252,2,FALSE)),'Preliminary SO66'!T265,VLOOKUP($DC268,'Audit Values'!$A$2:$AE$252,20,FALSE))","v":28},{"$f":"IF(ISNA(VLOOKUP($DC268,'Audit Values'!$A$2:$AE$252,21,FALSE)),'Preliminary SO66'!U265,VLOOKUP($DC268,'Audit Values'!$A$2:$AE$252,21,FALSE))","v":5.5},72,105.5,null,null,null,null,null,null,null,"D0489"]
[490,"Butler","El Dorado ",1849.6,0,1849.6,1851,0,1851,1868,{"$f":"IF(ISNA(VLOOKUP($DC269,'Audit Values'!$A$2:$AE$252,2,FALSE)),'Preliminary SO66'!B266,VLOOKUP($DC269,'Audit Values'!$A$2:$AE$252,31,FALSE))","v":1834},1851,{"$f":"IF(ISNA(VLOOKUP($DC269,'Audit Values'!$A$2:$AE$252,2,FALSE)),'Preliminary SO66'!Z266,VLOOKUP($DC269,'Audit Values'!$A$2:$AE$252,26,FALSE))","v":0},1851,{"$f":"IF(ISNA(VLOOKUP($DC269,'Audit Values'!$A$2:$AE$252,2,FALSE)),'Preliminary SO66'!C266,IF(VLOOKUP($DC269,'Audit Values'!$A$2:$AE$252,28,FALSE)=\"\",VLOOKUP($DC269,'Audit Values'!$A$2:$AE$252,3,FALSE),VLOOKUP($DC269,'Audit Values'!$A$2:$AE$252,28,FALSE)))","v":15},1849,1883,1883,1866,34,65.400000000000006,0,65.400000000000006,{"$f":"IF(ISNA(VLOOKUP($DC269,'Audit Values'!$A$2:$AE$252,2,FALSE)),'Preliminary SO66'!D266,VLOOKUP($DC269,'Audit Values'!$A$2:$AE$252,4,FALSE))","v":502.5},{"$f":"ROUND((X269/6)*Weightings!$M$6,1)","v":41.9},{"$f":"IF(ISNA(VLOOKUP($DC269,'Audit Values'!$A$2:$AE$252,2,FALSE)),'Preliminary SO66'!F266,VLOOKUP($DC269,'Audit Values'!$A$2:$AE$252,6,FALSE))","v":17.100000000000001},{"$f":"ROUND((Z269/6)*Weightings!$M$7,1)","v":1.1000000000000001},{"$f":"IF(ISNA(VLOOKUP($DC269,'Audit Values'!$A$2:$AE$252,2,FALSE)),'Preliminary SO66'!H266,VLOOKUP($DC269,'Audit Values'!$A$2:$AE$252,9,FALSE))","v":944},{"$f":"ROUND(AB269*Weightings!$M$8,1)","v":430.5},99.1,0,{"$f":"AE269*Weightings!$M$9","v":0},{"$f":"IF(ISNA(VLOOKUP($DC269,'Audit Values'!$A$2:$AE$252,2,FALSE)),'Preliminary SO66'!L266,VLOOKUP($DC269,'Audit Values'!$A$2:$AE$252,12,FALSE))","v":389},{"$f":"ROUND(AG269*Weightings!$M$10,1)","v":97.3},{"$f":"IF(ISNA(VLOOKUP($DC269,'Audit Values'!$A$2:$AE$252,2,FALSE)),'Preliminary SO66'!O266,VLOOKUP($DC269,'Audit Values'!$A$2:$AE$252,15,FALSE))","v":623},122.4,{"$f":"CG269/Weightings!$M$5","v":0},{"$f":"CH269/Weightings!$M$5","v":0},{"$f":"CL269/Weightings!$M$5","v":0},35.700000000000003,{"$f":"IF(ISNA(VLOOKUP($DC269,'Audit Values'!$A$2:$AE$252,2,FALSE)),'Preliminary SO66'!X266,VLOOKUP($DC269,'Audit Values'!$A$2:$AE$252,24,FALSE))","v":0},1483129,{"$f":"AP269/Weightings!$M$5","v":385},2759.4,3144.4,3144.4,0,{"$f":"IF(ISNA(VLOOKUP($DC269,'Audit Values'!$A$2:$AC$299,2,FALSE)),\"\",IF(AND(Weightings!H269>0,VLOOKUP($DC269,'Audit Values'!$A$2:$AC$299,29,FALSE)<Weightings!H269),Weightings!H269,VLOOKUP($DC269,'Audit Values'!$A$2:$AC$299,29,FALSE)))","v":14},{"$f":"IF(ISNA(VLOOKUP($DC269,'Audit Values'!$A$2:$AD$299,2,FALSE)),\"\",VLOOKUP($DC269,'Audit Values'!$A$2:$AD$299,30,FALSE))","v":"A"},{"$f":"IF(Weightings!G269=\"\",\"\",IF(Weightings!I269=\"Pending\",\"PX\",\"R\"))","v":""},{"$f":"AR269*Weightings!$M$5+AU269","v":10629209},{"$f":"AT269*Weightings!$M$5+AU269","v":12112229},{"$f":"IF(Weightings!G269>0,Weightings!G269,'Preliminary SO66'!AB266)","v":14733144},762578,833780,0,13136786,12112229,null,{"$f":"Weightings!E269","v":0},{"$f":"Weightings!F269","v":0},0,12112229,{"$f":"MAX(ROUND(((AR269-AN269-AO269)*Weightings!$M$12)+'2016legmax.xls'!AP269,0),ROUND((('2016legmax.xls'!AR269-'2016legmax.xls'!AN269-'2016legmax.xls'!AO269)*Weightings!$M$12)+Weightings!B269,0))","v":14112815},0.3,4233845,4168515,4168515,0.2954,0,false,0,0,0,false,0,0,0,65.400000000000006,128,4.87,{"$f":"IF(ROUND((Weightings!$P$5*CC269^Weightings!$P$6*Weightings!$P$8 ),2)<Weightings!$P$7,Weightings!$P$7,ROUND((Weightings!$P$5*CC269^Weightings!$P$6*Weightings!$P$8 ),2))","v":756.64},{"$f":"ROUND(CD269/Weightings!$M$5,4)","v":0.19639999999999999},122.4,0,0,0,0,{"$f":"AS269*Weightings!$M$5*CJ269","v":0},0,0.50600000000000001,14.6,99.1,0,0,{"$f":"IF(ISNA(VLOOKUP($DC269,'Audit Values'!$A$2:$AE$252,2,FALSE)),'Preliminary SO66'!T266,VLOOKUP($DC269,'Audit Values'!$A$2:$AE$252,20,FALSE))","v":8},{"$f":"IF(ISNA(VLOOKUP($DC269,'Audit Values'!$A$2:$AE$252,21,FALSE)),'Preliminary SO66'!U266,VLOOKUP($DC269,'Audit Values'!$A$2:$AE$252,21,FALSE))","v":0},26,34,null,null,null,null,null,null,null,"D0490"]
[491,"Douglas","Eudora ",1571.7,0,1571.7,1589.7,0,1589.7,1662.8,{"$f":"IF(ISNA(VLOOKUP($DC270,'Audit Values'!$A$2:$AE$252,2,FALSE)),'Preliminary SO66'!B267,VLOOKUP($DC270,'Audit Values'!$A$2:$AE$252,31,FALSE))","v":1629.7},1629.7,{"$f":"IF(ISNA(VLOOKUP($DC270,'Audit Values'!$A$2:$AE$252,2,FALSE)),'Preliminary SO66'!Z267,VLOOKUP($DC270,'Audit Values'!$A$2:$AE$252,26,FALSE))","v":0},1629.7,{"$f":"IF(ISNA(VLOOKUP($DC270,'Audit Values'!$A$2:$AE$252,2,FALSE)),'Preliminary SO66'!C267,IF(VLOOKUP($DC270,'Audit Values'!$A$2:$AE$252,28,FALSE)=\"\",VLOOKUP($DC270,'Audit Values'!$A$2:$AE$252,3,FALSE),VLOOKUP($DC270,'Audit Values'!$A$2:$AE$252,28,FALSE)))","v":0},1629.7,1662.8,1662.8,1629.7,33.1,57.1,0,57.1,{"$f":"IF(ISNA(VLOOKUP($DC270,'Audit Values'!$A$2:$AE$252,2,FALSE)),'Preliminary SO66'!D267,VLOOKUP($DC270,'Audit Values'!$A$2:$AE$252,4,FALSE))","v":545},{"$f":"ROUND((X270/6)*Weightings!$M$6,1)","v":45.4},{"$f":"IF(ISNA(VLOOKUP($DC270,'Audit Values'!$A$2:$AE$252,2,FALSE)),'Preliminary SO66'!F267,VLOOKUP($DC270,'Audit Values'!$A$2:$AE$252,6,FALSE))","v":12},{"$f":"ROUND((Z270/6)*Weightings!$M$7,1)","v":0.8},{"$f":"IF(ISNA(VLOOKUP($DC270,'Audit Values'!$A$2:$AE$252,2,FALSE)),'Preliminary SO66'!H267,VLOOKUP($DC270,'Audit Values'!$A$2:$AE$252,9,FALSE))","v":504},{"$f":"ROUND(AB270*Weightings!$M$8,1)","v":229.8},0,0,{"$f":"AE270*Weightings!$M$9","v":0},{"$f":"IF(ISNA(VLOOKUP($DC270,'Audit Values'!$A$2:$AE$252,2,FALSE)),'Preliminary SO66'!L267,VLOOKUP($DC270,'Audit Values'!$A$2:$AE$252,12,FALSE))","v":0},{"$f":"ROUND(AG270*Weightings!$M$10,1)","v":0},{"$f":"IF(ISNA(VLOOKUP($DC270,'Audit Values'!$A$2:$AE$252,2,FALSE)),'Preliminary SO66'!O267,VLOOKUP($DC270,'Audit Values'!$A$2:$AE$252,15,FALSE))","v":171},36.9,{"$f":"CG270/Weightings!$M$5","v":0},{"$f":"CH270/Weightings!$M$5","v":0},{"$f":"CL270/Weightings!$M$5","v":0},34.799999999999997,{"$f":"IF(ISNA(VLOOKUP($DC270,'Audit Values'!$A$2:$AE$252,2,FALSE)),'Preliminary SO66'!X267,VLOOKUP($DC270,'Audit Values'!$A$2:$AE$252,24,FALSE))","v":0},1601883,{"$f":"AP270/Weightings!$M$5","v":415.9},2034.5,2450.4,2450.4,0,{"$f":"IF(ISNA(VLOOKUP($DC270,'Audit Values'!$A$2:$AC$299,2,FALSE)),\"\",IF(AND(Weightings!H270>0,VLOOKUP($DC270,'Audit Values'!$A$2:$AC$299,29,FALSE)<Weightings!H270),Weightings!H270,VLOOKUP($DC270,'Audit Values'!$A$2:$AC$299,29,FALSE)))","v":2},{"$f":"IF(ISNA(VLOOKUP($DC270,'Audit Values'!$A$2:$AD$299,2,FALSE)),\"\",VLOOKUP($DC270,'Audit Values'!$A$2:$AD$299,30,FALSE))","v":"A"},{"$f":"IF(Weightings!G270=\"\",\"\",IF(Weightings!I270=\"Pending\",\"PX\",\"R\"))","v":""},{"$f":"AR270*Weightings!$M$5+AU270","v":7836894},{"$f":"AT270*Weightings!$M$5+AU270","v":9438941},{"$f":"IF(Weightings!G270>0,Weightings!G270,'Preliminary SO66'!AB267)","v":12639211},2064374,729984,184564,9660289,9438941,null,{"$f":"Weightings!E270","v":0},{"$f":"Weightings!F270","v":0},0,9438941,{"$f":"MAX(ROUND(((AR270-AN270-AO270)*Weightings!$M$12)+'2016legmax.xls'!AP270,0),ROUND((('2016legmax.xls'!AR270-'2016legmax.xls'!AN270-'2016legmax.xls'!AO270)*Weightings!$M$12)+Weightings!B270,0))","v":10580536},0.3,3174161,3093344,3093344,0.29239999999999999,0,false,0,0,0,false,0,0,0,57.1,53,3.23,{"$f":"IF(ROUND((Weightings!$P$5*CC270^Weightings!$P$6*Weightings!$P$8 ),2)<Weightings!$P$7,Weightings!$P$7,ROUND((Weightings!$P$5*CC270^Weightings!$P$6*Weightings!$P$8 ),2))","v":830.29},{"$f":"ROUND(CD270/Weightings!$M$5,4)","v":0.2155},36.9,0,0,0,0,{"$f":"AS270*Weightings!$M$5*CJ270","v":0},0,0.309,30.7,0,0,0,{"$f":"IF(ISNA(VLOOKUP($DC270,'Audit Values'!$A$2:$AE$252,2,FALSE)),'Preliminary SO66'!T267,VLOOKUP($DC270,'Audit Values'!$A$2:$AE$252,20,FALSE))","v":21},{"$f":"IF(ISNA(VLOOKUP($DC270,'Audit Values'!$A$2:$AE$252,21,FALSE)),'Preliminary SO66'!U267,VLOOKUP($DC270,'Audit Values'!$A$2:$AE$252,21,FALSE))","v":3.1},9,33.1,null,null,null,null,null,null,null,"D0491"]
[492,"Butler","Flinthills ",264.89999999999998,0,264.89999999999998,254.3,0,254.3,251.4,{"$f":"IF(ISNA(VLOOKUP($DC271,'Audit Values'!$A$2:$AE$252,2,FALSE)),'Preliminary SO66'!B268,VLOOKUP($DC271,'Audit Values'!$A$2:$AE$252,31,FALSE))","v":250.4},256.5,{"$f":"IF(ISNA(VLOOKUP($DC271,'Audit Values'!$A$2:$AE$252,2,FALSE)),'Preliminary SO66'!Z268,VLOOKUP($DC271,'Audit Values'!$A$2:$AE$252,26,FALSE))","v":0},256.5,{"$f":"IF(ISNA(VLOOKUP($DC271,'Audit Values'!$A$2:$AE$252,2,FALSE)),'Preliminary SO66'!C268,IF(VLOOKUP($DC271,'Audit Values'!$A$2:$AE$252,28,FALSE)=\"\",VLOOKUP($DC271,'Audit Values'!$A$2:$AE$252,3,FALSE),VLOOKUP($DC271,'Audit Values'!$A$2:$AE$252,28,FALSE)))","v":0},250.4,251.4,251.4,256.5,1,153.80000000000001,153.80000000000001,0,{"$f":"IF(ISNA(VLOOKUP($DC271,'Audit Values'!$A$2:$AE$252,2,FALSE)),'Preliminary SO66'!D268,VLOOKUP($DC271,'Audit Values'!$A$2:$AE$252,4,FALSE))","v":79.400000000000006},{"$f":"ROUND((X271/6)*Weightings!$M$6,1)","v":6.6},{"$f":"IF(ISNA(VLOOKUP($DC271,'Audit Values'!$A$2:$AE$252,2,FALSE)),'Preliminary SO66'!F268,VLOOKUP($DC271,'Audit Values'!$A$2:$AE$252,6,FALSE))","v":10.8},{"$f":"ROUND((Z271/6)*Weightings!$M$7,1)","v":0.7},{"$f":"IF(ISNA(VLOOKUP($DC271,'Audit Values'!$A$2:$AE$252,2,FALSE)),'Preliminary SO66'!H268,VLOOKUP($DC271,'Audit Values'!$A$2:$AE$252,9,FALSE))","v":80},{"$f":"ROUND(AB271*Weightings!$M$8,1)","v":36.5},0,0,{"$f":"AE271*Weightings!$M$9","v":0},{"$f":"IF(ISNA(VLOOKUP($DC271,'Audit Values'!$A$2:$AE$252,2,FALSE)),'Preliminary SO66'!L268,VLOOKUP($DC271,'Audit Values'!$A$2:$AE$252,12,FALSE))","v":0},{"$f":"ROUND(AG271*Weightings!$M$10,1)","v":0},{"$f":"IF(ISNA(VLOOKUP($DC271,'Audit Values'!$A$2:$AE$252,2,FALSE)),'Preliminary SO66'!O268,VLOOKUP($DC271,'Audit Values'!$A$2:$AE$252,15,FALSE))","v":141},49.9,{"$f":"CG271/Weightings!$M$5","v":0},{"$f":"CH271/Weightings!$M$5","v":0},{"$f":"CL271/Weightings!$M$5","v":0},1.1000000000000001,{"$f":"IF(ISNA(VLOOKUP($DC271,'Audit Values'!$A$2:$AE$252,2,FALSE)),'Preliminary SO66'!X268,VLOOKUP($DC271,'Audit Values'!$A$2:$AE$252,24,FALSE))","v":0},317500,{"$f":"AP271/Weightings!$M$5","v":82.4},505.1,587.5,587.5,0,{"$f":"IF(ISNA(VLOOKUP($DC271,'Audit Values'!$A$2:$AC$299,2,FALSE)),\"\",IF(AND(Weightings!H271>0,VLOOKUP($DC271,'Audit Values'!$A$2:$AC$299,29,FALSE)<Weightings!H271),Weightings!H271,VLOOKUP($DC271,'Audit Values'!$A$2:$AC$299,29,FALSE)))","v":14},{"$f":"IF(ISNA(VLOOKUP($DC271,'Audit Values'!$A$2:$AD$299,2,FALSE)),\"\",VLOOKUP($DC271,'Audit Values'!$A$2:$AD$299,30,FALSE))","v":"A"},{"$f":"IF(Weightings!G271=\"\",\"\",IF(Weightings!I271=\"Pending\",\"PX\",\"R\"))","v":""},{"$f":"AR271*Weightings!$M$5+AU271","v":1945645},{"$f":"AT271*Weightings!$M$5+AU271","v":2263050},{"$f":"IF(Weightings!G271>0,Weightings!G271,'Preliminary SO66'!AB268)","v":2808613},341887,162665,11737,2292324,2263050,null,{"$f":"Weightings!E271","v":0},{"$f":"Weightings!F271","v":0},0,2263050,{"$f":"MAX(ROUND(((AR271-AN271-AO271)*Weightings!$M$12)+'2016legmax.xls'!AP271,0),ROUND((('2016legmax.xls'!AR271-'2016legmax.xls'!AN271-'2016legmax.xls'!AO271)*Weightings!$M$12)+Weightings!B271,0))","v":2580460},0.3,774138,759020,759020,0.29409999999999997,0,true,1511.008,0.59949300000000005,153.80000000000001,false,0,0,0,0,389,0.36,{"$f":"IF(ROUND((Weightings!$P$5*CC271^Weightings!$P$6*Weightings!$P$8 ),2)<Weightings!$P$7,Weightings!$P$7,ROUND((Weightings!$P$5*CC271^Weightings!$P$6*Weightings!$P$8 ),2))","v":1363.9},{"$f":"ROUND(CD271/Weightings!$M$5,4)","v":0.35410000000000003},49.9,0,0,0,0,{"$f":"AS271*Weightings!$M$5*CJ271","v":0},0,0.312,0.7,0,0,0,{"$f":"IF(ISNA(VLOOKUP($DC271,'Audit Values'!$A$2:$AE$252,2,FALSE)),'Preliminary SO66'!T268,VLOOKUP($DC271,'Audit Values'!$A$2:$AE$252,20,FALSE))","v":1},{"$f":"IF(ISNA(VLOOKUP($DC271,'Audit Values'!$A$2:$AE$252,21,FALSE)),'Preliminary SO66'!U268,VLOOKUP($DC271,'Audit Values'!$A$2:$AE$252,21,FALSE))","v":0},0,1,null,null,null,null,null,null,null,"D0492"]
[493,"Cherokee","Columbus ",972.5,0,{"$f":"D272+E272","v":972.5},960.4,0,960.4,919,{"$f":"IF(ISNA(VLOOKUP($DC272,'Audit Values'!$A$2:$AE$252,2,FALSE)),'Preliminary SO66'!B269,VLOOKUP($DC272,'Audit Values'!$A$2:$AE$252,31,FALSE))","v":919},960.4,{"$f":"IF(ISNA(VLOOKUP($DC272,'Audit Values'!$A$2:$AE$252,2,FALSE)),'Preliminary SO66'!Z269,VLOOKUP($DC272,'Audit Values'!$A$2:$AE$252,26,FALSE))","v":0},960.4,{"$f":"IF(ISNA(VLOOKUP($DC272,'Audit Values'!$A$2:$AE$252,2,FALSE)),'Preliminary SO66'!C269,IF(VLOOKUP($DC272,'Audit Values'!$A$2:$AE$252,28,FALSE)=\"\",VLOOKUP($DC272,'Audit Values'!$A$2:$AE$252,3,FALSE),VLOOKUP($DC272,'Audit Values'!$A$2:$AE$252,28,FALSE)))","v":12},931,931,931,972.4,0,248.7,248.7,0,{"$f":"IF(ISNA(VLOOKUP($DC272,'Audit Values'!$A$2:$AE$252,2,FALSE)),'Preliminary SO66'!D269,VLOOKUP($DC272,'Audit Values'!$A$2:$AE$252,4,FALSE))","v":322.2},{"$f":"ROUND((X272/6)*Weightings!$M$6,1)","v":26.9},{"$f":"IF(ISNA(VLOOKUP($DC272,'Audit Values'!$A$2:$AE$252,2,FALSE)),'Preliminary SO66'!F269,VLOOKUP($DC272,'Audit Values'!$A$2:$AE$252,6,FALSE))","v":0},{"$f":"ROUND((Z272/6)*Weightings!$M$7,1)","v":0},{"$f":"IF(ISNA(VLOOKUP($DC272,'Audit Values'!$A$2:$AE$252,2,FALSE)),'Preliminary SO66'!H269,VLOOKUP($DC272,'Audit Values'!$A$2:$AE$252,9,FALSE))","v":448},{"$f":"ROUND(AB272*Weightings!$M$8,1)","v":204.3},34.799999999999997,0,{"$f":"AE272*Weightings!$M$9","v":0},{"$f":"IF(ISNA(VLOOKUP($DC272,'Audit Values'!$A$2:$AE$252,2,FALSE)),'Preliminary SO66'!L269,VLOOKUP($DC272,'Audit Values'!$A$2:$AE$252,12,FALSE))","v":0},{"$f":"ROUND(AG272*Weightings!$M$10,1)","v":0},{"$f":"IF(ISNA(VLOOKUP($DC272,'Audit Values'!$A$2:$AE$252,2,FALSE)),'Preliminary SO66'!O269,VLOOKUP($DC272,'Audit Values'!$A$2:$AE$252,15,FALSE))","v":342},96.8,{"$f":"CG272/Weightings!$M$5","v":0},{"$f":"CH272/Weightings!$M$5","v":0},{"$f":"CL272/Weightings!$M$5","v":0},0,{"$f":"IF(ISNA(VLOOKUP($DC272,'Audit Values'!$A$2:$AE$252,2,FALSE)),'Preliminary SO66'!X269,VLOOKUP($DC272,'Audit Values'!$A$2:$AE$252,24,FALSE))","v":0},980573,{"$f":"AP272/Weightings!$M$5","v":254.6},1583.9,1838.5,1838.5,0,{"$f":"IF(ISNA(VLOOKUP($DC272,'Audit Values'!$A$2:$AC$299,2,FALSE)),\"\",IF(AND(Weightings!H272>0,VLOOKUP($DC272,'Audit Values'!$A$2:$AC$299,29,FALSE)<Weightings!H272),Weightings!H272,VLOOKUP($DC272,'Audit Values'!$A$2:$AC$299,29,FALSE)))","v":2},{"$f":"IF(ISNA(VLOOKUP($DC272,'Audit Values'!$A$2:$AD$299,2,FALSE)),\"\",VLOOKUP($DC272,'Audit Values'!$A$2:$AD$299,30,FALSE))","v":"A"},{"$f":"IF(Weightings!G272=\"\",\"\",IF(Weightings!I272=\"Pending\",\"PX\",\"R\"))","v":""},{"$f":"AR272*Weightings!$M$5+AU272","v":6101183},{"$f":"AT272*Weightings!$M$5+AU272","v":7081902},{"$f":"IF(Weightings!G272>0,Weightings!G272,'Preliminary SO66'!AB269)","v":9412145},1150759,653177,42313,7565896,7081902,null,{"$f":"Weightings!E272","v":0},{"$f":"Weightings!F272","v":0},0,7081902,{"$f":"MAX(ROUND(((AR272-AN272-AO272)*Weightings!$M$12)+'2016legmax.xls'!AP272,0),ROUND((('2016legmax.xls'!AR272-'2016legmax.xls'!AN272-'2016legmax.xls'!AO272)*Weightings!$M$12)+Weightings!B272,0))","v":8158886},0.3,2447666,2496158,2447666,0.3,0,false,0,0,0,true,832.09500000000003,0.25573899999999999,248.7,0,354,0.97,{"$f":"IF(ROUND((Weightings!$P$5*CC272^Weightings!$P$6*Weightings!$P$8 ),2)<Weightings!$P$7,Weightings!$P$7,ROUND((Weightings!$P$5*CC272^Weightings!$P$6*Weightings!$P$8 ),2))","v":1089.95},{"$f":"ROUND(CD272/Weightings!$M$5,4)","v":0.28299999999999997},96.8,0,0,0,0,{"$f":"AS272*Weightings!$M$5*CJ272","v":0},0,0.46100000000000002,2.7,0,0,34.799999999999997,{"$f":"IF(ISNA(VLOOKUP($DC272,'Audit Values'!$A$2:$AE$252,2,FALSE)),'Preliminary SO66'!T269,VLOOKUP($DC272,'Audit Values'!$A$2:$AE$252,20,FALSE))","v":0},{"$f":"IF(ISNA(VLOOKUP($DC272,'Audit Values'!$A$2:$AE$252,21,FALSE)),'Preliminary SO66'!U269,VLOOKUP($DC272,'Audit Values'!$A$2:$AE$252,21,FALSE))","v":0},0,0,null,null,null,null,null,null,null,"D0493"]
[494,"Hamilton","Syracuse ",470,0,470,490.5,0,490.5,495,{"$f":"IF(ISNA(VLOOKUP($DC273,'Audit Values'!$A$2:$AE$252,2,FALSE)),'Preliminary SO66'!B270,VLOOKUP($DC273,'Audit Values'!$A$2:$AE$252,31,FALSE))","v":495},495,{"$f":"IF(ISNA(VLOOKUP($DC273,'Audit Values'!$A$2:$AE$252,2,FALSE)),'Preliminary SO66'!Z270,VLOOKUP($DC273,'Audit Values'!$A$2:$AE$252,26,FALSE))","v":0},495,{"$f":"IF(ISNA(VLOOKUP($DC273,'Audit Values'!$A$2:$AE$252,2,FALSE)),'Preliminary SO66'!C270,IF(VLOOKUP($DC273,'Audit Values'!$A$2:$AE$252,28,FALSE)=\"\",VLOOKUP($DC273,'Audit Values'!$A$2:$AE$252,3,FALSE),VLOOKUP($DC273,'Audit Values'!$A$2:$AE$252,28,FALSE)))","v":7.5},502.5,502.5,502.5,502.5,0,208.7,208.7,0,{"$f":"IF(ISNA(VLOOKUP($DC273,'Audit Values'!$A$2:$AE$252,2,FALSE)),'Preliminary SO66'!D270,VLOOKUP($DC273,'Audit Values'!$A$2:$AE$252,4,FALSE))","v":178.3},{"$f":"ROUND((X273/6)*Weightings!$M$6,1)","v":14.9},{"$f":"IF(ISNA(VLOOKUP($DC273,'Audit Values'!$A$2:$AE$252,2,FALSE)),'Preliminary SO66'!F270,VLOOKUP($DC273,'Audit Values'!$A$2:$AE$252,6,FALSE))","v":677.8},{"$f":"ROUND((Z273/6)*Weightings!$M$7,1)","v":44.6},{"$f":"IF(ISNA(VLOOKUP($DC273,'Audit Values'!$A$2:$AE$252,2,FALSE)),'Preliminary SO66'!H270,VLOOKUP($DC273,'Audit Values'!$A$2:$AE$252,9,FALSE))","v":285},{"$f":"ROUND(AB273*Weightings!$M$8,1)","v":130},29.9,0,{"$f":"AE273*Weightings!$M$9","v":0},{"$f":"IF(ISNA(VLOOKUP($DC273,'Audit Values'!$A$2:$AE$252,2,FALSE)),'Preliminary SO66'!L270,VLOOKUP($DC273,'Audit Values'!$A$2:$AE$252,12,FALSE))","v":11.4},{"$f":"ROUND(AG273*Weightings!$M$10,1)","v":2.9},{"$f":"IF(ISNA(VLOOKUP($DC273,'Audit Values'!$A$2:$AE$252,2,FALSE)),'Preliminary SO66'!O270,VLOOKUP($DC273,'Audit Values'!$A$2:$AE$252,15,FALSE))","v":85.5},41.4,{"$f":"CG273/Weightings!$M$5","v":0},{"$f":"CH273/Weightings!$M$5","v":0},{"$f":"CL273/Weightings!$M$5","v":0},0,{"$f":"IF(ISNA(VLOOKUP($DC273,'Audit Values'!$A$2:$AE$252,2,FALSE)),'Preliminary SO66'!X270,VLOOKUP($DC273,'Audit Values'!$A$2:$AE$252,24,FALSE))","v":0},267237,{"$f":"AP273/Weightings!$M$5","v":69.400000000000006},974.9,1044.3,1044.3,0,{"$f":"IF(ISNA(VLOOKUP($DC273,'Audit Values'!$A$2:$AC$299,2,FALSE)),\"\",IF(AND(Weightings!H273>0,VLOOKUP($DC273,'Audit Values'!$A$2:$AC$299,29,FALSE)<Weightings!H273),Weightings!H273,VLOOKUP($DC273,'Audit Values'!$A$2:$AC$299,29,FALSE)))","v":12},{"$f":"IF(ISNA(VLOOKUP($DC273,'Audit Values'!$A$2:$AD$299,2,FALSE)),\"\",VLOOKUP($DC273,'Audit Values'!$A$2:$AD$299,30,FALSE))","v":"A"},{"$f":"IF(Weightings!G273=\"\",\"\",IF(Weightings!I273=\"Pending\",\"PX\",\"R\"))","v":""},{"$f":"AR273*Weightings!$M$5+AU273","v":3755315},{"$f":"AT273*Weightings!$M$5+AU273","v":4022644},{"$f":"IF(Weightings!G273>0,Weightings!G273,'Preliminary SO66'!AB270)","v":4733752},212394,234176,0,4287182,4022644,null,{"$f":"Weightings!E273","v":0},{"$f":"Weightings!F273","v":0},0,4022644,{"$f":"MAX(ROUND(((AR273-AN273-AO273)*Weightings!$M$12)+'2016legmax.xls'!AP273,0),ROUND((('2016legmax.xls'!AR273-'2016legmax.xls'!AN273-'2016legmax.xls'!AO273)*Weightings!$M$12)+Weightings!B273,0))","v":4675145},0.3,1402544,1423018,1402544,0.3,0,false,0,0,0,true,250.59379999999999,0.41538700000000001,208.7,0,992,0.09,{"$f":"IF(ROUND((Weightings!$P$5*CC273^Weightings!$P$6*Weightings!$P$8 ),2)<Weightings!$P$7,Weightings!$P$7,ROUND((Weightings!$P$5*CC273^Weightings!$P$6*Weightings!$P$8 ),2))","v":1866.26},{"$f":"ROUND(CD273/Weightings!$M$5,4)","v":0.48449999999999999},41.4,0,0,0,0,{"$f":"AS273*Weightings!$M$5*CJ273","v":0},0,0.56699999999999995,0.5,29.9,0,0,{"$f":"IF(ISNA(VLOOKUP($DC273,'Audit Values'!$A$2:$AE$252,2,FALSE)),'Preliminary SO66'!T270,VLOOKUP($DC273,'Audit Values'!$A$2:$AE$252,20,FALSE))","v":0},{"$f":"IF(ISNA(VLOOKUP($DC273,'Audit Values'!$A$2:$AE$252,21,FALSE)),'Preliminary SO66'!U270,VLOOKUP($DC273,'Audit Values'!$A$2:$AE$252,21,FALSE))","v":0},0,0,null,null,null,null,null,null,null,"D0494"]
[495,"Pawnee","Ft Larned ",906.9,0,906.9,864.8,0,864.8,839.5,{"$f":"IF(ISNA(VLOOKUP($DC274,'Audit Values'!$A$2:$AE$252,2,FALSE)),'Preliminary SO66'!B271,VLOOKUP($DC274,'Audit Values'!$A$2:$AE$252,31,FALSE))","v":839.5},870.4,{"$f":"IF(ISNA(VLOOKUP($DC274,'Audit Values'!$A$2:$AE$252,2,FALSE)),'Preliminary SO66'!Z271,VLOOKUP($DC274,'Audit Values'!$A$2:$AE$252,26,FALSE))","v":0},870.4,{"$f":"IF(ISNA(VLOOKUP($DC274,'Audit Values'!$A$2:$AE$252,2,FALSE)),'Preliminary SO66'!C271,IF(VLOOKUP($DC274,'Audit Values'!$A$2:$AE$252,28,FALSE)=\"\",VLOOKUP($DC274,'Audit Values'!$A$2:$AE$252,3,FALSE),VLOOKUP($DC274,'Audit Values'!$A$2:$AE$252,28,FALSE)))","v":15},854.5,854.5,854.5,885.4,0,252.6,252.6,0,{"$f":"IF(ISNA(VLOOKUP($DC274,'Audit Values'!$A$2:$AE$252,2,FALSE)),'Preliminary SO66'!D271,VLOOKUP($DC274,'Audit Values'!$A$2:$AE$252,4,FALSE))","v":345},{"$f":"ROUND((X274/6)*Weightings!$M$6,1)","v":28.8},{"$f":"IF(ISNA(VLOOKUP($DC274,'Audit Values'!$A$2:$AE$252,2,FALSE)),'Preliminary SO66'!F271,VLOOKUP($DC274,'Audit Values'!$A$2:$AE$252,6,FALSE))","v":24.4},{"$f":"ROUND((Z274/6)*Weightings!$M$7,1)","v":1.6},{"$f":"IF(ISNA(VLOOKUP($DC274,'Audit Values'!$A$2:$AE$252,2,FALSE)),'Preliminary SO66'!H271,VLOOKUP($DC274,'Audit Values'!$A$2:$AE$252,9,FALSE))","v":377},{"$f":"ROUND(AB274*Weightings!$M$8,1)","v":171.9},20.100000000000001,0,{"$f":"AE274*Weightings!$M$9","v":0},{"$f":"IF(ISNA(VLOOKUP($DC274,'Audit Values'!$A$2:$AE$252,2,FALSE)),'Preliminary SO66'!L271,VLOOKUP($DC274,'Audit Values'!$A$2:$AE$252,12,FALSE))","v":0},{"$f":"ROUND(AG274*Weightings!$M$10,1)","v":0},{"$f":"IF(ISNA(VLOOKUP($DC274,'Audit Values'!$A$2:$AE$252,2,FALSE)),'Preliminary SO66'!O271,VLOOKUP($DC274,'Audit Values'!$A$2:$AE$252,15,FALSE))","v":198},69.3,{"$f":"CG274/Weightings!$M$5","v":0},{"$f":"CH274/Weightings!$M$5","v":0},{"$f":"CL274/Weightings!$M$5","v":0},0,{"$f":"IF(ISNA(VLOOKUP($DC274,'Audit Values'!$A$2:$AE$252,2,FALSE)),'Preliminary SO66'!X271,VLOOKUP($DC274,'Audit Values'!$A$2:$AE$252,24,FALSE))","v":0},1044763,{"$f":"AP274/Weightings!$M$5","v":271.2},1429.7,1700.9,1700.9,0,{"$f":"IF(ISNA(VLOOKUP($DC274,'Audit Values'!$A$2:$AC$299,2,FALSE)),\"\",IF(AND(Weightings!H274>0,VLOOKUP($DC274,'Audit Values'!$A$2:$AC$299,29,FALSE)<Weightings!H274),Weightings!H274,VLOOKUP($DC274,'Audit Values'!$A$2:$AC$299,29,FALSE)))","v":15},{"$f":"IF(ISNA(VLOOKUP($DC274,'Audit Values'!$A$2:$AD$299,2,FALSE)),\"\",VLOOKUP($DC274,'Audit Values'!$A$2:$AD$299,30,FALSE))","v":"A"},{"$f":"IF(Weightings!G274=\"\",\"\",IF(Weightings!I274=\"Pending\",\"PX\",\"R\"))","v":""},{"$f":"AR274*Weightings!$M$5+AU274","v":5507204},{"$f":"AT274*Weightings!$M$5+AU274","v":6551867},{"$f":"IF(Weightings!G274>0,Weightings!G274,'Preliminary SO66'!AB271)","v":9385795},1118037,688907,91624,7487227,6551867,null,{"$f":"Weightings!E274","v":0},{"$f":"Weightings!F274","v":0},0,6551867,{"$f":"MAX(ROUND(((AR274-AN274-AO274)*Weightings!$M$12)+'2016legmax.xls'!AP274,0),ROUND((('2016legmax.xls'!AR274-'2016legmax.xls'!AN274-'2016legmax.xls'!AO274)*Weightings!$M$12)+Weightings!B274,0))","v":7488944},0.3,2246683,2307743,2246683,0.3,0,false,0,0,0,true,724.4325,0.28529700000000002,252.6,0,518,0.38,{"$f":"IF(ROUND((Weightings!$P$5*CC274^Weightings!$P$6*Weightings!$P$8 ),2)<Weightings!$P$7,Weightings!$P$7,ROUND((Weightings!$P$5*CC274^Weightings!$P$6*Weightings!$P$8 ),2))","v":1347.32},{"$f":"ROUND(CD274/Weightings!$M$5,4)","v":0.3498},69.3,0,0,0,0,{"$f":"AS274*Weightings!$M$5*CJ274","v":0},0,0.42599999999999999,1.7,0,0,20.100000000000001,{"$f":"IF(ISNA(VLOOKUP($DC274,'Audit Values'!$A$2:$AE$252,2,FALSE)),'Preliminary SO66'!T271,VLOOKUP($DC274,'Audit Values'!$A$2:$AE$252,20,FALSE))","v":0},{"$f":"IF(ISNA(VLOOKUP($DC274,'Audit Values'!$A$2:$AE$252,21,FALSE)),'Preliminary SO66'!U271,VLOOKUP($DC274,'Audit Values'!$A$2:$AE$252,21,FALSE))","v":0},0,0,null,null,null,null,null,null,null,"D0495"]
[496,"Pawnee","Pawnee Heights ",112.5,0,112.5,112.5,0,112.5,154.5,{"$f":"IF(ISNA(VLOOKUP($DC275,'Audit Values'!$A$2:$AE$252,2,FALSE)),'Preliminary SO66'!B272,VLOOKUP($DC275,'Audit Values'!$A$2:$AE$252,31,FALSE))","v":134.5},134.5,{"$f":"IF(ISNA(VLOOKUP($DC275,'Audit Values'!$A$2:$AE$252,2,FALSE)),'Preliminary SO66'!Z272,VLOOKUP($DC275,'Audit Values'!$A$2:$AE$252,26,FALSE))","v":0},134.5,{"$f":"IF(ISNA(VLOOKUP($DC275,'Audit Values'!$A$2:$AE$252,2,FALSE)),'Preliminary SO66'!C272,IF(VLOOKUP($DC275,'Audit Values'!$A$2:$AE$252,28,FALSE)=\"\",VLOOKUP($DC275,'Audit Values'!$A$2:$AE$252,3,FALSE),VLOOKUP($DC275,'Audit Values'!$A$2:$AE$252,28,FALSE)))","v":0},134.5,154.5,154.5,134.5,20,124.1,124.1,0,{"$f":"IF(ISNA(VLOOKUP($DC275,'Audit Values'!$A$2:$AE$252,2,FALSE)),'Preliminary SO66'!D272,VLOOKUP($DC275,'Audit Values'!$A$2:$AE$252,4,FALSE))","v":0},{"$f":"ROUND((X275/6)*Weightings!$M$6,1)","v":0},{"$f":"IF(ISNA(VLOOKUP($DC275,'Audit Values'!$A$2:$AE$252,2,FALSE)),'Preliminary SO66'!F272,VLOOKUP($DC275,'Audit Values'!$A$2:$AE$252,6,FALSE))","v":0.6},{"$f":"ROUND((Z275/6)*Weightings!$M$7,1)","v":0},{"$f":"IF(ISNA(VLOOKUP($DC275,'Audit Values'!$A$2:$AE$252,2,FALSE)),'Preliminary SO66'!H272,VLOOKUP($DC275,'Audit Values'!$A$2:$AE$252,9,FALSE))","v":57},{"$f":"ROUND(AB275*Weightings!$M$8,1)","v":26},3,0,{"$f":"AE275*Weightings!$M$9","v":0},{"$f":"IF(ISNA(VLOOKUP($DC275,'Audit Values'!$A$2:$AE$252,2,FALSE)),'Preliminary SO66'!L272,VLOOKUP($DC275,'Audit Values'!$A$2:$AE$252,12,FALSE))","v":0},{"$f":"ROUND(AG275*Weightings!$M$10,1)","v":0},{"$f":"IF(ISNA(VLOOKUP($DC275,'Audit Values'!$A$2:$AE$252,2,FALSE)),'Preliminary SO66'!O272,VLOOKUP($DC275,'Audit Values'!$A$2:$AE$252,15,FALSE))","v":59},23.6,{"$f":"CG275/Weightings!$M$5","v":0},{"$f":"CH275/Weightings!$M$5","v":1.6},{"$f":"CL275/Weightings!$M$5","v":0},21,{"$f":"IF(ISNA(VLOOKUP($DC275,'Audit Values'!$A$2:$AE$252,2,FALSE)),'Preliminary SO66'!X272,VLOOKUP($DC275,'Audit Values'!$A$2:$AE$252,24,FALSE))","v":0},128033,{"$f":"AP275/Weightings!$M$5","v":33.200000000000003},333.8,367,367,90760,{"$f":"IF(ISNA(VLOOKUP($DC275,'Audit Values'!$A$2:$AC$299,2,FALSE)),\"\",IF(AND(Weightings!H275>0,VLOOKUP($DC275,'Audit Values'!$A$2:$AC$299,29,FALSE)<Weightings!H275),Weightings!H275,VLOOKUP($DC275,'Audit Values'!$A$2:$AC$299,29,FALSE)))","v":15},{"$f":"IF(ISNA(VLOOKUP($DC275,'Audit Values'!$A$2:$AD$299,2,FALSE)),\"\",VLOOKUP($DC275,'Audit Values'!$A$2:$AD$299,30,FALSE))","v":"A"},{"$f":"IF(Weightings!G275=\"\",\"\",IF(Weightings!I275=\"Pending\",\"PX\",\"R\"))","v":"R"},{"$f":"AR275*Weightings!$M$5+AU275","v":1376558},{"$f":"AT275*Weightings!$M$5+AU275","v":1504444},{"$f":"IF(Weightings!G275>0,Weightings!G275,'Preliminary SO66'!AB272)","v":1697061},84524,77709,0,1534828,1504444,null,{"$f":"Weightings!E275","v":0},{"$f":"Weightings!F275","v":0},0,1504444,{"$f":"MAX(ROUND(((AR275-AN275-AO275)*Weightings!$M$12)+'2016legmax.xls'!AP275,0),ROUND((('2016legmax.xls'!AR275-'2016legmax.xls'!AN275-'2016legmax.xls'!AO275)*Weightings!$M$12)+Weightings!B275,0))","v":1570961},0.33,518417,442999,442999,0.28199999999999997,0,true,333.09800000000001,0.92288099999999995,124.1,false,0,0,0,0,283,0.21,{"$f":"IF(ROUND((Weightings!$P$5*CC275^Weightings!$P$6*Weightings!$P$8 ),2)<Weightings!$P$7,Weightings!$P$7,ROUND((Weightings!$P$5*CC275^Weightings!$P$6*Weightings!$P$8 ),2))","v":1540.75},{"$f":"ROUND(CD275/Weightings!$M$5,4)","v":0.4},23.6,0,5999,0,0,{"$f":"AS275*Weightings!$M$5*CJ275","v":0},0,0.42399999999999999,0.5,0,0,3,{"$f":"IF(ISNA(VLOOKUP($DC275,'Audit Values'!$A$2:$AE$252,2,FALSE)),'Preliminary SO66'!T272,VLOOKUP($DC275,'Audit Values'!$A$2:$AE$252,20,FALSE))","v":1},{"$f":"IF(ISNA(VLOOKUP($DC275,'Audit Values'!$A$2:$AE$252,21,FALSE)),'Preliminary SO66'!U272,VLOOKUP($DC275,'Audit Values'!$A$2:$AE$252,21,FALSE))","v":0},19,20,null,null,null,null,null,null,null,"D0496",174824]
[497,"Douglas","Lawrence ",9971.1,0,9971.1,10088,0,10088,11481.6,{"$f":"IF(ISNA(VLOOKUP($DC276,'Audit Values'!$A$2:$AE$252,2,FALSE)),'Preliminary SO66'!B273,VLOOKUP($DC276,'Audit Values'!$A$2:$AE$252,31,FALSE))","v":10227.299999999999},10227.299999999999,{"$f":"IF(ISNA(VLOOKUP($DC276,'Audit Values'!$A$2:$AE$252,2,FALSE)),'Preliminary SO66'!Z273,VLOOKUP($DC276,'Audit Values'!$A$2:$AE$252,26,FALSE))","v":0},10227.299999999999,{"$f":"IF(ISNA(VLOOKUP($DC276,'Audit Values'!$A$2:$AE$252,2,FALSE)),'Preliminary SO66'!C273,IF(VLOOKUP($DC276,'Audit Values'!$A$2:$AE$252,28,FALSE)=\"\",VLOOKUP($DC276,'Audit Values'!$A$2:$AE$252,3,FALSE),VLOOKUP($DC276,'Audit Values'!$A$2:$AE$252,28,FALSE)))","v":34},10261.299999999999,11515.6,11515.6,10261.299999999999,1254.3,359.6,0,359.6,{"$f":"IF(ISNA(VLOOKUP($DC276,'Audit Values'!$A$2:$AE$252,2,FALSE)),'Preliminary SO66'!D273,VLOOKUP($DC276,'Audit Values'!$A$2:$AE$252,4,FALSE))","v":2309},{"$f":"ROUND((X276/6)*Weightings!$M$6,1)","v":192.4},{"$f":"IF(ISNA(VLOOKUP($DC276,'Audit Values'!$A$2:$AE$252,2,FALSE)),'Preliminary SO66'!F273,VLOOKUP($DC276,'Audit Values'!$A$2:$AE$252,6,FALSE))","v":2598.6},{"$f":"ROUND((Z276/6)*Weightings!$M$7,1)","v":171.1},{"$f":"IF(ISNA(VLOOKUP($DC276,'Audit Values'!$A$2:$AE$252,2,FALSE)),'Preliminary SO66'!H273,VLOOKUP($DC276,'Audit Values'!$A$2:$AE$252,9,FALSE))","v":3539},{"$f":"ROUND(AB276*Weightings!$M$8,1)","v":1613.8},0,0,{"$f":"AE276*Weightings!$M$9","v":0},{"$f":"IF(ISNA(VLOOKUP($DC276,'Audit Values'!$A$2:$AE$252,2,FALSE)),'Preliminary SO66'!L273,VLOOKUP($DC276,'Audit Values'!$A$2:$AE$252,12,FALSE))","v":643.4},{"$f":"ROUND(AG276*Weightings!$M$10,1)","v":160.9},{"$f":"IF(ISNA(VLOOKUP($DC276,'Audit Values'!$A$2:$AE$252,2,FALSE)),'Preliminary SO66'!O273,VLOOKUP($DC276,'Audit Values'!$A$2:$AE$252,15,FALSE))","v":2860},427.3,{"$f":"CG276/Weightings!$M$5","v":0},{"$f":"CH276/Weightings!$M$5","v":0},{"$f":"CL276/Weightings!$M$5","v":348.8},1317,{"$f":"IF(ISNA(VLOOKUP($DC276,'Audit Values'!$A$2:$AE$252,2,FALSE)),'Preliminary SO66'!X273,VLOOKUP($DC276,'Audit Values'!$A$2:$AE$252,24,FALSE))","v":3},12325306,{"$f":"AP276/Weightings!$M$5","v":3199.7},14855.2,17706.099999999999,18054.900000000001,125000,{"$f":"IF(ISNA(VLOOKUP($DC276,'Audit Values'!$A$2:$AC$299,2,FALSE)),\"\",IF(AND(Weightings!H276>0,VLOOKUP($DC276,'Audit Values'!$A$2:$AC$299,29,FALSE)<Weightings!H276),Weightings!H276,VLOOKUP($DC276,'Audit Values'!$A$2:$AC$299,29,FALSE)))","v":15},{"$f":"IF(ISNA(VLOOKUP($DC276,'Audit Values'!$A$2:$AD$299,2,FALSE)),\"\",VLOOKUP($DC276,'Audit Values'!$A$2:$AD$299,30,FALSE))","v":"A"},{"$f":"IF(Weightings!G276=\"\",\"\",IF(Weightings!I276=\"Pending\",\"PX\",\"R\"))","v":""},{"$f":"AR276*Weightings!$M$5+AU276","v":57347230},{"$f":"AT276*Weightings!$M$5+AU276","v":69672475},{"$f":"IF(Weightings!G276>0,Weightings!G276,'Preliminary SO66'!AB273)","v":83287891},4203557,6090694,0,72993640,69672475,null,{"$f":"Weightings!E276","v":0},{"$f":"Weightings!F276","v":0},0,69672475,{"$f":"MAX(ROUND(((AR276-AN276-AO276)*Weightings!$M$12)+'2016legmax.xls'!AP276,0),ROUND((('2016legmax.xls'!AR276-'2016legmax.xls'!AN276-'2016legmax.xls'!AO276)*Weightings!$M$12)+Weightings!B276,0))","v":73098354},0.33,24122457,23297182,23297182,0.31869999999999998,0,false,0,0,0,false,0,0,0,359.6,175.2,16.32,{"$f":"IF(ROUND((Weightings!$P$5*CC276^Weightings!$P$6*Weightings!$P$8 ),2)<Weightings!$P$7,Weightings!$P$7,ROUND((Weightings!$P$5*CC276^Weightings!$P$6*Weightings!$P$8 ),2))","v":575.55999999999995},{"$f":"ROUND(CD276/Weightings!$M$5,4)","v":0.14940000000000001},427.3,0,0,1609073,1.9699999999999999E-2,{"$f":"AS276*Weightings!$M$5*CJ276","v":1343617},1343617,0.34499999999999997,58.6,0,0,0,{"$f":"IF(ISNA(VLOOKUP($DC276,'Audit Values'!$A$2:$AE$252,2,FALSE)),'Preliminary SO66'!T273,VLOOKUP($DC276,'Audit Values'!$A$2:$AE$252,20,FALSE))","v":1066},{"$f":"IF(ISNA(VLOOKUP($DC276,'Audit Values'!$A$2:$AE$252,21,FALSE)),'Preliminary SO66'!U273,VLOOKUP($DC276,'Audit Values'!$A$2:$AE$252,21,FALSE))","v":93.3},95,1254.3,null,null,null,null,null,null,null,"D0497"]
[498,"Marshall","Valley Heights ",390.9,0,390.9,403.5,0,403.5,372.5,{"$f":"IF(ISNA(VLOOKUP($DC277,'Audit Values'!$A$2:$AE$252,2,FALSE)),'Preliminary SO66'!B274,VLOOKUP($DC277,'Audit Values'!$A$2:$AE$252,31,FALSE))","v":372.5},403.5,{"$f":"IF(ISNA(VLOOKUP($DC277,'Audit Values'!$A$2:$AE$252,2,FALSE)),'Preliminary SO66'!Z274,VLOOKUP($DC277,'Audit Values'!$A$2:$AE$252,26,FALSE))","v":0},403.5,{"$f":"IF(ISNA(VLOOKUP($DC277,'Audit Values'!$A$2:$AE$252,2,FALSE)),'Preliminary SO66'!C274,IF(VLOOKUP($DC277,'Audit Values'!$A$2:$AE$252,28,FALSE)=\"\",VLOOKUP($DC277,'Audit Values'!$A$2:$AE$252,3,FALSE),VLOOKUP($DC277,'Audit Values'!$A$2:$AE$252,28,FALSE)))","v":1.5},374,374,374,405,0,181.6,181.6,0,{"$f":"IF(ISNA(VLOOKUP($DC277,'Audit Values'!$A$2:$AE$252,2,FALSE)),'Preliminary SO66'!D274,VLOOKUP($DC277,'Audit Values'!$A$2:$AE$252,4,FALSE))","v":97.8},{"$f":"ROUND((X277/6)*Weightings!$M$6,1)","v":8.1999999999999993},{"$f":"IF(ISNA(VLOOKUP($DC277,'Audit Values'!$A$2:$AE$252,2,FALSE)),'Preliminary SO66'!F274,VLOOKUP($DC277,'Audit Values'!$A$2:$AE$252,6,FALSE))","v":0.8},{"$f":"ROUND((Z277/6)*Weightings!$M$7,1)","v":0.1},{"$f":"IF(ISNA(VLOOKUP($DC277,'Audit Values'!$A$2:$AE$252,2,FALSE)),'Preliminary SO66'!H274,VLOOKUP($DC277,'Audit Values'!$A$2:$AE$252,9,FALSE))","v":141},{"$f":"ROUND(AB277*Weightings!$M$8,1)","v":64.3},0,0,{"$f":"AE277*Weightings!$M$9","v":0},{"$f":"IF(ISNA(VLOOKUP($DC277,'Audit Values'!$A$2:$AE$252,2,FALSE)),'Preliminary SO66'!L274,VLOOKUP($DC277,'Audit Values'!$A$2:$AE$252,12,FALSE))","v":0},{"$f":"ROUND(AG277*Weightings!$M$10,1)","v":0},{"$f":"IF(ISNA(VLOOKUP($DC277,'Audit Values'!$A$2:$AE$252,2,FALSE)),'Preliminary SO66'!O274,VLOOKUP($DC277,'Audit Values'!$A$2:$AE$252,15,FALSE))","v":228},62.6,{"$f":"CG277/Weightings!$M$5","v":0},{"$f":"CH277/Weightings!$M$5","v":0},{"$f":"CL277/Weightings!$M$5","v":0},0,{"$f":"IF(ISNA(VLOOKUP($DC277,'Audit Values'!$A$2:$AE$252,2,FALSE)),'Preliminary SO66'!X274,VLOOKUP($DC277,'Audit Values'!$A$2:$AE$252,24,FALSE))","v":0},351577,{"$f":"AP277/Weightings!$M$5","v":91.3},721.8,813.1,813.1,0,{"$f":"IF(ISNA(VLOOKUP($DC277,'Audit Values'!$A$2:$AC$299,2,FALSE)),\"\",IF(AND(Weightings!H277>0,VLOOKUP($DC277,'Audit Values'!$A$2:$AC$299,29,FALSE)<Weightings!H277),Weightings!H277,VLOOKUP($DC277,'Audit Values'!$A$2:$AC$299,29,FALSE)))","v":10},{"$f":"IF(ISNA(VLOOKUP($DC277,'Audit Values'!$A$2:$AD$299,2,FALSE)),\"\",VLOOKUP($DC277,'Audit Values'!$A$2:$AD$299,30,FALSE))","v":"A"},{"$f":"IF(Weightings!G277=\"\",\"\",IF(Weightings!I277=\"Pending\",\"PX\",\"R\"))","v":""},{"$f":"AR277*Weightings!$M$5+AU277","v":2780374},{"$f":"AT277*Weightings!$M$5+AU277","v":3132061},{"$f":"IF(Weightings!G277>0,Weightings!G277,'Preliminary SO66'!AB274)","v":4300727},672055,211791,46676,3370205,3132061,null,{"$f":"Weightings!E277","v":0},{"$f":"Weightings!F277","v":0},0,3132061,{"$f":"MAX(ROUND(((AR277-AN277-AO277)*Weightings!$M$12)+'2016legmax.xls'!AP277,0),ROUND((('2016legmax.xls'!AR277-'2016legmax.xls'!AN277-'2016legmax.xls'!AO277)*Weightings!$M$12)+Weightings!B277,0))","v":3750036},0.3,1125011,1173503,1125011,0.3,0,false,0,0,0,true,129.9375,0.448513,181.6,0,205,1.1100000000000001,{"$f":"IF(ROUND((Weightings!$P$5*CC277^Weightings!$P$6*Weightings!$P$8 ),2)<Weightings!$P$7,Weightings!$P$7,ROUND((Weightings!$P$5*CC277^Weightings!$P$6*Weightings!$P$8 ),2))","v":1057.21},{"$f":"ROUND(CD277/Weightings!$M$5,4)","v":0.27450000000000002},62.6,0,0,0,0,{"$f":"AS277*Weightings!$M$5*CJ277","v":0},0,0.34799999999999998,2,0,0,0,{"$f":"IF(ISNA(VLOOKUP($DC277,'Audit Values'!$A$2:$AE$252,2,FALSE)),'Preliminary SO66'!T274,VLOOKUP($DC277,'Audit Values'!$A$2:$AE$252,20,FALSE))","v":0},{"$f":"IF(ISNA(VLOOKUP($DC277,'Audit Values'!$A$2:$AE$252,21,FALSE)),'Preliminary SO66'!U274,VLOOKUP($DC277,'Audit Values'!$A$2:$AE$252,21,FALSE))","v":0},0,0,null,null,null,null,null,null,null,"D0498"]
[499,"Cherokee","Galena ",800.2,0,800.2,785.2,0,785.2,783.8,{"$f":"IF(ISNA(VLOOKUP($DC278,'Audit Values'!$A$2:$AE$252,2,FALSE)),'Preliminary SO66'!B275,VLOOKUP($DC278,'Audit Values'!$A$2:$AE$252,31,FALSE))","v":767.2},785.2,{"$f":"IF(ISNA(VLOOKUP($DC278,'Audit Values'!$A$2:$AE$252,2,FALSE)),'Preliminary SO66'!Z275,VLOOKUP($DC278,'Audit Values'!$A$2:$AE$252,26,FALSE))","v":0},785.2,{"$f":"IF(ISNA(VLOOKUP($DC278,'Audit Values'!$A$2:$AE$252,2,FALSE)),'Preliminary SO66'!C275,IF(VLOOKUP($DC278,'Audit Values'!$A$2:$AE$252,28,FALSE)=\"\",VLOOKUP($DC278,'Audit Values'!$A$2:$AE$252,3,FALSE),VLOOKUP($DC278,'Audit Values'!$A$2:$AE$252,28,FALSE)))","v":9},776.2,792.8,792.8,794.2,16.600000000000001,251.2,251.2,0,{"$f":"IF(ISNA(VLOOKUP($DC278,'Audit Values'!$A$2:$AE$252,2,FALSE)),'Preliminary SO66'!D275,VLOOKUP($DC278,'Audit Values'!$A$2:$AE$252,4,FALSE))","v":171.6},{"$f":"ROUND((X278/6)*Weightings!$M$6,1)","v":14.3},{"$f":"IF(ISNA(VLOOKUP($DC278,'Audit Values'!$A$2:$AE$252,2,FALSE)),'Preliminary SO66'!F275,VLOOKUP($DC278,'Audit Values'!$A$2:$AE$252,6,FALSE))","v":0},{"$f":"ROUND((Z278/6)*Weightings!$M$7,1)","v":0},{"$f":"IF(ISNA(VLOOKUP($DC278,'Audit Values'!$A$2:$AE$252,2,FALSE)),'Preliminary SO66'!H275,VLOOKUP($DC278,'Audit Values'!$A$2:$AE$252,9,FALSE))","v":462},{"$f":"ROUND(AB278*Weightings!$M$8,1)","v":210.7},48.5,0,{"$f":"AE278*Weightings!$M$9","v":0},{"$f":"IF(ISNA(VLOOKUP($DC278,'Audit Values'!$A$2:$AE$252,2,FALSE)),'Preliminary SO66'!L275,VLOOKUP($DC278,'Audit Values'!$A$2:$AE$252,12,FALSE))","v":48.9},{"$f":"ROUND(AG278*Weightings!$M$10,1)","v":12.2},{"$f":"IF(ISNA(VLOOKUP($DC278,'Audit Values'!$A$2:$AE$252,2,FALSE)),'Preliminary SO66'!O275,VLOOKUP($DC278,'Audit Values'!$A$2:$AE$252,15,FALSE))","v":29},6.9,{"$f":"CG278/Weightings!$M$5","v":0},{"$f":"CH278/Weightings!$M$5","v":0},{"$f":"CL278/Weightings!$M$5","v":0},17.399999999999999,{"$f":"IF(ISNA(VLOOKUP($DC278,'Audit Values'!$A$2:$AE$252,2,FALSE)),'Preliminary SO66'!X275,VLOOKUP($DC278,'Audit Values'!$A$2:$AE$252,24,FALSE))","v":0},733000,{"$f":"AP278/Weightings!$M$5","v":190.3},1355.4,1545.7,1545.7,0,{"$f":"IF(ISNA(VLOOKUP($DC278,'Audit Values'!$A$2:$AC$299,2,FALSE)),\"\",IF(AND(Weightings!H278>0,VLOOKUP($DC278,'Audit Values'!$A$2:$AC$299,29,FALSE)<Weightings!H278),Weightings!H278,VLOOKUP($DC278,'Audit Values'!$A$2:$AC$299,29,FALSE)))","v":2},{"$f":"IF(ISNA(VLOOKUP($DC278,'Audit Values'!$A$2:$AD$299,2,FALSE)),\"\",VLOOKUP($DC278,'Audit Values'!$A$2:$AD$299,30,FALSE))","v":"A"},{"$f":"IF(Weightings!G278=\"\",\"\",IF(Weightings!I278=\"Pending\",\"PX\",\"R\"))","v":""},{"$f":"AR278*Weightings!$M$5+AU278","v":5221001},{"$f":"AT278*Weightings!$M$5+AU278","v":5954036},{"$f":"IF(Weightings!G278>0,Weightings!G278,'Preliminary SO66'!AB275)","v":8512278},1677503,426122,0,6408653,5954036,null,{"$f":"Weightings!E278","v":0},{"$f":"Weightings!F278","v":0},0,5954036,{"$f":"MAX(ROUND(((AR278-AN278-AO278)*Weightings!$M$12)+'2016legmax.xls'!AP278,0),ROUND((('2016legmax.xls'!AR278-'2016legmax.xls'!AN278-'2016legmax.xls'!AO278)*Weightings!$M$12)+Weightings!B278,0))","v":6740620},0.3,2022186,2092419,2022186,0.3,0,false,0,0,0,true,611.57249999999999,0.31628299999999998,251.2,0,13.5,2.15,{"$f":"IF(ROUND((Weightings!$P$5*CC278^Weightings!$P$6*Weightings!$P$8 ),2)<Weightings!$P$7,Weightings!$P$7,ROUND((Weightings!$P$5*CC278^Weightings!$P$6*Weightings!$P$8 ),2))","v":910.36},{"$f":"ROUND(CD278/Weightings!$M$5,4)","v":0.23630000000000001},6.9,0,0,0,0,{"$f":"AS278*Weightings!$M$5*CJ278","v":0},0,0.58199999999999996,58.8,48.5,0,0,{"$f":"IF(ISNA(VLOOKUP($DC278,'Audit Values'!$A$2:$AE$252,2,FALSE)),'Preliminary SO66'!T275,VLOOKUP($DC278,'Audit Values'!$A$2:$AE$252,20,FALSE))","v":8},{"$f":"IF(ISNA(VLOOKUP($DC278,'Audit Values'!$A$2:$AE$252,21,FALSE)),'Preliminary SO66'!U275,VLOOKUP($DC278,'Audit Values'!$A$2:$AE$252,21,FALSE))","v":1.6},7,16.600000000000001,null,null,null,null,null,null,null,"D0499"]
[500,"Wyandotte","Kansas City ",19713.2,0,19713.2,20238.7,0,20238.7,20244.8,{"$f":"IF(ISNA(VLOOKUP($DC279,'Audit Values'!$A$2:$AE$252,2,FALSE)),'Preliminary SO66'!B276,VLOOKUP($DC279,'Audit Values'!$A$2:$AE$252,31,FALSE))","v":19981.5},20238.7,{"$f":"IF(ISNA(VLOOKUP($DC279,'Audit Values'!$A$2:$AE$252,2,FALSE)),'Preliminary SO66'!Z276,VLOOKUP($DC279,'Audit Values'!$A$2:$AE$252,26,FALSE))","v":0},20238.7,{"$f":"IF(ISNA(VLOOKUP($DC279,'Audit Values'!$A$2:$AE$252,2,FALSE)),'Preliminary SO66'!C276,IF(VLOOKUP($DC279,'Audit Values'!$A$2:$AE$252,28,FALSE)=\"\",VLOOKUP($DC279,'Audit Values'!$A$2:$AE$252,3,FALSE),VLOOKUP($DC279,'Audit Values'!$A$2:$AE$252,28,FALSE)))","v":273.5},20255,20518.3,20518.3,20512.2,263.3,718.7,0,718.7,{"$f":"IF(ISNA(VLOOKUP($DC279,'Audit Values'!$A$2:$AE$252,2,FALSE)),'Preliminary SO66'!D276,VLOOKUP($DC279,'Audit Values'!$A$2:$AE$252,4,FALSE))","v":2519.3000000000002},{"$f":"ROUND((X279/6)*Weightings!$M$6,1)","v":209.9},{"$f":"IF(ISNA(VLOOKUP($DC279,'Audit Values'!$A$2:$AE$252,2,FALSE)),'Preliminary SO66'!F276,VLOOKUP($DC279,'Audit Values'!$A$2:$AE$252,6,FALSE))","v":26853.7},{"$f":"ROUND((Z279/6)*Weightings!$M$7,1)","v":1767.9},{"$f":"IF(ISNA(VLOOKUP($DC279,'Audit Values'!$A$2:$AE$252,2,FALSE)),'Preliminary SO66'!H276,VLOOKUP($DC279,'Audit Values'!$A$2:$AE$252,9,FALSE))","v":15689},{"$f":"ROUND(AB279*Weightings!$M$8,1)","v":7154.2},1647.3,0,{"$f":"AE279*Weightings!$M$9","v":0},{"$f":"IF(ISNA(VLOOKUP($DC279,'Audit Values'!$A$2:$AE$252,2,FALSE)),'Preliminary SO66'!L276,VLOOKUP($DC279,'Audit Values'!$A$2:$AE$252,12,FALSE))","v":0},{"$f":"ROUND(AG279*Weightings!$M$10,1)","v":0},{"$f":"IF(ISNA(VLOOKUP($DC279,'Audit Values'!$A$2:$AE$252,2,FALSE)),'Preliminary SO66'!O276,VLOOKUP($DC279,'Audit Values'!$A$2:$AE$252,15,FALSE))","v":2741},401.3,{"$f":"CG279/Weightings!$M$5","v":0},{"$f":"CH279/Weightings!$M$5","v":0},{"$f":"CL279/Weightings!$M$5","v":0},276.5,{"$f":"IF(ISNA(VLOOKUP($DC279,'Audit Values'!$A$2:$AE$252,2,FALSE)),'Preliminary SO66'!X276,VLOOKUP($DC279,'Audit Values'!$A$2:$AE$252,24,FALSE))","v":0},15314917,{"$f":"AP279/Weightings!$M$5","v":3975.8},32688,36663.800000000003,36663.800000000003,0,{"$f":"IF(ISNA(VLOOKUP($DC279,'Audit Values'!$A$2:$AC$299,2,FALSE)),\"\",IF(AND(Weightings!H279>0,VLOOKUP($DC279,'Audit Values'!$A$2:$AC$299,29,FALSE)<Weightings!H279),Weightings!H279,VLOOKUP($DC279,'Audit Values'!$A$2:$AC$299,29,FALSE)))","v":7},{"$f":"IF(ISNA(VLOOKUP($DC279,'Audit Values'!$A$2:$AD$299,2,FALSE)),\"\",VLOOKUP($DC279,'Audit Values'!$A$2:$AD$299,30,FALSE))","v":"A"},{"$f":"IF(Weightings!G279=\"\",\"\",IF(Weightings!I279=\"Pending\",\"PX\",\"R\"))","v":""},{"$f":"AR279*Weightings!$M$5+AU279","v":125914176},{"$f":"AT279*Weightings!$M$5+AU279","v":141228958},{"$f":"IF(Weightings!G279>0,Weightings!G279,'Preliminary SO66'!AB276)","v":203195748},34674673,13265415,2290527,152965133,141228958,null,{"$f":"Weightings!E279","v":0},{"$f":"Weightings!F279","v":0},0,141228958,{"$f":"MAX(ROUND(((AR279-AN279-AO279)*Weightings!$M$12)+'2016legmax.xls'!AP279,0),ROUND((('2016legmax.xls'!AR279-'2016legmax.xls'!AN279-'2016legmax.xls'!AO279)*Weightings!$M$12)+Weightings!B279,0))","v":160842552},0.3,48252766,49972534,48252766,0.3,0,false,0,0,0,false,0,0,0,718.7,59,46.46,{"$f":"IF(ROUND((Weightings!$P$5*CC279^Weightings!$P$6*Weightings!$P$8 ),2)<Weightings!$P$7,Weightings!$P$7,ROUND((Weightings!$P$5*CC279^Weightings!$P$6*Weightings!$P$8 ),2))","v":564},{"$f":"ROUND(CD279/Weightings!$M$5,4)","v":0.1464},401.3,0,0,0,0,{"$f":"AS279*Weightings!$M$5*CJ279","v":0},0,0.76500000000000001,347.7,1647.3,1647.3,0,{"$f":"IF(ISNA(VLOOKUP($DC279,'Audit Values'!$A$2:$AE$252,2,FALSE)),'Preliminary SO66'!T276,VLOOKUP($DC279,'Audit Values'!$A$2:$AE$252,20,FALSE))","v":43},{"$f":"IF(ISNA(VLOOKUP($DC279,'Audit Values'!$A$2:$AE$252,21,FALSE)),'Preliminary SO66'!U276,VLOOKUP($DC279,'Audit Values'!$A$2:$AE$252,21,FALSE))","v":17.3},203,263.3,null,null,null,null,null,null,null,"D0500"]
[501,"Shawnee","Topeka Public Schools ",12857.2,0,12857.2,12973.3,0,12973.3,13313.4,{"$f":"IF(ISNA(VLOOKUP($DC280,'Audit Values'!$A$2:$AE$252,2,FALSE)),'Preliminary SO66'!B277,VLOOKUP($DC280,'Audit Values'!$A$2:$AE$252,31,FALSE))","v":12872.5},12973.3,{"$f":"IF(ISNA(VLOOKUP($DC280,'Audit Values'!$A$2:$AE$252,2,FALSE)),'Preliminary SO66'!Z277,VLOOKUP($DC280,'Audit Values'!$A$2:$AE$252,26,FALSE))","v":0},12973.3,{"$f":"IF(ISNA(VLOOKUP($DC280,'Audit Values'!$A$2:$AE$252,2,FALSE)),'Preliminary SO66'!C277,IF(VLOOKUP($DC280,'Audit Values'!$A$2:$AE$252,28,FALSE)=\"\",VLOOKUP($DC280,'Audit Values'!$A$2:$AE$252,3,FALSE),VLOOKUP($DC280,'Audit Values'!$A$2:$AE$252,28,FALSE)))","v":100},12972.5,13413.4,13413.4,13073.3,440.9,458.1,0,458.1,{"$f":"IF(ISNA(VLOOKUP($DC280,'Audit Values'!$A$2:$AE$252,2,FALSE)),'Preliminary SO66'!D277,VLOOKUP($DC280,'Audit Values'!$A$2:$AE$252,4,FALSE))","v":2092.6},{"$f":"ROUND((X280/6)*Weightings!$M$6,1)","v":174.4},{"$f":"IF(ISNA(VLOOKUP($DC280,'Audit Values'!$A$2:$AE$252,2,FALSE)),'Preliminary SO66'!F277,VLOOKUP($DC280,'Audit Values'!$A$2:$AE$252,6,FALSE))","v":3014.2},{"$f":"ROUND((Z280/6)*Weightings!$M$7,1)","v":198.4},{"$f":"IF(ISNA(VLOOKUP($DC280,'Audit Values'!$A$2:$AE$252,2,FALSE)),'Preliminary SO66'!H277,VLOOKUP($DC280,'Audit Values'!$A$2:$AE$252,9,FALSE))","v":9989},{"$f":"ROUND(AB280*Weightings!$M$8,1)","v":4555},1048.8,0,{"$f":"AE280*Weightings!$M$9","v":0},{"$f":"IF(ISNA(VLOOKUP($DC280,'Audit Values'!$A$2:$AE$252,2,FALSE)),'Preliminary SO66'!L277,VLOOKUP($DC280,'Audit Values'!$A$2:$AE$252,12,FALSE))","v":0},{"$f":"ROUND(AG280*Weightings!$M$10,1)","v":0},{"$f":"IF(ISNA(VLOOKUP($DC280,'Audit Values'!$A$2:$AE$252,2,FALSE)),'Preliminary SO66'!O277,VLOOKUP($DC280,'Audit Values'!$A$2:$AE$252,15,FALSE))","v":1363},199.5,{"$f":"CG280/Weightings!$M$5","v":0},{"$f":"CH280/Weightings!$M$5","v":0},{"$f":"CL280/Weightings!$M$5","v":0},462.9,{"$f":"IF(ISNA(VLOOKUP($DC280,'Audit Values'!$A$2:$AE$252,2,FALSE)),'Preliminary SO66'!X277,VLOOKUP($DC280,'Audit Values'!$A$2:$AE$252,24,FALSE))","v":0},15081185,{"$f":"AP280/Weightings!$M$5","v":3915.2},20170.400000000001,24085.599999999999,24085.599999999999,3235437,{"$f":"IF(ISNA(VLOOKUP($DC280,'Audit Values'!$A$2:$AC$299,2,FALSE)),\"\",IF(AND(Weightings!H280>0,VLOOKUP($DC280,'Audit Values'!$A$2:$AC$299,29,FALSE)<Weightings!H280),Weightings!H280,VLOOKUP($DC280,'Audit Values'!$A$2:$AC$299,29,FALSE)))","v":3},{"$f":"IF(ISNA(VLOOKUP($DC280,'Audit Values'!$A$2:$AD$299,2,FALSE)),\"\",VLOOKUP($DC280,'Audit Values'!$A$2:$AD$299,30,FALSE))","v":"A"},{"$f":"IF(Weightings!G280=\"\",\"\",IF(Weightings!I280=\"Pending\",\"PX\",\"R\"))","v":""},{"$f":"AR280*Weightings!$M$5+AU280","v":80931818},{"$f":"AT280*Weightings!$M$5+AU280","v":96013168},{"$f":"IF(Weightings!G280>0,Weightings!G280,'Preliminary SO66'!AB277)","v":124893357},17843394,8594373,1461763,96993827,96013168,null,{"$f":"Weightings!E280","v":0},{"$f":"Weightings!F280","v":0},0,96013168,{"$f":"MAX(ROUND(((AR280-AN280-AO280)*Weightings!$M$12)+'2016legmax.xls'!AP280,0),ROUND((('2016legmax.xls'!AR280-'2016legmax.xls'!AN280-'2016legmax.xls'!AO280)*Weightings!$M$12)+Weightings!B280,0))","v":103567860},0.33,34177394,30562561,30562561,0.29509999999999997,0,false,0,0,0,false,0,0,0,458.1,35,38.94,{"$f":"IF(ROUND((Weightings!$P$5*CC280^Weightings!$P$6*Weightings!$P$8 ),2)<Weightings!$P$7,Weightings!$P$7,ROUND((Weightings!$P$5*CC280^Weightings!$P$6*Weightings!$P$8 ),2))","v":564},{"$f":"ROUND(CD280/Weightings!$M$5,4)","v":0.1464},199.5,0,0,0,0,{"$f":"AS280*Weightings!$M$5*CJ280","v":0},0,0.76400000000000001,373.5,1048.8,1048.8,0,{"$f":"IF(ISNA(VLOOKUP($DC280,'Audit Values'!$A$2:$AE$252,2,FALSE)),'Preliminary SO66'!T277,VLOOKUP($DC280,'Audit Values'!$A$2:$AE$252,20,FALSE))","v":1},{"$f":"IF(ISNA(VLOOKUP($DC280,'Audit Values'!$A$2:$AE$252,21,FALSE)),'Preliminary SO66'!U277,VLOOKUP($DC280,'Audit Values'!$A$2:$AE$252,21,FALSE))","v":7.9},432,440.9,null,null,null,null,null,null,null,"D0501"]
[502,"Edwards","Lewis ",99,0,99,104,0,104,109.5,{"$f":"IF(ISNA(VLOOKUP($DC281,'Audit Values'!$A$2:$AE$252,2,FALSE)),'Preliminary SO66'!B278,VLOOKUP($DC281,'Audit Values'!$A$2:$AE$252,31,FALSE))","v":109.5},109.5,{"$f":"IF(ISNA(VLOOKUP($DC281,'Audit Values'!$A$2:$AE$252,2,FALSE)),'Preliminary SO66'!Z278,VLOOKUP($DC281,'Audit Values'!$A$2:$AE$252,26,FALSE))","v":0},109.5,{"$f":"IF(ISNA(VLOOKUP($DC281,'Audit Values'!$A$2:$AE$252,2,FALSE)),'Preliminary SO66'!C278,IF(VLOOKUP($DC281,'Audit Values'!$A$2:$AE$252,28,FALSE)=\"\",VLOOKUP($DC281,'Audit Values'!$A$2:$AE$252,3,FALSE),VLOOKUP($DC281,'Audit Values'!$A$2:$AE$252,28,FALSE)))","v":3.5},113,113,113,113,0,110.7,110.7,0,{"$f":"IF(ISNA(VLOOKUP($DC281,'Audit Values'!$A$2:$AE$252,2,FALSE)),'Preliminary SO66'!D278,VLOOKUP($DC281,'Audit Values'!$A$2:$AE$252,4,FALSE))","v":4.2},{"$f":"ROUND((X281/6)*Weightings!$M$6,1)","v":0.4},{"$f":"IF(ISNA(VLOOKUP($DC281,'Audit Values'!$A$2:$AE$252,2,FALSE)),'Preliminary SO66'!F278,VLOOKUP($DC281,'Audit Values'!$A$2:$AE$252,6,FALSE))","v":20.7},{"$f":"ROUND((Z281/6)*Weightings!$M$7,1)","v":1.4},{"$f":"IF(ISNA(VLOOKUP($DC281,'Audit Values'!$A$2:$AE$252,2,FALSE)),'Preliminary SO66'!H278,VLOOKUP($DC281,'Audit Values'!$A$2:$AE$252,9,FALSE))","v":53},{"$f":"ROUND(AB281*Weightings!$M$8,1)","v":24.2},4.4000000000000004,0,{"$f":"AE281*Weightings!$M$9","v":0},{"$f":"IF(ISNA(VLOOKUP($DC281,'Audit Values'!$A$2:$AE$252,2,FALSE)),'Preliminary SO66'!L278,VLOOKUP($DC281,'Audit Values'!$A$2:$AE$252,12,FALSE))","v":0},{"$f":"ROUND(AG281*Weightings!$M$10,1)","v":0},{"$f":"IF(ISNA(VLOOKUP($DC281,'Audit Values'!$A$2:$AE$252,2,FALSE)),'Preliminary SO66'!O278,VLOOKUP($DC281,'Audit Values'!$A$2:$AE$252,15,FALSE))","v":58.5},22.3,{"$f":"CG281/Weightings!$M$5","v":0},{"$f":"CH281/Weightings!$M$5","v":0},{"$f":"CL281/Weightings!$M$5","v":0},0,{"$f":"IF(ISNA(VLOOKUP($DC281,'Audit Values'!$A$2:$AE$252,2,FALSE)),'Preliminary SO66'!X278,VLOOKUP($DC281,'Audit Values'!$A$2:$AE$252,24,FALSE))","v":0},134039,{"$f":"AP281/Weightings!$M$5","v":34.799999999999997},276.39999999999998,311.2,311.2,0,{"$f":"IF(ISNA(VLOOKUP($DC281,'Audit Values'!$A$2:$AC$299,2,FALSE)),\"\",IF(AND(Weightings!H281>0,VLOOKUP($DC281,'Audit Values'!$A$2:$AC$299,29,FALSE)<Weightings!H281),Weightings!H281,VLOOKUP($DC281,'Audit Values'!$A$2:$AC$299,29,FALSE)))","v":" "},{"$f":"IF(ISNA(VLOOKUP($DC281,'Audit Values'!$A$2:$AD$299,2,FALSE)),\"\",VLOOKUP($DC281,'Audit Values'!$A$2:$AD$299,30,FALSE))","v":"A"},{"$f":"IF(Weightings!G281=\"\",\"\",IF(Weightings!I281=\"Pending\",\"PX\",\"R\"))","v":""},{"$f":"AR281*Weightings!$M$5+AU281","v":1064693},{"$f":"AT281*Weightings!$M$5+AU281","v":1198742},{"$f":"IF(Weightings!G281>0,Weightings!G281,'Preliminary SO66'!AB278)","v":1236337},0,61523,0,1174814,1198742,null,{"$f":"Weightings!E281","v":0},{"$f":"Weightings!F281","v":" "},0,1198742,{"$f":"MAX(ROUND(((AR281-AN281-AO281)*Weightings!$M$12)+'2016legmax.xls'!AP281,0),ROUND((('2016legmax.xls'!AR281-'2016legmax.xls'!AN281-'2016legmax.xls'!AO281)*Weightings!$M$12)+Weightings!B281,0))","v":1375075},0.3,{"$f":"BL281*BM281","v":412523},378223,378223,0.27510000000000001,0,true,125.515,0.97987199999999997,110.7,false,0,0,0,0,223.8,0.26,{"$f":"IF(ROUND((Weightings!$P$5*CC281^Weightings!$P$6*Weightings!$P$8 ),2)<Weightings!$P$7,Weightings!$P$7,ROUND((Weightings!$P$5*CC281^Weightings!$P$6*Weightings!$P$8 ),2))","v":1468.08},{"$f":"ROUND(CD281/Weightings!$M$5,4)","v":0.38109999999999999},22.3,0,0,0,0,{"$f":"AS281*Weightings!$M$5*CJ281","v":0},0,0.46899999999999997,0.5,0,0,4.4000000000000004,{"$f":"IF(ISNA(VLOOKUP($DC281,'Audit Values'!$A$2:$AE$252,2,FALSE)),'Preliminary SO66'!T278,VLOOKUP($DC281,'Audit Values'!$A$2:$AE$252,20,FALSE))","v":0},{"$f":"IF(ISNA(VLOOKUP($DC281,'Audit Values'!$A$2:$AE$252,21,FALSE)),'Preliminary SO66'!U278,VLOOKUP($DC281,'Audit Values'!$A$2:$AE$252,21,FALSE))","v":0},0,0,null,null,null,null,null,null,null,"D0502"]
[503,"Labette","Parsons ",1229.4000000000001,0,1229.4000000000001,1212.2,0,1212.2,1207,{"$f":"IF(ISNA(VLOOKUP($DC282,'Audit Values'!$A$2:$AE$252,2,FALSE)),'Preliminary SO66'!B279,VLOOKUP($DC282,'Audit Values'!$A$2:$AE$252,31,FALSE))","v":1207},1216.2,{"$f":"IF(ISNA(VLOOKUP($DC282,'Audit Values'!$A$2:$AE$252,2,FALSE)),'Preliminary SO66'!Z279,VLOOKUP($DC282,'Audit Values'!$A$2:$AE$252,26,FALSE))","v":0},1216.2,{"$f":"IF(ISNA(VLOOKUP($DC282,'Audit Values'!$A$2:$AE$252,2,FALSE)),'Preliminary SO66'!C279,IF(VLOOKUP($DC282,'Audit Values'!$A$2:$AE$252,28,FALSE)=\"\",VLOOKUP($DC282,'Audit Values'!$A$2:$AE$252,3,FALSE),VLOOKUP($DC282,'Audit Values'!$A$2:$AE$252,28,FALSE)))","v":12},1219,1219,1219,1228.2,0,207.4,207.4,0,{"$f":"IF(ISNA(VLOOKUP($DC282,'Audit Values'!$A$2:$AE$252,2,FALSE)),'Preliminary SO66'!D279,VLOOKUP($DC282,'Audit Values'!$A$2:$AE$252,4,FALSE))","v":346.7},{"$f":"ROUND((X282/6)*Weightings!$M$6,1)","v":28.9},{"$f":"IF(ISNA(VLOOKUP($DC282,'Audit Values'!$A$2:$AE$252,2,FALSE)),'Preliminary SO66'!F279,VLOOKUP($DC282,'Audit Values'!$A$2:$AE$252,6,FALSE))","v":10.5},{"$f":"ROUND((Z282/6)*Weightings!$M$7,1)","v":0.7},{"$f":"IF(ISNA(VLOOKUP($DC282,'Audit Values'!$A$2:$AE$252,2,FALSE)),'Preliminary SO66'!H279,VLOOKUP($DC282,'Audit Values'!$A$2:$AE$252,9,FALSE))","v":762},{"$f":"ROUND(AB282*Weightings!$M$8,1)","v":347.5},80,0,{"$f":"AE282*Weightings!$M$9","v":0},{"$f":"IF(ISNA(VLOOKUP($DC282,'Audit Values'!$A$2:$AE$252,2,FALSE)),'Preliminary SO66'!L279,VLOOKUP($DC282,'Audit Values'!$A$2:$AE$252,12,FALSE))","v":0},{"$f":"ROUND(AG282*Weightings!$M$10,1)","v":0},{"$f":"IF(ISNA(VLOOKUP($DC282,'Audit Values'!$A$2:$AE$252,2,FALSE)),'Preliminary SO66'!O279,VLOOKUP($DC282,'Audit Values'!$A$2:$AE$252,15,FALSE))","v":34},10.5,{"$f":"CG282/Weightings!$M$5","v":0},{"$f":"CH282/Weightings!$M$5","v":0},{"$f":"CL282/Weightings!$M$5","v":0},0,{"$f":"IF(ISNA(VLOOKUP($DC282,'Audit Values'!$A$2:$AE$252,2,FALSE)),'Preliminary SO66'!X279,VLOOKUP($DC282,'Audit Values'!$A$2:$AE$252,24,FALSE))","v":0},1093122,{"$f":"AP282/Weightings!$M$5","v":283.8},1903.2,2187,2187,0,{"$f":"IF(ISNA(VLOOKUP($DC282,'Audit Values'!$A$2:$AC$299,2,FALSE)),\"\",IF(AND(Weightings!H282>0,VLOOKUP($DC282,'Audit Values'!$A$2:$AC$299,29,FALSE)<Weightings!H282),Weightings!H282,VLOOKUP($DC282,'Audit Values'!$A$2:$AC$299,29,FALSE)))","v":2},{"$f":"IF(ISNA(VLOOKUP($DC282,'Audit Values'!$A$2:$AD$299,2,FALSE)),\"\",VLOOKUP($DC282,'Audit Values'!$A$2:$AD$299,30,FALSE))","v":"A"},{"$f":"IF(Weightings!G282=\"\",\"\",IF(Weightings!I282=\"Pending\",\"PX\",\"R\"))","v":""},{"$f":"AR282*Weightings!$M$5+AU282","v":7331126},{"$f":"AT282*Weightings!$M$5+AU282","v":8424324},{"$f":"IF(Weightings!G282>0,Weightings!G282,'Preliminary SO66'!AB279)","v":11291420},1819315,644876,70620,8756609,8424324,null,{"$f":"Weightings!E282","v":0},{"$f":"Weightings!F282","v":0},0,8424324,{"$f":"MAX(ROUND(((AR282-AN282-AO282)*Weightings!$M$12)+'2016legmax.xls'!AP282,0),ROUND((('2016legmax.xls'!AR282-'2016legmax.xls'!AN282-'2016legmax.xls'!AO282)*Weightings!$M$12)+Weightings!B282,0))","v":9823076},0.3,2946923,2939784,2939784,0.29930000000000001,0,false,0,0,0,true,1148.6475,0.16883200000000001,207.4,0,51,0.67,{"$f":"IF(ROUND((Weightings!$P$5*CC282^Weightings!$P$6*Weightings!$P$8 ),2)<Weightings!$P$7,Weightings!$P$7,ROUND((Weightings!$P$5*CC282^Weightings!$P$6*Weightings!$P$8 ),2))","v":1185.0999999999999},{"$f":"ROUND(CD282/Weightings!$M$5,4)","v":0.30769999999999997},10.5,0,0,0,0,{"$f":"AS282*Weightings!$M$5*CJ282","v":0},0,0.62,24.1,80,0,0,{"$f":"IF(ISNA(VLOOKUP($DC282,'Audit Values'!$A$2:$AE$252,2,FALSE)),'Preliminary SO66'!T279,VLOOKUP($DC282,'Audit Values'!$A$2:$AE$252,20,FALSE))","v":0},{"$f":"IF(ISNA(VLOOKUP($DC282,'Audit Values'!$A$2:$AE$252,21,FALSE)),'Preliminary SO66'!U279,VLOOKUP($DC282,'Audit Values'!$A$2:$AE$252,21,FALSE))","v":0},0,0,null,null,null,null,null,null,null,"D0503"]
[504,"Labette","Oswego ",458.7,0,458.7,462,0,462,441.5,{"$f":"IF(ISNA(VLOOKUP($DC283,'Audit Values'!$A$2:$AE$252,2,FALSE)),'Preliminary SO66'!B280,VLOOKUP($DC283,'Audit Values'!$A$2:$AE$252,31,FALSE))","v":441.5},462,{"$f":"IF(ISNA(VLOOKUP($DC283,'Audit Values'!$A$2:$AE$252,2,FALSE)),'Preliminary SO66'!Z280,VLOOKUP($DC283,'Audit Values'!$A$2:$AE$252,26,FALSE))","v":0},462,{"$f":"IF(ISNA(VLOOKUP($DC283,'Audit Values'!$A$2:$AE$252,2,FALSE)),'Preliminary SO66'!C280,IF(VLOOKUP($DC283,'Audit Values'!$A$2:$AE$252,28,FALSE)=\"\",VLOOKUP($DC283,'Audit Values'!$A$2:$AE$252,3,FALSE),VLOOKUP($DC283,'Audit Values'!$A$2:$AE$252,28,FALSE)))","v":4},445.5,445.5,445.5,466,0,199.3,199.3,0,{"$f":"IF(ISNA(VLOOKUP($DC283,'Audit Values'!$A$2:$AE$252,2,FALSE)),'Preliminary SO66'!D280,VLOOKUP($DC283,'Audit Values'!$A$2:$AE$252,4,FALSE))","v":35.700000000000003},{"$f":"ROUND((X283/6)*Weightings!$M$6,1)","v":3},{"$f":"IF(ISNA(VLOOKUP($DC283,'Audit Values'!$A$2:$AE$252,2,FALSE)),'Preliminary SO66'!F280,VLOOKUP($DC283,'Audit Values'!$A$2:$AE$252,6,FALSE))","v":0},{"$f":"ROUND((Z283/6)*Weightings!$M$7,1)","v":0},{"$f":"IF(ISNA(VLOOKUP($DC283,'Audit Values'!$A$2:$AE$252,2,FALSE)),'Preliminary SO66'!H280,VLOOKUP($DC283,'Audit Values'!$A$2:$AE$252,9,FALSE))","v":225},{"$f":"ROUND(AB283*Weightings!$M$8,1)","v":102.6},20.9,0,{"$f":"AE283*Weightings!$M$9","v":0},{"$f":"IF(ISNA(VLOOKUP($DC283,'Audit Values'!$A$2:$AE$252,2,FALSE)),'Preliminary SO66'!L280,VLOOKUP($DC283,'Audit Values'!$A$2:$AE$252,12,FALSE))","v":0},{"$f":"ROUND(AG283*Weightings!$M$10,1)","v":0},{"$f":"IF(ISNA(VLOOKUP($DC283,'Audit Values'!$A$2:$AE$252,2,FALSE)),'Preliminary SO66'!O280,VLOOKUP($DC283,'Audit Values'!$A$2:$AE$252,15,FALSE))","v":20},6.8,{"$f":"CG283/Weightings!$M$5","v":0},{"$f":"CH283/Weightings!$M$5","v":0},{"$f":"CL283/Weightings!$M$5","v":0},0,{"$f":"IF(ISNA(VLOOKUP($DC283,'Audit Values'!$A$2:$AE$252,2,FALSE)),'Preliminary SO66'!X280,VLOOKUP($DC283,'Audit Values'!$A$2:$AE$252,24,FALSE))","v":0},403537,{"$f":"AP283/Weightings!$M$5","v":104.8},798.6,903.4,903.4,0,{"$f":"IF(ISNA(VLOOKUP($DC283,'Audit Values'!$A$2:$AC$299,2,FALSE)),\"\",IF(AND(Weightings!H283>0,VLOOKUP($DC283,'Audit Values'!$A$2:$AC$299,29,FALSE)<Weightings!H283),Weightings!H283,VLOOKUP($DC283,'Audit Values'!$A$2:$AC$299,29,FALSE)))","v":15},{"$f":"IF(ISNA(VLOOKUP($DC283,'Audit Values'!$A$2:$AD$299,2,FALSE)),\"\",VLOOKUP($DC283,'Audit Values'!$A$2:$AD$299,30,FALSE))","v":"A"},{"$f":"IF(Weightings!G283=\"\",\"\",IF(Weightings!I283=\"Pending\",\"PX\",\"R\"))","v":""},{"$f":"AR283*Weightings!$M$5+AU283","v":3076207},{"$f":"AT283*Weightings!$M$5+AU283","v":3479897},{"$f":"IF(Weightings!G283>0,Weightings!G283,'Preliminary SO66'!AB280)","v":4888510},919000,234288,50118,3685104,3479897,null,{"$f":"Weightings!E283","v":0},{"$f":"Weightings!F283","v":0},0,3479897,{"$f":"MAX(ROUND(((AR283-AN283-AO283)*Weightings!$M$12)+'2016legmax.xls'!AP283,0),ROUND((('2016legmax.xls'!AR283-'2016legmax.xls'!AN283-'2016legmax.xls'!AO283)*Weightings!$M$12)+Weightings!B283,0))","v":4007601},0.3,1202280,1226392,1202280,0.3,0,false,0,{"$f":"IF(BS283=TRUE,ROUND(((7337-BT283)/3642.4)-1,6),0)","v":0},0,true,205.42500000000001,{"$f":"IF(BW283=TRUE,ROUND(((5406-BX283)/3642.4)-1,6),0)","v":0.427788},199.3,0,45,0.44,{"$f":"IF(ROUND((Weightings!$P$5*CC283^Weightings!$P$6*Weightings!$P$8 ),2)<Weightings!$P$7,Weightings!$P$7,ROUND((Weightings!$P$5*CC283^Weightings!$P$6*Weightings!$P$8 ),2))","v":1303.3699999999999},{"$f":"ROUND(CD283/Weightings!$M$5,4)","v":0.33839999999999998},6.8,0,0,0,0,{"$f":"AS283*Weightings!$M$5*CJ283","v":0},0,0.48299999999999998,10.4,0,0,20.9,{"$f":"IF(ISNA(VLOOKUP($DC283,'Audit Values'!$A$2:$AE$252,2,FALSE)),'Preliminary SO66'!T280,VLOOKUP($DC283,'Audit Values'!$A$2:$AE$252,20,FALSE))","v":0},{"$f":"IF(ISNA(VLOOKUP($DC283,'Audit Values'!$A$2:$AE$252,21,FALSE)),'Preliminary SO66'!U280,VLOOKUP($DC283,'Audit Values'!$A$2:$AE$252,21,FALSE))","v":0},0,0,null,null,null,null,null,null,null,"D0504"]
[505,"Labette","Chetopa-St. Paul ",444.5,0,444.5,436,0,436,433,{"$f":"IF(ISNA(VLOOKUP($DC284,'Audit Values'!$A$2:$AE$252,2,FALSE)),'Preliminary SO66'!B281,VLOOKUP($DC284,'Audit Values'!$A$2:$AE$252,31,FALSE))","v":424},436,{"$f":"IF(ISNA(VLOOKUP($DC284,'Audit Values'!$A$2:$AE$252,2,FALSE)),'Preliminary SO66'!Z281,VLOOKUP($DC284,'Audit Values'!$A$2:$AE$252,26,FALSE))","v":0},436,{"$f":"IF(ISNA(VLOOKUP($DC284,'Audit Values'!$A$2:$AE$252,2,FALSE)),'Preliminary SO66'!C281,IF(VLOOKUP($DC284,'Audit Values'!$A$2:$AE$252,28,FALSE)=\"\",VLOOKUP($DC284,'Audit Values'!$A$2:$AE$252,3,FALSE),VLOOKUP($DC284,'Audit Values'!$A$2:$AE$252,28,FALSE)))","v":6},430,439,439,442,9,192.7,{"$f":"MAX(BR284,BV284,BZ284)","v":192.7},0,{"$f":"IF(ISNA(VLOOKUP($DC284,'Audit Values'!$A$2:$AE$252,2,FALSE)),'Preliminary SO66'!D281,VLOOKUP($DC284,'Audit Values'!$A$2:$AE$252,4,FALSE))","v":157.5},{"$f":"ROUND((X284/6)*Weightings!$M$6,1)","v":13.1},{"$f":"IF(ISNA(VLOOKUP($DC284,'Audit Values'!$A$2:$AE$252,2,FALSE)),'Preliminary SO66'!F281,VLOOKUP($DC284,'Audit Values'!$A$2:$AE$252,6,FALSE))","v":0},{"$f":"ROUND((Z284/6)*Weightings!$M$7,1)","v":0},{"$f":"IF(ISNA(VLOOKUP($DC284,'Audit Values'!$A$2:$AE$252,2,FALSE)),'Preliminary SO66'!H281,VLOOKUP($DC284,'Audit Values'!$A$2:$AE$252,9,FALSE))","v":220},{"$f":"ROUND(AB284*Weightings!$M$8,1)","v":100.3},22.8,0,{"$f":"AE284*Weightings!$M$9","v":0},{"$f":"IF(ISNA(VLOOKUP($DC284,'Audit Values'!$A$2:$AE$252,2,FALSE)),'Preliminary SO66'!L281,VLOOKUP($DC284,'Audit Values'!$A$2:$AE$252,12,FALSE))","v":0},{"$f":"ROUND(AG284*Weightings!$M$10,1)","v":0},{"$f":"IF(ISNA(VLOOKUP($DC284,'Audit Values'!$A$2:$AE$252,2,FALSE)),'Preliminary SO66'!O281,VLOOKUP($DC284,'Audit Values'!$A$2:$AE$252,15,FALSE))","v":37},13.8,{"$f":"CG284/Weightings!$M$5","v":0},{"$f":"CH284/Weightings!$M$5","v":0},{"$f":"CL284/Weightings!$M$5","v":0},9.5,{"$f":"IF(ISNA(VLOOKUP($DC284,'Audit Values'!$A$2:$AE$252,2,FALSE)),'Preliminary SO66'!X281,VLOOKUP($DC284,'Audit Values'!$A$2:$AE$252,24,FALSE))","v":0},436126,{"$f":"AP284/Weightings!$M$5","v":113.2},794.2,907.4,907.4,0,{"$f":"IF(ISNA(VLOOKUP($DC284,'Audit Values'!$A$2:$AC$299,2,FALSE)),\"\",IF(AND(Weightings!H284>0,VLOOKUP($DC284,'Audit Values'!$A$2:$AC$299,29,FALSE)<Weightings!H284),Weightings!H284,VLOOKUP($DC284,'Audit Values'!$A$2:$AC$299,29,FALSE)))","v":5},{"$f":"IF(ISNA(VLOOKUP($DC284,'Audit Values'!$A$2:$AD$299,2,FALSE)),\"\",VLOOKUP($DC284,'Audit Values'!$A$2:$AD$299,30,FALSE))","v":"A"},{"$f":"IF(Weightings!G284=\"\",\"\",IF(Weightings!I284=\"Pending\",\"PX\",\"R\"))","v":""},{"$f":"AR284*Weightings!$M$5+AU284","v":3059258},{"$f":"AT284*Weightings!$M$5+AU284","v":3495305},{"$f":"IF(Weightings!G284>0,Weightings!G284,'Preliminary SO66'!AB281)","v":4901955},860619,243929,53251,3744156,3495305,null,{"$f":"Weightings!E284","v":0},{"$f":"Weightings!F284","v":0},0,3495305,{"$f":"MAX(ROUND(((AR284-AN284-AO284)*Weightings!$M$12)+'2016legmax.xls'!AP284,0),ROUND((('2016legmax.xls'!AR284-'2016legmax.xls'!AN284-'2016legmax.xls'!AO284)*Weightings!$M$12)+Weightings!B284,0))","v":4060980},0.3,1218294,1225972,1218294,0.3,0,false,0,0,0,true,175.72499999999999,0.435942,192.7,0,126,0.28999999999999998,{"$f":"IF(ROUND((Weightings!$P$5*CC284^Weightings!$P$6*Weightings!$P$8 ),2)<Weightings!$P$7,Weightings!$P$7,ROUND((Weightings!$P$5*CC284^Weightings!$P$6*Weightings!$P$8 ),2))","v":1432.26},{"$f":"ROUND(CD284/Weightings!$M$5,4)","v":0.37180000000000002},13.8,0,0,0,0,{"$f":"AS284*Weightings!$M$5*CJ284","v":0},0,0.498,3.5,0,0,22.8,{"$f":"IF(ISNA(VLOOKUP($DC284,'Audit Values'!$A$2:$AE$252,2,FALSE)),'Preliminary SO66'!T281,VLOOKUP($DC284,'Audit Values'!$A$2:$AE$252,20,FALSE))","v":0},{"$f":"IF(ISNA(VLOOKUP($DC284,'Audit Values'!$A$2:$AE$252,21,FALSE)),'Preliminary SO66'!U281,VLOOKUP($DC284,'Audit Values'!$A$2:$AE$252,21,FALSE))","v":0},9,9,null,null,null,null,null,null,null,"D0505"]
[506,"Labette","Labette County ",1460.3,0,1460.3,1479.8,0,1479.8,1475.7,{"$f":"IF(ISNA(VLOOKUP($DC285,'Audit Values'!$A$2:$AE$252,2,FALSE)),'Preliminary SO66'!B282,VLOOKUP($DC285,'Audit Values'!$A$2:$AE$252,31,FALSE))","v":1475.7},1479.8,{"$f":"IF(ISNA(VLOOKUP($DC285,'Audit Values'!$A$2:$AE$252,2,FALSE)),'Preliminary SO66'!Z282,VLOOKUP($DC285,'Audit Values'!$A$2:$AE$252,26,FALSE))","v":0},1479.8,{"$f":"IF(ISNA(VLOOKUP($DC285,'Audit Values'!$A$2:$AE$252,2,FALSE)),'Preliminary SO66'!C282,IF(VLOOKUP($DC285,'Audit Values'!$A$2:$AE$252,28,FALSE)=\"\",VLOOKUP($DC285,'Audit Values'!$A$2:$AE$252,3,FALSE),VLOOKUP($DC285,'Audit Values'!$A$2:$AE$252,28,FALSE)))","v":9},1484.7,1484.7,1484.7,1488.8,0,119.5,119.5,0,{"$f":"IF(ISNA(VLOOKUP($DC285,'Audit Values'!$A$2:$AE$252,2,FALSE)),'Preliminary SO66'!D282,VLOOKUP($DC285,'Audit Values'!$A$2:$AE$252,4,FALSE))","v":515.20000000000005},{"$f":"ROUND((X285/6)*Weightings!$M$6,1)","v":42.9},{"$f":"IF(ISNA(VLOOKUP($DC285,'Audit Values'!$A$2:$AE$252,2,FALSE)),'Preliminary SO66'!F282,VLOOKUP($DC285,'Audit Values'!$A$2:$AE$252,6,FALSE))","v":0},{"$f":"ROUND((Z285/6)*Weightings!$M$7,1)","v":0},{"$f":"IF(ISNA(VLOOKUP($DC285,'Audit Values'!$A$2:$AE$252,2,FALSE)),'Preliminary SO66'!H282,VLOOKUP($DC285,'Audit Values'!$A$2:$AE$252,9,FALSE))","v":676},{"$f":"ROUND(AB285*Weightings!$M$8,1)","v":308.3},49.2,0,{"$f":"AE285*Weightings!$M$9","v":0},{"$f":"IF(ISNA(VLOOKUP($DC285,'Audit Values'!$A$2:$AE$252,2,FALSE)),'Preliminary SO66'!L282,VLOOKUP($DC285,'Audit Values'!$A$2:$AE$252,12,FALSE))","v":0},{"$f":"ROUND(AG285*Weightings!$M$10,1)","v":0},{"$f":"IF(ISNA(VLOOKUP($DC285,'Audit Values'!$A$2:$AE$252,2,FALSE)),'Preliminary SO66'!O282,VLOOKUP($DC285,'Audit Values'!$A$2:$AE$252,15,FALSE))","v":638.5},169.7,{"$f":"CG285/Weightings!$M$5","v":0},{"$f":"CH285/Weightings!$M$5","v":0},{"$f":"CL285/Weightings!$M$5","v":0},0,{"$f":"IF(ISNA(VLOOKUP($DC285,'Audit Values'!$A$2:$AE$252,2,FALSE)),'Preliminary SO66'!X282,VLOOKUP($DC285,'Audit Values'!$A$2:$AE$252,24,FALSE))","v":0},1545824,{"$f":"AP285/Weightings!$M$5","v":401.3},2178.4,2579.6999999999998,2579.6999999999998,0,{"$f":"IF(ISNA(VLOOKUP($DC285,'Audit Values'!$A$2:$AC$299,2,FALSE)),\"\",IF(AND(Weightings!H285>0,VLOOKUP($DC285,'Audit Values'!$A$2:$AC$299,29,FALSE)<Weightings!H285),Weightings!H285,VLOOKUP($DC285,'Audit Values'!$A$2:$AC$299,29,FALSE)))","v":5},{"$f":"IF(ISNA(VLOOKUP($DC285,'Audit Values'!$A$2:$AD$299,2,FALSE)),\"\",VLOOKUP($DC285,'Audit Values'!$A$2:$AD$299,30,FALSE))","v":"A"},{"$f":"IF(Weightings!G285=\"\",\"\",IF(Weightings!I285=\"Pending\",\"PX\",\"R\"))","v":""},{"$f":"AR285*Weightings!$M$5+AU285","v":8391197},{"$f":"AT285*Weightings!$M$5+AU285","v":9937004},{"$f":"IF(Weightings!G285>0,Weightings!G285,'Preliminary SO66'!AB282)","v":13574812},2287865,707468,175769,10403710,9937004,null,{"$f":"Weightings!E285","v":0},{"$f":"Weightings!F285","v":0},0,9937004,{"$f":"MAX(ROUND(((AR285-AN285-AO285)*Weightings!$M$12)+'2016legmax.xls'!AP285,0),ROUND((('2016legmax.xls'!AR285-'2016legmax.xls'!AN285-'2016legmax.xls'!AO285)*Weightings!$M$12)+Weightings!B285,0))","v":11326840},0.3,3398052,3375549,3375549,0.29799999999999999,0,false,0,0,0,true,1471.14,8.0293000000000003E-2,119.5,0,500,1.28,{"$f":"IF(ROUND((Weightings!$P$5*CC285^Weightings!$P$6*Weightings!$P$8 ),2)<Weightings!$P$7,Weightings!$P$7,ROUND((Weightings!$P$5*CC285^Weightings!$P$6*Weightings!$P$8 ),2))","v":1023.67},{"$f":"ROUND(CD285/Weightings!$M$5,4)","v":0.26579999999999998},169.7,0,0,0,0,{"$f":"AS285*Weightings!$M$5*CJ285","v":0},0,0.45400000000000001,3,0,0,49.2,{"$f":"IF(ISNA(VLOOKUP($DC285,'Audit Values'!$A$2:$AE$252,2,FALSE)),'Preliminary SO66'!T282,VLOOKUP($DC285,'Audit Values'!$A$2:$AE$252,20,FALSE))","v":0},{"$f":"IF(ISNA(VLOOKUP($DC285,'Audit Values'!$A$2:$AE$252,21,FALSE)),'Preliminary SO66'!U282,VLOOKUP($DC285,'Audit Values'!$A$2:$AE$252,21,FALSE))","v":0},0,0,null,null,null,null,null,null,null,"D0506"]
[507,"Haskell","Satanta ",275,0,{"$f":"D286+E286","v":275},287.5,0,{"$f":"G286+H286","v":287.5},294.5,{"$f":"IF(ISNA(VLOOKUP($DC286,'Audit Values'!$A$2:$AE$252,2,FALSE)),'Preliminary SO66'!B283,VLOOKUP($DC286,'Audit Values'!$A$2:$AE$252,31,FALSE))","v":294.5},294.5,{"$f":"IF(ISNA(VLOOKUP($DC286,'Audit Values'!$A$2:$AE$252,2,FALSE)),'Preliminary SO66'!Z283,VLOOKUP($DC286,'Audit Values'!$A$2:$AE$252,26,FALSE))","v":0},294.5,{"$f":"IF(ISNA(VLOOKUP($DC286,'Audit Values'!$A$2:$AE$252,2,FALSE)),'Preliminary SO66'!C283,IF(VLOOKUP($DC286,'Audit Values'!$A$2:$AE$252,28,FALSE)=\"\",VLOOKUP($DC286,'Audit Values'!$A$2:$AE$252,3,FALSE),VLOOKUP($DC286,'Audit Values'!$A$2:$AE$252,28,FALSE)))","v":5},299.5,299.5,299.5,299.5,0,145.4,145.4,0,{"$f":"IF(ISNA(VLOOKUP($DC286,'Audit Values'!$A$2:$AE$252,2,FALSE)),'Preliminary SO66'!D283,VLOOKUP($DC286,'Audit Values'!$A$2:$AE$252,4,FALSE))","v":79.5},{"$f":"ROUND((X286/6)*Weightings!$M$6,1)","v":6.6},{"$f":"IF(ISNA(VLOOKUP($DC286,'Audit Values'!$A$2:$AE$252,2,FALSE)),'Preliminary SO66'!F283,VLOOKUP($DC286,'Audit Values'!$A$2:$AE$252,6,FALSE))","v":831.1},{"$f":"ROUND((Z286/6)*Weightings!$M$7,1)","v":54.7},{"$f":"IF(ISNA(VLOOKUP($DC286,'Audit Values'!$A$2:$AE$252,2,FALSE)),'Preliminary SO66'!H283,VLOOKUP($DC286,'Audit Values'!$A$2:$AE$252,9,FALSE))","v":160},{"$f":"ROUND(AB286*Weightings!$M$8,1)","v":73},16.8,0,{"$f":"AE286*Weightings!$M$9","v":0},{"$f":"IF(ISNA(VLOOKUP($DC286,'Audit Values'!$A$2:$AE$252,2,FALSE)),'Preliminary SO66'!L283,VLOOKUP($DC286,'Audit Values'!$A$2:$AE$252,12,FALSE))","v":0},{"$f":"ROUND(AG286*Weightings!$M$10,1)","v":0},{"$f":"IF(ISNA(VLOOKUP($DC286,'Audit Values'!$A$2:$AE$252,2,FALSE)),'Preliminary SO66'!O283,VLOOKUP($DC286,'Audit Values'!$A$2:$AE$252,15,FALSE))","v":61},23.7,{"$f":"CG286/Weightings!$M$5","v":0},{"$f":"CH286/Weightings!$M$5","v":0},{"$f":"CL286/Weightings!$M$5","v":0},0,{"$f":"IF(ISNA(VLOOKUP($DC286,'Audit Values'!$A$2:$AE$252,2,FALSE)),'Preliminary SO66'!X283,VLOOKUP($DC286,'Audit Values'!$A$2:$AE$252,24,FALSE))","v":0},163821,{"$f":"AP286/Weightings!$M$5","v":42.5},619.70000000000005,662.2,662.2,0,{"$f":"IF(ISNA(VLOOKUP($DC286,'Audit Values'!$A$2:$AC$299,2,FALSE)),\"\",IF(AND(Weightings!H286>0,VLOOKUP($DC286,'Audit Values'!$A$2:$AC$299,29,FALSE)<Weightings!H286),Weightings!H286,VLOOKUP($DC286,'Audit Values'!$A$2:$AC$299,29,FALSE)))","v":11},{"$f":"IF(ISNA(VLOOKUP($DC286,'Audit Values'!$A$2:$AD$299,2,FALSE)),\"\",VLOOKUP($DC286,'Audit Values'!$A$2:$AD$299,30,FALSE))","v":"A"},{"$f":"IF(Weightings!G286=\"\",\"\",IF(Weightings!I286=\"Pending\",\"PX\",\"R\"))","v":""},{"$f":"AR286*Weightings!$M$5+AU286","v":2387084},{"$f":"AT286*Weightings!$M$5+AU286","v":2550794},{"$f":"IF(Weightings!G286>0,Weightings!G286,'Preliminary SO66'!AB283)","v":2651524},0,193236,0,2458288,2550794,null,{"$f":"Weightings!E286","v":0},{"$f":"Weightings!F286","v":0},0,2550794,{"$f":"MAX(ROUND(((AR286-AN286-AO286)*Weightings!$M$12)+'2016legmax.xls'!AP286,0),ROUND((('2016legmax.xls'!AR286-'2016legmax.xls'!AN286-'2016legmax.xls'!AO286)*Weightings!$M$12)+Weightings!B286,0))","v":3008561},0.3,902568,912132,902568,0.3,0,true,1926.173,0.48551100000000003,145.4,false,0,0,0,0,250,0.24,{"$f":"IF(ROUND((Weightings!$P$5*CC286^Weightings!$P$6*Weightings!$P$8 ),2)<Weightings!$P$7,Weightings!$P$7,ROUND((Weightings!$P$5*CC286^Weightings!$P$6*Weightings!$P$8 ),2))","v":1494.91},{"$f":"ROUND(CD286/Weightings!$M$5,4)","v":0.3881},23.7,0,0,0,0,{"$f":"AS286*Weightings!$M$5*CJ286","v":0},0,0.53400000000000003,1.2,16.8,0,0,{"$f":"IF(ISNA(VLOOKUP($DC286,'Audit Values'!$A$2:$AE$252,2,FALSE)),'Preliminary SO66'!T283,VLOOKUP($DC286,'Audit Values'!$A$2:$AE$252,20,FALSE))","v":0},{"$f":"IF(ISNA(VLOOKUP($DC286,'Audit Values'!$A$2:$AE$252,21,FALSE)),'Preliminary SO66'!U283,VLOOKUP($DC286,'Audit Values'!$A$2:$AE$252,21,FALSE))","v":0},0,0,null,null,null,null,null,null,null,"D0507"]
[508,"Cherokee","Baxter Springs ",944.5,0,{"$f":"D287+E287","v":944.5},943,0,{"$f":"G287+H287","v":943},988.5,{"$f":"IF(ISNA(VLOOKUP($DC287,'Audit Values'!$A$2:$AE$252,2,FALSE)),'Preliminary SO66'!B284,VLOOKUP($DC287,'Audit Values'!$A$2:$AE$252,31,FALSE))","v":971.5},971.5,{"$f":"IF(ISNA(VLOOKUP($DC287,'Audit Values'!$A$2:$AE$252,2,FALSE)),'Preliminary SO66'!Z284,VLOOKUP($DC287,'Audit Values'!$A$2:$AE$252,26,FALSE))","v":0},971.5,{"$f":"IF(ISNA(VLOOKUP($DC287,'Audit Values'!$A$2:$AE$252,2,FALSE)),'Preliminary SO66'!C284,IF(VLOOKUP($DC287,'Audit Values'!$A$2:$AE$252,28,FALSE)=\"\",VLOOKUP($DC287,'Audit Values'!$A$2:$AE$252,3,FALSE),VLOOKUP($DC287,'Audit Values'!$A$2:$AE$252,28,FALSE)))","v":9.5},981,998,998,981,17,248,248,0,{"$f":"IF(ISNA(VLOOKUP($DC287,'Audit Values'!$A$2:$AE$252,2,FALSE)),'Preliminary SO66'!D284,VLOOKUP($DC287,'Audit Values'!$A$2:$AE$252,4,FALSE))","v":273.3},{"$f":"ROUND((X287/6)*Weightings!$M$6,1)","v":22.8},{"$f":"IF(ISNA(VLOOKUP($DC287,'Audit Values'!$A$2:$AE$252,2,FALSE)),'Preliminary SO66'!F284,VLOOKUP($DC287,'Audit Values'!$A$2:$AE$252,6,FALSE))","v":13},{"$f":"ROUND((Z287/6)*Weightings!$M$7,1)","v":0.9},{"$f":"IF(ISNA(VLOOKUP($DC287,'Audit Values'!$A$2:$AE$252,2,FALSE)),'Preliminary SO66'!H284,VLOOKUP($DC287,'Audit Values'!$A$2:$AE$252,9,FALSE))","v":551},{"$f":"ROUND(AB287*Weightings!$M$8,1)","v":251.3},57.9,0,{"$f":"AE287*Weightings!$M$9","v":0},{"$f":"IF(ISNA(VLOOKUP($DC287,'Audit Values'!$A$2:$AE$252,2,FALSE)),'Preliminary SO66'!L284,VLOOKUP($DC287,'Audit Values'!$A$2:$AE$252,12,FALSE))","v":279.3},{"$f":"ROUND(AG287*Weightings!$M$10,1)","v":69.8},{"$f":"IF(ISNA(VLOOKUP($DC287,'Audit Values'!$A$2:$AE$252,2,FALSE)),'Preliminary SO66'!O284,VLOOKUP($DC287,'Audit Values'!$A$2:$AE$252,15,FALSE))","v":96},20.100000000000001,{"$f":"CG287/Weightings!$M$5","v":0},{"$f":"CH287/Weightings!$M$5","v":0},{"$f":"CL287/Weightings!$M$5","v":0},17.899999999999999,{"$f":"IF(ISNA(VLOOKUP($DC287,'Audit Values'!$A$2:$AE$252,2,FALSE)),'Preliminary SO66'!X284,VLOOKUP($DC287,'Audit Values'!$A$2:$AE$252,24,FALSE))","v":0},918434,{"$f":"AP287/Weightings!$M$5","v":238.4},1669.7,1908.1,1908.1,0,{"$f":"IF(ISNA(VLOOKUP($DC287,'Audit Values'!$A$2:$AC$299,2,FALSE)),\"\",IF(AND(Weightings!H287>0,VLOOKUP($DC287,'Audit Values'!$A$2:$AC$299,29,FALSE)<Weightings!H287),Weightings!H287,VLOOKUP($DC287,'Audit Values'!$A$2:$AC$299,29,FALSE)))","v":7},{"$f":"IF(ISNA(VLOOKUP($DC287,'Audit Values'!$A$2:$AD$299,2,FALSE)),\"\",VLOOKUP($DC287,'Audit Values'!$A$2:$AD$299,30,FALSE))","v":"A"},{"$f":"IF(Weightings!G287=\"\",\"\",IF(Weightings!I287=\"Pending\",\"PX\",\"R\"))","v":""},{"$f":"AR287*Weightings!$M$5+AU287","v":6431684},{"$f":"AT287*Weightings!$M$5+AU287","v":7350001},{"$f":"IF(Weightings!G287>0,Weightings!G287,'Preliminary SO66'!AB284)","v":9698913},1738400,484202,25707,7450604,7350001,null,{"$f":"Weightings!E287","v":0},{"$f":"Weightings!F287","v":0},0,7350001,{"$f":"MAX(ROUND(((AR287-AN287-AO287)*Weightings!$M$12)+'2016legmax.xls'!AP287,0),ROUND((('2016legmax.xls'!AR287-'2016legmax.xls'!AN287-'2016legmax.xls'!AO287)*Weightings!$M$12)+Weightings!B287,0))","v":8335016},0.3,2500505,2315000,2315000,0.2777,0,false,0,0,0,true,842.73749999999995,0.25281799999999999,248,0,26,3.69,{"$f":"IF(ROUND((Weightings!$P$5*CC287^Weightings!$P$6*Weightings!$P$8 ),2)<Weightings!$P$7,Weightings!$P$7,ROUND((Weightings!$P$5*CC287^Weightings!$P$6*Weightings!$P$8 ),2))","v":805.65},{"$f":"ROUND(CD287/Weightings!$M$5,4)","v":0.2092},20.100000000000001,0,0,0,0,{"$f":"AS287*Weightings!$M$5*CJ287","v":0},0,0.56200000000000006,37.700000000000003,57.9,0,0,{"$f":"IF(ISNA(VLOOKUP($DC287,'Audit Values'!$A$2:$AE$252,2,FALSE)),'Preliminary SO66'!T284,VLOOKUP($DC287,'Audit Values'!$A$2:$AE$252,20,FALSE))","v":12},{"$f":"IF(ISNA(VLOOKUP($DC287,'Audit Values'!$A$2:$AE$252,21,FALSE)),'Preliminary SO66'!U284,VLOOKUP($DC287,'Audit Values'!$A$2:$AE$252,21,FALSE))","v":0},5,17,null,null,null,null,null,null,null,"D0508"]
[509,"Sumner","South Haven ",171.5,0,{"$f":"D288+E288","v":171.5},177.5,0,{"$f":"G288+H288","v":177.5},190,{"$f":"IF(ISNA(VLOOKUP($DC288,'Audit Values'!$A$2:$AE$252,2,FALSE)),'Preliminary SO66'!B285,VLOOKUP($DC288,'Audit Values'!$A$2:$AE$252,31,FALSE))","v":185.7},185.7,{"$f":"IF(ISNA(VLOOKUP($DC288,'Audit Values'!$A$2:$AE$252,2,FALSE)),'Preliminary SO66'!Z285,VLOOKUP($DC288,'Audit Values'!$A$2:$AE$252,26,FALSE))","v":0},185.7,{"$f":"IF(ISNA(VLOOKUP($DC288,'Audit Values'!$A$2:$AE$252,2,FALSE)),'Preliminary SO66'!C285,IF(VLOOKUP($DC288,'Audit Values'!$A$2:$AE$252,28,FALSE)=\"\",VLOOKUP($DC288,'Audit Values'!$A$2:$AE$252,3,FALSE),VLOOKUP($DC288,'Audit Values'!$A$2:$AE$252,28,FALSE)))","v":1.5},187.2,191.5,191.5,187.2,4.3,146.6,146.6,0,{"$f":"IF(ISNA(VLOOKUP($DC288,'Audit Values'!$A$2:$AE$252,2,FALSE)),'Preliminary SO66'!D285,VLOOKUP($DC288,'Audit Values'!$A$2:$AE$252,4,FALSE))","v":153.6},{"$f":"ROUND((X288/6)*Weightings!$M$6,1)","v":12.8},{"$f":"IF(ISNA(VLOOKUP($DC288,'Audit Values'!$A$2:$AE$252,2,FALSE)),'Preliminary SO66'!F285,VLOOKUP($DC288,'Audit Values'!$A$2:$AE$252,6,FALSE))","v":0},{"$f":"ROUND((Z288/6)*Weightings!$M$7,1)","v":0},{"$f":"IF(ISNA(VLOOKUP($DC288,'Audit Values'!$A$2:$AE$252,2,FALSE)),'Preliminary SO66'!H285,VLOOKUP($DC288,'Audit Values'!$A$2:$AE$252,9,FALSE))","v":71},{"$f":"ROUND(AB288*Weightings!$M$8,1)","v":32.4},1.4,0,{"$f":"AE288*Weightings!$M$9","v":0},{"$f":"IF(ISNA(VLOOKUP($DC288,'Audit Values'!$A$2:$AE$252,2,FALSE)),'Preliminary SO66'!L285,VLOOKUP($DC288,'Audit Values'!$A$2:$AE$252,12,FALSE))","v":0},{"$f":"ROUND(AG288*Weightings!$M$10,1)","v":0},{"$f":"IF(ISNA(VLOOKUP($DC288,'Audit Values'!$A$2:$AE$252,2,FALSE)),'Preliminary SO66'!O285,VLOOKUP($DC288,'Audit Values'!$A$2:$AE$252,15,FALSE))","v":91},28.6,{"$f":"CG288/Weightings!$M$5","v":0},{"$f":"CH288/Weightings!$M$5","v":0},{"$f":"CL288/Weightings!$M$5","v":0},4.5,{"$f":"IF(ISNA(VLOOKUP($DC288,'Audit Values'!$A$2:$AE$252,2,FALSE)),'Preliminary SO66'!X285,VLOOKUP($DC288,'Audit Values'!$A$2:$AE$252,24,FALSE))","v":0},279720,{"$f":"AP288/Weightings!$M$5","v":72.599999999999994},413.5,486.1,486.1,0,{"$f":"IF(ISNA(VLOOKUP($DC288,'Audit Values'!$A$2:$AC$299,2,FALSE)),\"\",IF(AND(Weightings!H288>0,VLOOKUP($DC288,'Audit Values'!$A$2:$AC$299,29,FALSE)<Weightings!H288),Weightings!H288,VLOOKUP($DC288,'Audit Values'!$A$2:$AC$299,29,FALSE)))","v":9},{"$f":"IF(ISNA(VLOOKUP($DC288,'Audit Values'!$A$2:$AD$299,2,FALSE)),\"\",VLOOKUP($DC288,'Audit Values'!$A$2:$AD$299,30,FALSE))","v":"A"},{"$f":"IF(Weightings!G288=\"\",\"\",IF(Weightings!I288=\"Pending\",\"PX\",\"R\"))","v":""},{"$f":"AR288*Weightings!$M$5+AU288","v":1592802},{"$f":"AT288*Weightings!$M$5+AU288","v":1872457},{"$f":"IF(Weightings!G288>0,Weightings!G288,'Preliminary SO66'!AB285)","v":2390091},295947,107534,13329,1973281,1872457,null,{"$f":"Weightings!E288","v":0},{"$f":"Weightings!F288","v":0},0,1872457,{"$f":"MAX(ROUND(((AR288-AN288-AO288)*Weightings!$M$12)+'2016legmax.xls'!AP288,0),ROUND((('2016legmax.xls'!AR288-'2016legmax.xls'!AN288-'2016legmax.xls'!AO288)*Weightings!$M$12)+Weightings!B288,0))","v":2151296},0.33,709928,659995,659995,0.30680000000000002,0,true,841.91600000000005,0.783188,146.6,false,0,0,0,0,150,0.61,{"$f":"IF(ROUND((Weightings!$P$5*CC288^Weightings!$P$6*Weightings!$P$8 ),2)<Weightings!$P$7,Weightings!$P$7,ROUND((Weightings!$P$5*CC288^Weightings!$P$6*Weightings!$P$8 ),2))","v":1210.52},{"$f":"ROUND(CD288/Weightings!$M$5,4)","v":0.31430000000000002},28.6,0,0,0,0,{"$f":"AS288*Weightings!$M$5*CJ288","v":0},0,0.379,1.2,0,0,1.4,{"$f":"IF(ISNA(VLOOKUP($DC288,'Audit Values'!$A$2:$AE$252,2,FALSE)),'Preliminary SO66'!T285,VLOOKUP($DC288,'Audit Values'!$A$2:$AE$252,20,FALSE))","v":3},{"$f":"IF(ISNA(VLOOKUP($DC288,'Audit Values'!$A$2:$AE$252,21,FALSE)),'Preliminary SO66'!U285,VLOOKUP($DC288,'Audit Values'!$A$2:$AE$252,21,FALSE))","v":1.3},0,4.3,null,null,null,null,null,null,null,"D0509",31675]
[511,"Harper","Attica ",157.5,0,{"$f":"D289+E289","v":157.5},155.1,0,{"$f":"G289+H289","v":155.1},151.5,{"$f":"IF(ISNA(VLOOKUP($DC289,'Audit Values'!$A$2:$AE$252,2,FALSE)),'Preliminary SO66'!B286,VLOOKUP($DC289,'Audit Values'!$A$2:$AE$252,31,FALSE))","v":151.5},155.1,{"$f":"IF(ISNA(VLOOKUP($DC289,'Audit Values'!$A$2:$AE$252,2,FALSE)),'Preliminary SO66'!Z286,VLOOKUP($DC289,'Audit Values'!$A$2:$AE$252,26,FALSE))","v":0},155.1,{"$f":"IF(ISNA(VLOOKUP($DC289,'Audit Values'!$A$2:$AE$252,2,FALSE)),'Preliminary SO66'!C286,IF(VLOOKUP($DC289,'Audit Values'!$A$2:$AE$252,28,FALSE)=\"\",VLOOKUP($DC289,'Audit Values'!$A$2:$AE$252,3,FALSE),VLOOKUP($DC289,'Audit Values'!$A$2:$AE$252,28,FALSE)))","v":0},151.5,151.5,151.5,155.1,0,134.69999999999999,134.69999999999999,0,{"$f":"IF(ISNA(VLOOKUP($DC289,'Audit Values'!$A$2:$AE$252,2,FALSE)),'Preliminary SO66'!D286,VLOOKUP($DC289,'Audit Values'!$A$2:$AE$252,4,FALSE))","v":0.5},{"$f":"ROUND((X289/6)*Weightings!$M$6,1)","v":0},{"$f":"IF(ISNA(VLOOKUP($DC289,'Audit Values'!$A$2:$AE$252,2,FALSE)),'Preliminary SO66'!F286,VLOOKUP($DC289,'Audit Values'!$A$2:$AE$252,6,FALSE))","v":0},{"$f":"ROUND((Z289/6)*Weightings!$M$7,1)","v":0},{"$f":"IF(ISNA(VLOOKUP($DC289,'Audit Values'!$A$2:$AE$252,2,FALSE)),'Preliminary SO66'!H286,VLOOKUP($DC289,'Audit Values'!$A$2:$AE$252,9,FALSE))","v":64},{"$f":"ROUND(AB289*Weightings!$M$8,1)","v":29.2},2.8,0,{"$f":"AE289*Weightings!$M$9","v":0},{"$f":"IF(ISNA(VLOOKUP($DC289,'Audit Values'!$A$2:$AE$252,2,FALSE)),'Preliminary SO66'!L286,VLOOKUP($DC289,'Audit Values'!$A$2:$AE$252,12,FALSE))","v":0},{"$f":"ROUND(AG289*Weightings!$M$10,1)","v":0},{"$f":"IF(ISNA(VLOOKUP($DC289,'Audit Values'!$A$2:$AE$252,2,FALSE)),'Preliminary SO66'!O286,VLOOKUP($DC289,'Audit Values'!$A$2:$AE$252,15,FALSE))","v":28.5},11.2,{"$f":"CG289/Weightings!$M$5","v":0},{"$f":"CH289/Weightings!$M$5","v":0},{"$f":"CL289/Weightings!$M$5","v":0},0,{"$f":"IF(ISNA(VLOOKUP($DC289,'Audit Values'!$A$2:$AE$252,2,FALSE)),'Preliminary SO66'!X286,VLOOKUP($DC289,'Audit Values'!$A$2:$AE$252,24,FALSE))","v":0},187367,{"$f":"AP289/Weightings!$M$5","v":48.6},333,381.6,381.6,0,{"$f":"IF(ISNA(VLOOKUP($DC289,'Audit Values'!$A$2:$AC$299,2,FALSE)),\"\",IF(AND(Weightings!H289>0,VLOOKUP($DC289,'Audit Values'!$A$2:$AC$299,29,FALSE)<Weightings!H289),Weightings!H289,VLOOKUP($DC289,'Audit Values'!$A$2:$AC$299,29,FALSE)))","v":15},{"$f":"IF(ISNA(VLOOKUP($DC289,'Audit Values'!$A$2:$AD$299,2,FALSE)),\"\",VLOOKUP($DC289,'Audit Values'!$A$2:$AD$299,30,FALSE))","v":"A"},{"$f":"IF(Weightings!G289=\"\",\"\",IF(Weightings!I289=\"Pending\",\"PX\",\"R\"))","v":""},{"$f":"AR289*Weightings!$M$5+AU289","v":1282716},{"$f":"AT289*Weightings!$M$5+AU289","v":1469923},{"$f":"IF(Weightings!G289>0,Weightings!G289,'Preliminary SO66'!AB286)","v":1625909},74068,86881,0,1464960,1469923,null,{"$f":"Weightings!E289","v":0},{"$f":"Weightings!F289","v":0},0,1469923,{"$f":"MAX(ROUND(((AR289-AN289-AO289)*Weightings!$M$12)+'2016legmax.xls'!AP289,0),ROUND((('2016legmax.xls'!AR289-'2016legmax.xls'!AN289-'2016legmax.xls'!AO289)*Weightings!$M$12)+Weightings!B289,0))","v":1682537},0.3,504761,481387,481387,0.28610000000000002,0,true,531.99099999999999,0.86827600000000005,134.69999999999999,false,0,0,0,0,126,0.23,{"$f":"IF(ROUND((Weightings!$P$5*CC289^Weightings!$P$6*Weightings!$P$8 ),2)<Weightings!$P$7,Weightings!$P$7,ROUND((Weightings!$P$5*CC289^Weightings!$P$6*Weightings!$P$8 ),2))","v":1509.37},{"$f":"ROUND(CD289/Weightings!$M$5,4)","v":0.39179999999999998},11.2,0,0,0,0,{"$f":"AS289*Weightings!$M$5*CJ289","v":0},0,0.41299999999999998,1.2,0,0,2.8,{"$f":"IF(ISNA(VLOOKUP($DC289,'Audit Values'!$A$2:$AE$252,2,FALSE)),'Preliminary SO66'!T286,VLOOKUP($DC289,'Audit Values'!$A$2:$AE$252,20,FALSE))","v":0},{"$f":"IF(ISNA(VLOOKUP($DC289,'Audit Values'!$A$2:$AE$252,21,FALSE)),'Preliminary SO66'!U286,VLOOKUP($DC289,'Audit Values'!$A$2:$AE$252,21,FALSE))","v":0},0,0,null,null,null,null,null,null,null,"D0511"]
[512,"Johnson","Shawnee Mission Pub Sch",26100,0,{"$f":"D290+E290","v":26100},26229.1,0,{"$f":"G290+H290","v":26229.1},26413.1,{"$f":"IF(ISNA(VLOOKUP($DC290,'Audit Values'!$A$2:$AE$252,2,FALSE)),'Preliminary SO66'!B287,VLOOKUP($DC290,'Audit Values'!$A$2:$AE$252,31,FALSE))","v":26413.1},26413.1,{"$f":"IF(ISNA(VLOOKUP($DC290,'Audit Values'!$A$2:$AE$252,2,FALSE)),'Preliminary SO66'!Z287,VLOOKUP($DC290,'Audit Values'!$A$2:$AE$252,26,FALSE))","v":0},26413.1,{"$f":"IF(ISNA(VLOOKUP($DC290,'Audit Values'!$A$2:$AE$252,2,FALSE)),'Preliminary SO66'!C287,IF(VLOOKUP($DC290,'Audit Values'!$A$2:$AE$252,28,FALSE)=\"\",VLOOKUP($DC290,'Audit Values'!$A$2:$AE$252,3,FALSE),VLOOKUP($DC290,'Audit Values'!$A$2:$AE$252,28,FALSE)))","v":51},26464.1,26464.1,26464.1,26464.1,0,927.3,0,927.3,{"$f":"IF(ISNA(VLOOKUP($DC290,'Audit Values'!$A$2:$AE$252,2,FALSE)),'Preliminary SO66'!D287,VLOOKUP($DC290,'Audit Values'!$A$2:$AE$252,4,FALSE))","v":4668.3999999999996},{"$f":"ROUND((X290/6)*Weightings!$M$6,1)","v":389},{"$f":"IF(ISNA(VLOOKUP($DC290,'Audit Values'!$A$2:$AE$252,2,FALSE)),'Preliminary SO66'!F287,VLOOKUP($DC290,'Audit Values'!$A$2:$AE$252,6,FALSE))","v":7569.2},{"$f":"ROUND((Z290/6)*Weightings!$M$7,1)","v":498.3},{"$f":"IF(ISNA(VLOOKUP($DC290,'Audit Values'!$A$2:$AE$252,2,FALSE)),'Preliminary SO66'!H287,VLOOKUP($DC290,'Audit Values'!$A$2:$AE$252,9,FALSE))","v":8221},{"$f":"ROUND(AB290*Weightings!$M$8,1)","v":3748.8},0,0,{"$f":"AE290*Weightings!$M$9","v":0},{"$f":"IF(ISNA(VLOOKUP($DC290,'Audit Values'!$A$2:$AE$252,2,FALSE)),'Preliminary SO66'!L287,VLOOKUP($DC290,'Audit Values'!$A$2:$AE$252,12,FALSE))","v":0},{"$f":"ROUND(AG290*Weightings!$M$10,1)","v":0},{"$f":"IF(ISNA(VLOOKUP($DC290,'Audit Values'!$A$2:$AE$252,2,FALSE)),'Preliminary SO66'!O287,VLOOKUP($DC290,'Audit Values'!$A$2:$AE$252,15,FALSE))","v":6597},965.8,{"$f":"CG290/Weightings!$M$5","v":0},{"$f":"CH290/Weightings!$M$5","v":827.4},{"$f":"CL290/Weightings!$M$5","v":1380.4},0,{"$f":"IF(ISNA(VLOOKUP($DC290,'Audit Values'!$A$2:$AE$252,2,FALSE)),'Preliminary SO66'!X287,VLOOKUP($DC290,'Audit Values'!$A$2:$AE$252,24,FALSE))","v":0},17834470,{"$f":"AP290/Weightings!$M$5","v":4629.8999999999996},35201.1,38450.6,39831,0,{"$f":"IF(ISNA(VLOOKUP($DC290,'Audit Values'!$A$2:$AC$299,2,FALSE)),\"\",IF(AND(Weightings!H290>0,VLOOKUP($DC290,'Audit Values'!$A$2:$AC$299,29,FALSE)<Weightings!H290),Weightings!H290,VLOOKUP($DC290,'Audit Values'!$A$2:$AC$299,29,FALSE)))","v":3},{"$f":"IF(ISNA(VLOOKUP($DC290,'Audit Values'!$A$2:$AD$299,2,FALSE)),\"\",VLOOKUP($DC290,'Audit Values'!$A$2:$AD$299,30,FALSE))","v":"A"},{"$f":"IF(Weightings!G290=\"\",\"\",IF(Weightings!I290=\"Pending\",\"PX\",\"R\"))","v":""},{"$f":"AR290*Weightings!$M$5+AU290","v":135594637},{"$f":"AT290*Weightings!$M$5+AU290","v":153429012},{"$f":"IF(Weightings!G290>0,Weightings!G290,'Preliminary SO66'!AB287)","v":176988467},3013316,14272374,0,159702777,153429012,null,{"$f":"Weightings!E290","v":0},{"$f":"Weightings!F290","v":0},0,153429012,{"$f":"MAX(ROUND(((AR290-AN290-AO290)*Weightings!$M$12)+'2016legmax.xls'!AP290,0),ROUND((('2016legmax.xls'!AR290-'2016legmax.xls'!AN290-'2016legmax.xls'!AO290)*Weightings!$M$12)+Weightings!B290,0))","v":184156245},0.33,60771561,59788008,59788008,0.32469999999999999,0,false,0,0,0,false,0,0,0,927.3,72,91.63,{"$f":"IF(ROUND((Weightings!$P$5*CC290^Weightings!$P$6*Weightings!$P$8 ),2)<Weightings!$P$7,Weightings!$P$7,ROUND((Weightings!$P$5*CC290^Weightings!$P$6*Weightings!$P$8 ),2))","v":564},{"$f":"ROUND(CD290/Weightings!$M$5,4)","v":0.1464},965.8,0,3187219,6133687,3.5900000000000001E-2,{"$f":"AS290*Weightings!$M$5*CJ290","v":5317210},5317210,0.311,367.6,0,0,0,{"$f":"IF(ISNA(VLOOKUP($DC290,'Audit Values'!$A$2:$AE$252,2,FALSE)),'Preliminary SO66'!T287,VLOOKUP($DC290,'Audit Values'!$A$2:$AE$252,20,FALSE))","v":0},{"$f":"IF(ISNA(VLOOKUP($DC290,'Audit Values'!$A$2:$AE$252,21,FALSE)),'Preliminary SO66'!U287,VLOOKUP($DC290,'Audit Values'!$A$2:$AE$252,21,FALSE))","v":0},0,0,null,null,null,null,null,null,null,"D0512"]
[null,null,null,null,null,null,null,null,null,null,null,null,null,null,null,null,null,null,null,null,null,null,null,null,null,null,null,null,null,null,null,null,null,null,null,"",null,null,null,null,null,null,null,null,null,"",null,null,null,null,null,"",null,null,null,null,null,null,null,null,null,null,null,null,null,"",null,""]
[null,"Color Key:","Exceptions District"]
[null,null,"Potential Military District"]
[null,null,"Adopted Under Authority"]
[null,null,"Missing Republication Docs"]

{"sheet":"Exceptions","index":2,"n_rows":91,"n_cols":8,"rows_kept":91,"cut":false,"hidden":true,"merged":[[66,6,66,8],[79,6,79,8],[1,6,1,8],[14,6,14,8],[27,6,27,8],[40,6,40,8],[53,6,53,8],[14,0,14,2],[14,3,14,5],[1,0,1,2],[1,3,1,5],[27,0,27,2],[27,3,27,5],[40,0,40,2],[40,3,40,5],[79,0,79,2],[79,3,79,5],[53,0,53,2],[53,3,53,5],[66,0,66,2],[66,3,66,5]]}
["Exceptions allowed per 72-6434b & 72-8814b"]
["USD 280 will close and transfer territory into USD 281 effective FY03.  USD 281 will use combined budget and higher state aid rates locked in for 2002-03, 2003-04,2004-05, and 2005-06 school years.",null,null,"USD 317 and USD 318 will close and create USD 105 effective FY04.  USD 105 will use combined budget and higher state aid rates locked in for 2003-04, 2004-05,2005-06 and 2006-07 school years.",null,null,"USD 302 and USD 304 will close and create USD 106 effective FY05.  USD 106 will use combined budget and higher state aid rates locked in for 2004-05, 2005-06, 2006-07 and 2007-08 school years."]
[null,"FY 02",null,null,"FY 03",null,null,"FY 04"]
[null,"Legal GF Budget",null,null,"Legal GF Budget",null,null,"Legal GF Budget"]
[null,"(inc Spec Ed)",null,null,"(inc Spec Ed)",null,null,"(inc Spec Ed)"]
[280,554184,null,317,883854,null,302,1136495]
[281,2993832,null,318,2440257,null,304,820888]
["combined",{"$f":"SUM(B6:B7)","v":3548016},null,"combined",{"$f":"SUM(E6:E7)","v":3324111},null,"combined",{"$f":"SUM(H6:H7)","v":1957383}]
["280 Spec Ed",-154,null,"317 Spec Ed",86615,null,"302 Spec Ed",77952]
["281 Spec Ed",-143386,null,"318 Spec Ed",133936,null,"304 Spec Ed",56643]
["combined (ex SE)",{"$f":"SUM(B8:B10)","v":3404476},null,"combined (ex SE)",{"$f":"E8-E9-E10","v":3103560},null,"combined (ex SE)",{"$f":"H8-H9-H10","v":1822788}]
["spec ed dollars",{"$f":"'2016legmax.xls'!AQ88*4257","v":339709},null,"CY spec ed dollars",{"$f":"'2016legmax.xls'!AQ8*4316","v":332332},null,"CY spec ed dollars",{"$f":"'2016legmax.xls'!AQ9*4374","v":96228}]
["FY06 GF Budget",{"$f":"SUM(B11:B12)","v":3744185},null,"FY05 GF Budget",{"$f":"SUM(E11:E12)","v":3435892},null,"FY05 GF Budget",{"$f":"SUM(H11:H12)","v":1919016}]
[]
["USD 104 and USD 278 will close and create USD 107 effective FY07.  USD 107 will use combined budget and higher state aid rates locked in for 2006-07, 2007-08 and 2008-09 school years.",null,null,"USD 221 and USD 222 will close and create USD 108 effective FY07.  USD 108 will use combined budget and higher state aid rates locked in for 2006-07, 2007-08 and 2008-09 school years.",null,null,"USD 427 and USD 455 will close and create USD 109 effective FY07.  USD 109 will use combined budget and higher state aid rates locked in for 2006-07, 2007-08 and 2008-09 school years."]
[null,"FY 06",null,null,"FY 06",null,null,"FY 06"]
[null,"Legal GF Budget",null,null,"Legal GF Budget",null,null,"Legal GF Budget"]
[null,"(incl Spec Ed)",null,null,"(incl Spec Ed)",null,null,"(incl Spec Ed)"]
[104,1183446,null,221,1205582,null,427,3442636]
[278,1751330,null,222,2622738,null,455,1173655]
["combined",{"$f":"SUM(B19:B20)","v":2934776},null,"combined",{"$f":"SUM(E19:E20)","v":3828320},null,"combined",{"$f":"SUM(H19:H20)","v":4616291}]
["104 Spec Ed",83064,null,"221 Spec Ed",122855,null,"427 Spec Ed",398982]
["278 Spec Ed",76561,null,"222 Spec Ed",230689,null,"455 Spec Ed",95498]
["combined (ex SE)",{"$f":"B21-B22-B23","v":2775151},null,"combined (ex SE)",{"$f":"E21-E22-E23","v":3474776},null,"combined (ex SE)",{"$f":"H21-H22-H23","v":4121811}]
["CY sped dollars",{"$f":"'2016legmax.xls'!AQ10*4400","v":404800},null,"CY sped dollars",{"$f":"'2016legmax.xls'!AQ11*4400","v":367840},null,"CY sped dollars",{"$f":"'2016legmax.xls'!AQ12*4400","v":473440}]
["FY07 GF Budget",{"$f":"B24+B25","v":3179951},null,"FY07 GF Budget",{"$f":"E24+E25","v":3842616},null,"FY07 GF Budget",{"$f":"H24+H25","v":4595251}]
[]
["USD 238 and USD 324 will close and create USD 110 effective FY09.  USD 110 will use combined budget and higher state aid rates locked in for 2008-09, 2009-10 and 2010-11 school years.",null,null,"USD 425 and USD 433 will close and create USD 111 effective FY10.  USD 111 will use combined budget and higher state aid rates locked in for 2009-10, 2010-11, 2011-12, and 2012-13 school years.",null,null,"USD 279 will close and transfer territory into USD 107 effective FY10.  USD 107 will use combined budget and higher state aid rates locked in for 2009-10, 2010-11 and 2011-12 school years."]
[null,"FY 08",null,null,"FY 09",null,null,"FY 09"]
[null,"Legal GF Budget",null,null,"Legal GF Budget",null,null,"Legal GF Budget"]
[null,"(incl Spec Ed)",null,null,"(incl Spec Ed)",null,null,"(incl Spec Ed)"]
[238,1743476,null,425,2258960,null,107,3042231]
[324,1381747,null,433,1947000,null,279,591782]
["combined",{"$f":"SUM(B32:B33)","v":3125223},null,"combined",{"$f":"SUM(E32:E33)","v":4205960},null,"combined",{"$f":"SUM(H32:H33)","v":3634013}]
["238 Spec Ed",195300,null,"425 Spec Ed",285521,null,"107 Spec Ed",267171]
["324 Spec Ed",137268,null,"433 Spec Ed",269700,null,"279 Spec Ed",56043]
["combined (ex SE)",{"$f":"B34-B35-B36","v":2792655},null,"combined (ex SE)",{"$f":"E34-E35-E36","v":3650739},null,"combined (ex SE)",{"$f":"H34-H35-H36","v":3310799}]
["CY sped dollars",{"$f":"'2016legmax.xls'!AQ13*Weightings!M5","v":273107},null,"CY sped dollars",{"$f":"'2016legmax.xls'!AQ14*Weightings!M5","v":293137},null,"CY sped dollars",{"$f":"'2016legmax.xls'!AQ10*Weightings!M5","v":354384}]
["FY09 GF Budget",{"$f":"B37+B38","v":3065762},null,"FY10 GF Budget",{"$f":"E37+E38","v":3943876},null,"FY10 GF Budget",{"$f":"H37+H38","v":3665183}]
[]
["USD 279 will close and transfer territory into USD 273 effective FY10.  USD 273 will use combined budget and higher state aid rates locked in for 2009-10, 2010-11 and 2011-12 school years.",null,null,"USD 328 and USD 354 will close and create USD 112 effective FY11.  USD 112 will use combined budget and higher state aid rates locked in for 2010-11, 2011-12, 2012,13, 2013-14, 2014-15 school years.",null,null,"USD 441 and USD 488 will close and create USD 113 effective FY11.  USD 113 will use combined budget and higher state aid rates locked in for 2010-11, 2011-12, 2012,13, 2013-14, 2014-15 school years."]
[null,"FY 09",null,null,"FY 11",null,null,"FY 11"]
[null,"Legal GF Budget",null,null,"Legal GF Budget",null,null,"Legal GF Budget"]
[null,"(incl Spec Ed)",null,null,"(incl Spec Ed)",null,null,"(incl Spec Ed)"]
[273,5470960,null,328,3622435,null,441,6332541]
[279,641098,null,354,1970694,null,488,2323750]
["combined",{"$f":"SUM(B45:B46)","v":6112058},null,"combined",{"$f":"SUM(E45:E46)","v":5593129},null,"combined",{"$f":"SUM(H45:H46)","v":8656291}]
["273 Spec Ed",764106,null,"328 Spec Ed",333773,null,"441 Spec Ed",799708]
["279 Spec Ed",60713,null,"354 Spec Ed",261319,null,"488 Spec Ed",218072]
["combined (ex SE)",{"$f":"B47-B48-B49","v":5287239},null,"combined (ex SE)",{"$f":"E47-E48-E49","v":4998037},null,"combined (ex SE)",{"$f":"H47-H48-H49","v":7638511}]
["CY sped dollars",{"$f":"'2016legmax.xls'!AQ85*Weightings!M5","v":923710},null,"CY sped dollars",{"$f":"'2016legmax.xls'!AQ15*Weightings!M5","v":440669},null,"CY sped dollars",{"$f":"'2016legmax.xls'!AQ16*Weightings!M5","v":870552}]
["FY10 GF Budget",{"$f":"B50+B51","v":6210949},null,"FY11 GF Budget",{"$f":"E50+E51","v":5438706},null,"FY11 GF Budget",{"$f":"H50+H51","v":8509063}]
[]
["USD 406 and USD 486 will close and create USD 114 effective FY11.  USD 114 will use combined budget and higher state aid rates locked in for 2010-11, 2011-12, 2012,13, 2013-14, 2014-15 school years.",null,null,"USD 213 will close and transfer territory into USD 211 effective FY11.  USD 211 will use combined budget and higher state aid rates locked in for 2010-11, 2011-12 and 2012-13 school years.",null,null,"USD 442 and USD 451 will close and create USD 115 effective FY12.  USD 115 will use combined budget and higher state aid rates locked in for 2011-12 2012-13, 2013-14, 2014-15 school years."]
[null,"FY 11",null,null,"FY 11",null,null,"FY 12"]
[null,"Legal GF Budget",null,null,"Legal GF Budget",null,null,"Legal GF Budget"]
[null,"(incl Spec Ed)",null,null,"(incl Spec Ed)",null,null,"(incl Spec Ed)"]
[406,3095862,null,211,5032252,null,442,3414166]
[486,2493458,null,213,438913,null,451,1602753]
["combined",{"$f":"SUM(B58:B59)","v":5589320},null,"combined",{"$f":"SUM(E58:E59)","v":5471165},null,"combined",{"$f":"SUM(H58:H59)","v":5016919}]
["406 Spec Ed",375445,null,"211 Spec Ed",714638,null,"Spec Ed",381205]
["486 Spec Ed",258021,null,"213 Spec Ed",37880,null,"Spec Ed",128351]
["combined (ex SE)",{"$f":"B60-B61-B62","v":4955854},null,"combined (ex SE)",{"$f":"E60-E61-E62","v":4718647},null,"combined (ex SE)",{"$f":"H60-H61-H62","v":4507363}]
["CY sped dollars",{"$f":"'2016legmax.xls'!AQ17*Weightings!M5","v":587815},null,"CY sped dollars",{"$f":"'2016legmax.xls'!AQ29*Weightings!M5","v":821632},null,"CY sped dollars",{"$f":"'2016legmax.xls'!AQ18*Weightings!M5","v":420253}]
["FY11 GF Budget",{"$f":"B63+B64","v":5543669},null,"FY11 GF Budget",{"$f":"E63+E64","v":5540279},null,"FY12 GF Budget",{"$f":"H63+H64","v":4927616}]
[]
["USD 228 will close and transfer territory into USD 227 effective FY12.  USD 227 will use combined budget and higher state aid rates locked in for 2011-12 2012-13, 2013-14 school years.",null,null,"USD 424 will close and transfer territory into USD 422 effective FY12.  USD 422 will use combined budget and higher state aid rates locked in for 2011-12 2012-13, 2013-14, 2014-15 and 2015-16 school years.",null,null,"and higher state aid rates locked in for 2011-12 2012-13, 2013-14, 2014-15 school years."]
[null,"FY 12",null,null,"FY 12",null,null,"FY"]
[null,"Legal GF Budget",null,null,"Legal GF Budget",null,null,"Legal GF Budget"]
[null,"(incl Spec Ed)",null,null,"(incl Spec Ed)",null,null,"(incl Spec Ed)"]
[227,2122437,null,422,1990547,null,"USD"]
[228,729132,null,424,1451178,null,"USD"]
["combined",{"$f":"SUM(B71:B72)","v":2851569},null,"combined",{"$f":"SUM(E71:E72)","v":3441725},null,"combined"]
["227 Spec Ed",177299,null,"422 Spec Ed",237029,null,"Spec Ed"]
["228 Spec Ed",75523,null,"424 Spec Ed",58241,null,"Spec Ed"]
["combined (ex SE)",{"$f":"B73-B74-B75","v":2598747},null,"combined (ex SE)",{"$f":"E73-E74-E75","v":3146455},null,"combined (ex SE)"]
["CY sped dollars",{"$f":"'2016legmax.xls'!AQ42*Weightings!M5","v":204156},null,"CY sped dollars",{"$f":"'2016legmax.xls'!AQ214*Weightings!M5","v":296219},null,"CY sped dollars"]
["FY12 GF Budget",{"$f":"B76+B77","v":2802903},null,"FY12 GF Budget",{"$f":"E76+E77","v":3442674},null,"FY GF Budget"]
[]
["and higher state aid rates locked in for 2011-12 2012-13, 2013-14, 2014-15 school years.",null,null,"and higher state aid rates locked in for 2011-12 2012-13, 2013-14, 2014-15 school years.",null,null,"and higher state aid rates locked in for 2011-12 2012-13, 2013-14, 2014-15 school years."]
[null,"FY",null,null,"FY",null,null,"FY"]
[null,"Legal GF Budget",null,null,"Legal GF Budget",null,null,"Legal GF Budget"]
[null,"(incl Spec Ed)",null,null,"(incl Spec Ed)",null,null,"(incl Spec Ed)"]
[null,null,null,null,null,null,"USD"]
[null,null,null,null,null,null,"USD"]
["combined",null,null,"combined",null,null,"combined"]
[" Spec Ed",null,null," Spec Ed",null,null,"Spec Ed"]
["Spec Ed",null,null," Spec Ed",null,null,"Spec Ed"]
["combined (ex SE)",null,null,"combined (ex SE)",null,null,"combined (ex SE)"]
["CY sped dollars",null,null,"CY sped dollars",null,null,"CY sped dollars"]
["FY GF Budget",null,null,"FY GF Budget",null,null,"FY GF Budget"]

{"sheet":"Weightings","index":3,"n_rows":290,"n_cols":16,"rows_kept":290,"cut":false,"hidden":true,"merged":[[2,3,2,8],[2,0,2,1],[2,11,2,15]]}
[]
[]
["Sped for LOB",null,null,"Adjustments and Republications",null,null,null,null,null,2.5000000000000001E-2,null,"Weightings"]
["USD #","FY09 Sped",null,"D0#","Trans Adj","AR Adj","Repub","Series No","Pending","Repub Check"]
[101,731167,null,"D0101",null,null,null,null,null,{"$f":"IF(AND(G5<>\"\",(OR(G5<'2016legmax.xls'!AZ5, (Weightings!G5-'2016legmax.xls'!AZ5)/'2016legmax.xls'!AZ5>0.025))), \"Confirm!\", \"\")","v":""},null,"Base Aid GF",3852,null,"Transp A",1063.847]
[102,538383,null,"D0102",null,null,null,null,null,{"$f":"IF(AND(G6<>\"\",(OR(G6<'2016legmax.xls'!AZ6, (Weightings!G6-'2016legmax.xls'!AZ6)/'2016legmax.xls'!AZ6>0.025))), \"Confirm!\", \"\")","v":""},null,"Voc Ed",0.5,null,"Transp B",-0.22620699999999999]
[103,190255,null,"D0103",null,null,null,null,null,{"$f":"IF(AND(G7<>\"\",(OR(G7<'2016legmax.xls'!AZ7, (Weightings!G7-'2016legmax.xls'!AZ7)/'2016legmax.xls'!AZ7>0.025))), \"Confirm!\", \"\")","v":""},null,"Biling",0.39500000000000002,null,"Min Cost",564]
[105,333603,null,"D0105",null,null,null,null,null,{"$f":"IF(AND(G8<>\"\",(OR(G8<'2016legmax.xls'!AZ8, (Weightings!G8-'2016legmax.xls'!AZ8)/'2016legmax.xls'!AZ8>0.025))), \"Confirm!\", \"\")","v":""},null,"Free Lun",0.45600000000000002,null,"Transp %",1.0175000000000001]
[106,151342,null,"D0106",null,null,null,null,null,{"$f":"IF(AND(G9<>\"\",(OR(G9<'2016legmax.xls'!AZ9, (Weightings!G9-'2016legmax.xls'!AZ9)/'2016legmax.xls'!AZ9>0.025))), \"Confirm!\", \"\")","v":""},null,"Non Prof",4.65E-2]
[107,{"$f":"267171+56043","v":323214},null,"D0107",null,null,null,null,null,{"$f":"IF(AND(G10<>\"\",(OR(G10<'2016legmax.xls'!AZ10, (Weightings!G10-'2016legmax.xls'!AZ10)/'2016legmax.xls'!AZ10>0.025))), \"Confirm!\", \"\")","v":""},null,"New Fac",0.25]
[108,548331,null,"D0108",null,null,null,null,null,{"$f":"IF(AND(G11<>\"\",(OR(G11<'2016legmax.xls'!AZ11, (Weightings!G11-'2016legmax.xls'!AZ11)/'2016legmax.xls'!AZ11>0.025))), \"Confirm!\", \"\")","v":""},null,"Auth Trans"]
[109,615260,null,"D0109",null,null,null,null,null,{"$f":"IF(AND(G12<>\"\",(OR(G12<'2016legmax.xls'!AZ12, (Weightings!G12-'2016legmax.xls'!AZ12)/'2016legmax.xls'!AZ12>0.025))), \"Confirm!\", \"\")","v":""},null,"Base Aid LOB",4490]
[110,333931,null,"D0110",null,null,null,null,null,{"$f":"IF(AND(G13<>\"\",(OR(G13<'2016legmax.xls'!AZ13, (Weightings!G13-'2016legmax.xls'!AZ13)/'2016legmax.xls'!AZ13>0.025))), \"Confirm!\", \"\")","v":""}]
[111,555221,null,"D0111",null,null,null,null,null,{"$f":"IF(AND(G14<>\"\",(OR(G14<'2016legmax.xls'!AZ14, (Weightings!G14-'2016legmax.xls'!AZ14)/'2016legmax.xls'!AZ14>0.025))), \"Confirm!\", \"\")","v":""}]
[112,685976,null,"D0112",null,null,null,null,null,{"$f":"IF(AND(G15<>\"\",(OR(G15<'2016legmax.xls'!AZ15, (Weightings!G15-'2016legmax.xls'!AZ15)/'2016legmax.xls'!AZ15>0.025))), \"Confirm!\", \"\")","v":""}]
[113,1100793,null,"D0113",null,null,null,null,null,{"$f":"IF(AND(G16<>\"\",(OR(G16<'2016legmax.xls'!AZ16, (Weightings!G16-'2016legmax.xls'!AZ16)/'2016legmax.xls'!AZ16>0.025))), \"Confirm!\", \"\")","v":""}]
[114,631555,null,"D0114",null,null,null,null,null,{"$f":"IF(AND(G17<>\"\",(OR(G17<'2016legmax.xls'!AZ17, (Weightings!G17-'2016legmax.xls'!AZ17)/'2016legmax.xls'!AZ17>0.025))), \"Confirm!\", \"\")","v":""}]
[115,577233,null,"D0115",null,null,null,null,null,{"$f":"IF(AND(G18<>\"\",(OR(G18<'2016legmax.xls'!AZ18, (Weightings!G18-'2016legmax.xls'!AZ18)/'2016legmax.xls'!AZ18>0.025))), \"Confirm!\", \"\")","v":""}]
[200,165851,null,"D0200",null,null,null,null,null,{"$f":"IF(AND(G19<>\"\",(OR(G19<'2016legmax.xls'!AZ19, (Weightings!G19-'2016legmax.xls'!AZ19)/'2016legmax.xls'!AZ19>0.025))), \"Confirm!\", \"\")","v":""}]
[202,3234002,null,"D0202",null,null,null,null,null,{"$f":"IF(AND(G20<>\"\",(OR(G20<'2016legmax.xls'!AZ20, (Weightings!G20-'2016legmax.xls'!AZ20)/'2016legmax.xls'!AZ20>0.025))), \"Confirm!\", \"\")","v":""}]
[203,1285790,null,"D0203",null,null,null,null,null,{"$f":"IF(AND(G21<>\"\",(OR(G21<'2016legmax.xls'!AZ21, (Weightings!G21-'2016legmax.xls'!AZ21)/'2016legmax.xls'!AZ21>0.025))), \"Confirm!\", \"\")","v":""}]
[204,2016420,null,"D0204",null,null,null,null,null,{"$f":"IF(AND(G22<>\"\",(OR(G22<'2016legmax.xls'!AZ22, (Weightings!G22-'2016legmax.xls'!AZ22)/'2016legmax.xls'!AZ22>0.025))), \"Confirm!\", \"\")","v":""}]
[205,606474,null,"D0205",null,null,null,null,null,{"$f":"IF(AND(G23<>\"\",(OR(G23<'2016legmax.xls'!AZ23, (Weightings!G23-'2016legmax.xls'!AZ23)/'2016legmax.xls'!AZ23>0.025))), \"Confirm!\", \"\")","v":""}]
[206,531708,null,"D0206",null,null,null,null,null,{"$f":"IF(AND(G24<>\"\",(OR(G24<'2016legmax.xls'!AZ24, (Weightings!G24-'2016legmax.xls'!AZ24)/'2016legmax.xls'!AZ24>0.025))), \"Confirm!\", \"\")","v":""}]
[207,1239600,null,"D0207",null,null,null,null,null,{"$f":"IF(AND(G25<>\"\",(OR(G25<'2016legmax.xls'!AZ25, (Weightings!G25-'2016legmax.xls'!AZ25)/'2016legmax.xls'!AZ25>0.025))), \"Confirm!\", \"\")","v":""}]
[208,509998,null,"D0208",null,null,null,null,null,{"$f":"IF(AND(G26<>\"\",(OR(G26<'2016legmax.xls'!AZ26, (Weightings!G26-'2016legmax.xls'!AZ26)/'2016legmax.xls'!AZ26>0.025))), \"Confirm!\", \"\")","v":""}]
[209,138161,null,"D0209",null,null,null,null,null,{"$f":"IF(AND(G27<>\"\",(OR(G27<'2016legmax.xls'!AZ27, (Weightings!G27-'2016legmax.xls'!AZ27)/'2016legmax.xls'!AZ27>0.025))), \"Confirm!\", \"\")","v":""}]
[210,622779,null,"D0210",null,null,null,null,null,{"$f":"IF(AND(G28<>\"\",(OR(G28<'2016legmax.xls'!AZ28, (Weightings!G28-'2016legmax.xls'!AZ28)/'2016legmax.xls'!AZ28>0.025))), \"Confirm!\", \"\")","v":""}]
[211,866534,null,"D0211",null,null,null,null,null,{"$f":"IF(AND(G29<>\"\",(OR(G29<'2016legmax.xls'!AZ29, (Weightings!G29-'2016legmax.xls'!AZ29)/'2016legmax.xls'!AZ29>0.025))), \"Confirm!\", \"\")","v":""}]
[212,247100,null,"D0212",null,null,null,null,null,{"$f":"IF(AND(G30<>\"\",(OR(G30<'2016legmax.xls'!AZ30, (Weightings!G30-'2016legmax.xls'!AZ30)/'2016legmax.xls'!AZ30>0.025))), \"Confirm!\", \"\")","v":""}]
[214,994230,null,"D0214",null,null,null,null,null,{"$f":"IF(AND(G31<>\"\",(OR(G31<'2016legmax.xls'!AZ31, (Weightings!G31-'2016legmax.xls'!AZ31)/'2016legmax.xls'!AZ31>0.025))), \"Confirm!\", \"\")","v":""}]
[215,396551,null,"D0215",null,null,null,null,null,{"$f":"IF(AND(G32<>\"\",(OR(G32<'2016legmax.xls'!AZ32, (Weightings!G32-'2016legmax.xls'!AZ32)/'2016legmax.xls'!AZ32>0.025))), \"Confirm!\", \"\")","v":""}]
[216,205889,null,"D0216",null,null,null,null,null,{"$f":"IF(AND(G33<>\"\",(OR(G33<'2016legmax.xls'!AZ33, (Weightings!G33-'2016legmax.xls'!AZ33)/'2016legmax.xls'!AZ33>0.025))), \"Confirm!\", \"\")","v":""}]
[217,146340,null,"D0217",null,null,null,null,null,{"$f":"IF(AND(G34<>\"\",(OR(G34<'2016legmax.xls'!AZ34, (Weightings!G34-'2016legmax.xls'!AZ34)/'2016legmax.xls'!AZ34>0.025))), \"Confirm!\", \"\")","v":""}]
[218,390789,null,"D0218",null,null,null,null,null,{"$f":"IF(AND(G35<>\"\",(OR(G35<'2016legmax.xls'!AZ35, (Weightings!G35-'2016legmax.xls'!AZ35)/'2016legmax.xls'!AZ35>0.025))), \"Confirm!\", \"\")","v":""}]
[219,247823,null,"D0219",null,null,null,null,null,{"$f":"IF(AND(G36<>\"\",(OR(G36<'2016legmax.xls'!AZ36, (Weightings!G36-'2016legmax.xls'!AZ36)/'2016legmax.xls'!AZ36>0.025))), \"Confirm!\", \"\")","v":""}]
[220,198681,null,"D0220",null,null,null,null,null,{"$f":"IF(AND(G37<>\"\",(OR(G37<'2016legmax.xls'!AZ37, (Weightings!G37-'2016legmax.xls'!AZ37)/'2016legmax.xls'!AZ37>0.025))), \"Confirm!\", \"\")","v":""}]
[223,427159,null,"D0223",null,null,null,null,null,{"$f":"IF(AND(G38<>\"\",(OR(G38<'2016legmax.xls'!AZ38, (Weightings!G38-'2016legmax.xls'!AZ38)/'2016legmax.xls'!AZ38>0.025))), \"Confirm!\", \"\")","v":""}]
[224,347858,null,"D0224",null,null,null,null,null,{"$f":"IF(AND(G39<>\"\",(OR(G39<'2016legmax.xls'!AZ39, (Weightings!G39-'2016legmax.xls'!AZ39)/'2016legmax.xls'!AZ39>0.025))), \"Confirm!\", \"\")","v":""}]
[225,152787,null,"D0225",null,null,null,null,null,{"$f":"IF(AND(G40<>\"\",(OR(G40<'2016legmax.xls'!AZ40, (Weightings!G40-'2016legmax.xls'!AZ40)/'2016legmax.xls'!AZ40>0.025))), \"Confirm!\", \"\")","v":""}]
[226,393594,null,"D0226",null,null,null,null,null,{"$f":"IF(AND(G41<>\"\",(OR(G41<'2016legmax.xls'!AZ41, (Weightings!G41-'2016legmax.xls'!AZ41)/'2016legmax.xls'!AZ41>0.025))), \"Confirm!\", \"\")","v":""}]
[227,320652,null,"D0227",null,null,null,null,null,{"$f":"IF(AND(G42<>\"\",(OR(G42<'2016legmax.xls'!AZ42, (Weightings!G42-'2016legmax.xls'!AZ42)/'2016legmax.xls'!AZ42>0.025))), \"Confirm!\", \"\")","v":""}]
[229,19935033,null,"D0229",null,null,null,null,null,{"$f":"IF(AND(G43<>\"\",(OR(G43<'2016legmax.xls'!AZ43, (Weightings!G43-'2016legmax.xls'!AZ43)/'2016legmax.xls'!AZ43>0.025))), \"Confirm!\", \"\")","v":""}]
[230,1621297,null,"D0230",null,null,26516103,null,null,{"$f":"IF(AND(G44<>\"\",(OR(G44<'2016legmax.xls'!AZ44, (Weightings!G44-'2016legmax.xls'!AZ44)/'2016legmax.xls'!AZ44>0.025))), \"Confirm!\", \"\")","v":"Confirm!"}]
[231,4523118,null,"D0231",null,null,null,null,null,{"$f":"IF(AND(G45<>\"\",(OR(G45<'2016legmax.xls'!AZ45, (Weightings!G45-'2016legmax.xls'!AZ45)/'2016legmax.xls'!AZ45>0.025))), \"Confirm!\", \"\")","v":""}]
[232,4437654,null,"D0232",null,null,null,null,null,{"$f":"IF(AND(G46<>\"\",(OR(G46<'2016legmax.xls'!AZ46, (Weightings!G46-'2016legmax.xls'!AZ46)/'2016legmax.xls'!AZ46>0.025))), \"Confirm!\", \"\")","v":""}]
[233,27522172,null,"D0233",null,null,null,null,null,{"$f":"IF(AND(G47<>\"\",(OR(G47<'2016legmax.xls'!AZ47, (Weightings!G47-'2016legmax.xls'!AZ47)/'2016legmax.xls'!AZ47>0.025))), \"Confirm!\", \"\")","v":""}]
[234,1149929,null,"D0234",null,null,null,null,null,{"$f":"IF(AND(G48<>\"\",(OR(G48<'2016legmax.xls'!AZ48, (Weightings!G48-'2016legmax.xls'!AZ48)/'2016legmax.xls'!AZ48>0.025))), \"Confirm!\", \"\")","v":""}]
[235,371669,null,"D0235",null,null,null,null,null,{"$f":"IF(AND(G49<>\"\",(OR(G49<'2016legmax.xls'!AZ49, (Weightings!G49-'2016legmax.xls'!AZ49)/'2016legmax.xls'!AZ49>0.025))), \"Confirm!\", \"\")","v":""}]
[237,586035,null,"D0237",null,null,null,null,null,{"$f":"IF(AND(G50<>\"\",(OR(G50<'2016legmax.xls'!AZ50, (Weightings!G50-'2016legmax.xls'!AZ50)/'2016legmax.xls'!AZ50>0.025))), \"Confirm!\", \"\")","v":""}]
[239,614442,null,"D0239",null,null,null,null,null,{"$f":"IF(AND(G51<>\"\",(OR(G51<'2016legmax.xls'!AZ51, (Weightings!G51-'2016legmax.xls'!AZ51)/'2016legmax.xls'!AZ51>0.025))), \"Confirm!\", \"\")","v":""}]
[240,594084,null,"D0240",null,null,null,null,null,{"$f":"IF(AND(G52<>\"\",(OR(G52<'2016legmax.xls'!AZ52, (Weightings!G52-'2016legmax.xls'!AZ52)/'2016legmax.xls'!AZ52>0.025))), \"Confirm!\", \"\")","v":""}]
[241,156774,null,"D0241",null,null,null,null,null,{"$f":"IF(AND(G53<>\"\",(OR(G53<'2016legmax.xls'!AZ53, (Weightings!G53-'2016legmax.xls'!AZ53)/'2016legmax.xls'!AZ53>0.025))), \"Confirm!\", \"\")","v":""}]
[242,98257,null,"D0242",null,null,null,null,null,{"$f":"IF(AND(G54<>\"\",(OR(G54<'2016legmax.xls'!AZ54, (Weightings!G54-'2016legmax.xls'!AZ54)/'2016legmax.xls'!AZ54>0.025))), \"Confirm!\", \"\")","v":""}]
[243,440826,null,"D0243",null,null,null,null,null,{"$f":"IF(AND(G55<>\"\",(OR(G55<'2016legmax.xls'!AZ55, (Weightings!G55-'2016legmax.xls'!AZ55)/'2016legmax.xls'!AZ55>0.025))), \"Confirm!\", \"\")","v":""}]
[244,1300350,null,"D0244",null,null,null,null,null,{"$f":"IF(AND(G56<>\"\",(OR(G56<'2016legmax.xls'!AZ56, (Weightings!G56-'2016legmax.xls'!AZ56)/'2016legmax.xls'!AZ56>0.025))), \"Confirm!\", \"\")","v":""}]
[245,300551,null,"D0245",null,null,null,null,null,{"$f":"IF(AND(G57<>\"\",(OR(G57<'2016legmax.xls'!AZ57, (Weightings!G57-'2016legmax.xls'!AZ57)/'2016legmax.xls'!AZ57>0.025))), \"Confirm!\", \"\")","v":""}]
[246,520996,null,"D0246",null,null,null,null,null,{"$f":"IF(AND(G58<>\"\",(OR(G58<'2016legmax.xls'!AZ58, (Weightings!G58-'2016legmax.xls'!AZ58)/'2016legmax.xls'!AZ58>0.025))), \"Confirm!\", \"\")","v":""}]
[247,656640,null,"D0247",null,null,null,null,null,{"$f":"IF(AND(G59<>\"\",(OR(G59<'2016legmax.xls'!AZ59, (Weightings!G59-'2016legmax.xls'!AZ59)/'2016legmax.xls'!AZ59>0.025))), \"Confirm!\", \"\")","v":""}]
[248,846550,null,"D0248",null,null,null,null,null,{"$f":"IF(AND(G60<>\"\",(OR(G60<'2016legmax.xls'!AZ60, (Weightings!G60-'2016legmax.xls'!AZ60)/'2016legmax.xls'!AZ60>0.025))), \"Confirm!\", \"\")","v":""}]
[249,643130,null,"D0249",null,null,null,null,null,{"$f":"IF(AND(G61<>\"\",(OR(G61<'2016legmax.xls'!AZ61, (Weightings!G61-'2016legmax.xls'!AZ61)/'2016legmax.xls'!AZ61>0.025))), \"Confirm!\", \"\")","v":""}]
[250,2265391,null,"D0250",null,null,null,null,null,{"$f":"IF(AND(G62<>\"\",(OR(G62<'2016legmax.xls'!AZ62, (Weightings!G62-'2016legmax.xls'!AZ62)/'2016legmax.xls'!AZ62>0.025))), \"Confirm!\", \"\")","v":""}]
[251,442086,null,"D0251",null,null,null,null,null,{"$f":"IF(AND(G63<>\"\",(OR(G63<'2016legmax.xls'!AZ63, (Weightings!G63-'2016legmax.xls'!AZ63)/'2016legmax.xls'!AZ63>0.025))), \"Confirm!\", \"\")","v":""}]
[252,481383,null,"D0252",null,null,null,null,null,{"$f":"IF(AND(G64<>\"\",(OR(G64<'2016legmax.xls'!AZ64, (Weightings!G64-'2016legmax.xls'!AZ64)/'2016legmax.xls'!AZ64>0.025))), \"Confirm!\", \"\")","v":""}]
[253,3107792,null,"D0253",null,null,null,null,null,{"$f":"IF(AND(G65<>\"\",(OR(G65<'2016legmax.xls'!AZ65, (Weightings!G65-'2016legmax.xls'!AZ65)/'2016legmax.xls'!AZ65>0.025))), \"Confirm!\", \"\")","v":""}]
[254,586690,null,"D0254",null,null,null,null,null,{"$f":"IF(AND(G66<>\"\",(OR(G66<'2016legmax.xls'!AZ66, (Weightings!G66-'2016legmax.xls'!AZ66)/'2016legmax.xls'!AZ66>0.025))), \"Confirm!\", \"\")","v":""}]
[255,254322,null,"D0255",null,null,null,null,null,{"$f":"IF(AND(G67<>\"\",(OR(G67<'2016legmax.xls'!AZ67, (Weightings!G67-'2016legmax.xls'!AZ67)/'2016legmax.xls'!AZ67>0.025))), \"Confirm!\", \"\")","v":""}]
[256,442688,null,"D0256",null,null,null,null,null,{"$f":"IF(AND(G68<>\"\",(OR(G68<'2016legmax.xls'!AZ68, (Weightings!G68-'2016legmax.xls'!AZ68)/'2016legmax.xls'!AZ68>0.025))), \"Confirm!\", \"\")","v":""}]
[257,1748337,null,"D0257",null,null,null,null,null,{"$f":"IF(AND(G69<>\"\",(OR(G69<'2016legmax.xls'!AZ69, (Weightings!G69-'2016legmax.xls'!AZ69)/'2016legmax.xls'!AZ69>0.025))), \"Confirm!\", \"\")","v":""}]
[258,610724,null,"D0258",null,null,7449606,null,null,{"$f":"IF(AND(G70<>\"\",(OR(G70<'2016legmax.xls'!AZ70, (Weightings!G70-'2016legmax.xls'!AZ70)/'2016legmax.xls'!AZ70>0.025))), \"Confirm!\", \"\")","v":"Confirm!"}]
[259,39142041,null,"D0259",null,null,null,null,null,{"$f":"IF(AND(G71<>\"\",(OR(G71<'2016legmax.xls'!AZ71, (Weightings!G71-'2016legmax.xls'!AZ71)/'2016legmax.xls'!AZ71>0.025))), \"Confirm!\", \"\")","v":""}]
[260,5092269,null,"D0260",null,null,null,null,null,{"$f":"IF(AND(G72<>\"\",(OR(G72<'2016legmax.xls'!AZ72, (Weightings!G72-'2016legmax.xls'!AZ72)/'2016legmax.xls'!AZ72>0.025))), \"Confirm!\", \"\")","v":""}]
[261,4441727,null,"D0261",null,null,null,null,null,{"$f":"IF(AND(G73<>\"\",(OR(G73<'2016legmax.xls'!AZ73, (Weightings!G73-'2016legmax.xls'!AZ73)/'2016legmax.xls'!AZ73>0.025))), \"Confirm!\", \"\")","v":""}]
[262,2337803,null,"D0262",null,null,null,null,null,{"$f":"IF(AND(G74<>\"\",(OR(G74<'2016legmax.xls'!AZ74, (Weightings!G74-'2016legmax.xls'!AZ74)/'2016legmax.xls'!AZ74>0.025))), \"Confirm!\", \"\")","v":""}]
[263,1238221,null,"D0263",null,null,null,null,null,{"$f":"IF(AND(G75<>\"\",(OR(G75<'2016legmax.xls'!AZ75, (Weightings!G75-'2016legmax.xls'!AZ75)/'2016legmax.xls'!AZ75>0.025))), \"Confirm!\", \"\")","v":""}]
[264,1100218,null,"D0264",null,null,null,null,null,{"$f":"IF(AND(G76<>\"\",(OR(G76<'2016legmax.xls'!AZ76, (Weightings!G76-'2016legmax.xls'!AZ76)/'2016legmax.xls'!AZ76>0.025))), \"Confirm!\", \"\")","v":""}]
[265,3914158,null,"D0265",null,null,null,null,null,{"$f":"IF(AND(G77<>\"\",(OR(G77<'2016legmax.xls'!AZ77, (Weightings!G77-'2016legmax.xls'!AZ77)/'2016legmax.xls'!AZ77>0.025))), \"Confirm!\", \"\")","v":""}]
[266,5269645,null,"D0266",null,null,null,null,null,{"$f":"IF(AND(G78<>\"\",(OR(G78<'2016legmax.xls'!AZ78, (Weightings!G78-'2016legmax.xls'!AZ78)/'2016legmax.xls'!AZ78>0.025))), \"Confirm!\", \"\")","v":""}]
[267,1668975,null,"D0267",null,null,null,null,null,{"$f":"IF(AND(G79<>\"\",(OR(G79<'2016legmax.xls'!AZ79, (Weightings!G79-'2016legmax.xls'!AZ79)/'2016legmax.xls'!AZ79>0.025))), \"Confirm!\", \"\")","v":""}]
[268,640416,null,"D0268",null,null,null,null,null,{"$f":"IF(AND(G80<>\"\",(OR(G80<'2016legmax.xls'!AZ80, (Weightings!G80-'2016legmax.xls'!AZ80)/'2016legmax.xls'!AZ80>0.025))), \"Confirm!\", \"\")","v":""}]
[269,218610,null,"D0269",null,null,null,null,null,{"$f":"IF(AND(G81<>\"\",(OR(G81<'2016legmax.xls'!AZ81, (Weightings!G81-'2016legmax.xls'!AZ81)/'2016legmax.xls'!AZ81>0.025))), \"Confirm!\", \"\")","v":""}]
[270,444500,null,"D0270",null,null,null,null,null,{"$f":"IF(AND(G82<>\"\",(OR(G82<'2016legmax.xls'!AZ82, (Weightings!G82-'2016legmax.xls'!AZ82)/'2016legmax.xls'!AZ82>0.025))), \"Confirm!\", \"\")","v":""}]
[271,372425,null,"D0271",null,null,null,null,null,{"$f":"IF(AND(G83<>\"\",(OR(G83<'2016legmax.xls'!AZ83, (Weightings!G83-'2016legmax.xls'!AZ83)/'2016legmax.xls'!AZ83>0.025))), \"Confirm!\", \"\")","v":""}]
[272,373480,null,"D0272",null,null,null,null,null,{"$f":"IF(AND(G84<>\"\",(OR(G84<'2016legmax.xls'!AZ84, (Weightings!G84-'2016legmax.xls'!AZ84)/'2016legmax.xls'!AZ84>0.025))), \"Confirm!\", \"\")","v":""}]
[273,{"$f":"764106+60713","v":824819},null,"D0273",null,null,null,null,null,{"$f":"IF(AND(G85<>\"\",(OR(G85<'2016legmax.xls'!AZ85, (Weightings!G85-'2016legmax.xls'!AZ85)/'2016legmax.xls'!AZ85>0.025))), \"Confirm!\", \"\")","v":""}]
[274,508174,null,"D0274",null,null,null,null,null,{"$f":"IF(AND(G86<>\"\",(OR(G86<'2016legmax.xls'!AZ86, (Weightings!G86-'2016legmax.xls'!AZ86)/'2016legmax.xls'!AZ86>0.025))), \"Confirm!\", \"\")","v":""}]
[275,121926,null,"D0275",null,null,null,null,null,{"$f":"IF(AND(G87<>\"\",(OR(G87<'2016legmax.xls'!AZ87, (Weightings!G87-'2016legmax.xls'!AZ87)/'2016legmax.xls'!AZ87>0.025))), \"Confirm!\", \"\")","v":""}]
[281,452779,null,"D0281",null,null,null,null,null,{"$f":"IF(AND(G88<>\"\",(OR(G88<'2016legmax.xls'!AZ88, (Weightings!G88-'2016legmax.xls'!AZ88)/'2016legmax.xls'!AZ88>0.025))), \"Confirm!\", \"\")","v":""}]
[282,544334,null,"D0282",null,null,4051631,null,null,{"$f":"IF(AND(G89<>\"\",(OR(G89<'2016legmax.xls'!AZ89, (Weightings!G89-'2016legmax.xls'!AZ89)/'2016legmax.xls'!AZ89>0.025))), \"Confirm!\", \"\")","v":"Confirm!"}]
[283,299912,null,"D0283",null,null,null,null,null,{"$f":"IF(AND(G90<>\"\",(OR(G90<'2016legmax.xls'!AZ90, (Weightings!G90-'2016legmax.xls'!AZ90)/'2016legmax.xls'!AZ90>0.025))), \"Confirm!\", \"\")","v":""}]
[284,443057,null,"D0284",null,null,null,null,null,{"$f":"IF(AND(G91<>\"\",(OR(G91<'2016legmax.xls'!AZ91, (Weightings!G91-'2016legmax.xls'!AZ91)/'2016legmax.xls'!AZ91>0.025))), \"Confirm!\", \"\")","v":""}]
[285,122186,null,"D0285",null,null,null,null,null,{"$f":"IF(AND(G92<>\"\",(OR(G92<'2016legmax.xls'!AZ92, (Weightings!G92-'2016legmax.xls'!AZ92)/'2016legmax.xls'!AZ92>0.025))), \"Confirm!\", \"\")","v":""}]
[286,503240,null,"D0286",null,null,null,null,null,{"$f":"IF(AND(G93<>\"\",(OR(G93<'2016legmax.xls'!AZ93, (Weightings!G93-'2016legmax.xls'!AZ93)/'2016legmax.xls'!AZ93>0.025))), \"Confirm!\", \"\")","v":""}]
[287,928124,null,"D0287",null,null,null,null,null,{"$f":"IF(AND(G94<>\"\",(OR(G94<'2016legmax.xls'!AZ94, (Weightings!G94-'2016legmax.xls'!AZ94)/'2016legmax.xls'!AZ94>0.025))), \"Confirm!\", \"\")","v":""}]
[288,479646,null,"D0288",null,null,null,null,null,{"$f":"IF(AND(G95<>\"\",(OR(G95<'2016legmax.xls'!AZ95, (Weightings!G95-'2016legmax.xls'!AZ95)/'2016legmax.xls'!AZ95>0.025))), \"Confirm!\", \"\")","v":""}]
[289,787622,null,"D0289",null,null,null,null,null,{"$f":"IF(AND(G96<>\"\",(OR(G96<'2016legmax.xls'!AZ96, (Weightings!G96-'2016legmax.xls'!AZ96)/'2016legmax.xls'!AZ96>0.025))), \"Confirm!\", \"\")","v":""}]
[290,1820815,null,"D0290",null,null,null,null,null,{"$f":"IF(AND(G97<>\"\",(OR(G97<'2016legmax.xls'!AZ97, (Weightings!G97-'2016legmax.xls'!AZ97)/'2016legmax.xls'!AZ97>0.025))), \"Confirm!\", \"\")","v":""}]
[291,85263,null,"D0291",null,null,null,null,null,{"$f":"IF(AND(G98<>\"\",(OR(G98<'2016legmax.xls'!AZ98, (Weightings!G98-'2016legmax.xls'!AZ98)/'2016legmax.xls'!AZ98>0.025))), \"Confirm!\", \"\")","v":""}]
[292,197465,null,"D0292",null,null,null,null,null,{"$f":"IF(AND(G99<>\"\",(OR(G99<'2016legmax.xls'!AZ99, (Weightings!G99-'2016legmax.xls'!AZ99)/'2016legmax.xls'!AZ99>0.025))), \"Confirm!\", \"\")","v":""}]
[293,368645,null,"D0293",null,null,null,null,null,{"$f":"IF(AND(G100<>\"\",(OR(G100<'2016legmax.xls'!AZ100, (Weightings!G100-'2016legmax.xls'!AZ100)/'2016legmax.xls'!AZ100>0.025))), \"Confirm!\", \"\")","v":""}]
[294,336024,null,"D0294",null,null,null,null,null,{"$f":"IF(AND(G101<>\"\",(OR(G101<'2016legmax.xls'!AZ101, (Weightings!G101-'2016legmax.xls'!AZ101)/'2016legmax.xls'!AZ101>0.025))), \"Confirm!\", \"\")","v":""}]
[297,211022,null,"D0297",null,null,null,null,null,{"$f":"IF(AND(G102<>\"\",(OR(G102<'2016legmax.xls'!AZ102, (Weightings!G102-'2016legmax.xls'!AZ102)/'2016legmax.xls'!AZ102>0.025))), \"Confirm!\", \"\")","v":""}]
[298,375477,null,"D0298",null,null,null,null,null,{"$f":"IF(AND(G103<>\"\",(OR(G103<'2016legmax.xls'!AZ103, (Weightings!G103-'2016legmax.xls'!AZ103)/'2016legmax.xls'!AZ103>0.025))), \"Confirm!\", \"\")","v":""}]
[299,152613,null,"D0299",null,null,null,null,null,{"$f":"IF(AND(G104<>\"\",(OR(G104<'2016legmax.xls'!AZ104, (Weightings!G104-'2016legmax.xls'!AZ104)/'2016legmax.xls'!AZ104>0.025))), \"Confirm!\", \"\")","v":""}]
[300,356029,null,"D0300",null,null,null,null,null,{"$f":"IF(AND(G105<>\"\",(OR(G105<'2016legmax.xls'!AZ105, (Weightings!G105-'2016legmax.xls'!AZ105)/'2016legmax.xls'!AZ105>0.025))), \"Confirm!\", \"\")","v":""}]
[303,229741,null,"D0303",null,null,null,null,null,{"$f":"IF(AND(G106<>\"\",(OR(G106<'2016legmax.xls'!AZ106, (Weightings!G106-'2016legmax.xls'!AZ106)/'2016legmax.xls'!AZ106>0.025))), \"Confirm!\", \"\")","v":""}]
[305,6968955,null,"D0305",null,null,null,null,null,{"$f":"IF(AND(G107<>\"\",(OR(G107<'2016legmax.xls'!AZ107, (Weightings!G107-'2016legmax.xls'!AZ107)/'2016legmax.xls'!AZ107>0.025))), \"Confirm!\", \"\")","v":""}]
[306,603783,null,"D0306",null,null,null,null,null,{"$f":"IF(AND(G108<>\"\",(OR(G108<'2016legmax.xls'!AZ108, (Weightings!G108-'2016legmax.xls'!AZ108)/'2016legmax.xls'!AZ108>0.025))), \"Confirm!\", \"\")","v":""}]
[307,410156,null,"D0307",null,null,null,null,null,{"$f":"IF(AND(G109<>\"\",(OR(G109<'2016legmax.xls'!AZ109, (Weightings!G109-'2016legmax.xls'!AZ109)/'2016legmax.xls'!AZ109>0.025))), \"Confirm!\", \"\")","v":""}]
[308,3778404,null,"D0308",null,null,null,null,null,{"$f":"IF(AND(G110<>\"\",(OR(G110<'2016legmax.xls'!AZ110, (Weightings!G110-'2016legmax.xls'!AZ110)/'2016legmax.xls'!AZ110>0.025))), \"Confirm!\", \"\")","v":""}]
[309,1185157,null,"D0309",null,null,null,null,null,{"$f":"IF(AND(G111<>\"\",(OR(G111<'2016legmax.xls'!AZ111, (Weightings!G111-'2016legmax.xls'!AZ111)/'2016legmax.xls'!AZ111>0.025))), \"Confirm!\", \"\")","v":""}]
[310,385012,null,"D0310",null,null,null,null,null,{"$f":"IF(AND(G112<>\"\",(OR(G112<'2016legmax.xls'!AZ112, (Weightings!G112-'2016legmax.xls'!AZ112)/'2016legmax.xls'!AZ112>0.025))), \"Confirm!\", \"\")","v":""}]
[311,255358,null,"D0311",null,null,null,null,null,{"$f":"IF(AND(G113<>\"\",(OR(G113<'2016legmax.xls'!AZ113, (Weightings!G113-'2016legmax.xls'!AZ113)/'2016legmax.xls'!AZ113>0.025))), \"Confirm!\", \"\")","v":""}]
[312,984291,null,"D0312",null,null,null,null,null,{"$f":"IF(AND(G114<>\"\",(OR(G114<'2016legmax.xls'!AZ114, (Weightings!G114-'2016legmax.xls'!AZ114)/'2016legmax.xls'!AZ114>0.025))), \"Confirm!\", \"\")","v":""}]
[313,2427444,null,"D0313",null,null,null,null,null,{"$f":"IF(AND(G115<>\"\",(OR(G115<'2016legmax.xls'!AZ115, (Weightings!G115-'2016legmax.xls'!AZ115)/'2016legmax.xls'!AZ115>0.025))), \"Confirm!\", \"\")","v":""}]
[314,117129,null,"D0314",null,null,1310085,6,null,{"$f":"IF(AND(G116<>\"\",(OR(G116<'2016legmax.xls'!AZ116, (Weightings!G116-'2016legmax.xls'!AZ116)/'2016legmax.xls'!AZ116>0.025))), \"Confirm!\", \"\")","v":"Confirm!"}]
[315,1046262,null,"D0315",null,null,null,null,null,{"$f":"IF(AND(G117<>\"\",(OR(G117<'2016legmax.xls'!AZ117, (Weightings!G117-'2016legmax.xls'!AZ117)/'2016legmax.xls'!AZ117>0.025))), \"Confirm!\", \"\")","v":""}]
[316,341861,null,"D0316",null,null,null,null,null,{"$f":"IF(AND(G118<>\"\",(OR(G118<'2016legmax.xls'!AZ118, (Weightings!G118-'2016legmax.xls'!AZ118)/'2016legmax.xls'!AZ118>0.025))), \"Confirm!\", \"\")","v":""}]
[320,1364892,null,"D0320",null,null,null,null,null,{"$f":"IF(AND(G119<>\"\",(OR(G119<'2016legmax.xls'!AZ119, (Weightings!G119-'2016legmax.xls'!AZ119)/'2016legmax.xls'!AZ119>0.025))), \"Confirm!\", \"\")","v":""}]
[321,1389894,null,"D0321",null,null,null,null,null,{"$f":"IF(AND(G120<>\"\",(OR(G120<'2016legmax.xls'!AZ120, (Weightings!G120-'2016legmax.xls'!AZ120)/'2016legmax.xls'!AZ120>0.025))), \"Confirm!\", \"\")","v":""}]
[322,278544,null,"D0322",null,null,null,null,null,{"$f":"IF(AND(G121<>\"\",(OR(G121<'2016legmax.xls'!AZ121, (Weightings!G121-'2016legmax.xls'!AZ121)/'2016legmax.xls'!AZ121>0.025))), \"Confirm!\", \"\")","v":""}]
[323,889996,null,"D0323",null,null,null,null,null,{"$f":"IF(AND(G122<>\"\",(OR(G122<'2016legmax.xls'!AZ122, (Weightings!G122-'2016legmax.xls'!AZ122)/'2016legmax.xls'!AZ122>0.025))), \"Confirm!\", \"\")","v":""}]
[325,757039,null,"D0325",null,null,null,null,null,{"$f":"IF(AND(G123<>\"\",(OR(G123<'2016legmax.xls'!AZ123, (Weightings!G123-'2016legmax.xls'!AZ123)/'2016legmax.xls'!AZ123>0.025))), \"Confirm!\", \"\")","v":""}]
[326,216525,null,"D0326",null,null,null,null,null,{"$f":"IF(AND(G124<>\"\",(OR(G124<'2016legmax.xls'!AZ124, (Weightings!G124-'2016legmax.xls'!AZ124)/'2016legmax.xls'!AZ124>0.025))), \"Confirm!\", \"\")","v":""}]
[327,519523,null,"D0327",null,null,null,null,null,{"$f":"IF(AND(G125<>\"\",(OR(G125<'2016legmax.xls'!AZ125, (Weightings!G125-'2016legmax.xls'!AZ125)/'2016legmax.xls'!AZ125>0.025))), \"Confirm!\", \"\")","v":""}]
[329,536962,null,"D0329",null,null,null,null,null,{"$f":"IF(AND(G126<>\"\",(OR(G126<'2016legmax.xls'!AZ126, (Weightings!G126-'2016legmax.xls'!AZ126)/'2016legmax.xls'!AZ126>0.025))), \"Confirm!\", \"\")","v":""}]
[330,659639,null,"D0330",null,null,4903056,13,null,{"$f":"IF(AND(G127<>\"\",(OR(G127<'2016legmax.xls'!AZ127, (Weightings!G127-'2016legmax.xls'!AZ127)/'2016legmax.xls'!AZ127>0.025))), \"Confirm!\", \"\")","v":"Confirm!"}]
[331,1192582,null,"D0331",null,null,null,null,null,{"$f":"IF(AND(G128<>\"\",(OR(G128<'2016legmax.xls'!AZ128, (Weightings!G128-'2016legmax.xls'!AZ128)/'2016legmax.xls'!AZ128>0.025))), \"Confirm!\", \"\")","v":""}]
[332,242816,null,"D0332",null,null,null,null,null,{"$f":"IF(AND(G129<>\"\",(OR(G129<'2016legmax.xls'!AZ129, (Weightings!G129-'2016legmax.xls'!AZ129)/'2016legmax.xls'!AZ129>0.025))), \"Confirm!\", \"\")","v":""}]
[333,1174790,null,"D0333",null,null,null,null,null,{"$f":"IF(AND(G130<>\"\",(OR(G130<'2016legmax.xls'!AZ130, (Weightings!G130-'2016legmax.xls'!AZ130)/'2016legmax.xls'!AZ130>0.025))), \"Confirm!\", \"\")","v":""}]
[334,322301,null,"D0334",null,-857,null,null,null,{"$f":"IF(AND(G131<>\"\",(OR(G131<'2016legmax.xls'!AZ131, (Weightings!G131-'2016legmax.xls'!AZ131)/'2016legmax.xls'!AZ131>0.025))), \"Confirm!\", \"\")","v":""}]
[335,300689,null,"D0335",null,null,null,null,null,{"$f":"IF(AND(G132<>\"\",(OR(G132<'2016legmax.xls'!AZ132, (Weightings!G132-'2016legmax.xls'!AZ132)/'2016legmax.xls'!AZ132>0.025))), \"Confirm!\", \"\")","v":""}]
[336,991198,null,"D0336",null,null,null,null,null,{"$f":"IF(AND(G133<>\"\",(OR(G133<'2016legmax.xls'!AZ133, (Weightings!G133-'2016legmax.xls'!AZ133)/'2016legmax.xls'!AZ133>0.025))), \"Confirm!\", \"\")","v":""}]
[337,943887,null,"D0337",null,null,null,null,null,{"$f":"IF(AND(G134<>\"\",(OR(G134<'2016legmax.xls'!AZ134, (Weightings!G134-'2016legmax.xls'!AZ134)/'2016legmax.xls'!AZ134>0.025))), \"Confirm!\", \"\")","v":""}]
[338,430778,null,"D0338",null,null,null,null,null,{"$f":"IF(AND(G135<>\"\",(OR(G135<'2016legmax.xls'!AZ135, (Weightings!G135-'2016legmax.xls'!AZ135)/'2016legmax.xls'!AZ135>0.025))), \"Confirm!\", \"\")","v":""}]
[339,513194,null,"D0339",null,null,null,null,null,{"$f":"IF(AND(G136<>\"\",(OR(G136<'2016legmax.xls'!AZ136, (Weightings!G136-'2016legmax.xls'!AZ136)/'2016legmax.xls'!AZ136>0.025))), \"Confirm!\", \"\")","v":""}]
[340,949082,null,"D0340",null,null,null,null,null,{"$f":"IF(AND(G137<>\"\",(OR(G137<'2016legmax.xls'!AZ137, (Weightings!G137-'2016legmax.xls'!AZ137)/'2016legmax.xls'!AZ137>0.025))), \"Confirm!\", \"\")","v":""}]
[341,778649,null,"D0341",null,null,null,null,null,{"$f":"IF(AND(G138<>\"\",(OR(G138<'2016legmax.xls'!AZ138, (Weightings!G138-'2016legmax.xls'!AZ138)/'2016legmax.xls'!AZ138>0.025))), \"Confirm!\", \"\")","v":""}]
[342,653028,null,"D0342",null,null,null,null,null,{"$f":"IF(AND(G139<>\"\",(OR(G139<'2016legmax.xls'!AZ139, (Weightings!G139-'2016legmax.xls'!AZ139)/'2016legmax.xls'!AZ139>0.025))), \"Confirm!\", \"\")","v":""}]
[343,979752,null,"D0343",null,null,null,null,null,{"$f":"IF(AND(G140<>\"\",(OR(G140<'2016legmax.xls'!AZ140, (Weightings!G140-'2016legmax.xls'!AZ140)/'2016legmax.xls'!AZ140>0.025))), \"Confirm!\", \"\")","v":""}]
[344,215399,null,"D0344",null,-8962,null,null,null,{"$f":"IF(AND(G141<>\"\",(OR(G141<'2016legmax.xls'!AZ141, (Weightings!G141-'2016legmax.xls'!AZ141)/'2016legmax.xls'!AZ141>0.025))), \"Confirm!\", \"\")","v":""}]
[345,3447701,null,"D0345",null,null,null,null,null,{"$f":"IF(AND(G142<>\"\",(OR(G142<'2016legmax.xls'!AZ142, (Weightings!G142-'2016legmax.xls'!AZ142)/'2016legmax.xls'!AZ142>0.025))), \"Confirm!\", \"\")","v":""}]
[346,487029,null,"D0346",null,null,null,null,null,{"$f":"IF(AND(G143<>\"\",(OR(G143<'2016legmax.xls'!AZ143, (Weightings!G143-'2016legmax.xls'!AZ143)/'2016legmax.xls'!AZ143>0.025))), \"Confirm!\", \"\")","v":""}]
[347,388779,null,"D0347",null,null,null,null,null,{"$f":"IF(AND(G144<>\"\",(OR(G144<'2016legmax.xls'!AZ144, (Weightings!G144-'2016legmax.xls'!AZ144)/'2016legmax.xls'!AZ144>0.025))), \"Confirm!\", \"\")","v":""}]
[348,1163351,null,"D0348",null,null,null,null,null,{"$f":"IF(AND(G145<>\"\",(OR(G145<'2016legmax.xls'!AZ145, (Weightings!G145-'2016legmax.xls'!AZ145)/'2016legmax.xls'!AZ145>0.025))), \"Confirm!\", \"\")","v":""}]
[349,271072,null,"D0349",null,null,null,null,null,{"$f":"IF(AND(G146<>\"\",(OR(G146<'2016legmax.xls'!AZ146, (Weightings!G146-'2016legmax.xls'!AZ146)/'2016legmax.xls'!AZ146>0.025))), \"Confirm!\", \"\")","v":""}]
[350,393541,null,"D0350",null,null,null,null,null,{"$f":"IF(AND(G147<>\"\",(OR(G147<'2016legmax.xls'!AZ147, (Weightings!G147-'2016legmax.xls'!AZ147)/'2016legmax.xls'!AZ147>0.025))), \"Confirm!\", \"\")","v":""}]
[351,308335,null,"D0351",null,null,null,null,null,{"$f":"IF(AND(G148<>\"\",(OR(G148<'2016legmax.xls'!AZ148, (Weightings!G148-'2016legmax.xls'!AZ148)/'2016legmax.xls'!AZ148>0.025))), \"Confirm!\", \"\")","v":""}]
[352,840606,null,"D0352",null,null,null,null,null,{"$f":"IF(AND(G149<>\"\",(OR(G149<'2016legmax.xls'!AZ149, (Weightings!G149-'2016legmax.xls'!AZ149)/'2016legmax.xls'!AZ149>0.025))), \"Confirm!\", \"\")","v":""}]
[353,1855849,null,"D0353",null,null,null,null,null,{"$f":"IF(AND(G150<>\"\",(OR(G150<'2016legmax.xls'!AZ150, (Weightings!G150-'2016legmax.xls'!AZ150)/'2016legmax.xls'!AZ150>0.025))), \"Confirm!\", \"\")","v":""}]
[355,443078,null,"D0355",null,null,null,null,null,{"$f":"IF(AND(G151<>\"\",(OR(G151<'2016legmax.xls'!AZ151, (Weightings!G151-'2016legmax.xls'!AZ151)/'2016legmax.xls'!AZ151>0.025))), \"Confirm!\", \"\")","v":""}]
[356,511282,null,"D0356",null,null,null,null,null,{"$f":"IF(AND(G152<>\"\",(OR(G152<'2016legmax.xls'!AZ152, (Weightings!G152-'2016legmax.xls'!AZ152)/'2016legmax.xls'!AZ152>0.025))), \"Confirm!\", \"\")","v":""}]
[357,945653,null,"D0357",null,null,null,null,null,{"$f":"IF(AND(G153<>\"\",(OR(G153<'2016legmax.xls'!AZ153, (Weightings!G153-'2016legmax.xls'!AZ153)/'2016legmax.xls'!AZ153>0.025))), \"Confirm!\", \"\")","v":""}]
[358,489876,null,"D0358",null,null,null,null,null,{"$f":"IF(AND(G154<>\"\",(OR(G154<'2016legmax.xls'!AZ154, (Weightings!G154-'2016legmax.xls'!AZ154)/'2016legmax.xls'!AZ154>0.025))), \"Confirm!\", \"\")","v":""}]
[359,242767,null,"D0359",null,null,null,null,null,{"$f":"IF(AND(G155<>\"\",(OR(G155<'2016legmax.xls'!AZ155, (Weightings!G155-'2016legmax.xls'!AZ155)/'2016legmax.xls'!AZ155>0.025))), \"Confirm!\", \"\")","v":""}]
[360,317974,null,"D0360",null,null,null,null,null,{"$f":"IF(AND(G156<>\"\",(OR(G156<'2016legmax.xls'!AZ156, (Weightings!G156-'2016legmax.xls'!AZ156)/'2016legmax.xls'!AZ156>0.025))), \"Confirm!\", \"\")","v":""}]
[361,953494,null,"D0361",null,null,null,null,null,{"$f":"IF(AND(G157<>\"\",(OR(G157<'2016legmax.xls'!AZ157, (Weightings!G157-'2016legmax.xls'!AZ157)/'2016legmax.xls'!AZ157>0.025))), \"Confirm!\", \"\")","v":""}]
[362,1412645,null,"D0362",null,null,null,null,null,{"$f":"IF(AND(G158<>\"\",(OR(G158<'2016legmax.xls'!AZ158, (Weightings!G158-'2016legmax.xls'!AZ158)/'2016legmax.xls'!AZ158>0.025))), \"Confirm!\", \"\")","v":""}]
[363,529925,null,"D0363",null,null,null,null,null,{"$f":"IF(AND(G159<>\"\",(OR(G159<'2016legmax.xls'!AZ159, (Weightings!G159-'2016legmax.xls'!AZ159)/'2016legmax.xls'!AZ159>0.025))), \"Confirm!\", \"\")","v":""}]
[364,863551,null,"D0364",null,null,null,null,null,{"$f":"IF(AND(G160<>\"\",(OR(G160<'2016legmax.xls'!AZ160, (Weightings!G160-'2016legmax.xls'!AZ160)/'2016legmax.xls'!AZ160>0.025))), \"Confirm!\", \"\")","v":""}]
[365,918984,null,"D0365",null,null,null,null,null,{"$f":"IF(AND(G161<>\"\",(OR(G161<'2016legmax.xls'!AZ161, (Weightings!G161-'2016legmax.xls'!AZ161)/'2016legmax.xls'!AZ161>0.025))), \"Confirm!\", \"\")","v":""}]
[366,550054,null,"D0366",null,null,null,null,null,{"$f":"IF(AND(G162<>\"\",(OR(G162<'2016legmax.xls'!AZ162, (Weightings!G162-'2016legmax.xls'!AZ162)/'2016legmax.xls'!AZ162>0.025))), \"Confirm!\", \"\")","v":""}]
[367,1467129,null,"D0367",null,null,null,null,null,{"$f":"IF(AND(G163<>\"\",(OR(G163<'2016legmax.xls'!AZ163, (Weightings!G163-'2016legmax.xls'!AZ163)/'2016legmax.xls'!AZ163>0.025))), \"Confirm!\", \"\")","v":""}]
[368,1671914,null,"D0368",null,null,null,null,null,{"$f":"IF(AND(G164<>\"\",(OR(G164<'2016legmax.xls'!AZ164, (Weightings!G164-'2016legmax.xls'!AZ164)/'2016legmax.xls'!AZ164>0.025))), \"Confirm!\", \"\")","v":""}]
[369,209309,null,"D0369",null,null,null,null,null,{"$f":"IF(AND(G165<>\"\",(OR(G165<'2016legmax.xls'!AZ165, (Weightings!G165-'2016legmax.xls'!AZ165)/'2016legmax.xls'!AZ165>0.025))), \"Confirm!\", \"\")","v":""}]
[371,157284,null,"D0371",null,null,null,null,null,{"$f":"IF(AND(G166<>\"\",(OR(G166<'2016legmax.xls'!AZ166, (Weightings!G166-'2016legmax.xls'!AZ166)/'2016legmax.xls'!AZ166>0.025))), \"Confirm!\", \"\")","v":""}]
[372,620221,null,"D0372",null,null,null,null,null,{"$f":"IF(AND(G167<>\"\",(OR(G167<'2016legmax.xls'!AZ167, (Weightings!G167-'2016legmax.xls'!AZ167)/'2016legmax.xls'!AZ167>0.025))), \"Confirm!\", \"\")","v":""}]
[373,3030773,null,"D0373",null,null,null,null,null,{"$f":"IF(AND(G168<>\"\",(OR(G168<'2016legmax.xls'!AZ168, (Weightings!G168-'2016legmax.xls'!AZ168)/'2016legmax.xls'!AZ168>0.025))), \"Confirm!\", \"\")","v":""}]
[374,311042,null,"D0374",null,null,null,null,null,{"$f":"IF(AND(G169<>\"\",(OR(G169<'2016legmax.xls'!AZ169, (Weightings!G169-'2016legmax.xls'!AZ169)/'2016legmax.xls'!AZ169>0.025))), \"Confirm!\", \"\")","v":""}]
[375,1237181,null,"D0375",null,null,null,null,null,{"$f":"IF(AND(G170<>\"\",(OR(G170<'2016legmax.xls'!AZ170, (Weightings!G170-'2016legmax.xls'!AZ170)/'2016legmax.xls'!AZ170>0.025))), \"Confirm!\", \"\")","v":""}]
[376,610570,null,"D0376",null,null,null,null,null,{"$f":"IF(AND(G171<>\"\",(OR(G171<'2016legmax.xls'!AZ171, (Weightings!G171-'2016legmax.xls'!AZ171)/'2016legmax.xls'!AZ171>0.025))), \"Confirm!\", \"\")","v":""}]
[377,870652,null,"D0377",null,null,5813215,18,null,{"$f":"IF(AND(G172<>\"\",(OR(G172<'2016legmax.xls'!AZ172, (Weightings!G172-'2016legmax.xls'!AZ172)/'2016legmax.xls'!AZ172>0.025))), \"Confirm!\", \"\")","v":"Confirm!"}]
[378,682551,null,"D0378",null,null,null,null,null,{"$f":"IF(AND(G173<>\"\",(OR(G173<'2016legmax.xls'!AZ173, (Weightings!G173-'2016legmax.xls'!AZ173)/'2016legmax.xls'!AZ173>0.025))), \"Confirm!\", \"\")","v":""}]
[379,1199396,null,"D0379",null,null,null,null,null,{"$f":"IF(AND(G174<>\"\",(OR(G174<'2016legmax.xls'!AZ174, (Weightings!G174-'2016legmax.xls'!AZ174)/'2016legmax.xls'!AZ174>0.025))), \"Confirm!\", \"\")","v":""}]
[380,381367,null,"D0380",null,null,null,null,null,{"$f":"IF(AND(G175<>\"\",(OR(G175<'2016legmax.xls'!AZ175, (Weightings!G175-'2016legmax.xls'!AZ175)/'2016legmax.xls'!AZ175>0.025))), \"Confirm!\", \"\")","v":""}]
[381,294126,null,"D0381",null,null,null,null,null,{"$f":"IF(AND(G176<>\"\",(OR(G176<'2016legmax.xls'!AZ176, (Weightings!G176-'2016legmax.xls'!AZ176)/'2016legmax.xls'!AZ176>0.025))), \"Confirm!\", \"\")","v":""}]
[382,1113369,null,"D0382",null,null,null,null,null,{"$f":"IF(AND(G177<>\"\",(OR(G177<'2016legmax.xls'!AZ177, (Weightings!G177-'2016legmax.xls'!AZ177)/'2016legmax.xls'!AZ177>0.025))), \"Confirm!\", \"\")","v":""}]
[383,5959414,null,"D0383",null,null,null,null,null,{"$f":"IF(AND(G178<>\"\",(OR(G178<'2016legmax.xls'!AZ178, (Weightings!G178-'2016legmax.xls'!AZ178)/'2016legmax.xls'!AZ178>0.025))), \"Confirm!\", \"\")","v":""}]
[384,285953,null,"D0384",null,null,null,null,null,{"$f":"IF(AND(G179<>\"\",(OR(G179<'2016legmax.xls'!AZ179, (Weightings!G179-'2016legmax.xls'!AZ179)/'2016legmax.xls'!AZ179>0.025))), \"Confirm!\", \"\")","v":""}]
[385,3115951,null,"D0385",null,null,null,null,null,{"$f":"IF(AND(G180<>\"\",(OR(G180<'2016legmax.xls'!AZ180, (Weightings!G180-'2016legmax.xls'!AZ180)/'2016legmax.xls'!AZ180>0.025))), \"Confirm!\", \"\")","v":""}]
[386,254392,null,"D0386",null,null,null,null,null,{"$f":"IF(AND(G181<>\"\",(OR(G181<'2016legmax.xls'!AZ181, (Weightings!G181-'2016legmax.xls'!AZ181)/'2016legmax.xls'!AZ181>0.025))), \"Confirm!\", \"\")","v":""}]
[387,266166,null,"D0387",null,null,null,null,null,{"$f":"IF(AND(G182<>\"\",(OR(G182<'2016legmax.xls'!AZ182, (Weightings!G182-'2016legmax.xls'!AZ182)/'2016legmax.xls'!AZ182>0.025))), \"Confirm!\", \"\")","v":""}]
[388,382482,null,"D0388",null,null,null,null,null,{"$f":"IF(AND(G183<>\"\",(OR(G183<'2016legmax.xls'!AZ183, (Weightings!G183-'2016legmax.xls'!AZ183)/'2016legmax.xls'!AZ183>0.025))), \"Confirm!\", \"\")","v":""}]
[389,562510,null,"D0389",null,null,null,null,null,{"$f":"IF(AND(G184<>\"\",(OR(G184<'2016legmax.xls'!AZ184, (Weightings!G184-'2016legmax.xls'!AZ184)/'2016legmax.xls'!AZ184>0.025))), \"Confirm!\", \"\")","v":""}]
[390,135051,null,"D0390",null,null,null,null,null,{"$f":"IF(AND(G185<>\"\",(OR(G185<'2016legmax.xls'!AZ185, (Weightings!G185-'2016legmax.xls'!AZ185)/'2016legmax.xls'!AZ185>0.025))), \"Confirm!\", \"\")","v":""}]
[392,395888,null,"D0392",null,null,null,null,null,{"$f":"IF(AND(G186<>\"\",(OR(G186<'2016legmax.xls'!AZ186, (Weightings!G186-'2016legmax.xls'!AZ186)/'2016legmax.xls'!AZ186>0.025))), \"Confirm!\", \"\")","v":""}]
[393,363948,null,"D0393",null,null,null,null,null,{"$f":"IF(AND(G187<>\"\",(OR(G187<'2016legmax.xls'!AZ187, (Weightings!G187-'2016legmax.xls'!AZ187)/'2016legmax.xls'!AZ187>0.025))), \"Confirm!\", \"\")","v":""}]
[394,1297380,null,"D0394",null,null,null,null,null,{"$f":"IF(AND(G188<>\"\",(OR(G188<'2016legmax.xls'!AZ188, (Weightings!G188-'2016legmax.xls'!AZ188)/'2016legmax.xls'!AZ188>0.025))), \"Confirm!\", \"\")","v":""}]
[395,365920,null,"D0395",null,null,null,null,null,{"$f":"IF(AND(G189<>\"\",(OR(G189<'2016legmax.xls'!AZ189, (Weightings!G189-'2016legmax.xls'!AZ189)/'2016legmax.xls'!AZ189>0.025))), \"Confirm!\", \"\")","v":""}]
[396,745599,null,"D0396",null,null,null,null,null,{"$f":"IF(AND(G190<>\"\",(OR(G190<'2016legmax.xls'!AZ190, (Weightings!G190-'2016legmax.xls'!AZ190)/'2016legmax.xls'!AZ190>0.025))), \"Confirm!\", \"\")","v":""}]
[397,311503,null,"D0397",null,null,null,null,null,{"$f":"IF(AND(G191<>\"\",(OR(G191<'2016legmax.xls'!AZ191, (Weightings!G191-'2016legmax.xls'!AZ191)/'2016legmax.xls'!AZ191>0.025))), \"Confirm!\", \"\")","v":""}]
[398,429491,null,"D0398",null,null,null,null,null,{"$f":"IF(AND(G192<>\"\",(OR(G192<'2016legmax.xls'!AZ192, (Weightings!G192-'2016legmax.xls'!AZ192)/'2016legmax.xls'!AZ192>0.025))), \"Confirm!\", \"\")","v":""}]
[399,173570,null,"D0399",null,null,null,null,null,{"$f":"IF(AND(G193<>\"\",(OR(G193<'2016legmax.xls'!AZ193, (Weightings!G193-'2016legmax.xls'!AZ193)/'2016legmax.xls'!AZ193>0.025))), \"Confirm!\", \"\")","v":""}]
[400,934526,null,"D0400",null,null,null,null,null,{"$f":"IF(AND(G194<>\"\",(OR(G194<'2016legmax.xls'!AZ194, (Weightings!G194-'2016legmax.xls'!AZ194)/'2016legmax.xls'!AZ194>0.025))), \"Confirm!\", \"\")","v":""}]
[401,145015,null,"D0401",null,null,null,null,null,{"$f":"IF(AND(G195<>\"\",(OR(G195<'2016legmax.xls'!AZ195, (Weightings!G195-'2016legmax.xls'!AZ195)/'2016legmax.xls'!AZ195>0.025))), \"Confirm!\", \"\")","v":""}]
[402,1657128,null,"D0402",null,null,null,null,null,{"$f":"IF(AND(G196<>\"\",(OR(G196<'2016legmax.xls'!AZ196, (Weightings!G196-'2016legmax.xls'!AZ196)/'2016legmax.xls'!AZ196>0.025))), \"Confirm!\", \"\")","v":""}]
[403,252027,null,"D0403",null,null,null,null,null,{"$f":"IF(AND(G197<>\"\",(OR(G197<'2016legmax.xls'!AZ197, (Weightings!G197-'2016legmax.xls'!AZ197)/'2016legmax.xls'!AZ197>0.025))), \"Confirm!\", \"\")","v":""}]
[404,675003,null,"D0404",null,null,null,null,null,{"$f":"IF(AND(G198<>\"\",(OR(G198<'2016legmax.xls'!AZ198, (Weightings!G198-'2016legmax.xls'!AZ198)/'2016legmax.xls'!AZ198>0.025))), \"Confirm!\", \"\")","v":""}]
[405,845087,null,"D0405",null,null,null,null,null,{"$f":"IF(AND(G199<>\"\",(OR(G199<'2016legmax.xls'!AZ199, (Weightings!G199-'2016legmax.xls'!AZ199)/'2016legmax.xls'!AZ199>0.025))), \"Confirm!\", \"\")","v":""}]
[407,833131,null,"D0407",null,null,null,null,null,{"$f":"IF(AND(G200<>\"\",(OR(G200<'2016legmax.xls'!AZ200, (Weightings!G200-'2016legmax.xls'!AZ200)/'2016legmax.xls'!AZ200>0.025))), \"Confirm!\", \"\")","v":""}]
[408,733262,null,"D0408",null,null,5011242,18,null,{"$f":"IF(AND(G201<>\"\",(OR(G201<'2016legmax.xls'!AZ201, (Weightings!G201-'2016legmax.xls'!AZ201)/'2016legmax.xls'!AZ201>0.025))), \"Confirm!\", \"\")","v":"Confirm!"}]
[409,1734681,null,"D0409",null,null,null,null,null,{"$f":"IF(AND(G202<>\"\",(OR(G202<'2016legmax.xls'!AZ202, (Weightings!G202-'2016legmax.xls'!AZ202)/'2016legmax.xls'!AZ202>0.025))), \"Confirm!\", \"\")","v":""}]
[410,785523,null,"D0410",null,null,null,null,null,{"$f":"IF(AND(G203<>\"\",(OR(G203<'2016legmax.xls'!AZ203, (Weightings!G203-'2016legmax.xls'!AZ203)/'2016legmax.xls'!AZ203>0.025))), \"Confirm!\", \"\")","v":""}]
[411,323216,null,"D0411",null,null,null,null,null,{"$f":"IF(AND(G204<>\"\",(OR(G204<'2016legmax.xls'!AZ204, (Weightings!G204-'2016legmax.xls'!AZ204)/'2016legmax.xls'!AZ204>0.025))), \"Confirm!\", \"\")","v":""}]
[412,373688,null,"D0412",null,null,null,null,null,{"$f":"IF(AND(G205<>\"\",(OR(G205<'2016legmax.xls'!AZ205, (Weightings!G205-'2016legmax.xls'!AZ205)/'2016legmax.xls'!AZ205>0.025))), \"Confirm!\", \"\")","v":""}]
[413,2137449,null,"D0413",null,null,null,null,null,{"$f":"IF(AND(G206<>\"\",(OR(G206<'2016legmax.xls'!AZ206, (Weightings!G206-'2016legmax.xls'!AZ206)/'2016legmax.xls'!AZ206>0.025))), \"Confirm!\", \"\")","v":""}]
[415,976775,null,"D0415",null,null,null,null,null,{"$f":"IF(AND(G207<>\"\",(OR(G207<'2016legmax.xls'!AZ207, (Weightings!G207-'2016legmax.xls'!AZ207)/'2016legmax.xls'!AZ207>0.025))), \"Confirm!\", \"\")","v":""}]
[416,1237349,null,"D0416",null,null,null,null,null,{"$f":"IF(AND(G208<>\"\",(OR(G208<'2016legmax.xls'!AZ208, (Weightings!G208-'2016legmax.xls'!AZ208)/'2016legmax.xls'!AZ208>0.025))), \"Confirm!\", \"\")","v":""}]
[417,672573,null,"D0417",null,null,null,null,null,{"$f":"IF(AND(G209<>\"\",(OR(G209<'2016legmax.xls'!AZ209, (Weightings!G209-'2016legmax.xls'!AZ209)/'2016legmax.xls'!AZ209>0.025))), \"Confirm!\", \"\")","v":""}]
[418,2296201,null,"D0418",null,null,null,null,null,{"$f":"IF(AND(G210<>\"\",(OR(G210<'2016legmax.xls'!AZ210, (Weightings!G210-'2016legmax.xls'!AZ210)/'2016legmax.xls'!AZ210>0.025))), \"Confirm!\", \"\")","v":""}]
[419,394917,null,"D0419",null,null,null,null,null,{"$f":"IF(AND(G211<>\"\",(OR(G211<'2016legmax.xls'!AZ211, (Weightings!G211-'2016legmax.xls'!AZ211)/'2016legmax.xls'!AZ211>0.025))), \"Confirm!\", \"\")","v":""}]
[420,822116,null,"D0420",null,null,null,null,null,{"$f":"IF(AND(G212<>\"\",(OR(G212<'2016legmax.xls'!AZ212, (Weightings!G212-'2016legmax.xls'!AZ212)/'2016legmax.xls'!AZ212>0.025))), \"Confirm!\", \"\")","v":""}]
[421,529037,null,"D0421",null,null,null,null,null,{"$f":"IF(AND(G213<>\"\",(OR(G213<'2016legmax.xls'!AZ213, (Weightings!G213-'2016legmax.xls'!AZ213)/'2016legmax.xls'!AZ213>0.025))), \"Confirm!\", \"\")","v":""}]
[422,289543,null,"D0422",null,null,null,null,null,{"$f":"IF(AND(G214<>\"\",(OR(G214<'2016legmax.xls'!AZ214, (Weightings!G214-'2016legmax.xls'!AZ214)/'2016legmax.xls'!AZ214>0.025))), \"Confirm!\", \"\")","v":""}]
[423,412532,null,"D0423",null,null,null,null,null,{"$f":"IF(AND(G215<>\"\",(OR(G215<'2016legmax.xls'!AZ215, (Weightings!G215-'2016legmax.xls'!AZ215)/'2016legmax.xls'!AZ215>0.025))), \"Confirm!\", \"\")","v":""}]
[426,291358,null,"D0426",null,null,null,null,null,{"$f":"IF(AND(G216<>\"\",(OR(G216<'2016legmax.xls'!AZ216, (Weightings!G216-'2016legmax.xls'!AZ216)/'2016legmax.xls'!AZ216>0.025))), \"Confirm!\", \"\")","v":""}]
[428,2088537,null,"D0428",null,null,null,null,null,{"$f":"IF(AND(G217<>\"\",(OR(G217<'2016legmax.xls'!AZ217, (Weightings!G217-'2016legmax.xls'!AZ217)/'2016legmax.xls'!AZ217>0.025))), \"Confirm!\", \"\")","v":""}]
[429,338671,null,"D0429",null,null,null,null,null,{"$f":"IF(AND(G218<>\"\",(OR(G218<'2016legmax.xls'!AZ218, (Weightings!G218-'2016legmax.xls'!AZ218)/'2016legmax.xls'!AZ218>0.025))), \"Confirm!\", \"\")","v":""}]
[430,830393,null,"D0430",null,null,null,null,null,{"$f":"IF(AND(G219<>\"\",(OR(G219<'2016legmax.xls'!AZ219, (Weightings!G219-'2016legmax.xls'!AZ219)/'2016legmax.xls'!AZ219>0.025))), \"Confirm!\", \"\")","v":""}]
[431,573375,null,"D0431",null,null,null,null,null,{"$f":"IF(AND(G220<>\"\",(OR(G220<'2016legmax.xls'!AZ220, (Weightings!G220-'2016legmax.xls'!AZ220)/'2016legmax.xls'!AZ220>0.025))), \"Confirm!\", \"\")","v":""}]
[432,270667,null,"D0432",null,null,null,null,null,{"$f":"IF(AND(G221<>\"\",(OR(G221<'2016legmax.xls'!AZ221, (Weightings!G221-'2016legmax.xls'!AZ221)/'2016legmax.xls'!AZ221>0.025))), \"Confirm!\", \"\")","v":""}]
[434,1411795,null,"D0434",null,null,null,null,null,{"$f":"IF(AND(G222<>\"\",(OR(G222<'2016legmax.xls'!AZ222, (Weightings!G222-'2016legmax.xls'!AZ222)/'2016legmax.xls'!AZ222>0.025))), \"Confirm!\", \"\")","v":""}]
[435,1393535,null,"D0435",null,null,null,null,null,{"$f":"IF(AND(G223<>\"\",(OR(G223<'2016legmax.xls'!AZ223, (Weightings!G223-'2016legmax.xls'!AZ223)/'2016legmax.xls'!AZ223>0.025))), \"Confirm!\", \"\")","v":""}]
[436,526930,null,"D0436",null,null,null,null,null,{"$f":"IF(AND(G224<>\"\",(OR(G224<'2016legmax.xls'!AZ224, (Weightings!G224-'2016legmax.xls'!AZ224)/'2016legmax.xls'!AZ224>0.025))), \"Confirm!\", \"\")","v":""}]
[437,5497178,null,"D0437",null,null,null,null,null,{"$f":"IF(AND(G225<>\"\",(OR(G225<'2016legmax.xls'!AZ225, (Weightings!G225-'2016legmax.xls'!AZ225)/'2016legmax.xls'!AZ225>0.025))), \"Confirm!\", \"\")","v":""}]
[438,415786,null,"D0438",null,null,null,null,null,{"$f":"IF(AND(G226<>\"\",(OR(G226<'2016legmax.xls'!AZ226, (Weightings!G226-'2016legmax.xls'!AZ226)/'2016legmax.xls'!AZ226>0.025))), \"Confirm!\", \"\")","v":""}]
[439,453550,null,"D0439",null,null,null,null,null,{"$f":"IF(AND(G227<>\"\",(OR(G227<'2016legmax.xls'!AZ227, (Weightings!G227-'2016legmax.xls'!AZ227)/'2016legmax.xls'!AZ227>0.025))), \"Confirm!\", \"\")","v":""}]
[440,657735,null,"D0440",null,null,null,null,null,{"$f":"IF(AND(G228<>\"\",(OR(G228<'2016legmax.xls'!AZ228, (Weightings!G228-'2016legmax.xls'!AZ228)/'2016legmax.xls'!AZ228>0.025))), \"Confirm!\", \"\")","v":""}]
[443,4812211,null,"D0443",null,null,null,null,null,{"$f":"IF(AND(G229<>\"\",(OR(G229<'2016legmax.xls'!AZ229, (Weightings!G229-'2016legmax.xls'!AZ229)/'2016legmax.xls'!AZ229>0.025))), \"Confirm!\", \"\")","v":""}]
[444,348040,null,"D0444",null,null,null,null,null,{"$f":"IF(AND(G230<>\"\",(OR(G230<'2016legmax.xls'!AZ230, (Weightings!G230-'2016legmax.xls'!AZ230)/'2016legmax.xls'!AZ230>0.025))), \"Confirm!\", \"\")","v":""}]
[445,1548644,null,"D0445",null,null,null,null,null,{"$f":"IF(AND(G231<>\"\",(OR(G231<'2016legmax.xls'!AZ231, (Weightings!G231-'2016legmax.xls'!AZ231)/'2016legmax.xls'!AZ231>0.025))), \"Confirm!\", \"\")","v":""}]
[446,1410849,null,"D0446",null,null,null,null,null,{"$f":"IF(AND(G232<>\"\",(OR(G232<'2016legmax.xls'!AZ232, (Weightings!G232-'2016legmax.xls'!AZ232)/'2016legmax.xls'!AZ232>0.025))), \"Confirm!\", \"\")","v":""}]
[447,609546,null,"D0447",null,null,null,null,null,{"$f":"IF(AND(G233<>\"\",(OR(G233<'2016legmax.xls'!AZ233, (Weightings!G233-'2016legmax.xls'!AZ233)/'2016legmax.xls'!AZ233>0.025))), \"Confirm!\", \"\")","v":""}]
[448,403182,null,"D0448",null,null,null,null,null,{"$f":"IF(AND(G234<>\"\",(OR(G234<'2016legmax.xls'!AZ234, (Weightings!G234-'2016legmax.xls'!AZ234)/'2016legmax.xls'!AZ234>0.025))), \"Confirm!\", \"\")","v":""}]
[449,742094,null,"D0449",null,null,null,null,null,{"$f":"IF(AND(G235<>\"\",(OR(G235<'2016legmax.xls'!AZ235, (Weightings!G235-'2016legmax.xls'!AZ235)/'2016legmax.xls'!AZ235>0.025))), \"Confirm!\", \"\")","v":""}]
[450,3011455,null,"D0450",null,null,null,null,null,{"$f":"IF(AND(G236<>\"\",(OR(G236<'2016legmax.xls'!AZ236, (Weightings!G236-'2016legmax.xls'!AZ236)/'2016legmax.xls'!AZ236>0.025))), \"Confirm!\", \"\")","v":""}]
[452,289235,null,"D0452",null,null,null,null,null,{"$f":"IF(AND(G237<>\"\",(OR(G237<'2016legmax.xls'!AZ237, (Weightings!G237-'2016legmax.xls'!AZ237)/'2016legmax.xls'!AZ237>0.025))), \"Confirm!\", \"\")","v":""}]
[453,3833833,null,"D0453",null,null,null,null,null,{"$f":"IF(AND(G238<>\"\",(OR(G238<'2016legmax.xls'!AZ238, (Weightings!G238-'2016legmax.xls'!AZ238)/'2016legmax.xls'!AZ238>0.025))), \"Confirm!\", \"\")","v":""}]
[454,386535,null,"D0454",null,null,null,null,null,{"$f":"IF(AND(G239<>\"\",(OR(G239<'2016legmax.xls'!AZ239, (Weightings!G239-'2016legmax.xls'!AZ239)/'2016legmax.xls'!AZ239>0.025))), \"Confirm!\", \"\")","v":""}]
[456,341448,null,"D0456",null,null,null,null,null,{"$f":"IF(AND(G240<>\"\",(OR(G240<'2016legmax.xls'!AZ240, (Weightings!G240-'2016legmax.xls'!AZ240)/'2016legmax.xls'!AZ240>0.025))), \"Confirm!\", \"\")","v":""}]
[457,5361952,null,"D0457",null,null,null,null,null,{"$f":"IF(AND(G241<>\"\",(OR(G241<'2016legmax.xls'!AZ241, (Weightings!G241-'2016legmax.xls'!AZ241)/'2016legmax.xls'!AZ241>0.025))), \"Confirm!\", \"\")","v":""}]
[458,1552609,null,"D0458",null,null,null,null,null,{"$f":"IF(AND(G242<>\"\",(OR(G242<'2016legmax.xls'!AZ242, (Weightings!G242-'2016legmax.xls'!AZ242)/'2016legmax.xls'!AZ242>0.025))), \"Confirm!\", \"\")","v":""}]
[459,197927,null,"D0459",null,null,null,null,null,{"$f":"IF(AND(G243<>\"\",(OR(G243<'2016legmax.xls'!AZ243, (Weightings!G243-'2016legmax.xls'!AZ243)/'2016legmax.xls'!AZ243>0.025))), \"Confirm!\", \"\")","v":""}]
[460,642823,null,"D0460",null,null,null,null,null,{"$f":"IF(AND(G244<>\"\",(OR(G244<'2016legmax.xls'!AZ244, (Weightings!G244-'2016legmax.xls'!AZ244)/'2016legmax.xls'!AZ244>0.025))), \"Confirm!\", \"\")","v":""}]
[461,589497,null,"D0461",null,null,6767192,20,null,{"$f":"IF(AND(G245<>\"\",(OR(G245<'2016legmax.xls'!AZ245, (Weightings!G245-'2016legmax.xls'!AZ245)/'2016legmax.xls'!AZ245>0.025))), \"Confirm!\", \"\")","v":"Confirm!"}]
[462,308722,null,"D0462",null,null,null,null,null,{"$f":"IF(AND(G246<>\"\",(OR(G246<'2016legmax.xls'!AZ246, (Weightings!G246-'2016legmax.xls'!AZ246)/'2016legmax.xls'!AZ246>0.025))), \"Confirm!\", \"\")","v":""}]
[463,371593,null,"D0463",null,null,null,null,null,{"$f":"IF(AND(G247<>\"\",(OR(G247<'2016legmax.xls'!AZ247, (Weightings!G247-'2016legmax.xls'!AZ247)/'2016legmax.xls'!AZ247>0.025))), \"Confirm!\", \"\")","v":""}]
[464,1347372,null,"D0464",null,null,null,null,null,{"$f":"IF(AND(G248<>\"\",(OR(G248<'2016legmax.xls'!AZ248, (Weightings!G248-'2016legmax.xls'!AZ248)/'2016legmax.xls'!AZ248>0.025))), \"Confirm!\", \"\")","v":""}]
[465,2187665,null,"D0465",null,null,null,null,null,{"$f":"IF(AND(G249<>\"\",(OR(G249<'2016legmax.xls'!AZ249, (Weightings!G249-'2016legmax.xls'!AZ249)/'2016legmax.xls'!AZ249>0.025))), \"Confirm!\", \"\")","v":""}]
[466,535429,null,"D0466",null,null,null,null,null,{"$f":"IF(AND(G250<>\"\",(OR(G250<'2016legmax.xls'!AZ250, (Weightings!G250-'2016legmax.xls'!AZ250)/'2016legmax.xls'!AZ250>0.025))), \"Confirm!\", \"\")","v":""}]
[467,278906,null,"D0467",null,null,null,null,null,{"$f":"IF(AND(G251<>\"\",(OR(G251<'2016legmax.xls'!AZ251, (Weightings!G251-'2016legmax.xls'!AZ251)/'2016legmax.xls'!AZ251>0.025))), \"Confirm!\", \"\")","v":""}]
[468,115125,null,"D0468",null,null,null,null,null,{"$f":"IF(AND(G252<>\"\",(OR(G252<'2016legmax.xls'!AZ252, (Weightings!G252-'2016legmax.xls'!AZ252)/'2016legmax.xls'!AZ252>0.025))), \"Confirm!\", \"\")","v":""}]
[469,1716493,null,"D0469",null,null,null,null,null,{"$f":"IF(AND(G253<>\"\",(OR(G253<'2016legmax.xls'!AZ253, (Weightings!G253-'2016legmax.xls'!AZ253)/'2016legmax.xls'!AZ253>0.025))), \"Confirm!\", \"\")","v":""}]
[470,2403951,null,"D0470",null,null,null,null,null,{"$f":"IF(AND(G254<>\"\",(OR(G254<'2016legmax.xls'!AZ254, (Weightings!G254-'2016legmax.xls'!AZ254)/'2016legmax.xls'!AZ254>0.025))), \"Confirm!\", \"\")","v":""}]
[471,182014,null,"D0471",null,null,null,null,null,{"$f":"IF(AND(G255<>\"\",(OR(G255<'2016legmax.xls'!AZ255, (Weightings!G255-'2016legmax.xls'!AZ255)/'2016legmax.xls'!AZ255>0.025))), \"Confirm!\", \"\")","v":""}]
[473,852264,null,"D0473",null,null,null,null,null,{"$f":"IF(AND(G256<>\"\",(OR(G256<'2016legmax.xls'!AZ256, (Weightings!G256-'2016legmax.xls'!AZ256)/'2016legmax.xls'!AZ256>0.025))), \"Confirm!\", \"\")","v":""}]
[474,163745,null,"D0474",null,null,null,null,null,{"$f":"IF(AND(G257<>\"\",(OR(G257<'2016legmax.xls'!AZ257, (Weightings!G257-'2016legmax.xls'!AZ257)/'2016legmax.xls'!AZ257>0.025))), \"Confirm!\", \"\")","v":""}]
[475,6169799,null,"D0475",null,null,null,null,null,{"$f":"IF(AND(G258<>\"\",(OR(G258<'2016legmax.xls'!AZ258, (Weightings!G258-'2016legmax.xls'!AZ258)/'2016legmax.xls'!AZ258>0.025))), \"Confirm!\", \"\")","v":""}]
[476,102150,null,"D0476",null,null,null,null,null,{"$f":"IF(AND(G259<>\"\",(OR(G259<'2016legmax.xls'!AZ259, (Weightings!G259-'2016legmax.xls'!AZ259)/'2016legmax.xls'!AZ259>0.025))), \"Confirm!\", \"\")","v":""}]
[477,207959,null,"D0477",null,null,null,null,null,{"$f":"IF(AND(G260<>\"\",(OR(G260<'2016legmax.xls'!AZ260, (Weightings!G260-'2016legmax.xls'!AZ260)/'2016legmax.xls'!AZ260>0.025))), \"Confirm!\", \"\")","v":""}]
[479,308637,null,"D0479",null,null,null,null,null,{"$f":"IF(AND(G261<>\"\",(OR(G261<'2016legmax.xls'!AZ261, (Weightings!G261-'2016legmax.xls'!AZ261)/'2016legmax.xls'!AZ261>0.025))), \"Confirm!\", \"\")","v":""}]
[480,2081006,null,"D0480",null,null,null,null,null,{"$f":"IF(AND(G262<>\"\",(OR(G262<'2016legmax.xls'!AZ262, (Weightings!G262-'2016legmax.xls'!AZ262)/'2016legmax.xls'!AZ262>0.025))), \"Confirm!\", \"\")","v":""}]
[481,401024,null,"D0481",null,null,null,null,null,{"$f":"IF(AND(G263<>\"\",(OR(G263<'2016legmax.xls'!AZ263, (Weightings!G263-'2016legmax.xls'!AZ263)/'2016legmax.xls'!AZ263>0.025))), \"Confirm!\", \"\")","v":""}]
[482,205278,null,"D0482",null,null,null,null,null,{"$f":"IF(AND(G264<>\"\",(OR(G264<'2016legmax.xls'!AZ264, (Weightings!G264-'2016legmax.xls'!AZ264)/'2016legmax.xls'!AZ264>0.025))), \"Confirm!\", \"\")","v":""}]
[483,599845,null,"D0483",null,null,null,null,null,{"$f":"IF(AND(G265<>\"\",(OR(G265<'2016legmax.xls'!AZ265, (Weightings!G265-'2016legmax.xls'!AZ265)/'2016legmax.xls'!AZ265>0.025))), \"Confirm!\", \"\")","v":""}]
[484,658732,null,"D0484",null,null,null,null,null,{"$f":"IF(AND(G266<>\"\",(OR(G266<'2016legmax.xls'!AZ266, (Weightings!G266-'2016legmax.xls'!AZ266)/'2016legmax.xls'!AZ266>0.025))), \"Confirm!\", \"\")","v":""}]
[487,463854,null,"D0487",null,null,null,null,null,{"$f":"IF(AND(G267<>\"\",(OR(G267<'2016legmax.xls'!AZ267, (Weightings!G267-'2016legmax.xls'!AZ267)/'2016legmax.xls'!AZ267>0.025))), \"Confirm!\", \"\")","v":""}]
[489,3138412,null,"D0489",null,null,null,null,null,{"$f":"IF(AND(G268<>\"\",(OR(G268<'2016legmax.xls'!AZ268, (Weightings!G268-'2016legmax.xls'!AZ268)/'2016legmax.xls'!AZ268>0.025))), \"Confirm!\", \"\")","v":""}]
[490,1883402,null,"D0490",null,null,null,null,null,{"$f":"IF(AND(G269<>\"\",(OR(G269<'2016legmax.xls'!AZ269, (Weightings!G269-'2016legmax.xls'!AZ269)/'2016legmax.xls'!AZ269>0.025))), \"Confirm!\", \"\")","v":""}]
[491,1227861,null,"D0491",null,null,null,null,null,{"$f":"IF(AND(G270<>\"\",(OR(G270<'2016legmax.xls'!AZ270, (Weightings!G270-'2016legmax.xls'!AZ270)/'2016legmax.xls'!AZ270>0.025))), \"Confirm!\", \"\")","v":""}]
[492,293427,null,"D0492",null,null,null,null,null,{"$f":"IF(AND(G271<>\"\",(OR(G271<'2016legmax.xls'!AZ271, (Weightings!G271-'2016legmax.xls'!AZ271)/'2016legmax.xls'!AZ271>0.025))), \"Confirm!\", \"\")","v":""}]
[493,1047175,null,"D0493",null,null,null,null,null,{"$f":"IF(AND(G272<>\"\",(OR(G272<'2016legmax.xls'!AZ272, (Weightings!G272-'2016legmax.xls'!AZ272)/'2016legmax.xls'!AZ272>0.025))), \"Confirm!\", \"\")","v":""}]
[494,297844,null,"D0494",null,null,null,null,null,{"$f":"IF(AND(G273<>\"\",(OR(G273<'2016legmax.xls'!AZ273, (Weightings!G273-'2016legmax.xls'!AZ273)/'2016legmax.xls'!AZ273>0.025))), \"Confirm!\", \"\")","v":""}]
[495,1069591,null,"D0495",null,null,null,null,null,{"$f":"IF(AND(G274<>\"\",(OR(G274<'2016legmax.xls'!AZ274, (Weightings!G274-'2016legmax.xls'!AZ274)/'2016legmax.xls'!AZ274>0.025))), \"Confirm!\", \"\")","v":""}]
[496,166489,null,"D0496",null,null,1697061,null,null,{"$f":"IF(AND(G275<>\"\",(OR(G275<'2016legmax.xls'!AZ275, (Weightings!G275-'2016legmax.xls'!AZ275)/'2016legmax.xls'!AZ275>0.025))), \"Confirm!\", \"\")","v":"Confirm!"}]
[497,10918476,null,"D0497",null,null,null,null,null,{"$f":"IF(AND(G276<>\"\",(OR(G276<'2016legmax.xls'!AZ276, (Weightings!G276-'2016legmax.xls'!AZ276)/'2016legmax.xls'!AZ276>0.025))), \"Confirm!\", \"\")","v":""}]
[498,509154,null,"D0498",null,null,null,null,null,{"$f":"IF(AND(G277<>\"\",(OR(G277<'2016legmax.xls'!AZ277, (Weightings!G277-'2016legmax.xls'!AZ277)/'2016legmax.xls'!AZ277>0.025))), \"Confirm!\", \"\")","v":""}]
[499,577658,null,"D0499",null,null,null,null,null,{"$f":"IF(AND(G278<>\"\",(OR(G278<'2016legmax.xls'!AZ278, (Weightings!G278-'2016legmax.xls'!AZ278)/'2016legmax.xls'!AZ278>0.025))), \"Confirm!\", \"\")","v":""}]
[500,14691745,null,"D0500",null,null,null,null,null,{"$f":"IF(AND(G279<>\"\",(OR(G279<'2016legmax.xls'!AZ279, (Weightings!G279-'2016legmax.xls'!AZ279)/'2016legmax.xls'!AZ279>0.025))), \"Confirm!\", \"\")","v":""}]
[501,14947071,null,"D0501",null,null,null,null,null,{"$f":"IF(AND(G280<>\"\",(OR(G280<'2016legmax.xls'!AZ280, (Weightings!G280-'2016legmax.xls'!AZ280)/'2016legmax.xls'!AZ280>0.025))), \"Confirm!\", \"\")","v":""}]
[502,123427,null,"D0502",null," ",null," ",null,{"$f":"IF(AND(G281<>\"\",(OR(G281<'2016legmax.xls'!AZ281, (Weightings!G281-'2016legmax.xls'!AZ281)/'2016legmax.xls'!AZ281>0.025))), \"Confirm!\", \"\")","v":""}]
[503,1277708,null,"D0503",null,null,null,null,null,{"$f":"IF(AND(G282<>\"\",(OR(G282<'2016legmax.xls'!AZ282, (Weightings!G282-'2016legmax.xls'!AZ282)/'2016legmax.xls'!AZ282>0.025))), \"Confirm!\", \"\")","v":""}]
[504,421887,null,"D0504",null,null,null,null,null,{"$f":"IF(AND(G283<>\"\",(OR(G283<'2016legmax.xls'!AZ283, (Weightings!G283-'2016legmax.xls'!AZ283)/'2016legmax.xls'!AZ283>0.025))), \"Confirm!\", \"\")","v":""}]
[505,537677,null,"D0505",null,null,null,null,null,{"$f":"IF(AND(G284<>\"\",(OR(G284<'2016legmax.xls'!AZ284, (Weightings!G284-'2016legmax.xls'!AZ284)/'2016legmax.xls'!AZ284>0.025))), \"Confirm!\", \"\")","v":""}]
[506,1454609,null,"D0506",null,null,null,null,null,{"$f":"IF(AND(G285<>\"\",(OR(G285<'2016legmax.xls'!AZ285, (Weightings!G285-'2016legmax.xls'!AZ285)/'2016legmax.xls'!AZ285>0.025))), \"Confirm!\", \"\")","v":""}]
[507,226108,null,"D0507",null,null,null,null,null,{"$f":"IF(AND(G286<>\"\",(OR(G286<'2016legmax.xls'!AZ286, (Weightings!G286-'2016legmax.xls'!AZ286)/'2016legmax.xls'!AZ286>0.025))), \"Confirm!\", \"\")","v":""}]
[508,764175,null,"D0508",null,null,null,null,null,{"$f":"IF(AND(G287<>\"\",(OR(G287<'2016legmax.xls'!AZ287, (Weightings!G287-'2016legmax.xls'!AZ287)/'2016legmax.xls'!AZ287>0.025))), \"Confirm!\", \"\")","v":""}]
[509,314886,null,"D0509",null,null,null,null,null,{"$f":"IF(AND(G288<>\"\",(OR(G288<'2016legmax.xls'!AZ288, (Weightings!G288-'2016legmax.xls'!AZ288)/'2016legmax.xls'!AZ288>0.025))), \"Confirm!\", \"\")","v":""}]
[511,149260,null,"D0511",null,null,null,null,null,{"$f":"IF(AND(G289<>\"\",(OR(G289<'2016legmax.xls'!AZ289, (Weightings!G289-'2016legmax.xls'!AZ289)/'2016legmax.xls'!AZ289>0.025))), \"Confirm!\", \"\")","v":""}]
[512,26103306,null,"D0512",null,null,null,null,null,{"$f":"IF(AND(G290<>\"\",(OR(G290<'2016legmax.xls'!AZ290, (Weightings!G290-'2016legmax.xls'!AZ290)/'2016legmax.xls'!AZ290>0.025))), \"Confirm!\", \"\")","v":""}]

{"sheet":"Preliminary SO66","index":4,"n_rows":287,"n_cols":29,"rows_kept":287,"cut":false,"hidden":true,"merged":[]}
["USD","Total","4 yr AR","CTE Hrs","Blank1","ESOL Hrs","Blank2","AR Head","High AR","Non Prof","Blank3","New Fac FTE","Blank4","Blank5","Over 2.5","Under 2.5","Out of Dist","Total Trans","Blank6","Virt FTE (FT)","Virt FTE (PT)","Virtual Credits","Virtual FTE 19 & Over","KAMS","Pull Date","Milt","Milt 4 Yr","Adopt GF","Adopt LOB"]
[101,505,5.5,147.9,null,5.5,null,272,null,null,null,0,null,null,317,null,null,null,null,0,0,0,5,0,null,null,null,5586703,1539410]
[102,618.5,6,124.7,null,685.3,null,234,null,null,null,0,null,null,98,null,null,null,null,0,0,0,0,0,null,null,null,5966187,1425000]
[103,133.5,0,68.900000000000006,null,188,null,61,null,null,null,0,null,null,52,null,null,null,null,0,0,0,0,0,null,null,null,1530420,520040]
[105,334,4.5,105.1,null,104.6,null,133,null,null,null,0,null,null,122.6,null,null,null,null,0,0,0,0,0,null,null,null,3185830,923233]
[106,104,0,0.5,null,69.2,null,62,null,null,null,0,null,null,50,null,null,null,null,0,0,0,0,0,null,null,null,1494664,484121]
[107,269.5,4.5,123.5,null,0,null,114,null,null,null,0,null,null,138,null,null,null,null,0,0,0,0,0,null,null,null,2922851,700000]
[108,337,0,91.2,null,0,null,124,null,null,null,0,null,null,152.5,null,null,null,null,0,0,0,0,0,null,null,null,3219173,1006913]
[109,466,0,87,null,0,null,174,null,null,null,0,null,null,170.5,null,null,null,null,0,0,0,0,1,null,null,null,4200601,1280000]
[110,215,1.5,44.1,null,0,null,102,null,null,null,0,null,null,140,null,null,null,null,0,0,0,0,0,null,null,null,2620524,767887]
[111,311,6,86.9,null,0,null,132,null,null,null,0,null,null,264.5,null,null,null,null,0,0,0,0,0,null,null,null,3085147,1005747]
[112,444.5,2,125.1,null,0,null,159,null,null,null,0,null,null,244,null,null,null,null,32,2.6,27,20,0,null,null,null,4346634,1304810]
[113,1099.2,7,370.5,null,3,null,311,null,null,null,0,null,null,392.5,null,null,null,null,0,0,0,0,0,null,null,null,8807800,2488805]
[114,591,11,207.5,null,0,null,328,null,null,null,0,null,null,278.5,null,null,null,null,19,2.8,60,16,0,null,null,null,6683697,1747132]
[115,566.5,9,333.7,null,0,null,106,null,null,null,0,null,null,264.5,null,null,null,null,0,0,0,0,0,null,null,null,4724260,1115000]
[200,241.5,3.5,50.5,null,210.9,null,110,null,null,null,0,null,null,66,null,null,null,null,0,0,0,0,0,null,null,null,2273470,737264]
[202,3899.7,90,855.9,null,1943.7,null,2788,null,null,null,500,null,null,1080,null,null,null,null,0,0,230,0,0,null,null,null,37111565,9053413]
[203,1957,4,414,null,130.80000000000001,null,287,null,null,null,0,null,null,1151,null,null,null,null,0,0,8,2,0,null,null,null,12804073,3726052]
[204,2575.5,23,568.70000000000005,null,511.3,null,1193,null,null,null,0,null,null,811,null,null,null,null,17,0,40,21,0,null,null,null,21605473,5426138]
[205,486,0,97.3,null,0,null,240,null,null,null,0,null,null,249,null,null,null,null,0,0,0,0,0,null,null,null,5247052,1444620]
[206,491.2,10,110.8,null,78.099999999999994,null,152,null,null,null,0,null,null,368,null,null,null,null,1,0,0,16,1,null,null,null,4838622,1338988]
[207,1599.5,0,0.7,null,54.3,null,70,null,null,null,0,null,null,148,null,null,null,null,0,0,0,0,0,null,null,null,14109960,3539416]
[208,367.5,0,50.4,null,0,null,103,null,null,null,0,null,null,76,null,null,null,null,0,0,0,0,0,null,null,null,3113304,1002148]
[209,163.19999999999999,4,0,null,216.2,null,83,null,null,null,0,null,null,41,null,null,null,null,0,0,0,0,0,null,null,null,1923644,674130]
[210,1007.4,32,298.10000000000002,null,1529.8,null,537,null,null,null,0,null,null,174,null,null,null,null,2,0,0,0,0,null,null,null,8266363,2554725]
[211,677.7,0,139.69999999999999,null,0,null,199,null,null,null,0,null,null,144.5,null,null,null,null,0,0,0,0,0,null,null,null,6657807,1759037]
[212,163,0,20.8,null,0,null,70,null,null,null,0,null,null,92,null,null,null,null,0,0,0,0,0,null,null,null,1991322,585990]
[214,1626.5,25,654.70000000000005,null,2072.6,null,895,null,null,null,0,null,null,198,null,null,null,null,7,0.8,150,47,0,null,null,null,11968945,3649066]
[215,586,6.5,80.400000000000006,null,689.6,null,287,null,null,null,0,null,null,83,null,null,null,null,0,0,105,0,0,null,null,null,5223169,1622083]
[216,184.5,4,72,null,398.2,null,123,null,null,null,0,null,null,7,null,null,null,null,0,0,0,0,0,null,null,null,2318902,741598]
[217,164,0,74.7,null,178.2,null,67,null,null,null,0,null,null,27,null,null,null,null,0,0,0,0,0,null,null,null,1791222,588359]
[218,450.4,7,107.6,null,343.7,null,188,null,null,null,0,null,null,38,null,null,null,null,577,16.2,10,2,0,null,null,null,7878356,1288319]
[219,233.7,0,0,null,0,null,104,null,null,null,0,null,null,45,null,null,null,null,0,0,0,0,0,null,null,null,2356069,722119]
[220,189.9,2,39.4,null,30.5,null,76,null,null,null,0,null,null,49,null,null,null,null,0,0,0,0,0,null,null,null,1916908,606082]
[223,346.4,0,116.3,null,126.8,null,104,null,null,null,0,null,null,142,null,null,null,null,0,0,0,0,1,null,null,null,3643356,1011921]
[224,309.5,2.5,118.3,null,0,null,89,null,null,null,0,null,null,184,null,null,null,null,0,0,0,0,0,null,null,null,2866513,786388]
[225,132.5,0.5,0,null,9,null,62,null,null,null,0,null,null,24,null,null,null,null,0,0,0,0,0,null,null,null,1741260,577905]
[226,372.5,5.5,96.6,null,26.4,null,126,null,null,null,0,null,null,56.5,null,null,null,null,0,0,0,0,0,null,null,null,3295496,1138479]
[227,286.5,0,55.2,null,23.3,null,73,null,null,null,0,null,null,136.5,null,null,null,null,0,0,0,0,0,null,null,null,2552552,820208]
[229,21581.200000000001,0,4743.7,null,1241.7,null,1263,null,null,null,96.5,null,null,4677,null,null,null,null,0,25.3,0,0.2,0,null,null,null,150793376,48519957]
[230,2492.5,7,485.5,null,7.9,null,461,null,null,null,0,null,null,1226,null,null,null,null,775,80,400,118,0,null,null,null,25697548,5261457]
[231,5448.7,9,995.6,null,285.5,null,1360,null,null,null,678.1,null,null,1136,null,null,null,null,0,0,0,0,1,null,null,null,43922033,11075000]
[232,6716.8,12,1761.4,null,873.8,null,612,null,null,null,0,null,null,1909,null,null,null,null,0,0,0,0,0,null,null,null,48987943,13812173]
[233,27808.799999999999,30,5590.1,null,6619.8,null,6115,null,null,null,625.79999999999995,null,null,5041,null,null,null,null,0,0,0,0,0,null,null,null,225851799,64120804]
[234,1799.6,18,309.8,null,23.6,null,991,null,null,null,0,null,null,561,null,null,null,null,0,0,0,0,0,null,null,null,15359299,3607179]
[235,420.5,6.5,134,null,0,null,213,null,null,null,0,null,null,300,null,null,null,null,0,0,0,0,0,null,null,null,4923025,1246690]
[237,369.5,0,177.1,null,0,null,143,null,null,null,0,null,null,131,null,null,null,null,0,0,0,0,0,null,null,null,3886344,1211171]
[239,601.4,0,102.3,null,0,null,193,null,null,null,0,null,null,184,null,null,null,null,0,0,0,1,0,null,null,null,5908662,1698503]
[240,562.70000000000005,11,133.80000000000001,null,0,null,203,null,null,null,0,null,null,184,null,null,null,null,0,0,0,0,0,null,null,null,5666490,1632260]
[241,173,0,0.3,null,0,null,41,null,null,null,0,null,null,48,null,null,null,null,0,0,0,0,0,null,null,null,1837012,566166]
[242,92.5,0,0,null,13.6,null,34,null,null,null,0,null,null,30,null,null,null,null,0,0,0,0,0,null,null,null,1043663,357775]
[243,414.7,0,174.3,null,0,null,133,null,null,null,0,null,null,121,null,null,null,null,0,0,0,0,0,null,null,null,4632239,1280739]
[244,815.5,5.5,281.39999999999998,null,2.1,null,237,null,null,null,0,null,null,222,null,null,null,null,0,0,0,0,0,null,null,null,8001786,2081264]
[245,206.5,0,84.6,null,0,null,75,null,null,null,0,null,null,111.5,null,null,null,null,0,0,0,0,0,null,null,null,2140352,695103]
[246,453,4.5,2.9,null,0,null,307,null,null,null,0,null,null,211,null,null,null,null,9,0,21,0,0,null,null,null,5499639,1383416]
[247,504.6,8,415.9,null,0,null,269,null,null,null,0,null,null,342.5,null,null,null,null,0,0,0,0,0,null,null,null,6573376,1684619]
[248,979.7,7,341.9,null,31.3,null,430,null,null,null,0,null,null,343,null,null,null,null,7,0,0,0,0,null,null,null,9279350,2335075]
[249,865,6,202.8,null,8.5,null,319,null,null,null,0,null,null,102,null,null,null,null,3,0,10,0,0,null,null,null,8219040,2034196]
[250,2876.9,20,346.7,null,912,null,1647,null,null,null,0,null,null,451.7,null,null,null,null,34,1.2,70,33,0,null,null,null,25209177,6364720]
[251,415,0,139.69999999999999,null,0,null,183,null,null,null,0,null,null,255,null,null,null,null,0,0,0,0,0,null,null,null,3840018,1211303]
[252,488.5,6.5,164.1,null,0,null,174,null,null,null,0,null,null,205,null,null,null,null,0,0,0,0,0,null,null,null,4848008,1350252]
[253,4327.7,61.5,733,null,5379.4,null,2327,null,null,null,0,null,null,1613,null,null,null,null,2,0,0,0,1,null,null,null,38399068,9558122]
[254,437.5,5,61.9,null,1.9,null,147,null,null,null,0,null,null,135,null,null,null,null,0,0,0,0,0,null,null,null,3889552,1207674]
[255,223.5,0,87.7,null,4.5,null,72,null,null,null,0,null,null,54,null,null,null,null,0,0,0,0,0,null,null,null,2223343,687767]
[256,272.5,4,98.1,null,0,null,132,null,null,null,0,null,null,122,null,null,null,null,0,0,0,0,0,null,null,null,3193073,848640]
[257,1221.5,11.5,250,null,0,null,684,null,null,null,0,null,null,305,null,null,null,null,26,1.2,6,2,0,null,null,null,12495893,3150882]
[258,584,5.5,287.2,null,1.3,null,237,null,null,null,0,null,null,89,null,null,null,null,76,0.9,1092,182,0,null,null,null,6916764,1515110]
[259,46279.8,973,9660.7000000000007,null,38111.1,null,33440,null,null,null,242.7,null,null,14457,null,null,null,null,235,2.4,1000,229,3,null,null,null,426884492,111369465]
[260,6441.7,26,1343,null,1450.9,null,2556,null,null,null,1259.5,null,null,1575,null,null,null,null,13,0,1,0.4,1,null,null,null,48657123,12767588]
[261,5168.8999999999996,73,1104.8,null,289.60000000000002,null,2544,null,null,null,0,null,null,2056,null,null,null,null,0,0,0,0,0,null,null,null,45248827,11069181]
[262,2665.8,17,621.6,null,156.19999999999999,null,952,null,null,null,0,null,null,1438,null,null,null,null,23,2.8,90,42,0,null,null,null,20980421,5297870]
[263,1678.5,15,456.4,null,12.4,null,552,null,null,null,53.1,null,null,432,null,null,null,null,0,0,40,24,1,null,null,null,12447834,3411536]
[264,1078,5,59.4,null,0,null,273,null,null,null,0,null,null,473,null,null,null,null,0,0,60,48,0,null,null,null,9685933,2471795]
[265,5284.3,29,1639,null,645,null,1041,null,null,null,0,null,null,3631,null,null,null,null,13,6.1,10,1,0,null,null,null,40565000,10178501]
[266,6524.5,18,1745.1,null,122.2,null,1080,null,null,null,0,null,null,4329.5,null,null,null,null,302,38.5,0,0,0,null,null,null,49777690,12502460]
[267,1827,0,674.1,null,0,null,206,null,null,null,0,null,null,737,null,null,null,null,0,0,0,0,0,null,null,null,13705147,3900441]
[268,729.6,10,162.4,null,0,null,181,null,null,null,180,null,null,192,null,null,null,null,0,0,0,0,1,null,null,null,7313897,1761337]
[269,105,0.5,31.1,null,0,null,41,null,null,null,0,null,null,86,null,null,null,null,0,0,0,0,0,null,null,null,1363315,375105]
[270,335.9,0,173.6,null,0,null,92,null,null,null,0,null,null,44.4,null,null,null,null,0,0,0,0,0,null,null,null,3205813,962024]
[271,298,4,95.5,null,0,null,138,null,null,null,0,null,null,70,null,null,null,null,0,0,0,0,0,null,null,null,2758751,834528]
[272,294.5,4,112.6,null,0,null,107,null,null,null,0,null,null,158,null,null,null,null,0,0,0,0,0,null,null,null,2939970,868923]
[273,754.5,13,249.2,null,37.799999999999997,null,237,null,null,null,0,null,null,160,null,null,null,null,0,0,0,0,0,null,null,null,7285334,1868516]
[274,387.8,0,74,null,0,null,162,null,null,null,0,null,null,64.099999999999994,null,null,null,null,0,0,0,0,0,null,null,null,3170187,1021941]
[275,69.5,0,0,null,0,null,25,null,null,null,0,null,null,29,null,null,null,null,0,0,0,0,0,null,null,null,930866,323981]
[281,360.5,0,109.4,null,0,null,133,null,null,null,0,null,null,103,null,null,null,null,0,0,0,0,0,null,null,null,3096972,1005053]
[282,326.5,3.5,112.3,null,0,null,157,null,null,null,0,null,null,176,null,null,null,null,5,0,12,3,0,null,null,null,3995210,1034400]
[283,107,1,55.6,null,0,null,74,null,null,null,0,null,null,41,null,null,null,null,4,0,40,1,0,null,null,null,2040141,530290]
[284,341.5,0,96.4,null,0,null,99,null,null,null,0,null,null,186,null,null,null,null,0,0,0,0,0,null,null,null,3186310,1015472]
[285,172,0,0,null,0,null,101,null,null,null,0,null,null,27.5,null,null,null,null,0,0,0,0,0,null,null,null,1966446,360829]
[286,361.4,3.5,57.6,null,0,null,195,null,null,null,0,null,null,134.5,null,null,null,null,4,0,0,0,0,null,null,null,3782469,873225]
[287,566.5,0,290.5,null,0,null,278,null,null,null,0,null,null,411,null,null,null,null,0,0,0,0,0,null,null,null,6149581,1694000]
[288,533,5,300.10000000000002,null,2.2000000000000002,null,281,null,null,null,10.4,null,null,448,null,null,null,null,0,0,0,0,1,null,null,null,6007229,1592996]
[289,753,0,210.3,null,0,null,199,null,null,null,0,null,null,226.5,null,null,null,null,0,0,0,0,1,null,null,null,6743680,1833608]
[290,2301.5,18,630.9,null,12.9,null,1186,null,null,null,0,null,null,700,null,null,null,null,25,3.5,0.5,0,1,null,null,null,20243809,5069420]
[291,85.5,0,15.7,null,0,null,24,null,null,null,0,null,null,35,null,null,null,null,0,0,0,0,0,null,null,null,991850,212672]
[292,102,0,21.3,null,0,null,30,null,null,null,0,null,null,63.5,null,null,null,null,0,0,0,0,0,null,null,null,1261162,405823]
[293,269,3,43.1,null,23.1,null,69,null,null,null,0,null,null,73,null,null,null,null,0,0,0,0,0,null,null,null,2960322,860964]
[294,311,0,56.7,null,0,null,108,null,null,null,0,null,null,71.5,null,null,null,null,0,0,0,0,1,null,null,null,3021016,904293]
[297,270,0,46.7,null,35.4,null,84,null,null,null,0,null,null,64,null,null,null,null,0,0,0,0,0,null,null,null,2588959,749559]
[298,339.5,7.5,57.5,null,15.5,null,154,null,null,null,0,null,null,129,null,null,null,null,0,0,0,0,0,null,null,null,3723548,996229]
[299,225.8,3,35.5,null,0,null,77,null,null,null,0,null,null,159.5,null,null,null,null,0,0,0,0,0,null,null,null,2361105,553819]
[300,313,0,72.599999999999994,null,0,null,90,null,null,null,0,null,null,209.5,null,null,null,null,0,0,0,0,0,null,null,null,2966733,936283]
[303,281.10000000000002,0,118.2,null,88.4,null,102,null,null,null,0,null,null,31.6,null,null,null,null,0,0,0,0,0,null,null,null,2466440,771787]
[305,6895.8,30,851.3,null,1674.1,null,3612,null,null,null,0,null,null,1091,null,null,null,null,0,2.6,225,59,2,null,null,null,58875408,15002490]
[306,670.5,0,165.5,null,0,null,95,null,null,null,0,null,null,449,null,null,null,null,0,0,0,0,0,null,null,null,5841561,1717612]
[307,445.5,0,149.4,null,28.5,null,105,null,null,null,0,null,null,218,null,null,null,null,3,0,0,0,0,null,null,null,4908825,1233338]
[308,4695.2,28,1527.2,null,717.7,null,2772,null,null,null,0,null,null,10,null,null,null,null,0,0,10,5,0,null,null,null,41629123,10287770]
[309,1068.5999999999999,7,290,null,90.4,null,508,null,null,null,0,null,null,483.5,null,null,null,null,0,3.4,2,3,0,null,null,null,10204711,2769732]
[310,287,0,101.3,null,27,null,160,null,null,null,0,null,null,286,null,null,null,null,0,0,0,0,0,null,null,null,2993646,930708]
[311,251.5,0,88.7,null,0,null,53,null,null,null,0,null,null,106,null,null,null,null,0,0,0,0,0,null,null,null,2868653,765242]
[312,784.5,4.5,386.8,null,166.4,null,282,null,null,null,0,null,null,445,null,null,null,null,62,0,21,9,0,null,null,null,8051039,2248779]
[313,2161.8000000000002,23.5,754.6,null,64.5,null,655,null,null,null,662,null,null,1070,null,null,null,null,0,0,0,0,0,null,null,null,16646505,4617490]
[314,125.5,0,0,null,0,null,40,null,null,null,0,null,null,31,null,null,null,null,0,0,0,0,0,null,null,null,1217937,344544]
[315,876.3,0,274.5,null,82,null,286,null,null,null,0,null,null,182,null,null,null,null,1,0,19,3.8,0,null,null,null,7451949,2176376]
[316,179.6,3,9.4,null,82,null,84,null,null,null,0,null,null,93,null,null,null,null,0,0,0,0,0,null,null,null,2273112,661429]
[320,1470.1,0,270.7,null,24,null,317,null,null,null,0,null,null,418,null,null,null,null,0,0,0,0,0,null,null,null,11805967,3002851]
[321,1101,11.5,304.2,null,0,null,322,null,null,null,0,null,null,429,null,null,null,null,0,0,0,0,0,null,null,null,8837520,2634833]
[322,288,0,37.9,null,0,null,84,null,null,null,0,null,null,134,null,null,null,null,0,0,0,0,0,null,null,null,3046517,840540]
[323,944.1,0,229.2,null,14.8,null,218,null,null,null,231.7,null,null,626.5,null,null,null,null,0,0,0,0,0,null,null,null,8116720,1999750]
[325,605,0,111.6,null,0,null,187,null,null,null,0,null,null,119,null,null,null,null,0,0,0,0,0,null,null,null,5808259,1525889]
[326,144,3,61.9,null,0,null,52,null,null,null,0,null,null,58.5,null,null,null,null,0,0,0,0,0,null,null,null,1827716,565637]
[327,602.6,0,114.8,null,0,null,173,null,null,null,0,null,null,241,null,null,null,null,0,0,0,0,0,null,null,null,5383834,1481000]
[329,422.4,0,151.1,null,0,null,96,null,null,null,0,null,null,261.5,null,null,null,null,0,0,0,0,0,null,null,null,4373691,1269535]
[330,462,0,245.6,null,0,null,131,null,null,null,0,null,null,385.5,null,null,null,null,0,0.2,0,0,0,null,null,null,4902939,1364541]
[331,898.5,0,344.4,null,0,null,366,null,null,null,0,null,null,256,null,null,null,null,17,0,70,23,0,null,null,null,8502000,2349718]
[332,145.5,0,0,null,0,null,43,null,null,null,0,null,null,62,null,null,null,null,0,0,0,0,0,null,null,null,1759839,537156]
[333,994.2,13.5,277.89999999999998,null,4.4000000000000004,null,384,null,null,null,80,null,null,201,null,null,null,null,0,0,0,0,0,null,null,null,9305234,2393007]
[334,182,0,40.700000000000003,null,0,null,112,null,null,null,0,null,null,31,null,null,null,null,2,0,40,27,0,null,null,null,2511683,713212]
[335,361.5,0,107.3,null,0,null,116,null,null,null,0,null,null,279.5,null,null,null,null,0,0,0,0,1,null,null,null,3958707,1035405]
[336,1025.5,0,321.8,null,59.5,null,374,null,null,null,0,null,null,371,null,null,null,null,7,0,200,53,1,null,null,null,11181761,2554123]
[337,811.1,0,186.8,null,0,null,333,null,null,null,0,null,null,584.5,null,null,null,null,0,0,8,0,0,null,null,null,9185775,2287502]
[338,358.5,5,60.9,null,0,null,128,null,null,null,0,null,null,115,null,null,null,null,0,0,0,0,0,null,null,null,4161829,1056443]
[339,419.5,5,82.3,null,0,null,105,null,null,null,6.3,null,null,209,null,null,null,null,0,0,0,0,0,null,null,null,4563529,1171469]
[340,835,0,183.1,null,0,null,177,null,null,null,0,null,null,501,null,null,null,null,0,0.7,0,0,1,null,null,null,7884862,2035421]
[341,528.79999999999995,15,75.8,null,0,null,245,null,null,null,0,null,null,322,null,null,null,null,0,0,0,0,1,null,null,null,6110334,1565231]
[342,451.1,4.5,94.3,null,0,null,169,null,null,null,0,null,null,232,null,null,null,null,0,0,0,0,0,null,null,null,4940931,1340050]
[343,736,7.5,121,null,1.6,null,223,null,null,null,0,null,null,503,null,null,null,null,0,0,0,0,0,null,null,null,7275402,2024282]
[344,333,5.5,66.599999999999994,null,0,null,177,null,null,null,0,null,null,61,null,null,null,null,0,0,0,0,0,null,null,null,3983313,987719]
[345,3622.1,15,774.1,null,56,null,1121,null,null,null,543.4,null,null,1712,null,null,null,null,0,1.5,70.5,19,0,null,null,null,29207434,7475889]
[346,530.4,8,179.1,null,1,null,280,null,null,null,338.1,null,null,336,null,null,null,null,3,0.7,3,0,0,null,null,null,5570089,1534596]
[347,319,5.5,159.4,null,306.60000000000002,null,145,null,null,null,173.9,null,null,163.5,null,null,null,null,0,0,0,0,0,null,null,null,3778560,1032998]
[348,1298.7,15,238.6,null,4,null,357,null,null,null,0,null,null,490.5,null,null,null,null,0,0,0,0,0,null,null,null,10697302,2824943]
[349,244.4,0,153.30000000000001,null,46.6,null,111,null,null,null,0,null,null,20.5,null,null,null,null,0,0,0,0,0,null,null,null,2633817,740990]
[350,331.5,0,139.30000000000001,null,151.80000000000001,null,135,null,null,null,0,null,null,50,null,null,null,null,0,0,0,0,0,null,null,null,3052926,981774]
[351,212.5,2.5,18.8,null,302.8,null,93,null,null,null,0,null,null,64,null,null,null,null,0,0,0,0,0,null,null,null,2610945,803447]
[352,870,0,225.9,null,372.2,null,338,null,null,null,128,null,null,145,null,null,null,null,12,0,0,13,1,null,null,null,8783752,2408048]
[353,1537,8,426.4,null,7.3,null,744,null,null,null,0,null,null,181,null,null,null,null,0,0,0,0,0,null,null,null,13870620,3471792]
[355,423.4,0,135.9,null,0,null,178,null,null,null,0,null,null,69.599999999999994,null,null,null,null,0,0,0,0,0,null,null,null,3798668,1091193]
[356,476.2,0,135.80000000000001,null,0,null,142,null,null,null,0,null,null,160.4,null,null,null,null,0,0,0,0,0,null,null,null,4878536,1248630]
[357,577,7,82,null,0,null,107,null,null,null,0,null,null,191.5,null,null,null,null,1,0,100,27.8,0,null,null,null,6337020,1588804]
[358,287.5,2.5,75.400000000000006,null,0,null,115,null,null,null,0,null,null,111,null,null,null,null,55,0.6,0,87,0,null,null,null,3998962,925000]
[359,155,2,67.8,null,0,null,54,null,null,null,0,null,null,47.5,null,null,null,null,0,0,0,0,0,null,null,null,1846737,510140]
[360,222,4,72.099999999999994,null,0,null,102,null,null,null,0,null,null,42,null,null,null,null,2,0,15,6,1,null,null,null,2705457,772000]
[361,785.5,12,86.6,null,95,null,439,null,null,null,0,null,null,341,null,null,null,null,0,0,70,18,0,null,null,null,6978382,2254448]
[362,856.9,0,200.1,null,6.4,null,350,null,null,null,102.5,null,null,643,null,null,null,null,0,0,0,0,0,null,null,null,8195719,2459649]
[363,946.5,16,147,null,675,null,467,null,null,null,0,null,null,98,null,null,null,null,1,1.8,0,22,0,null,null,null,7160331,2150000]
[364,688,5.5,315.39999999999998,null,0,null,223,null,null,null,0,null,null,203.7,null,null,null,null,0,0,0,0,0,null,null,null,5947721,1803805]
[365,990,0,201.5,null,0,null,365,null,null,null,0,null,null,356,null,null,null,null,0,0,0,0,0,null,null,null,9062160,2484409]
[366,424,8.5,57.5,null,0,null,229,null,null,null,0,null,null,163,null,null,null,null,0,0,0,0,0,null,null,null,4491284,1261137]
[367,1124,6.5,246.1,null,0,null,634,null,null,null,31.5,null,null,206,null,null,null,null,0,0,0,0,0,null,null,null,11982484,3027917]
[368,1941,0,422.8,null,13.6,null,553,null,null,null,0,null,null,818.1,null,null,null,null,0,0,0,0,1,null,null,null,15657287,4307408]
[369,237,5,68.7,null,1.7,null,126,null,null,null,0,null,null,40,null,null,null,null,0,0,0,0,0,null,null,null,2433635,696502]
[371,206.7,3.5,52.9,null,260.3,null,65,null,null,null,0,null,null,91,null,null,null,null,10,0,20,31,0,null,null,null,2498811,691455]
[372,655.6,7,88.7,null,1.3,null,103,null,null,null,0,null,null,293,null,null,null,null,0,0,0,0,0,null,null,null,6287367,1592469]
[373,3294,28,735.5,null,515.4,null,1573,null,null,null,0,null,null,347,null,null,null,null,3,6.4,6,1,0,null,null,null,27812879,6911599]
[374,432.7,8,14,null,860.6,null,252,null,null,null,0,null,null,88,null,null,null,null,0,0,0,0,0,null,null,null,4627900,1352892]
[375,1861.9,0,586.9,null,6.8,null,390,null,null,null,567.20000000000005,null,null,719,null,null,null,null,16,4.2,115,40,0,null,null,null,12797457,3556907]
[376,504.5,6.5,244.4,null,7.6,null,168,null,null,null,0,null,null,125.5,null,null,null,null,0,0,0,0,0,null,null,null,5152685,1337550]
[377,550,3,100.1,null,0,null,253,null,null,null,0,null,null,354,null,null,null,null,5,0,0,0,0,null,null,null,5803507,1687938]
[378,671.4,0,172.3,null,0,null,155,null,null,null,0,null,null,420,null,null,null,null,0,0,0,0,0,null,null,null,6289057,1679444]
[379,1312.3,0,439.6,null,15.9,null,411,null,null,null,0,null,null,405,null,null,null,null,7,4.0999999999999996,30,3,0,null,null,null,11437444,2880460]
[380,521,9,118.6,null,0,null,110,null,null,null,0,null,null,287,null,null,null,null,0,0,0,0,0,null,null,null,4955582,1314991]
[381,342.5,0,123.4,null,14.8,null,93,null,null,null,15,null,null,54,null,null,null,null,0,0,0,0,0,null,null,null,3100817,884315]
[382,1027.5,11.5,320.7,null,315.3,null,475,null,null,null,0,null,null,134,null,null,null,null,3,0.9,256,107,0,null,null,null,10514679,2610764]
[383,5819,22.5,832.3,null,982.9,null,1900,null,null,null,0,null,null,2731,null,null,null,null,118,23.1,0,4,1,null,null,null,43268562,13254291]
[384,178.7,3.5,55.5,null,0,null,30,null,null,null,0,null,null,119.5,null,null,null,null,0,0,0,0,0,null,null,null,1999954,671635]
[385,4941.7,22.5,832.2,null,390.6,null,652,null,null,null,0,null,null,1579,null,null,null,null,328,302.7,92,39.4,0,null,null,null,39278481,9253425]
[386,220.5,1.5,51,null,0,null,91,null,null,null,0,null,null,64,null,null,null,null,0,0,0,0,0,null,null,null,2591191,664000]
[387,178.5,2.5,5.3,null,0,null,107,null,null,null,0,null,null,111,null,null,null,null,0,0,0,0,0,null,null,null,2248640,605830]
[388,418.4,0,169.9,null,0,null,102,null,null,null,0,null,null,37,null,null,null,null,0,0,0,0,0,null,null,null,3414300,846000]
[389,596,10.5,76.3,null,0,null,325,null,null,null,0,null,null,186,null,null,null,null,0,0,0,0,0,null,null,null,6691172,1724538]
[390,75.5,1,0,null,0,null,52,null,null,null,0,null,null,25,null,null,null,null,0,0,0,0,0,null,null,null,1101321,288957]
[392,274.60000000000002,0,38.299999999999997,null,0,null,115,null,null,null,0,null,null,68,null,null,null,null,0,0,0,0,0,null,null,null,2887615,845508]
[393,302.60000000000002,0,161.6,null,0,null,116,null,null,null,0,null,null,83,null,null,null,null,0,0,0,0,0,null,null,null,3095427,875358]
[394,1523,12,394.4,null,63.1,null,378,null,null,null,0,null,null,593,null,null,null,null,23,0,96,35,0,null,null,null,12542612,3214300]
[395,281.5,0,115.9,null,0,null,108,null,null,null,0,null,null,91,null,null,null,null,0,0,0,0,0,null,null,null,2733414,790000]
[396,649.1,6,288.89999999999998,null,9.6,null,212,null,null,null,0,null,null,198,null,null,null,null,6,0.7,50,24,0,null,null,null,6805617,1827614]
[397,207.5,0,106.8,null,0,null,64,null,null,null,0,null,null,166,null,null,null,null,60,1,200,209,0,null,null,null,3464475,764141]
[398,239,3.5,122.2,null,0,null,105,null,null,null,0,null,null,75,null,null,null,null,2,0.9,0,0,0,null,null,null,2792665,906437]
[399,110,3.5,43,null,4.3,null,52,null,null,null,0,null,null,35,null,null,null,null,0,0,0,0,0,null,null,null,1414436,446473]
[400,836.1,12,256.39999999999998,null,9.3000000000000007,null,236,null,null,null,0,null,null,318,null,null,null,null,43,132.5,49.5,13,0,null,null,null,9445438,2331628]
[401,158,4,60.3,null,1.5,null,111,null,null,null,0,null,null,42,null,null,null,null,0,0,0,0,0,null,null,null,1832855,579066]
[402,2077.6999999999998,15,738.3,null,46.1,null,771,null,null,null,0,null,null,401.1,null,null,null,null,1,0.6,50,19.600000000000001,0,null,null,null,16959176,4265279]
[403,216.3,0,0,null,0,null,95,null,null,null,0,null,null,103,null,null,null,null,7,5.8,18,3,0,null,null,null,2410760,685444]
[404,705.5,6,324.2,null,0,null,308,null,null,null,0,null,null,265,null,null,null,null,4,0,10,0,0,null,null,null,7336038,1863621]
[405,768,21.5,222.1,null,641.70000000000005,null,472,null,null,null,173,null,null,68.5,null,null,null,null,0,0,0,0,0,null,null,null,8602441,2053522]
[407,792.5,0,107.9,null,0,null,332,null,null,null,0,null,null,117,null,null,null,null,0,0,0,0,0,null,null,null,6255228,2111500]
[408,498,0,205.5,null,0,null,158,null,null,null,0,null,null,168,null,null,null,null,4,0,5,0,0,null,null,null,4983778,1349977]
[409,1607.8,19,146.6,null,0.8,null,967,null,null,null,101,null,null,222,null,null,null,null,0,0,0,0,0,null,null,null,14199851,3578462]
[410,523.4,1.5,354.6,null,2,null,138,null,null,null,0,null,null,145,null,null,null,null,2,0.4,12,3,0,null,null,null,5508538,1564426]
[411,266,0,103.7,null,0,null,62,null,null,null,26.1,null,null,105.5,null,null,null,null,0,0,0,0,0,null,null,null,3062265,815000]
[412,355.3,0,57.1,null,0,null,86,null,null,null,0,null,null,102.5,null,null,null,null,0,0,0,0,1,null,null,null,2866273,887978]
[413,1737,14,478.4,null,129.30000000000001,null,944,null,null,null,0,null,null,562,null,null,null,null,1,0.6,16,9,0,null,null,null,16153820,4090402]
[415,852,0,209.9,null,0,null,394,null,null,null,0,null,null,257,null,null,null,null,0,0,0,0,3,null,null,null,7259255,2143811]
[416,1663.4,0,411.1,null,61,null,353,null,null,null,0,null,null,689,null,null,null,null,7,0,10,3,0,null,null,null,11837765,3528496]
[417,708.7,7.5,234.3,null,48.6,null,249,null,null,null,0,null,null,258,null,null,null,null,0,0,0,0,0,null,null,null,6004179,1782072]
[418,2299.4,9,609.20000000000005,null,78.400000000000006,null,725,null,null,null,0,null,null,142,null,null,null,null,0,0,0,0,0,null,null,null,17468945,5028614]
[419,357,4.5,118.4,null,0,null,133,null,null,null,87.3,null,null,209,null,null,null,null,0,0,0,0,0,null,null,null,3642421,1151022]
[420,636.5,0,90.6,null,0,null,282,null,null,null,11.9,null,null,71.5,null,null,null,null,7,0,10,1,0,null,null,null,6168566,1623808]
[421,396.5,0,44.5,null,0,null,114,null,null,null,0,null,null,176,null,null,null,null,0,0,0,0,0,null,null,null,4236054,1111848]
[422,231,0,64.599999999999994,null,0,null,76,null,null,null,0,null,null,85,null,null,null,null,89,8.1999999999999993,75,99,0,null,null,null,3896359,711197]
[423,380.7,5,79.099999999999994,null,2.1,null,98,null,null,null,0,null,null,88,null,null,null,null,0,0,0,0,0,null,null,null,3490589,1153795]
[426,211.5,0,60.3,null,1,null,93,null,null,null,0,null,null,93,null,null,null,null,0,0,0,0,0,null,null,null,2310823,686149]
[428,2890.5,16,639.1,null,2418.5,null,1748,null,null,null,0,null,null,195,null,null,null,null,0,0,0,0,0,null,null,null,25801720,6499570]
[429,326,0,103.1,null,0,null,102,null,null,null,0,null,null,85,null,null,null,null,0,0,0,0,0,null,null,null,3118528,846088]
[430,548,0,141.1,null,43.7,null,342,null,null,null,0,null,null,304,null,null,null,null,0,0,0,0,0,null,null,null,6449375,1680979]
[431,693.5,11,370.8,null,3.2,null,292,null,null,null,0,null,null,90,null,null,null,null,0,0,0,0,0,null,null,null,6415855,1743769]
[432,286.5,0,180.7,null,0,null,60,null,null,null,0,null,null,65,null,null,null,null,0,0,0,0,1,null,null,null,2327093,739614]
[434,965.7,10.5,0.4,null,0,null,408,null,null,null,13.3,null,null,757.5,null,null,null,null,5,0,30,11,0,null,null,null,9914700,2562170]
[435,1524.8,0,637.70000000000005,null,41.5,null,591,null,null,null,97.7,null,null,270.89999999999998,null,null,null,null,5,4.8,20,20,0,null,null,null,12265159,3137115]
[436,735,6.5,157.9,null,7.3,null,307,null,null,null,0,null,null,339,null,null,null,null,4,0,0,1,0,null,null,null,6841149,1653300]
[437,5983.5,31.5,1415.1,null,237.8,null,1586,null,null,null,0,null,null,3373.5,null,null,null,null,0,0,0,0,0,null,null,null,42302452,11614736]
[438,394.5,0,133.19999999999999,null,13.3,null,76,null,null,null,0,null,null,141,null,null,null,null,0,0,0,0,0,null,null,null,3777974,1080330]
[439,460.5,0,212.5,null,0,null,128,null,null,null,0,null,null,62,null,null,null,null,0,0,0,0,0,null,null,null,4868189,1138034]
[440,720.5,9,330.9,null,41.6,null,265,null,null,null,0,null,null,338,null,null,null,null,0,0,0,0,0,null,null,null,7109240,1883765]
[443,6415,79,1728.8,null,13918.8,null,4972,null,null,null,0,null,null,2615.1999999999998,null,null,null,null,2,4.5,30,34,0,null,null,null,64559187,16008101]
[444,311,3.5,29.2,null,2,null,66,null,null,null,0,null,null,170.5,null,null,null,null,0,0,0,0,0,null,null,null,2921990,911216]
[445,1631.4,28,377.1,null,419.7,null,1163,null,null,null,0,null,null,388,null,null,null,null,2,0,0,0,0,null,null,null,13716688,3946454]
[446,1920.9,14,321.10000000000002,null,63.2,null,1093,null,null,null,0,null,null,458,null,null,null,null,0,0,0,0,0,null,null,null,15759777,4108647]
[447,771.7,12,167.3,null,0,null,442,null,null,null,0,null,null,125.5,null,null,null,null,21,0.4,285,95,0,null,null,null,8250304,2013841]
[448,410.3,7.5,316.60000000000002,null,0,null,98,null,null,null,56.5,null,null,108,null,null,null,null,0,0,0,0,0,null,null,null,3876273,1196840]
[449,599.6,0,218.1,null,0,null,150,null,null,null,0,null,null,345.9,null,null,null,null,0,0,0,0,0,null,null,null,6286447,1687280]
[450,3428,0,512.5,null,152.30000000000001,null,1025,null,null,null,0,null,null,2628,null,null,null,null,0,2,53,14,1,null,null,null,27356885,6967765]
[452,430.2,0,164,null,663.9,null,209,null,null,null,0,null,null,135,null,null,null,null,0,0,0,0,0,null,null,null,3817367,1212863]
[453,3465.5,52.5,660.7,null,94.5,null,2062,null,null,null,0,null,null,604,null,null,null,null,75,9.3000000000000007,0,0,0,null,null,null,31923239,7894175]
[454,293,6,85.2,null,0.5,null,112,null,null,null,0,null,null,55,null,null,null,null,0,0,0,0,0,null,null,null,3216913,812000]
[456,233.5,0,85.3,null,0,null,132,null,null,null,0,null,null,122,null,null,null,null,0,0.9,1,0.3,0,null,null,null,3071617,670000]
[457,7144,98.5,2017.2,null,9734.2999999999993,null,4578,null,null,null,0,null,null,2349,null,null,null,null,29,10.3,0,44.5,0,null,null,null,63728307,16000000]
[458,2156.9,0,499.3,null,49.4,null,344,null,null,null,0,null,null,1211,null,null,null,null,170,9.5,120,41,0,null,null,null,16115127,3882569]
[459,217.3,4.5,34.9,null,5.9,null,103,null,null,null,0,null,null,77,null,null,null,null,0,0,0,0,0,null,null,null,2227105,670000]
[460,774.1,0,242.9,null,69.2,null,146,null,null,null,0,null,null,80.5,null,null,null,null,0,0,0,0,0,null,null,null,6863572,1954110]
[461,692,10,196.1,null,0,null,315,null,null,null,0,null,null,111,null,null,null,null,0,0,0,0,0,null,null,null,6716066,1891821]
[462,284.7,0,107.6,null,0,null,140,null,null,null,0,null,null,122,null,null,null,null,0,0,0,0,0,null,null,null,3508312,907277]
[463,331.7,0,138.4,null,0,null,111,null,null,null,0,null,null,129,null,null,null,null,0,0,0,0,0,null,null,null,3496843,928029]
[464,1897.4,0,0.8,null,0,null,496,null,null,null,823.5,null,null,861,null,null,null,null,0,0,0,0,1,null,null,null,15098107,3684608]
[465,2142.6,21.5,547.5,null,120.6,null,1081,null,null,null,0,null,null,581,null,null,null,null,0,0,0,0,0,null,null,null,19650099,4821269]
[466,910,11.5,221.8,null,649.9,null,345,null,null,null,0,null,null,140,null,null,null,null,14,0,0,21,1,null,null,null,6932394,2096672]
[467,382,4.5,57.6,null,723.5,null,185,null,null,null,0,null,null,77,null,null,null,null,0,0,0,0,0,null,null,null,3767417,1141740]
[468,69,0,0.4,null,11.8,null,34,null,null,null,0,null,null,6,null,null,null,null,0,0,0,0,0,null,null,null,916602,306623]
[469,2564,0,358.7,null,64.7,null,566,null,null,null,928.5,null,null,710,null,null,null,null,0,0,50,36,0,null,null,null,20609139,4884132]
[470,2659.6,36.5,747.5,null,1114.8,null,1669,null,null,null,0,null,null,786,null,null,null,null,0,0,0,0,0,null,null,null,25787164,6281908]
[471,141.5,0,0,null,0,null,69,null,null,null,0,null,null,38,null,null,null,null,0,0,0,0,0,null,null,null,1813219,425000]
[473,1034.7,0,280,null,4.8,null,392,null,null,null,0,null,null,455,null,null,null,null,1,0,0,0,0,null,null,null,9152633,2475710]
[474,96,0,16.899999999999999,null,0,null,21,null,null,null,0,null,null,49,null,null,null,null,0,0,0,0,0,null,null,null,1202338,379947]
[475,7271.9,24,848.9,null,1798.8,null,3165,null,null,null,1065,null,null,1758,null,null,null,null,2,2.5,80,23,1,null,null,null,72449705,17546515]
[476,88.5,2,30.8,null,296,null,35,null,null,null,0,null,null,46,null,null,null,null,4,0,10,5,0,null,null,null,1360979,418312]
[477,229,2,0,null,136.19999999999999,null,88,null,null,null,0,null,null,65,null,null,null,null,0,0,0,0,0,null,null,null,2133092,674060]
[479,190,3.5,80.400000000000006,null,0,null,84,null,null,null,0,null,null,79,null,null,null,null,0,0,0,0,0,null,null,null,2343679,534000]
[480,4668,71.5,526.20000000000005,null,10241.6,null,3559,null,null,null,0,null,null,327.60000000000002,null,null,null,null,0,0,0,0,0,null,null,null,42395613,9978000]
[481,294.5,7.5,101.9,null,0,null,135,null,null,null,0,null,null,136,null,null,null,null,0,0,0,0,0,null,null,null,2929878,921368]
[482,213.5,3.5,127.8,null,0,null,72,null,null,null,3,null,null,36,null,null,null,null,0,0,0,0,0,null,null,null,2235390,683897]
[483,667,15,52.1,null,2711.5,null,480,null,null,null,0,null,null,579,null,null,null,null,0,0,0,0,0,null,null,null,7217357,1379609]
[484,630.70000000000005,12,47.7,null,0,null,306,null,null,null,0,null,null,202,null,null,null,null,0,5.6,35,5,0,null,null,null,6156117,1719460]
[487,421.5,6.5,77.3,null,0,null,220,null,null,null,0,null,null,53,null,null,null,null,6,0,0,39,0,null,null,null,4766548,1231439]
[489,2824.4,20,415.2,null,549.29999999999995,null,933,null,null,null,0,null,null,659,null,null,null,null,28,5.5,60,72,1,null,null,null,19373317,5850530]
[490,1836.1,16,504.6,null,17.100000000000001,null,946,null,null,null,391,null,null,622,null,null,null,null,9,0.6,56,26,0,null,null,null,14733144,4168515]
[491,1629.2,0,545,null,12,null,504,null,null,null,0,null,null,172,null,null,null,null,22,2.2999999999999998,20,9,0,null,null,null,12639211,3093344]
[492,250.4,0,79.400000000000006,null,10.8,null,80,null,null,null,0,null,null,141,null,null,null,null,2,0,0,0,0,null,null,null,2808613,759020]
[493,921,12,322.89999999999998,null,0,null,449,null,null,null,0,null,null,342,null,null,null,null,0,0,0,0,0,null,null,null,9412145,2496158]
[494,495,8,178.3,null,677.8,null,286,null,null,null,91,null,null,85.5,null,null,null,null,0,0,0,0,0,null,null,null,4733752,1423018]
[495,840.5,15.5,345,null,24.4,null,378,null,null,null,0,null,null,199,null,null,null,null,0,0,0,0,0,null,null,null,9385795,2307743]
[496,138.5,0,0,null,0.6,null,57,null,null,null,0,null,null,59,null,null,null,null,1,0,30,15,0,null,null,null,1484469,442999]
[497,10250.700000000001,34,2309,null,2600.6999999999998,null,3542,null,null,null,669.6,null,null,2861,null,null,null,null,1077,87.7,81.5,95,3,null,null,null,83287891,23297182]
[498,373.5,1.5,97.8,null,0.8,null,141,null,null,null,0,null,null,228,null,null,null,null,0,0,0,0,0,null,null,null,4300727,1173503]
[499,768.3,9,171.6,null,0,null,463,null,null,null,70.5,null,null,29,null,null,null,null,8,1.5,20,8,0,null,null,null,8512278,2092419]
[500,19989.400000000001,273.5,2530.1999999999998,null,26866.7,null,15693,null,null,null,0,null,null,2743.5,null,null,null,null,42,17.3,400,203,0,null,null,null,203195748,49972534]
[501,12874.1,100,2092.6,null,3014.2,null,9990,null,null,null,0,null,null,1363,null,null,null,null,2,7.2,700,432,0,null,null,null,124893357,30562561]
[502,109.5,3.5,4.2,null,20.7,null,53,null,null,null,0,null,null,58.5,null,null,null,null,0,0,0,0,0,null,null,null,1236337,378223]
[503,1213,12.5,351.2,null,10.5,null,766,null,null,null,0,null,null,34,null,null,null,null,0,0,0,0,0,null,null,null,11291420,2939784]
[504,442,4,35.700000000000003,null,0,null,225,null,null,null,0,null,null,20,null,null,null,null,0,0,0,0,0,null,null,null,4888510,1226392]
[505,424,7,157.5,null,0,null,221,null,null,null,0,null,null,37,null,null,null,null,0,0,50,9,0,null,null,null,4901955,1225972]
[506,1478.2,0,515.20000000000005,null,0,null,661,null,null,null,0,null,null,635,null,null,null,null,0,0,0,0,0,null,null,null,13574812,3375549]
[507,294.5,5,79.5,null,831.1,null,160,null,null,null,0,null,null,61,null,null,null,null,0,0,0,0,0,null,null,null,2651524,912132]
[508,971.5,9.5,273.3,null,13,null,551,null,null,null,306,null,null,96,null,null,null,null,13,0,25,5,0,null,null,null,9698913,2315000]
[509,186.2,1.5,153.6,null,0,null,72,null,null,null,0,null,null,91,null,null,null,null,4,1.8,0,0,0,null,null,null,2390091,659995]
[511,151.5,0,0.5,null,0,null,64,null,null,null,0,null,null,28.5,null,null,null,null,0,0,0,0,0,null,null,null,1625909,481387]
[512,26419.599999999999,52,4668.5,null,7573.2,null,8224,null,null,null,0,null,null,6599,null,null,null,null,0,0,0,0,1,null,null,null,176988467,59788008]

{"sheet":"Audit Values","index":5,"n_rows":287,"n_cols":32,"rows_kept":287,"cut":false,"hidden":true,"merged":[]}
["USD","Total","4 yr AR","CTE Hrs","Blank1","ESOL Hrs","Blank2","AR Head","AR Headcount (Funded)","Non Prof","Blank3","New Fac FTE","Blank4","Blank5","Over 2.5","Under 2.5","Out of Dist","Total Trans","Blank6","Virtual (FT)","Virtual (PT)","Virtual FTE 19 & Over","Virt 2nd","KAMS","Pull Date","Milt","Milt 4 Year","Milt 4 Total","Seq Num","Audit","Adj Enr","Dup Test"]
["D0223",347.4,0,116.3,null,126.8,null,112,104,null,null,0,"",null,142,19.100000000000001,28.9,190,null,0,0,null,null,1,"2015-12-02",null,null,null,1,{"$f":"IF(Z2=\"\", \"A\", \"AM\")","v":"A"},{"$f":"B2-T2-U2-V2","v":347.4},{"$f":"COUNTIF(A:A,#REF!)>1","v":false}]
["D0224",309,2,118.3,null,0,null,88,88,null,null,0,"",null,182,13,24,219,null,0,0,null,null,null,"2015-12-02",null,null,null,{"$f":"IF(Y3=Y2,AC2,AC2+1)","v":1},"A",309,{"$f":"COUNTIF(A:A,A3)>1","v":false}]
["D0256",272.5,4,98.1,null,0,null,132,132,null,null,0,"",null,122,22,63,207,null,0,0,null,null,0,"2015-12-02",null,null,null,1,"A",272.5,false]
["D0285",172,0,0,null,0,null,101,101,null,null,0,"",null,27.5,13,0,40.5,null,0,0,null,null,0,"2015-12-02",null,null,null,1,"A",172,false]
["D0289",753,0,210.3,null,0,null,199,199,null,null,0,"",null,226.5,70.5,18,315,null,0,0,null,null,1,"2015-12-02",null,null,null,1,"A",753,false]
["D0342",451,4,94.3,null,0,null,169,169,null,null,0,"",null,232,21,11,264,null,0,0,null,null,0,"2015-12-02",null,null,null,1,"A",451,false]
["D0431",692.4,10.5,370.8,null,3.2,null,292,290,null,null,0,"",null,90,6,39.5,135.5,null,0,0,null,null,0,"2015-12-02",null,null,null,1,"A",692.4,false]
["D0101",508,5.5,147.9,null,5.5,null,271,271,null,null,0,"",null,314,19,52,385,null,0,0,5,null,0,"2015-12-22",null,null,null,2,{"$f":"IF(Z9=\"\", \"A\", \"AM\")","v":"A"},503,false]
["D0113",1099.2,5.5,370.5,null,3,null,311,311,null,null,0,"",null,392.5,73,90,555.5,null,0,0,0,null,0,"2015-12-22",null,null,null,2,"A",1099.2,false]
["D0237",369.5,0,177.1,null,0,null,143,143,null,null,0,"",null,131,22,13,166,null,0,0,0,null,0,"2015-12-22",null,null,null,2,"A",369.5,false]
["D0246",460.1,4.5,2.9,null,0,null,306,305,null,null,0,"",null,211,86.5,5,302.5,null,9,0,0,null,0,"2015-12-22",null,null,null,2,"A",451.1,false]
["D0249",868.4,6,202.8,null,8.5,null,319,319,null,null,0,"",null,102,98,50,250,null,2,0,null,null,null,"2015-12-22",null,null,null,2,"A",866.4,false]
["D0273",754.5,13,249.2,null,37.799999999999997,null,237,237,null,null,0,"",null,160,31,95.5,286.5,null,0,0,0,null,0,"2015-12-22",null,null,null,2,"A",754.5,false]
["D0322",289.5,0,37.9,null,0,null,84,84,null,null,0,"",null,134,19,4,157,null,0,0,0,null,0,"2015-12-22",null,null,null,2,"A",289.5,false]
["D0327",602.6,0,114.8,null,0,null,174,173,null,null,0,"",null,241,0,0,241,null,0,0,null,null,null,"2015-12-22",null,null,null,2,"A",602.6,false]
["D0330",462.2,0,245.6,null,0,null,131,131,null,null,0,"",null,385.6,11,62,458.6,null,0,0,null,null,null,"2015-12-22",null,null,null,2,"A",462.2,false]
["D0332",145.5,0,0,null,0,null,44,43,null,null,0,"",null,62,5,12.5,79.5,null,0,0,0,null,0,"2015-12-22",null,null,null,2,"A",145.5,false]
["D0338",358.5,4.5,60.9,null,0,null,128,128,null,null,0,"",null,115,51,11,177,null,0,0,0,null,0,"2015-12-22",null,null,null,2,"A",358.5,false]
["D0341",528.79999999999995,15,75.8,null,0,null,245,245,null,null,0,"",null,322,41.5,21.5,385,null,0,0,null,null,null,"2015-12-22",null,null,null,2,"A",528.79999999999995,false]
["D0344",327.5,5.5,66.599999999999994,null,0,null,172,172,null,null,0,"",null,60,0,19,79,null,0,0,0,null,0,"2015-12-22",null,null,null,2,"A",327.5,false]
["D0349",243.4,0,153.30000000000001,null,46.6,null,117,111,null,null,0,"",null,20.5,1,9,30.5,null,0,0,0,null,0,"2015-12-22",null,null,null,2,"A",243.4,false]
["D0353",1534.5,3.5,426.4,null,7.3,null,743,743,null,null,0,"",null,181,3,18,202,null,0,0,0,null,0,"2015-12-22",null,null,null,2,"A",1534.5,false]
["D0364",689.5,4,315.39999999999998,null,0,null,228,223,null,null,0,"",null,203.7,38.5,20.6,262.8,null,0,0,null,null,null,"2015-12-22",null,null,null,2,"A",689.5,false]
["D0404",709,4.5,324.2,null,0,null,308,308,null,null,0,"",null,264,248,21,533,null,4,0,null,null,null,"2015-12-22",null,null,null,2,"A",705,false]
["D0411",266,0,103.7,null,0,null,62,62,null,null,26.7,"",null,105.5,50,20,175.5,null,0,0,null,null,null,"2015-12-22",null,null,null,2,"A",266,false]
["D0419",357.4,4,118.4,null,0,null,133,132,null,null,87.3,"",null,209,12,3,224,null,0,0,null,null,null,"2015-12-22",null,null,null,2,"A",357.4,false]
["D0430",548,0,141.1,null,43.7,null,342,342,null,null,0,"",null,304,24,36,364,null,0,0,0,null,0,"2015-12-22",null,null,null,2,"A",548,false]
["D0493",919,12,322.2,null,0,null,448,448,null,null,0,"",null,342,575,36,953,null,0,0,0,null,0,"2015-12-22",null,null,null,2,"A",919,false]
["D0503",1207,12,346.7,null,10.5,null,780,762,null,null,0,"",null,34,207.5,6,247.5,null,0,0,null,null,0,"2015-12-22",null,null,null,2,{"$f":"IF(Z30=\"\", \"A\", \"AM\")","v":"A"},{"$f":"B30-T30-U30-V30","v":1207},false]
["D0206",508.7,5.5,110.8,null,78.099999999999994,null,153,152,null,null,0,"",null,364.5,0,5,369.5,null,1,0,16,1,1,"2015-12-22",null,null,null,2,{"$f":"IF(Z31=\"\", \"A\", \"AM\")","v":"A"},{"$f":"B31-T31-U31-V31","v":491.7},false]
["D0262",2733.2,17,621.6,null,156.19999999999999,null,953,951,null,null,0,"",null,1438,203,0,1641,null,23,2.8,42,null,null,"2015-12-22",null,null,null,2,"A",2665.4,false]
["D0491",1662.8,0,545,null,12,null,505,504,null,null,0,"",null,171,50,0,221,null,21,3.1,9,0,null,"2015-12-22",null,null,null,2,"A",1629.7,false]
["D0499",783.8,9,171.6,null,0,null,462,462,null,null,48.9,"",null,29,175,8,212,null,8,1.6,7,0,null,"2015-12-22",null,null,null,2,"A",767.2,false]
["D0252",488.5,6.5,164.1,null,0,null,174,174,null,null,0,"",null,205,99,106,410,null,0,0,0,0,null,"2016-01-04",null,null,null,3,{"$f":"IF(Z35=\"\", \"A\", \"AM\")","v":"A"},{"$f":"B35-T35-U35-V35","v":488.5},{"$f":"COUNTIF(A:A,A35)>1","v":false}]
["D0269",104,0.5,31.1,null,0,null,40,40,null,null,0,"",null,86,3,0,89,null,0,0,0,0,null,"2016-01-04",null,null,null,3,"A",104,false]
["D0281",359.8,0,109.4,null,0,null,133,133,null,null,0,"",null,103,0,16,119,null,0,0,0,0,null,"2016-01-04",null,null,null,3,"A",359.8,false]
["D0337",810.1,0,186.8,null,0,null,334,334,null,null,0,"",null,584.5,76,11,671.5,null,0,0,0,0,null,"2016-01-04",null,null,null,3,"A",810.1,false]
["D0339",420,5,82.3,null,0,null,105,105,null,null,8.4,"",null,209,89,67,365,null,0,0,0,0,null,"2016-01-04",null,null,null,3,"A",420,false]
["D0365",988,0,200.6,null,0,null,366,365,null,null,0,"",null,355,64,36,455,null,0,0,0,0,null,"2016-01-04",null,null,null,3,"A",988,false]
["D0367",1119,6.5,246.1,null,0,null,631,631,null,null,38,"",null,206,0,0,206,null,0,0,0,0,null,"2016-01-04",null,null,null,3,"A",1119,false]
["D0392",273.60000000000002,0,38.299999999999997,null,0,null,114,114,null,null,0,"",null,68,11,3,82,null,0,0,0,0,null,"2016-01-04",null,null,null,{"$f":"IF(Y42=Y41,AC41,AC41+1)","v":3},{"$f":"IF(Z42=\"\", \"A\", \"AM\")","v":"A"},{"$f":"B42-T42-U42-V42","v":273.60000000000002},false]
["D0437",5978.6,30,1413.5,null,237.8,null,1586,1584,null,null,0,"",null,3370.5,2143.5,56.5,5570.5,null,2,0.4,0,0,null,"2016-01-04",null,null,null,3,"A",5976.2,false]
["D0479",190,3.5,80.400000000000006,null,0,null,84,84,null,null,0,"",null,79,9,23,111,null,0,0,0,0,null,"2016-01-04",null,null,null,3,"A",190,false]
["D0501",13313.4,100,2092.6,null,3014.2,null,10008,9989,null,null,0,"",null,1363,2584,0,3947,null,1,7.9,432,0,null,"2016-01-04",null,null,null,3,"A",12872.5,false]
["D0512",26413.1,51,4668.3999999999996,null,7569.2,null,8267,8221,null,null,0,"",null,6597,1533,0,8130,null,0,0,0,1,null,"2016-01-04",null,null,null,3,"A",26413.1,false]
["D0253",4318.7,61,728.7,null,5369.5,null,2326,2319,null,null,0,"",null,1605,876,93,2574,null,1,0.5,0,null,1,"2016-01-04",null,null,null,3,"A",4317.2,false]
["D0335",361.5,0,107.3,null,0,null,116,116,null,null,0,"",null,279.5,3,80.5,363,null,0,0,0,null,1,"2016-01-04",null,null,null,3,"A",361.5,false]
["D0340",835,0,183.1,null,0,null,177,177,null,null,0,"",null,501,62,0,563,null,0,0,0,null,1,"2016-01-04",null,null,null,3,"A",835,false]
["D0412",355.3,0,57.1,null,0,null,86,86,null,null,0,"",null,102.5,0,33.5,136,null,0,0,0,null,1,"2016-01-04",null,null,null,3,"A",355.3,false]
["D0334",211,0,40.700000000000003,null,0,null,112,112,null,null,0,"",null,31,0,27,58,null,2,0,27,null,null,"2016-01-04",null,null,null,3,"A",182,false]
["D0336",1086.5,0,321.8,null,59.5,null,374,374,null,null,0,"",null,371,82,82,535,null,7,0,53,null,1,"2016-01-04",null,null,null,3,"A",1026.5,false]
["D0234",1797.1,18,309.8,null,23.6,null,994,991,null,null,0,"",null,560,1272,29,1861,null,0,0,0,null,0,"2016-01-13",null,null,null,4,"A",1797.1,false]
["D0255",223.5,0,87.7,null,4.5,null,72,72,null,null,0,"",null,54,7.5,3,64.5,null,0,0,0,null,0,"2016-01-13",null,null,null,4,"A",223.5,false]
["D0310",287,0,101.3,null,27,null,160,160,null,null,0,"",null,286,5,0,291,null,0,0,0,null,0,"2016-01-13",null,null,null,4,"A",287,false]
["D0345",3639.5,15,773.3,null,56,null,1120,1120,null,null,540,"",null,1710,1732,28,3470,null,0,1.5,19,null,0,"2016-01-13",null,null,null,4,"A",3619,false]
["D0378",669.4,0,172.3,null,0,null,153,153,null,null,0,"",null,418,18,94,530,null,0,0,0,null,0,"2016-01-13",null,null,null,4,"A",669.4,false]
["D0397",475.7,0,110.7,null,0,null,65,65,null,null,0,"",null,167,21,6,194,null,56,2.2000000000000002,208,null,0,"2016-01-13",null,null,null,4,"A",209.5,false]
["D0398",242,3.5,122.2,null,0,null,105,105,null,null,0,"",null,75,12,1,88,null,3,0,0,null,0,"2016-01-13",null,null,null,4,"A",239,false]
["D0413",1744,14,478.4,null,129.30000000000001,null,944,944,null,null,0,"",null,561,1024,0,1585,null,3,0,8,null,0,"2016-01-13",null,null,null,4,"A",1733,false]
["D0460",774.1,0,242.9,null,69.2,null,146,146,null,null,0,"",null,80.5,77,59,216.5,null,0,0,0,null,0,"2016-01-13",null,null,null,4,"A",774.1,false]
["D0474",96.5,0,16.899999999999999,null,0,null,21,21,null,null,0,"",null,49,0,5,54,null,0,0,0,null,0,"2016-01-13",null,null,null,4,"A",96.5,false]
["D0259",46446,956,9564,null,38051.5,null,33348,33171,null,null,933,"",null,14394,4178,77,18649,null,198,15.3,229,null,3,"2016-01-19",null,null,null,5,"A",46003.7,false]
["D0288",533,5,300.10000000000002,null,2.2000000000000002,null,281,281,null,null,22.4,"",null,448,11,67,526,null,0,0,0,null,1,"2016-01-19",null,null,null,5,"A",533,false]
["D0346",533.4,8.5,179.1,null,1,null,280,280,null,null,281.60000000000002,"",null,335,66,41,442,null,2,0.9,0,null,0,"2016-01-19",null,null,null,5,"A",530.5,false]
["D0356",470.3,0,135.80000000000001,null,0,null,148,140,null,null,0,"",null,160.4,54.6,20.2,235.2,null,0,0,0,null,0,"2016-01-19",null,null,null,5,"A",470.3,false]
["D0447",887.1,11.5,168.2,null,0,null,440,440,null,null,0,"",null,126.5,83.5,32,242,null,21,0.4,95,null,0,"2016-01-19",null,null,null,5,"A",770.7,{"$f":"COUNTIF(A:A,A67)>1","v":false}]
["D0505",433,6,157.5,null,0,null,220,220,null,null,0,"",null,37,81,84.5,202.5,null,0,0,9,null,0,"2016-01-19",null,null,null,5,"A",424,false]
["D0506",1475.7,9,515.20000000000005,null,0,null,677,676,null,null,0,"",null,638.5,102.5,487.5,1228.5,null,0,0,0,null,0,"2016-01-19",null,null,null,5,"A",1475.7,false]
["D0106",104,0,0.5,null,69.2,null,62,62,null,null,0,"",null,50,0,4,54,null,0,0,0,null,0,"2016-02-01",null,null,null,6,"A",104,false]
["D0231",5443.7,9,994.9,null,285.5,null,1379,1356,null,null,678.1,"",null,1133,1286,0,2419,null,0,0,0,null,1,"2016-02-01",null,null,null,6,"A",5443.7,false]
["D0271",297.5,4,94.7,null,0,null,138,138,null,null,0,"",null,70,10,7,87,null,0,0,0,null,0,"2016-02-01",null,null,null,6,"A",297.5,false]
["D0305",6945.4,30,851.3,null,1674.1,null,3625,3610,null,null,0,"",null,1090,42,36,1168,null,0,3.4,59,null,2,"2016-02-01",null,null,null,6,"A",6883,false]
["D0331",931.5,0,340.9,null,0,null,360,360,null,null,0,"",null,257,91,11,359,null,17,0,23,null,0,"2016-02-01",null,null,null,6,"A",891.5,false]
["D0348",1298.2,15,238.6,null,4,null,358,357,null,null,0,"",null,490.5,767,74,1331.5,null,0,0,0,null,0,"2016-02-01",null,null,null,6,"A",1298.2,false]
["D0362",852.1,0,200.1,null,6.4,null,349,346,null,null,93.8,"",null,642.5,19,14,675.5,null,0,0,0,null,0,"2016-02-01",null,null,null,6,"A",852.1,false]
["D0369",237,4.5,68.7,null,1.7,null,126,126,null,null,0,"",null,40,0,0,40,null,0,0,0,null,0,"2016-02-01",null,null,null,6,"A",237,false]
["D0377",554.4,2.5,100.1,null,0,null,253,253,null,null,0,"",null,354,40.5,99,493.5,null,2,2.4,0,null,0,"2016-02-01",null,null,null,6,"A",550,false]
["D0409",1606.3,19,146.6,null,0.8,null,968,965,null,null,101.1,"",null,221,738,13,972,null,0,0,0,null,0,"2016-02-01",null,null,null,6,"A",1606.3,false]
["D0428",2924.5,15,638.20000000000005,null,2412.9,null,1755,1732,null,null,0,"",null,194,0,2,196,null,0,0,0,null,0,"2016-02-01",null,null,null,6,"A",2924.5,false]
["D0248",983.9,7,341.9,null,31.3,null,431,431,null,null,0,"",null,341,134.5,68.5,544,null,4,2.1,0,null,0,"2016-02-09",null,null,null,7,"A",977.8,false]
["D0264",1127.5,3,59.4,null,0,null,270,270,null,null,0,"",null,471,42,0,513,null,0,0,48,null,0,"2016-02-09",null,null,null,7,"A",1079.5,false]
["D0265",5278.2,29,1636.3,null,642.9,null,1043,1041,null,null,0,"",null,3629,1370,78,5077,null,13,5.2,1,null,0,"2016-02-09",null,null,null,7,"A",5259,false]
["D0268",727.7,10,162.4,null,0,null,181,181,null,null,154.80000000000001,"",null,192,90,2,284,null,0,0,0,null,1,"2016-02-09",null,null,null,7,"A",727.7,false]
["D0368",1936.1,0,421.4,null,13.6,null,549,548,null,null,0,"",null,816.1,974.8,151.1,1942,null,0,0,0,null,1,"2016-02-09",null,null,null,7,"A",1936.1,false]
["D0375",1921.3,0,586.9,null,6.8,null,390,390,null,null,567.20000000000005,"",null,718,191,0,909,null,16,4.5,40,null,0,"2016-02-09",null,null,null,7,"A",1860.8,false]
["D0387",177.5,2.5,5.3,null,0,null,106,106,null,null,0,"",null,111,53,27,191,null,0,0,0,null,0,"2016-02-09",null,null,null,7,"A",177.5,false]
["D0421",396.5,0,44.5,null,0,null,114,114,null,null,0,"",null,176,26,14,216,null,0,0,0,null,0,"2016-02-09",null,null,null,7,"A",396.5,false]
["D0449",599.5,0,218.1,null,0,null,150,150,null,null,0,"",null,345.9,78,1,424.9,null,0,0,0,null,0,"2016-02-09",null,null,null,7,"A",599.5,false]
["D0456",234.7,0,85.3,null,0,null,133,132,null,null,0,"",null,122,0,0,122,null,0,0.9,0.3,null,0,"2016-02-09",null,null,null,7,"A",233.5,false]
["D0484",640.9,10,47.7,null,0,null,306,306,null,null,0,"",null,202,70.5,24,296.5,null,0,4.5999999999999996,5,null,0,"2016-02-09",null,null,null,7,"A",631.29999999999995,false]
["D0500",20244.8,273.5,2519.3000000000002,null,26853.7,null,15833,15689,null,null,0,"",null,2741,6186,0,8927,null,43,17.3,203,null,0,"2016-02-09",null,null,null,7,"A",19981.5,false]
["D0508",988.5,9.5,273.3,null,13,null,552,551,null,null,279.3,"",null,96,24,1,121,null,12,0,5,null,0,"2016-02-09",null,null,null,7,"A",971.5,false]
["D0110",214,1.5,43.3,null,0,null,101,101,null,null,0,"",null,140,0,10,150,null,0,0,0,null,0,"2016-02-17",null,null,null,8,"A",214,false]
["D0232",6713.1,12,1759.8,null,873.8,null,610,610,null,null,0,"",null,1907,625,3,2535,null,0,0,0,null,0,"2016-02-17",null,null,null,8,"A",6713.1,false]
["D0270",334.8,0,173.6,null,0,null,95,91,null,null,0,"",null,44.4,10,6.1,60.5,null,0,0,0,null,0,"2016-02-17",null,null,null,8,"A",334.8,false]
["D0284",341.5,0,96.4,null,0,null,100,99,null,null,0,"",null,186,75,12,273,null,0,0,0,null,0,"2016-02-17",null,null,null,8,"A",341.5,false]
["D0314",125.5,0,0,null,0,null,40,40,null,null,0,"",null,31,0,54,85,null,0,0,0,null,0,"2016-02-17",null,null,null,8,"A",125.5,false]
["D0315",873.7,0,274.5,null,82,null,288,283,null,null,0,"",null,182,0,25,207,null,1,0,3.8,null,0,"2016-02-17",null,null,null,8,"A",868.9,{"$f":"COUNTIF(A:A,A99)>1","v":false}]
["D0325",607.5,0,111.6,null,0,null,187,187,null,null,0,"",null,119,0,26,145,null,0,0,0,null,0,"2016-02-17",null,null,null,8,"A",607.5,false]
["D0383",5956.6,20,828,null,983,null,1903,1896,null,null,0,"",null,2728,450,12,3190,null,115,29.3,4,null,1,"2016-02-17",null,null,null,8,"A",5808.3,false]
["D0475",7295.6,24,848.9,null,1798.8,null,3170,3163,null,null,1023,"",null,1758,511,8,2277,null,2,2.1,23,null,1,"2016-02-17",null,null,null,8,"A",7268.5,false]
["D0200",241.5,3.5,50.5,null,210.9,null,110,110,null,null,0,"",null,66,35,15,116,null,0,0,0,null,0,"2016-02-29",null,null,null,9,"A",241.5,false]
["D0202",3871.2,81.5,852.3,null,1941.3,null,2770,2762,null,null,492.5,"",null,1067,2893,0,3960,null,0,0,0,null,0,"2016-02-29",null,null,null,9,"A",3871.2,false]
["D0210",1012.4,30,298.10000000000002,null,1527.7,null,546,538,null,null,0,"",null,174,4,2,180,null,2,0,0,null,0,"2016-02-29",null,null,null,9,"A",1010.4,false]
["D0272",288,4.5,112.6,null,0,null,108,108,null,null,0,"",null,158,1,19,178,null,0,0,0,null,0,"2016-02-29",null,null,null,{"$f":"IF(Y106=Y105,AC105,AC105+1)","v":9},{"$f":"IF(Z106=\"\", \"A\", \"AM\")","v":"A"},{"$f":"B106-T106-U106-V106","v":288},false]
["D0283",112.5,1,55.6,null,0,null,74,74,null,null,0,"",null,41,2,16,59,null,4,0,1,null,0,"2016-02-29",null,null,null,9,"A",107.5,false]
["D0291",85.5,0,15.7,null,0,null,24,24,null,null,0,"",null,35,8,19,62,null,0,0,0,null,0,"2016-02-29",null,null,null,9,"A",85.5,false]
["D0292",102,0,21.3,null,0,null,30,30,null,null,0,"",null,63.5,0,0,63.5,null,0,0,0,null,0,"2016-02-29",null,null,null,9,"A",102,false]
["D0293",269,3,43.1,null,23.1,null,69,69,null,null,0,"",null,73,37,39,149,null,0,0,0,null,0,"2016-02-29",null,null,null,9,"A",269,false]
["D0326",144.5,0.5,61.9,null,0,null,51,51,null,null,0,"",null,57.5,9.5,16,83,null,0,0,0,null,0,"2016-02-29",null,null,null,9,"A",144.5,false]
["D0343",736,6.5,121,null,1.6,null,222,222,null,null,0,"",null,503,148,106,757,null,0,0,0,null,0,"2016-02-29",null,null,null,9,"A",736,false]
["D0360",230,4,72.099999999999994,null,0,null,102,102,null,null,0,"",null,42,0,13,55,null,2,0,6,null,1,"2016-02-29",null,null,null,9,"A",222,false]
["D0395",282,0,115.9,null,0,null,108,108,null,null,0,"",null,91,0,1,92,null,0,0,0,null,0,"2016-02-29",null,null,null,9,"A",282,false]
["D0407",792.5,0,107.9,null,0,null,332,332,null,null,0,"",null,117,0,7,124,null,0,0,0,null,0,"2016-02-29",null,null,null,9,"A",792.5,false]
["D0417",708.7,7.5,234.3,null,48.6,null,249,249,null,null,0,"",null,258,53,23,334,null,0,0,0,null,0,"2016-02-29",null,null,null,9,"A",708.7,false]
["D0420",642.4,0,90.6,null,0,null,281,281,null,null,19.100000000000001,"",null,71.5,190,30,291.5,null,6,0.9,1,null,0,"2016-02-29",null,null,null,9,"A",634.5,false]
["D0432",286.5,0,180.7,null,0,null,60,60,null,null,0,"",null,65,0,55,120,null,0,0,0,null,1,"2016-02-29",null,null,null,9,"A",286.5,false]
["D0434",979.7,10.5,0.4,null,0,null,410,407,null,null,37.700000000000003,"",null,755.5,141,39,935.5,null,5,0,11,null,0,"2016-02-29",null,null,null,9,"A",963.7,false]
["D0436",740.5,5.5,157.9,null,7.3,null,308,308,null,null,0,"",null,338,53,34,425,null,4,0,1,null,0,"2016-02-29",null,null,null,9,"A",735.5,false]
["D0445",1627.6,26.5,377.1,null,419.7,null,1162,1160,null,null,0,"",null,387,0,0,387,null,2,0,0,null,0,"2016-02-29",null,null,null,9,"A",1625.6,false]
["D0446",1916,14,319.7,null,63.2,null,1090,1089,null,null,0,"",null,457,548,118.7,1123.7,null,0,0,0,null,0,"2016-02-29",null,null,null,9,"A",1916,false]
["D0454",292,6,85.2,null,0.5,null,111,111,null,null,0,"",null,55,31,5,91,null,0,0,0,null,0,"2016-02-29",null,null,null,9,"A",292,false]
["D0466",942,11.5,221.8,null,649.9,null,345,345,null,null,0,"",null,140,34.5,18,192.5,null,12,0,21,null,1,"2016-02-29",null,null,null,9,"A",909,false]
["D0481",293,6,101.9,null,0,null,135,135,null,null,0,"",null,136,0,29,165,null,0,0,0,null,0,"2016-02-29",null,null,null,9,"A",293,false]
["D0509",190,1.5,153.6,null,0,null,73,71,null,null,0,"",null,91,6,27,124,null,3,1.3,0,null,0,"2016-02-29",null,null,null,9,"A",185.7,false]
["D0209",163.19999999999999,4,0,null,216.2,null,83,83,null,null,0,"",null,41,13.4,30.8,85.2,null,0,0,0,null,0,"2016-02-29",null,null,null,9,"A",163.19999999999999,false]
["D0214",1674.9,23.5,654.70000000000005,null,2072.6,null,894,894,null,null,0,"",null,198,172,6,376,null,0,1.9,47,null,0,"2016-02-29",null,null,null,9,"A",1626,false]
["D0227",286.5,0,55.2,null,23.3,null,73,73,null,null,0,"",null,136.5,11,7,154.5,null,0,0,0,null,0,"2016-02-29",null,null,null,9,"A",286.5,false]
["D0230",3468.3,7,485.5,null,7.9,null,462,460,null,null,0,"",null,1225,459,15,1699,null,835,32.9,110,null,0,"2016-02-29",null,null,null,9,"A",2490.4,false]
["D0243",414.7,0,174.3,null,0,null,134,133,null,null,0,"",null,121,29,57,207,null,0,0,0,null,0,"2016-02-29",null,null,null,9,"A",414.7,{"$f":"COUNTIF(A:A,A131)>1","v":false}]
["D0244",815.5,5.5,281.39999999999998,null,2.1,null,237,237,null,null,0,"",null,222,538,87,847,null,0,0,0,null,0,"2016-02-29",null,null,null,9,"A",815.5,false]
["D0245",206.5,0,84.6,null,0,null,75,75,null,null,0,"",null,111.5,12,6,129.5,null,0,0,0,null,0,"2016-02-29",null,null,null,9,"A",206.5,false]
["D0408",502,0,205.5,null,0,null,158,158,null,null,0,"",null,168,1,22,191,null,4,0,0,null,0,"2016-02-29",null,null,null,9,"A",498,false]
["D0239",599.9,0,100.7,null,0,null,193,193,null,null,0,"",null,184,19,36,239,null,0,0,0,null,0,"2016-03-14",null,null,null,10,"A",599.9,false]
["D0240",562.70000000000005,11,133.80000000000001,null,0,null,203,203,null,null,0,"",null,184,29,179,392,null,0,0,0,null,0,"2016-03-14",null,null,null,10,"A",562.70000000000005,false]
["D0241",172.5,0,0.3,null,0,null,41,41,null,null,0,"",null,48,3,17,68,null,0,0,0,null,0,"2016-03-14",null,null,null,10,"A",172.5,false]
["D0242",92.5,0,0,null,13.6,null,34,34,null,null,0,"",null,30,0,1,31,null,0,0,0,null,0,"2016-03-14",null,null,null,10,"A",92.5,false]
["D0247",503.1,6,415.1,null,0,null,267,267,null,null,0,"",null,338.5,47,72,457.5,null,0,0,0,null,0,"2016-03-14",null,null,null,10,"A",503.1,false]
["D0251",415,0,139.69999999999999,null,0,null,183,183,null,null,0,"",null,255,0,1,256,null,0,0,0,null,0,"2016-03-14",null,null,null,10,"A",415,false]
["D0258",840.9,5.5,287.2,null,1.3,null,237,237,null,null,0,"",null,89,36,21,146,null,74,0.9,182,null,0,"2016-03-14",null,null,null,10,"A",584,false]
["D0287",566.5,0,290.5,null,0,null,278,278,null,null,0,"",null,411,1,13,425,null,0,0,0,null,0,"2016-03-14",null,null,null,10,"A",566.5,false]
["D0290",2319.1999999999998,18,630.9,null,12.9,null,1209,1179,null,null,0,"",null,698,3,40,741,null,21,3.9,0,null,1,"2016-03-14",null,null,null,10,"A",2294.3000000000002,false]
["D0311",251.5,0,88.7,null,0,null,53,53,null,null,0,"",null,106,9,39,154,null,0,0,0,null,0,"2016-03-14",null,null,null,10,"A",251.5,false]
["D0329",422.4,0,151.1,null,0,null,96,96,null,null,0,"",null,261.5,27,5,293.5,null,0,0,0,null,0,"2016-03-14",null,null,null,10,"A",422.4,false]
["D0333",994.2,13.5,277.89999999999998,null,4.4000000000000004,null,385,384,null,null,68.099999999999994,"",null,201,77.8,23,301.8,null,0,0,0,null,0,"2016-03-14",null,null,null,10,"A",994.2,false]
["D0347",319,5.5,159.4,null,306.60000000000002,null,145,145,null,null,84.6,"",null,163.5,133.5,23.5,320.5,null,0,0,0,null,0,"2016-03-14",null,null,null,10,"A",319,false]
["D0355",424.3,0,135.9,null,0,null,186,177,null,null,0,"",null,68.599999999999994,17.5,17.8,103.9,null,0,0,0,null,1,"2016-03-14",null,null,null,10,"A",424.3,false]
["D0374",432.7,8,14,null,860.6,null,253,252,null,null,0,"",null,88,53,7,148,null,0,0,0,null,0,"2016-03-14",null,null,null,10,"A",432.7,false]
["D0381",341.5,0,121.7,null,14.8,null,93,93,null,null,16.899999999999999,"",null,54,0,124,178,null,0,0,0,null,0,"2016-03-14",null,null,null,10,"A",341.5,false]
["D0400",1012.6,11.5,256.39999999999998,null,8.3000000000000007,null,235,235,null,null,0,"",null,317,43,19,379,null,40,123.5,13,null,0,"2016-03-14",null,null,null,10,"A",836.1,false]
["D0443",6451.4,74.5,1728.8,null,13912.9,null,5003,4971,null,null,0,"",null,2613.1999999999998,3594,28,6235.2,null,1,3.8,34,null,0,"2016-03-14",null,null,null,10,"A",6412.6,false]
["D0453",3547.8,52,660.7,null,94.5,null,2063,2059,null,null,0,"",null,604,0,0,604,null,76,8.5,0,null,0,"2016-03-14",null,null,null,10,"A",3463.3,false]
["D0470",2653.2,36.5,745.3,null,1113.5999999999999,null,1668,1665,null,null,0,"",null,785,0,4,789,null,0,0,0,null,0,"2016-03-14",null,null,null,10,"A",2653.2,false]
["D0489",2893,20,413.8,null,549.29999999999995,null,935,932,null,null,0,"",null,658,0,5.5,663.5,null,28,5.5,72,null,1,"2016-03-14",null,null,null,10,"A",2787.5,false]
["D0498",372.5,1.5,97.8,null,0.8,null,141,141,null,null,0,"",null,228,32,11,271,null,0,0,0,null,0,"2016-03-14",null,null,null,10,"A",372.5,false]
["D0502",109.5,3.5,4.2,null,20.7,null,53,53,null,null,0,"",null,58.5,0,0,58.5,null,0,0,0,null,0,"2016-03-14",null,null,null,10,"A",109.5,false]
["D0250",2892.1,20,346.7,null,912,null,1636,1622,null,null,0,"",null,451.2,1093.5,37,1581.7,null,33,1.2,33,null,0,"2016-03-22",null,null,null,11,"A",2824.9,false]
["D0274",387.8,0,74,null,0,null,163,162,null,null,0,"",null,64.099999999999994,14,10,88.1,null,0,0,0,null,0,"2016-03-22",null,null,null,11,"A",387.8,false]
["D0298",339.5,6.5,57.5,null,15.5,null,154,154,null,null,0,"",null,129,0,12,141,null,0,0,0,null,0,"2016-03-22",null,null,null,11,"A",339.5,false]
["D0299",225.4,2.5,35.5,null,0,null,76,75,null,null,0,"",null,158.5,0,1,159.5,null,0,0,0,null,0,"2016-03-22",null,null,null,11,"A",225.4,false]
["D0388",419.6,0,169.9,null,0,null,110,102,null,null,0,"",null,37,88,40,165,null,0,0,0,null,0,"2016-03-22",null,null,null,11,"A",419.6,false]
["D0393",302.60000000000002,0,161.6,null,0,null,117,116,null,null,0,"",null,83,4,4,91,null,0,0,0,null,0,"2016-03-22",null,null,null,11,"A",302.60000000000002,{"$f":"COUNTIF(A:A,A163)>1","v":false}]
["D0401",159,4,60.3,null,1.5,null,112,112,null,null,0,"",null,42,7,0,49,null,0,0,0,null,0,"2016-03-22",null,null,null,11,"A",159,false]
["D0403",220,0,0,null,0,null,95,93,null,null,0,"",null,103,11,26,140,null,5,0.7,0,null,0,"2016-03-22",null,null,null,11,"A",214.3,false]
["D0457",7219.9,97.5,2015.8,null,9730.7000000000007,null,4595,4577,null,null,0,"",null,2347,812,0,3159,null,30,6,44.4,null,0,"2016-03-22",null,null,null,11,"A",7139.5,false]
["D0467",382,4.5,57.6,null,723.5,null,185,185,null,null,0,"",null,77,0,0,77,null,0,0,0,null,0,"2016-03-22",null,null,null,11,"A",382,false]
["D0468",67.5,0,0.4,null,11.8,null,34,34,null,null,0,"",null,6,0,0,6,null,0,0,0,null,0,"2016-03-22",null,null,null,11,"A",67.5,false]
["D0471",141.5,0,0,null,0,null,69,69,null,null,0,"",null,38,17,15,70,null,0,0,0,null,0,"2016-03-22",null,null,null,11,"A",141.5,false]
["D0476",97.5,2,30.8,null,296,null,35,35,null,null,0,"",null,46,13,5,64,null,4,0,5,null,0,"2016-03-22",null,null,null,{"$f":"IF(Y170=Y169,AC169,AC169+1)","v":11},{"$f":"IF(Z170=\"\", \"A\", \"AM\")","v":"A"},{"$f":"B170-T170-U170-V170","v":88.5},false]
["D0482",212.5,3.5,127.8,null,0,null,71,71,null,null,9.6,"",null,36,0,20,56,null,0,0,0,null,0,"2016-03-22",null,null,null,11,"A",212.5,false]
["D0507",294.5,5,79.5,null,831.1,null,160,160,null,null,0,"",null,61,0,11,72,null,0,0,0,null,0,"2016-03-22",null,null,null,11,"A",294.5,false]
["D0111",309,6,86.9,null,0,null,131,131,null,null,0,"",null,263.5,34,22.5,320,null,0,0,0,null,0,"2016-03-28",null,null,null,12,"A",309,false]
["D0204",2606.6,23,566.5,null,511.3,null,1192,1191,null,null,0,"",null,809,529,13,1351,null,13,2.1,21,null,0,"2016-03-28",null,null,null,12,"A",2570.5,false]
["D0212",163,1.5,20.8,null,0,null,71,71,null,null,0,"",null,92,1,6,99,null,0,0,0,null,0,"2016-03-28",null,null,null,12,"A",163,false]
["D0215",586,6,80.400000000000006,null,686.6,null,285,285,null,null,0,"",null,83,65,2,150,null,0,0,0,null,0,"2016-03-28",null,null,null,12,"A",586,false]
["D0217",164,0,74.7,null,178.2,null,67,67,null,null,0,"",null,27,0,0,27,null,0,0,0,null,0,"2016-03-28",null,null,null,12,"A",164,false]
["D0226",372.5,3.5,96.6,null,26.4,null,127,126,null,null,0,"",null,56.5,13.5,8,78,null,0,0,0,null,0,"2016-03-28",null,null,null,{"$f":"IF(Y178=Y177,AC177,AC177+1)","v":12},{"$f":"IF(Z178=\"\", \"A\", \"AM\")","v":"A"},{"$f":"B178-T178-U178-V178","v":372.5},false]
["D0266",6859.7,18,1745.1,null,122.2,null,1081,1080,null,null,0,"",null,4329.5,1990.5,11,6331,null,303,34.799999999999997,0,null,0,"2016-03-28",null,null,null,12,"A",6521.9,false]
["D0297",270,0,46.7,null,35.4,null,84,84,null,null,0,"",null,64,7,12,83,null,0,0,0,null,0,"2016-03-28",null,null,null,12,"A",270,false]
["D0308",4682.7,25.5,1527.2,null,717.7,null,2785,2766,null,null,0,"",null,10,113,3,126,null,0,0,5,null,0,"2016-03-28",null,null,null,12,"A",4677.7,false]
["D0321",1097,8.5,304.2,null,0,null,324,321,null,null,0,"",null,425,92,0,517,null,0,0,0,null,0,"2016-03-28",null,null,null,12,"A",1097,false]
["D0358",420.9,2.5,75.400000000000006,null,0,null,115,115,null,null,0,"",null,111,4,9,124,null,38,8.9,87,null,0,"2016-03-28",null,null,null,12,"A",287,false]
["D0384",184,3.5,55.5,null,0,null,31,31,null,null,0,"",null,119.5,8,27,154.5,null,0,0,0,null,0,"2016-03-28",null,null,null,{"$f":"IF(Y184=Y183,AC183,AC183+1)","v":12},{"$f":"IF(Z184=\"\", \"A\", \"AM\")","v":"A"},{"$f":"B184-T184-U184-V184","v":184},{"$f":"COUNTIF(A:A,A184)>1","v":false}]
["D0435",1552.9,0,637.6,null,41.5,null,598,591,null,null,90.3,"",null,270.89999999999998,1139.5,172.3,1582.7,null,5,3.6,20,null,0,"2016-03-28",null,null,null,12,"A",1524.3,false]
["D0452",430.2,0,164,null,663.9,null,210,209,null,null,0,"",null,135,5,2,142,null,0,0,0,null,0,"2016-03-28",null,null,null,12,"A",430.2,false]
["D0462",284.2,0,107.6,null,0,null,141,140,null,null,0,"",null,122,91.5,13,226.5,null,0,0,0,null,0,"2016-03-28",null,null,null,12,"A",284.2,false]
["D0463",331.2,0,138.4,null,0,null,111,111,null,null,0,"",null,129,37,0,166,null,0,0,0,null,0,"2016-03-28",null,null,null,12,"A",331.2,false]
["D0487",466.5,6.5,77.3,null,0,null,220,220,null,null,0,"",null,53,344,21,418,null,6,0,39,null,0,"2016-03-28",null,null,null,12,"A",421.5,false]
["D0494",495,7.5,178.3,null,677.8,null,285,285,null,null,11.4,"",null,85.5,0,4,89.5,null,0,0,0,null,0,"2016-03-28",null,null,null,12,"A",495,false]
["D0114",632.6,10.5,207.5,null,0,null,330,328,null,null,0,"",null,278.5,161,9.5,449,null,18,2.8,17,null,0,"2016-04-04",null,null,null,13,"A",594.79999999999995,false]
["D0203",1957,4,412.5,null,130.80000000000001,null,287,287,null,null,0,"",null,1150,828,0,1978,null,0,0,2,null,0,"2016-04-04",null,null,null,13,"A",1955,false]
["D0216",184.5,4,72,null,398.2,null,123,123,null,null,0,"",null,7,58,0,65,null,0,0,0,null,0,"2016-04-04",null,null,null,13,"A",184.5,false]
["D0219",233.7,0,0,null,0,null,104,104,null,null,0,"",null,45,15,68,128,null,0,0,0,null,0,"2016-04-04",null,null,null,13,"A",233.7,false]
["D0225",133,0.5,0,null,9,null,62,62,null,null,0,"",null,24,2,8,34,null,0,0,0,null,0,"2016-04-04",null,null,null,13,"A",133,false]
["D0275",69.5,0,0,null,0,null,25,25,null,null,0,"",null,29,0,0,29,null,0,0,0,null,0,"2016-04-04",null,null,null,13,"A",69.5,false]
["D0306",670.5,0,165.5,null,0,null,95,95,null,null,0,"",null,449,7,163.5,619.5,null,0,0,0,null,0,"2016-04-04",null,null,null,13,"A",670.5,false]
["D0307",448.5,0,149.4,null,28.5,null,105,105,null,null,0,"",null,218,12,0,230,null,3,0,0,null,0,"2016-04-04",null,null,null,13,"A",445.5,false]
["D0313",2160.3000000000002,22,754.6,null,64.5,null,654,654,null,null,665.5,"",null,1069,728,50,1847,null,0,0,0,null,0,"2016-04-04",null,null,null,13,"A",2160.3000000000002,false]
["D0376",505.2,4,244.4,null,7.6,null,166,166,null,null,0,"",null,125,55,44,224,null,0,0,0,null,0,"2016-04-04",null,null,null,13,"A",505.2,false]
["D0416",1672.4,0,411.1,null,61,null,352,352,null,null,0,"",null,689,919,13,1621,null,7,0,3,null,0,"2016-04-04",null,null,null,13,"A",1662.4,false]
["D0459",216.8,4.5,34.9,null,5.9,null,103,103,null,null,0,"",null,77,0,9,86,null,0,0,0,null,0,"2016-04-04",null,null,null,13,"A",216.8,false]
["D0483",667,14,52.1,null,2711.5,null,480,480,null,null,0,"",null,579,15,7,601,null,0,0,0,null,0,"2016-04-04",null,null,null,13,"A",667,false]
["D0102",619,6,124.7,null,685.3,null,234,234,null,null,118.2,"",null,98,0,30,128,null,0,0,0,null,0,"2016-04-07",null,null,null,14,"A",619,false]
["D0115",565.29999999999995,9,332.3,null,0,null,104,104,null,null,0,"",null,262.5,25.5,62.2,350.2,null,0,0,0,null,0,"2016-04-07",null,null,null,14,"A",565.29999999999995,false]
["D0309",1070.5,6,289.3,null,90.4,null,507,506,null,null,0,"",null,479,158,129.5,766.5,null,0,3.5,3,null,0,"2016-04-07",null,null,null,14,"A",1064,false]
["D0350",327.39999999999998,0,139.30000000000001,null,151.80000000000001,null,147,133,null,null,0,"",null,50,0,16,66,null,0,0,0,null,0,"2016-04-07",null,null,null,14,"A",327.39999999999998,false]
["D0352",901.8,0,225.9,null,372.2,null,351,350,null,null,98.3,"",null,145,15,0,160,null,5,4.0999999999999996,13,null,1,"2016-04-07",null,null,null,14,"A",879.7,false]
["D0380",521,9,118.6,null,0,null,110,110,null,null,0,"",null,287,36,57,380,null,0,0,0,null,0,"2016-04-07",null,null,null,14,"A",521,false]
["D0399",109.7,3.5,43,null,4.3,null,52,51,null,null,0,"",null,35,1,37,73,null,0,0,0,null,0,"2016-04-07",null,null,null,14,"A",109.7,false]
["D0405",755.8,19,222.1,null,641.70000000000005,null,470,470,null,null,173,"",null,68.5,8,38,114.5,null,0,0,0,null,0,"2016-04-07",null,null,null,14,"A",755.8,false]
["D0429",326.5,0,103.1,null,0,null,102,102,null,null,0,"",null,85,49,9,143,null,0,0,0,null,0,"2016-04-07",null,null,null,14,"A",326.5,false]
["D0444",309.39999999999998,3.5,29.2,null,2,null,66,66,null,null,0,"",null,170.5,7.5,94,272,null,0,0,0,null,0,"2016-04-07",null,null,null,14,"A",309.39999999999998,false]
["D0448",410.1,7.5,316.60000000000002,null,0,null,98,97,null,null,56.5,"",null,108,16,94,218,null,0,0,0,null,0,"2016-04-07",null,null,null,14,"A",410.1,false]
["D0490",1868,15,502.5,null,17.100000000000001,null,945,944,null,null,389,"",null,623,1103,0,1726,null,8,0,26,null,0,"2016-04-07",null,null,null,14,"A",1834,false]
["D0492",251.4,0,79.400000000000006,null,10.8,null,80,80,null,null,0,"",null,141,0,67,208,null,1,0,0,null,0,"2016-04-07",null,null,null,14,"A",250.4,false]
["D0103",133.5,0,68.900000000000006,null,188,null,61,61,null,null,0,"",null,52,0,4,56,null,0,0,0,null,0,"2016-04-19",null,null,null,15,"A",133.5,false]
["D0105",333.4,0,105.1,null,104.6,null,131,130,null,null,0,"",null,122.6,0,23.5,146.1,null,0,0,0,null,0,"2016-04-19",null,null,null,15,"A",333.4,false]
["D0112",498,3,125.1,null,0,null,160,160,null,null,0,"",null,244,3,25,272,null,31,3.5,20,null,0,"2016-04-19",null,null,null,15,"A",443.5,false]
["D0205",486.3,0,97.3,null,0,null,240,240,null,null,0,"",null,248,10,81,339,null,0,0,0,null,0,"2016-04-19",null,null,null,15,"A",486.3,false]
["D0208",367,0,50.4,null,0,null,103,102,null,null,0,"",null,76,1,0,77,null,0,0,0,null,0,"2016-04-19",null,null,null,15,"A",367,false]
["D0233",27799.1,30,5588.2,null,6619,null,6131,6107,null,null,607.29999999999995,"",null,5039,21298,0,26337,null,0,0,0,null,0,"2016-04-19",null,null,null,15,"A",27799.1,false]
["D0254",437.5,5,61.9,null,1.9,null,147,147,null,null,0,"",null,135,17,4,156,null,0,0,0,null,0,"2016-04-19",null,null,null,15,"A",437.5,false]
["D0282",334.5,3.5,112.3,null,0,null,157,157,null,null,0,"",null,176,110,63,349,null,5,0,3,null,0,"2016-04-19",null,null,null,15,"A",326.5,false]
["D0303",281.10000000000002,0,118.2,null,88.4,null,103,102,null,null,0,"",null,31.6,2,0,33.6,null,0,0,0,null,0,"2016-04-19",null,null,null,15,"A",281.10000000000002,false]
["D0320",1470.1,0,270.7,null,24,null,318,317,null,null,0,"",null,418,191,73,682,null,0,0,0,null,0,"2016-04-19",null,null,null,15,"A",1470.1,false]
["D0351",212.5,2.5,18.8,null,302.8,null,93,93,null,null,0,"",null,64,1,2,67,null,0,0,0,null,0,"2016-04-19",null,null,null,15,"A",212.5,false]
["D0396",679.8,5,288.89999999999998,null,9.6,null,213,212,null,null,0,"",null,198,106.5,56,360.5,null,6,0.7,24,null,0,"2016-04-19",null,null,null,15,"A",649.1,false]
["D0410",528.79999999999995,1.5,354.6,null,2,null,138,138,null,null,0,"",null,145,13,18,176,null,2,0.4,3,null,0,"2016-04-19",null,null,null,15,"A",523.4,false]
["D0415",852,0,209.9,null,0,null,394,394,null,null,0,"",null,257,26,27,310,null,0,0,0,null,3,"2016-04-19",null,null,null,15,"A",852,false]
["D0440",719.5,9,330,null,41.6,null,265,265,null,null,0,"",null,337,11,1,349,null,0,0,0,null,0,"2016-04-19",null,null,null,15,"A",719.5,false]
["D0461",691,8,196.1,null,0,null,315,315,null,null,0,"",null,111,28,32,171,null,0,0,0,null,0,"2016-04-19",null,null,null,15,"A",691,false]
["D0464",1890.2,0,0.8,null,0,null,495,494,null,null,804.4,"",null,860,109,20,989,null,0,0,0,null,1,"2016-04-19",null,null,null,15,"A",1890.2,false]
["D0469",2577.5,0,358.7,null,64.7,null,565,560,null,null,912,"",null,710,0,0,710,null,0,0,36,null,0,"2016-04-19",null,null,null,15,"A",2541.5,false]
["D0473",1033.2,0,280,null,4.8,null,392,391,null,null,0,"",null,455,97,183,735,null,1,0,0,null,0,"2016-04-19",null,null,null,15,"A",1032.2,false]
["D0480",4666.5,71,526.20000000000005,null,10241.6,null,3557,3557,null,null,0,"",null,326.60000000000002,1255.0999999999999,2,1583.7,null,0,0,0,null,0,"2016-04-19",null,null,null,15,"A",4666.5,false]
["D0495",839.5,15,345,null,24.4,null,378,377,null,null,0,"",null,198,1,1,200,null,0,0,0,null,0,"2016-04-19",null,null,null,15,"A",839.5,false]
["D0496",154.5,0,0,null,0.6,null,57,57,null,null,0,"",null,59,0,21,80,null,1,0,19,null,0,"2016-04-19",null,null,null,15,"A",134.5,false]
["D0497",11481.6,34,2309,null,2598.6,null,3548,3539,null,null,643.4,"",null,2860,0,1,2861,null,1066,93.3,95,null,3,"2016-04-19",null,null,null,15,"A",10227.299999999999,false]
["D0504",441.5,4,35.700000000000003,null,0,null,225,225,null,null,0,"",null,20,115,180,315,null,0,0,0,null,0,"2016-04-19",null,null,null,15,"A",441.5,false]
["D0511",151.5,0,0.5,null,0,null,64,64,null,null,0,"",null,28.5,7.5,24,60,null,0,0,0,null,0,"2016-04-19",null,null,null,15,"A",151.5,false]
["D0107",269.5,4.5,123.5,null,0,null,114,114,null,null,0,"",null,138,0,3,141,null,0,0,0,null,0,"2016-04-27",null,null,null,16,"A",269.5,false]
["D0108",337,0,91.2,null,0,null,124,124,null,null,0,"",null,152.5,17,16.5,186,null,0,0,0,null,0,"2016-04-27",null,null,null,16,"A",337,false]
["D0109",466,0,87,null,0,null,175,174,null,null,0,"",null,170.5,13,22,205.5,null,0,0,0,null,1,"2016-04-27",null,null,null,16,"A",466,false]
["D0207",1597.1,0,0.7,null,54.3,null,70,69,null,null,0,"",null,148,610,16,774,null,0,0,0,null,0,"2016-04-27",null,null,null,16,"A",1597.1,false]
["D0211",677.7,0,139.69999999999999,null,0,null,213,199,null,null,0,"",null,143.5,57,18,218.5,null,0,0,0,null,0,"2016-04-27",null,null,null,16,"A",677.7,false]
["D0220",189.9,0,39.4,null,27.5,null,73,73,null,null,0,"",null,49,9,2,60,null,0,0,0,null,0,"2016-04-27",null,null,null,16,"A",189.9,false]
["D0235",420,6.5,134,null,0,null,212,212,null,null,0,"",null,300,11,16,327,null,0,0,0,null,0,"2016-04-27",null,null,null,{"$f":"IF(Y248=Y247,AC247,AC247+1)","v":16},{"$f":"IF(Z248=\"\", \"A\", \"AM\")","v":"A"},{"$f":"B248-T248-U248-V248","v":420},{"$f":"COUNTIF(A:A,A248)>1","v":false}]
["D0261",5164.8999999999996,73,1104.8,null,289.60000000000002,null,2545,2543,null,null,0,"",null,2056,0,17,2073,null,0,0,0,null,0,"2016-04-27",null,null,null,16,"A",5164.8999999999996,false]
["D0267",1827,0,674.1,null,0,null,206,206,null,null,0,"",null,737,514,27,1278,null,0,0,0,null,0,"2016-04-27",null,null,null,16,"A",1827,false]
["D0286",364.9,3.5,57.6,null,0,null,197,195,null,null,0,"",null,134.5,9,27.5,171,null,4,0,0,null,0,"2016-04-27",null,null,null,16,"A",360.9,false]
["D0294",310.5,0,56.7,null,0,null,108,108,null,null,0,"",null,71.5,4,9,84.5,null,0,0,0,null,1,"2016-04-27",null,null,null,16,"A",310.5,false]
["D0300",313,0,72.599999999999994,null,0,null,89,89,null,null,0,"",null,208.5,0,2,210.5,null,0,0,0,null,0,"2016-04-27",null,null,null,16,"A",313,false]
["D0316",177.6,2,9.4,null,82,null,83,83,null,null,0,"",null,91,0,44,135,null,0,0,0,null,0,"2016-04-27",null,null,null,17,{"$f":"IF(Z254=\"\", \"A\", \"AM\")","v":"A"},{"$f":"B254-T254-U254-V254","v":177.6},{"$f":"COUNTIF(A:A,A254)>1","v":false}]
["D0323",942.1,0,229.2,null,14.8,null,216,216,null,null,204.6,"",null,626.5,107.5,4,738,null,0,0,0,null,0,"2016-04-27",null,null,null,17,"A",942.1,false]
["D0359",155,2,67.8,null,0,null,54,54,null,null,0,"",null,47.5,21.5,7,76,null,0,0,0,null,0,"2016-04-27",null,null,null,16,"A",155,false]
["D0361",806.5,9,86.6,null,95,null,439,439,null,null,0,"",null,340,24,2,366,null,0,0,18,null,0,"2016-04-27",null,null,null,17,"A",788.5,false]
["D0363",970.3,12,147,null,669.5,null,467,467,null,null,0,"",null,96,631,23,750,null,0,1.8,22,null,0,"2016-04-27",null,null,null,17,"A",946.5,false]
["D0366",421.5,8,55.8,null,0,null,225,225,null,null,0,"",null,161,19,36,216,null,0,0,0,null,0,"2016-04-27",null,null,null,17,"A",421.5,false]
["D0372",657,7,88.7,null,1.3,null,104,104,null,null,0,"",null,293,80,6,379,null,0,0,1,null,0,"2016-04-27",null,null,null,16,"A",656,false]
["D0385",5605.8,22.5,832.2,null,390.6,null,657,652,null,null,0,"",null,1579,3371,12,4962,null,318,308.2,39.4,null,0,"2016-04-27",null,null,null,17,"A",4940.2,false]
["D0386",220.5,1.5,51,null,0,null,91,91,null,null,0,"",null,64,97.5,5,166.5,null,0,0,0,null,0,"2016-04-27",null,null,null,16,"A",220.5,false]
["D0389",606,10.5,76.3,null,0,null,339,339,null,null,0,"",null,186,420.3,41,647.29999999999995,null,0,0,0,null,0,"2016-04-27",null,null,null,16,"A",606,false]
["D0390",75.5,1,0,null,0,null,52,52,null,null,0,"",null,25,4.5,6,35.5,null,0,0,0,null,0,"2016-04-27",null,null,null,16,"A",75.5,false]
["D0426",211.5,0,60.3,null,1,null,93,93,null,null,0,"",null,93,0,65,158,null,0,0,0,null,0,"2016-04-27",null,null,null,16,"A",211.5,false]
["D0438",394.5,0,133.19999999999999,null,13.3,null,76,76,null,null,0,"",null,141,2,10,153,null,0,0,0,null,0,"2016-04-27",null,null,null,16,"A",394.5,false]
["D0450",3443,0,512.5,null,152.30000000000001,null,1026,1025,null,null,75.5,"",null,2627,708,174,3509,null,0,2,14,null,1,"2016-04-27",null,null,null,17,"A",3427,false]
["D0477",230,2,0,null,136.19999999999999,null,88,88,null,null,0,"",null,65,18,82,165,null,0,0,0,null,0,"2016-04-27",null,null,null,17,"A",230,false]
["D0229",21580.7,0,4742.7,null,1239.4000000000001,null,1281,1262,null,null,72.5,"",null,4677,98,14,4789,null,0,16.899999999999999,0.1,null,0,"2016-05-11",null,null,null,{"$f":"IF(Y269=Y268,AC268,AC268+1)","v":18},{"$f":"IF(Z269=\"\", \"A\", \"AM\")","v":"A"},{"$f":"B269-T269-U269-V269","v":21563.7},false]
["D0257",1248.2,11.5,250,null,0,null,682,682,null,null,0,"",null,305,0,14,319,null,25,1.2,2,null,0,"2016-05-11",null,null,null,{"$f":"IF(Y270=Y269,AC269,AC269+1)","v":18},{"$f":"IF(Z270=\"\", \"A\", \"AM\")","v":"A"},{"$f":"B270-T270-U270-V270","v":1220},false]
["D0260",6433.7,25,1340,null,1450.9,null,2592,2541,null,null,1291.2,"",null,1572,8,13,1593,null,5,3.9,0,null,1,"2016-05-11",null,null,null,18,"A",6424.8,false]
["D0263",1702.3,14.5,456.4,null,12.4,null,552,552,null,null,53.5,"",null,432,11,8,451,null,0,0,23,null,1,"2016-05-11",null,null,null,18,"A",1679.3,false]
["D0312",854.4,4.5,386.8,null,166.1,null,282,282,null,null,0,"",null,444,281,15,740,null,62,0.9,8,null,0,"2016-05-11",null,null,null,18,"A",783.5,false]
["D0357",603.29999999999995,7.5,82,null,0,null,105,105,null,null,0,"",null,192.5,43,12.5,248,null,1,0,27.8,null,0,"2016-05-11",null,null,null,18,"A",574.5,false]
["D0371",247.5,3.5,52.9,null,260.3,null,65,65,null,null,0,"",null,91,7,27,125,null,10,0,31,null,0,"2016-05-11",null,null,null,18,"A",206.5,false]
["D0373",3299.8,28,732.5,null,515.4,null,1646,1569,null,null,0,"",null,347,295,12,654,null,4,5.5,1,null,0,"2016-05-11",null,null,null,18,"A",3289.3,false]
["D0379",1324.1,0,439.6,null,15.9,null,414,410,null,null,0,"",null,405,46,0,451,null,7,3,2,null,0,"2016-05-11",null,null,null,18,"A",1312.1,false]
["D0394",1578,11.5,394.4,null,63.1,null,376,376,null,null,0,"",null,593,1,11,605,null,23,0,35,null,0,"2016-05-11",null,null,null,18,"A",1520,false]
["D0402",2098.9,15,736.3,null,46.1,null,780,771,null,null,0,"",null,401.1,1,7,409.1,null,1,0.6,19.600000000000001,null,0,"2016-05-11",null,null,null,18,"A",2077.6999999999998,false]
["D0418",2287.4,9,609.20000000000005,null,78.400000000000006,null,724,724,null,null,0,"",null,142,15,7,164,null,0,0,0,null,0,"2016-05-11",null,null,null,18,"A",2287.4,false]
["D0422",428.5,0,64.599999999999994,null,0,null,76,76,null,null,0,"",null,85,0,13,98,null,88,9,99,null,0,"2016-05-11",null,null,null,18,"A",232.5,false]
["D0423",377.3,5,79.099999999999994,null,2.1,null,97,97,null,null,0,"",null,88,0,13,101,null,0,0,0,null,0,"2016-05-11",null,null,null,18,"A",377.3,false]
["D0439",459,0,210.8,null,0,null,128,128,null,null,0,"",null,62,11,111,184,null,0,0,0,null,0,"2016-05-11",null,null,null,18,"A",459,false]
["D0458",2371.3000000000002,0,500.7,null,49.4,null,346,344,null,null,0,"",null,1217,877,0,2094,null,157,12.4,41,null,1,"2016-05-11",null,null,null,18,"A",2160.9,false]
["D0465",2140.1999999999998,15,547.5,null,120.4,null,1079,1076,null,null,0,"",null,580,120,8,708,null,0,0,0,null,0,"2016-05-11",null,null,null,18,"A",2140.1999999999998,false]
["D0218",1044.4000000000001,7,107.6,null,343.7,null,199,188,null,null,0,"",null,38,11,0,49,null,571,21,2,null,0,"2016-05-16",null,null,null,{"$f":"IF(Y286=Y285,AC285,AC285+1)","v":19},{"$f":"IF(Z286=\"\", \"A\", \"AM\")","v":"A"},{"$f":"B286-T286-U286-V286","v":450.4},false]
["D0382",1144.8,10,320.7,null,315.60000000000002,null,477,477,null,null,0,"",null,136,325,42,503,null,3,0.9,107,null,0,"2016-05-17",null,null,null,{"$f":"IF(Y287=Y286,AC286,AC286+1)","v":20},{"$f":"IF(Z287=\"\", \"A\", \"AM\")","v":"A"},{"$f":"B287-T287-U287-V287","v":1033.9000000000001},false]